Workbook

Sheet Trang bìa
A1: Công ty chứng khoán: Cổ Phần Chứng Khoán Bảo Việt
A2: Địa chỉ: Số 8 Lê Thái Tổ - Hoàn Kiếm - Hà nội
B5: Kính gửi: Ủy ban Chứng khoán Nhà nước | C5: Kính gửi: Ủy ban Chứng khoán Nhà nước
B7: BÁO CÁO TÀI CHÍNH RIÊNG LẺ NĂM 2025
B9: Thông tư số 334/2016/TT-BTC ngày 27/12/2016 của Bộ Tài chính
B10: STT | C10: Nội dung | D10: Mã sheet
B11: 1 | C11: THÔNG TIN KIỂM TOÁN | D11: KT_06618
B12: 2 | C12: BÁO CÁO TÌNH HÌNH TÀI CHÍNH RIÊNG | D12: BCTCR_06608
B13: 3 | C13: CÁC CHỈ TIÊU NGOÀI BÁO CÁO TÌNH HÌNH TÀI CHÍNH RIÊNG | D13: CCTTCR_06609
B14: 4 | C14: BÁO CÁO KẾT QUẢ HOẠT ĐỘNG RIÊNG | D14: BCKQHDR_06610
B15: 5 | C15: BÁO CÁO LƯU CHUYỂN TIỀN TỆ RIÊNG | D15: BCLCTTRTT_06611
B16: 6 | C16: PHẦN LƯU CHUYỂN TIỀN TỆ HOẠT ĐỘNG MÔI GIỚI, ỦY THÁC CỦA KHÁCH HÀNG | D16: PLCTTHDMGUTCKHTT_06612
B17: 7 | C17: BÁO CÁO LƯU CHUYỂN TIỀN TỆ RIÊNG | D17: BCLCTTRGT_06613
B18: 8 | C18: PHẦN LƯU CHUYỂN TIỀN TỆ HOẠT ĐỘNG MÔI GIỚI, ỦY THÁC CỦA KHÁCH HÀNG | D18: PLCTTHDMGUTCKHGT_06614
B19: 9 | C19: BÁO CÁO TÌNH HÌNH BIẾN ĐỘNG VỐN CHỦ SỞ HỮU | D19: BCTHBDVCSH_06615
B21: Ghi chú
B22: Không đổi tên sheet Những chỉ tiêu không có số liệu có thể không phải trình bày nhưng không được đánh lại “Mã chỉ tiêu”. Không được xóa cột trên sheet
D24: Lập, ngày 26 tháng 03 năm 2026
B25: Người lập biểu | C25: Kế toán trưởng | D25: Giám đốc
B26: (Ký, họ tên) | C26: (Ký, họ tên) | D26: (Ký, họ tên, đóng dấu)
B29: Vũ Thị Thùy Linh | C29: Nguyễn Hồng Thủy | D29: Nhữ Đình Hòa

Sheet Setting
A1: 2814

Sheet KT_06618
A1: THÔNG TIN KIỂM TOÁN
A2: Người đại diện KT | B2: Chức vụ | C2: Giấy chứng nhận | D2: Người kiểm toán | E2: Giấy chứng nhận | F2: Ngày kiểm toán | G2: Ngày kiểm toán | H2: Ý kiến kiểm toán
A4: Saman Wijaya Bandara | B4: Phó Tổng Giám Đốc | C4: 2036-2023-004-1 | D4: Huỳnh Nhật Hưng | E4: 5040-2024-004-1 | F4: 46107 | G4: 46107 | H4: Theo ý kiến của chúng tôi, báo cáo tài chính đã phản ánh trung thực và hợp lý, trên các khía cạnh trọng yếu, tình hình tài chính của Công ty tại ngày 31 tháng 12 năm 2025, cũng như kết quả hoạt động kinh doanh, tình hình lưu chuyển tiền tệ và tình hình biến động vốn chủ sở hữu cho năm tài chính kết thúc cùng ngày, phù hợp với các Chuẩn mực kế toán Việt Nam, Chế độ kế toán doanh nghiệp Việt Nam, các hướng dẫn kế toán áp dụng cho các công ty chứng khoán và các quy định pháp lý có liên quan đến việc lập và trình bày báo cáo tài chính.
A5: ...

Sheet 6048_hidden
A3: =CONCATENATE(287228,",",ROW(KT_06618!A3),"|",COLUMN(KT_06618!A3),",1",",0") -> 287228,3|1,1,0 | B3: =CONCATENATE(287229,",",ROW(KT_06618!B3),"|",COLUMN(KT_06618!B3),",1",",0") -> 287229,3|2,1,0 | C3: =CONCATENATE(287230,",",ROW(KT_06618!C3),"|",COLUMN(KT_06618!C3),",1",",0") -> 287230,3|3,1,0 | D3: =CONCATENATE(287231,",",ROW(KT_06618!D3),"|",COLUMN(KT_06618!D3),",1",",0") -> 287231,3|4,1,0 | E3: =CONCATENATE(287232,",",ROW(KT_06618!E3),"|",COLUMN(KT_06618!E3),",1",",0") -> 287232,3|5,1,0 | F3: =CONCATENATE(287233,",",ROW(KT_06618!F3),"|",COLUMN(KT_06618!F3),",1",",0") -> 287233,3|6,1,0 | G3: =CONCATENATE(287235,",",ROW(KT_06618!G3),"|",COLUMN(KT_06618!G3),",1",",0") -> 287235,3|7,1,0 | H3: =CONCATENATE(287234,",",ROW(KT_06618!H3),"|",COLUMN(KT_06618!H3),",1",",0") -> 287234,3|8,1,0

Sheet BCTCR_06608
A1: BÁO CÁO TÌNH HÌNH TÀI CHÍNH RIÊNG
A2: Tại ngày 31 tháng 12 năm 2025
A3: Đơn vị tính: Đồng Việt Nam
A4: Chỉ tiêu | B4: Mã số | C4: Thuyết minh | D4: Số cuối năm | E4: Số đầu năm
A5: A | B5: B | C5: C | D5: 1 | E5: 2
A6: TÀI SẢN
A7: A. TÀI SẢN NGẮN HẠN (100 = 110 + 130) | B7: 100 | D7: =+D8+D28 -> 6479776240903 | E7: =+E8+E28 -> 5080994655407
A8: I. Tài sản tài chính | B8: 110 | D8: =+D9+D12+D13+D14+D15+D16+D17+D22++D23+D24+D25+D26+D27 -> 6473913240205 | E8: =+E9+E12+E13+E14+E15+E16+E17+E22++E23+E24+E25+E26+E27 -> 5074653021947
A9: 1.Tiền và các khoản tương đương tiền | B9: 111 | D9: =+D10+D11 -> 367910939027 | E9: =+E10+E11 -> 167854336536
A10: 1.1. Tiền | B10: 111.1 | D10: 367910939027 | E10: 167854336536
A11: 1.2. Các khoản tương đương tiền | B11: 111.2
A12: 2. Các tài sản tài chính ghi nhận thông qua lãi/lỗ (FVTPL) | B12: 112 | D12: 596931012196 | E12: 416563567584
A13: 3. Các khoản đầu tư nắm giữ đến ngày đáo hạn (HTM) | B13: 113 | D13: 787098313696 | E13: 860549280822
A14: 4. Các khoản cho vay | B14: 114 | D14: 4557146139544 | E14: 3503735501065
A15: 5. Tài sản tài chính sẵn sàng để bán (AFS) | B15: 115 | D15: 168838563387 | E15: 164918492047
A16: 6. Dự phòng suy giảm giá trị các tài sản tài chính và tài sản thế chấp | B16: 116 | D16: -57136773335 | E16: -109653683194
A17: 7. Các khoản phải thu | B17: 117 | D17: 73118360649 | E17: =+E18+E19 -> 57967118793
A18: 7.1. Phải thu bán các tài sản tài chính | B18: 117.1 | D18: 30041005700 | E18: 22650925000
A19: 7.2. Phải thu và dự thu cổ tức, tiền lãi các tài sản tài chính | B19: 117.2 | D19: 43077354949 | E19: 35316193793
A20: 7.2.1. Phải thu cổ tức, tiền lãi đến ngày nhận | B20: 117.3
A21: 7.2.2. Dự thu cổ tức, tiền lãi chưa đến ngày nhận | B21: 117.4 | D21: 43077354949 | E21: 35316193793
A22: 8. Trả trước cho người bán | B22: 118 | D22: 3756693164 | E22: 10152924445
A23: 9. Phải thu các dịch vụ CTCK cung cấp | B23: 119 | D23: 11032464813 | E23: 8986931664
A24: 10. Phải thu nội bộ | B24: 120
A25: 11. Phải thu về lỗi giao dịch chứng khoán | B25: 121
A26: 12. Các khoản phải thu khác | B26: 122 | D26: 12970197288 | E26: 13048922259
A27: 13. Dự phòng suy giảm giá trị các khoản phải thu (*) | B27: 129 | D27: -47752670224 | E27: -19470370074
A28: II. Tài sản ngắn hạn khác | B28: 130 | D28: =SUM(D29:D33) -> 5863000698 | E28: =SUM(E29:E33) -> 6341633460
A29: 1. Tạm ứng | B29: 131 | D29: 271000000 | E29: 205700000
A30: 2. Vật tư văn phòng, công cụ, dụng cụ | B30: 132 | D30: 136377620 | E30: 155779000
A31: 3. Chi phí trả trước ngắn hạn | B31: 133 | D31: 5361623078 | E31: 5914154460
A32: 4. Cầm cố, thế chấp, ký quỹ, ký cược ngắn hạn | B32: 134 | D32: 94000000 | E32: 66000000
A33: 5. Thuế giá trị gia tăng được khấu trừ | B33: 135
A34: 6. Thuế và các khoản khác phải thu Nhà nước | B34: 136
A35: 7. Tài sản ngắn hạn khác | B35: 137
A36: 8. Giao dịch mua bán lại trái phiếu Chính phủ | B36: 138
A37: 9. Dự phòng suy giảm giá trị tài sản ngắn hạn khác | B37: 139
A38: B. TÀI SẢN DÀI HẠN (200 = 210 + 220 + 230 + 240 + 250 - 260) | B38: 200 | D38: =+D39+D47+D60+D64+D65+D71 -> 553222987393 | E38: =+E39+E47+E60+E64+E65+E71 -> 547665110380
A39: I. Tài sản tài chính dài hạn | B39: 210 | D39: =+D40+D41+D46 -> 482784510127 | E39: =+E40+E41+E46 -> 471214589773
A40: 1. Các khoản phải thu dài hạn | B40: 211
...

Sheet 6050_hidden
A5: =CONCATENATE(287843,",",ROW(BCTCR_06608!A5),"|",COLUMN(BCTCR_06608!A5),",0",",0") -> 287843,5|1,0,0 | B5: =CONCATENATE(287937,",",ROW(BCTCR_06608!B5),"|",COLUMN(BCTCR_06608!B5),",0",",0") -> 287937,5|2,0,0 | C5: =CONCATENATE(287807,",",ROW(BCTCR_06608!C5),"|",COLUMN(BCTCR_06608!C5),",0",",0") -> 287807,5|3,0,0 | D5: =CONCATENATE(288147,",",ROW(BCTCR_06608!D5),"|",COLUMN(BCTCR_06608!D5),",0",",0") -> 288147,5|4,0,0 | E5: =CONCATENATE(287808,",",ROW(BCTCR_06608!E5),"|",COLUMN(BCTCR_06608!E5),",0",",0") -> 287808,5|5,0,0
A6: =CONCATENATE(288148,",",ROW(BCTCR_06608!A6),"|",COLUMN(BCTCR_06608!A6),",0",",0") -> 288148,6|1,0,0 | C6: =CONCATENATE(287714,",",ROW(BCTCR_06608!C6),"|",COLUMN(BCTCR_06608!C6),",0",",0") -> 287714,6|3,0,0 | D6: =CONCATENATE(287963,",",ROW(BCTCR_06608!D6),"|",COLUMN(BCTCR_06608!D6),",0",",0") -> 287963,6|4,0,0 | E6: =CONCATENATE(288263,",",ROW(BCTCR_06608!E6),"|",COLUMN(BCTCR_06608!E6),",0",",0") -> 288263,6|5,0,0
A7: =CONCATENATE(288149,",",ROW(BCTCR_06608!A7),"|",COLUMN(BCTCR_06608!A7),",0",",0") -> 288149,7|1,0,0 | B7: =CONCATENATE(287728,",",ROW(BCTCR_06608!B7),"|",COLUMN(BCTCR_06608!B7),",0",",0") -> 287728,7|2,0,0 | C7: =CONCATENATE(288126,",",ROW(BCTCR_06608!C7),"|",COLUMN(BCTCR_06608!C7),",0",",0") -> 288126,7|3,0,0 | D7: =CONCATENATE(288042,",",ROW(BCTCR_06608!D7),"|",COLUMN(BCTCR_06608!D7),",0",",0") -> 288042,7|4,0,0 | E7: =CONCATENATE(287858,",",ROW(BCTCR_06608!E7),"|",COLUMN(BCTCR_06608!E7),",0",",0") -> 287858,7|5,0,0
A8: =CONCATENATE(287915,",",ROW(BCTCR_06608!A8),"|",COLUMN(BCTCR_06608!A8),",0",",0") -> 287915,8|1,0,0 | B8: =CONCATENATE(288181,",",ROW(BCTCR_06608!B8),"|",COLUMN(BCTCR_06608!B8),",0",",0") -> 288181,8|2,0,0 | C8: =CONCATENATE(287965,",",ROW(BCTCR_06608!C8),"|",COLUMN(BCTCR_06608!C8),",0",",0") -> 287965,8|3,0,0 | D8: =CONCATENATE(288264,",",ROW(BCTCR_06608!D8),"|",COLUMN(BCTCR_06608!D8),",0",",0") -> 288264,8|4,0,0 | E8: =CONCATENATE(288229,",",ROW(BCTCR_06608!E8),"|",COLUMN(BCTCR_06608!E8),",0",",0") -> 288229,8|5,0,0
A9: =CONCATENATE(288150,",",ROW(BCTCR_06608!A9),"|",COLUMN(BCTCR_06608!A9),",0",",0") -> 288150,9|1,0,0 | B9: =CONCATENATE(287729,",",ROW(BCTCR_06608!B9),"|",COLUMN(BCTCR_06608!B9),",0",",0") -> 287729,9|2,0,0 | C9: =CONCATENATE(288137,",",ROW(BCTCR_06608!C9),"|",COLUMN(BCTCR_06608!C9),",0",",0") -> 288137,9|3,0,0 | D9: =CONCATENATE(288052,",",ROW(BCTCR_06608!D9),"|",COLUMN(BCTCR_06608!D9),",0",",0") -> 288052,9|4,0,0 | E9: =CONCATENATE(287868,",",ROW(BCTCR_06608!E9),"|",COLUMN(BCTCR_06608!E9),",0",",0") -> 287868,9|5,0,0
A10: =CONCATENATE(287916,",",ROW(BCTCR_06608!A10),"|",COLUMN(BCTCR_06608!A10),",0",",0") -> 287916,10|1,0,0 | B10: =CONCATENATE(288182,",",ROW(BCTCR_06608!B10),"|",COLUMN(BCTCR_06608!B10),",0",",0") -> 288182,10|2,0,0 | C10: =CONCATENATE(287966,",",ROW(BCTCR_06608!C10),"|",COLUMN(BCTCR_06608!C10),",0",",0") -> 287966,10|3,0,0 | D10: =CONCATENATE(288265,",",ROW(BCTCR_06608!D10),"|",COLUMN(BCTCR_06608!D10),",0",",0") -> 288265,10|4,0,0 | E10: =CONCATENATE(287809,",",ROW(BCTCR_06608!E10),"|",COLUMN(BCTCR_06608!E10),",0",",0") -> 287809,10|5,0,0
A11: =CONCATENATE(287899,",",ROW(BCTCR_06608!A11),"|",COLUMN(BCTCR_06608!A11),",0",",0") -> 287899,11|1,0,0 | B11: =CONCATENATE(288189,",",ROW(BCTCR_06608!B11),"|",COLUMN(BCTCR_06608!B11),",0",",0") -> 288189,11|2,0,0 | C11: =CONCATENATE(288092,",",ROW(BCTCR_06608!C11),"|",COLUMN(BCTCR_06608!C11),",0",",0") -> 288092,11|3,0,0 | D11: =CONCATENATE(287643,",",ROW(BCTCR_06608!D11),"|",COLUMN(BCTCR_06608!D11),",0",",0") -> 287643,11|4,0,0 | E11: =CONCATENATE(288211,",",ROW(BCTCR_06608!E11),"|",COLUMN(BCTCR_06608!E11),",0",",0") -> 288211,11|5,0,0
A12: =CONCATENATE(287917,",",ROW(BCTCR_06608!A12),"|",COLUMN(BCTCR_06608!A12),",0",",0") -> 287917,12|1,0,0 | B12: =CONCATENATE(287659,",",ROW(BCTCR_06608!B12),"|",COLUMN(BCTCR_06608!B12),",0",",0") -> 287659,12|2,0,0 | C12: =CONCATENATE(287967,",",ROW(BCTCR_06608!C12),"|",COLUMN(BCTCR_06608!C12),",0",",0") -> 287967,12|3,0,0 | D12: =CONCATENATE(288266,",",ROW(BCTCR_06608!D12),"|",COLUMN(BCTCR_06608!D12),",0",",0") -> 288266,12|4,0,0 | E12: =CONCATENATE(287810,",",ROW(BCTCR_06608!E12),"|",COLUMN(BCTCR_06608!E12),",0",",0") -> 287810,12|5,0,0
A13: =CONCATENATE(288151,",",ROW(BCTCR_06608!A13),"|",COLUMN(BCTCR_06608!A13),",0",",0") -> 288151,13|1,0,0 | B13: =CONCATENATE(287730,",",ROW(BCTCR_06608!B13),"|",COLUMN(BCTCR_06608!B13),",0",",0") -> 287730,13|2,0,0 | C13: =CONCATENATE(288138,",",ROW(BCTCR_06608!C13),"|",COLUMN(BCTCR_06608!C13),",0",",0") -> 288138,13|3,0,0 | D13: =CONCATENATE(287964,",",ROW(BCTCR_06608!D13),"|",COLUMN(BCTCR_06608!D13),",0",",0") -> 287964,13|4,0,0 | E13: =CONCATENATE(287869,",",ROW(BCTCR_06608!E13),"|",COLUMN(BCTCR_06608!E13),",0",",0") -> 287869,13|5,0,0
A14: =CONCATENATE(288152,",",ROW(BCTCR_06608!A14),"|",COLUMN(BCTCR_06608!A14),",0",",0") -> 288152,14|1,0,0 | B14: =CONCATENATE(287660,",",ROW(BCTCR_06608!B14),"|",COLUMN(BCTCR_06608!B14),",0",",0") -> 287660,14|2,0,0 | C14: =CONCATENATE(288139,",",ROW(BCTCR_06608!C14),"|",COLUMN(BCTCR_06608!C14),",0",",0") -> 288139,14|3,0,0 | D14: =CONCATENATE(288053,",",ROW(BCTCR_06608!D14),"|",COLUMN(BCTCR_06608!D14),",0",",0") -> 288053,14|4,0,0 | E14: =CONCATENATE(287870,",",ROW(BCTCR_06608!E14),"|",COLUMN(BCTCR_06608!E14),",0",",0") -> 287870,14|5,0,0
A15: =CONCATENATE(287918,",",ROW(BCTCR_06608!A15),"|",COLUMN(BCTCR_06608!A15),",0",",0") -> 287918,15|1,0,0 | B15: =CONCATENATE(288190,",",ROW(BCTCR_06608!B15),"|",COLUMN(BCTCR_06608!B15),",0",",0") -> 288190,15|2,0,0 | C15: =CONCATENATE(287968,",",ROW(BCTCR_06608!C15),"|",COLUMN(BCTCR_06608!C15),",0",",0") -> 287968,15|3,0,0 | D15: =CONCATENATE(288267,",",ROW(BCTCR_06608!D15),"|",COLUMN(BCTCR_06608!D15),",0",",0") -> 288267,15|4,0,0 | E15: =CONCATENATE(287811,",",ROW(BCTCR_06608!E15),"|",COLUMN(BCTCR_06608!E15),",0",",0") -> 287811,15|5,0,0
A16: =CONCATENATE(288153,",",ROW(BCTCR_06608!A16),"|",COLUMN(BCTCR_06608!A16),",0",",0") -> 288153,16|1,0,0 | B16: =CONCATENATE(288183,",",ROW(BCTCR_06608!B16),"|",COLUMN(BCTCR_06608!B16),",0",",0") -> 288183,16|2,0,0 | C16: =CONCATENATE(288140,",",ROW(BCTCR_06608!C16),"|",COLUMN(BCTCR_06608!C16),",0",",0") -> 288140,16|3,0,0 | D16: =CONCATENATE(288054,",",ROW(BCTCR_06608!D16),"|",COLUMN(BCTCR_06608!D16),",0",",0") -> 288054,16|4,0,0 | E16: =CONCATENATE(287871,",",ROW(BCTCR_06608!E16),"|",COLUMN(BCTCR_06608!E16),",0",",0") -> 287871,16|5,0,0
A17: =CONCATENATE(287919,",",ROW(BCTCR_06608!A17),"|",COLUMN(BCTCR_06608!A17),",0",",0") -> 287919,17|1,0,0 | B17: =CONCATENATE(287661,",",ROW(BCTCR_06608!B17),"|",COLUMN(BCTCR_06608!B17),",0",",0") -> 287661,17|2,0,0 | C17: =CONCATENATE(287969,",",ROW(BCTCR_06608!C17),"|",COLUMN(BCTCR_06608!C17),",0",",0") -> 287969,17|3,0,0 | D17: =CONCATENATE(288268,",",ROW(BCTCR_06608!D17),"|",COLUMN(BCTCR_06608!D17),",0",",0") -> 288268,17|4,0,0 | E17: =CONCATENATE(287813,",",ROW(BCTCR_06608!E17),"|",COLUMN(BCTCR_06608!E17),",0",",0") -> 287813,17|5,0,0
A18: =CONCATENATE(287920,",",ROW(BCTCR_06608!A18),"|",COLUMN(BCTCR_06608!A18),",0",",0") -> 287920,18|1,0,0 | B18: =CONCATENATE(288184,",",ROW(BCTCR_06608!B18),"|",COLUMN(BCTCR_06608!B18),",0",",0") -> 288184,18|2,0,0 | C18: =CONCATENATE(287970,",",ROW(BCTCR_06608!C18),"|",COLUMN(BCTCR_06608!C18),",0",",0") -> 287970,18|3,0,0 | D18: =CONCATENATE(287619,",",ROW(BCTCR_06608!D18),"|",COLUMN(BCTCR_06608!D18),",0",",0") -> 287619,18|4,0,0 | E18: =CONCATENATE(287814,",",ROW(BCTCR_06608!E18),"|",COLUMN(BCTCR_06608!E18),",0",",0") -> 287814,18|5,0,0
A19: =CONCATENATE(287844,",",ROW(BCTCR_06608!A19),"|",COLUMN(BCTCR_06608!A19),",0",",0") -> 287844,19|1,0,0 | B19: =CONCATENATE(287693,",",ROW(BCTCR_06608!B19),"|",COLUMN(BCTCR_06608!B19),",0",",0") -> 287693,19|2,0,0 | C19: =CONCATENATE(288141,",",ROW(BCTCR_06608!C19),"|",COLUMN(BCTCR_06608!C19),",0",",0") -> 288141,19|3,0,0 | D19: =CONCATENATE(288055,",",ROW(BCTCR_06608!D19),"|",COLUMN(BCTCR_06608!D19),",0",",0") -> 288055,19|4,0,0 | E19: =CONCATENATE(287872,",",ROW(BCTCR_06608!E19),"|",COLUMN(BCTCR_06608!E19),",0",",0") -> 287872,19|5,0,0
A20: =CONCATENATE(288154,",",ROW(BCTCR_06608!A20),"|",COLUMN(BCTCR_06608!A20),",0",",0") -> 288154,20|1,0,0 | B20: =CONCATENATE(288191,",",ROW(BCTCR_06608!B20),"|",COLUMN(BCTCR_06608!B20),",0",",0") -> 288191,20|2,0,0 | C20: =CONCATENATE(288093,",",ROW(BCTCR_06608!C20),"|",COLUMN(BCTCR_06608!C20),",0",",0") -> 288093,20|3,0,0 | D20: =CONCATENATE(287644,",",ROW(BCTCR_06608!D20),"|",COLUMN(BCTCR_06608!D20),",0",",0") -> 287644,20|4,0,0 | E20: =CONCATENATE(288212,",",ROW(BCTCR_06608!E20),"|",COLUMN(BCTCR_06608!E20),",0",",0") -> 288212,20|5,0,0
A21: =CONCATENATE(287900,",",ROW(BCTCR_06608!A21),"|",COLUMN(BCTCR_06608!A21),",0",",0") -> 287900,21|1,0,0 | B21: =CONCATENATE(287731,",",ROW(BCTCR_06608!B21),"|",COLUMN(BCTCR_06608!B21),",0",",0") -> 287731,21|2,0,0 | C21: =CONCATENATE(288142,",",ROW(BCTCR_06608!C21),"|",COLUMN(BCTCR_06608!C21),",0",",0") -> 288142,21|3,0,0 | D21: =CONCATENATE(288056,",",ROW(BCTCR_06608!D21),"|",COLUMN(BCTCR_06608!D21),",0",",0") -> 288056,21|4,0,0 | E21: =CONCATENATE(287873,",",ROW(BCTCR_06608!E21),"|",COLUMN(BCTCR_06608!E21),",0",",0") -> 287873,21|5,0,0
A22: =CONCATENATE(287845,",",ROW(BCTCR_06608!A22),"|",COLUMN(BCTCR_06608!A22),",0",",0") -> 287845,22|1,0,0 | B22: =CONCATENATE(287707,",",ROW(BCTCR_06608!B22),"|",COLUMN(BCTCR_06608!B22),",0",",0") -> 287707,22|2,0,0 | C22: =CONCATENATE(288143,",",ROW(BCTCR_06608!C22),"|",COLUMN(BCTCR_06608!C22),",0",",0") -> 288143,22|3,0,0 | D22: =CONCATENATE(288057,",",ROW(BCTCR_06608!D22),"|",COLUMN(BCTCR_06608!D22),",0",",0") -> 288057,22|4,0,0 | E22: =CONCATENATE(287874,",",ROW(BCTCR_06608!E22),"|",COLUMN(BCTCR_06608!E22),",0",",0") -> 287874,22|5,0,0
A23: =CONCATENATE(287921,",",ROW(BCTCR_06608!A23),"|",COLUMN(BCTCR_06608!A23),",0",",0") -> 287921,23|1,0,0 | B23: =CONCATENATE(288192,",",ROW(BCTCR_06608!B23),"|",COLUMN(BCTCR_06608!B23),",0",",0") -> 288192,23|2,0,0 | C23: =CONCATENATE(288130,",",ROW(BCTCR_06608!C23),"|",COLUMN(BCTCR_06608!C23),",0",",0") -> 288130,23|3,0,0 | D23: =CONCATENATE(287620,",",ROW(BCTCR_06608!D23),"|",COLUMN(BCTCR_06608!D23),",0",",0") -> 287620,23|4,0,0 | E23: =CONCATENATE(287815,",",ROW(BCTCR_06608!E23),"|",COLUMN(BCTCR_06608!E23),",0",",0") -> 287815,23|5,0,0
A24: =CONCATENATE(287901,",",ROW(BCTCR_06608!A24),"|",COLUMN(BCTCR_06608!A24),",0",",0") -> 287901,24|1,0,0 | B24: =CONCATENATE(287708,",",ROW(BCTCR_06608!B24),"|",COLUMN(BCTCR_06608!B24),",0",",0") -> 287708,24|2,0,0 | C24: =CONCATENATE(288144,",",ROW(BCTCR_06608!C24),"|",COLUMN(BCTCR_06608!C24),",0",",0") -> 288144,24|3,0,0 | D24: =CONCATENATE(288058,",",ROW(BCTCR_06608!D24),"|",COLUMN(BCTCR_06608!D24),",0",",0") -> 288058,24|4,0,0 | E24: =CONCATENATE(287875,",",ROW(BCTCR_06608!E24),"|",COLUMN(BCTCR_06608!E24),",0",",0") -> 287875,24|5,0,0
A25: =CONCATENATE(287922,",",ROW(BCTCR_06608!A25),"|",COLUMN(BCTCR_06608!A25),",0",",0") -> 287922,25|1,0,0 | B25: =CONCATENATE(287709,",",ROW(BCTCR_06608!B25),"|",COLUMN(BCTCR_06608!B25),",0",",0") -> 287709,25|2,0,0 | C25: =CONCATENATE(287971,",",ROW(BCTCR_06608!C25),"|",COLUMN(BCTCR_06608!C25),",0",",0") -> 287971,25|3,0,0 | D25: =CONCATENATE(287621,",",ROW(BCTCR_06608!D25),"|",COLUMN(BCTCR_06608!D25),",0",",0") -> 287621,25|4,0,0 | E25: =CONCATENATE(287816,",",ROW(BCTCR_06608!E25),"|",COLUMN(BCTCR_06608!E25),",0",",0") -> 287816,25|5,0,0
A26: =CONCATENATE(288155,",",ROW(BCTCR_06608!A26),"|",COLUMN(BCTCR_06608!A26),",0",",0") -> 288155,26|1,0,0 | B26: =CONCATENATE(287662,",",ROW(BCTCR_06608!B26),"|",COLUMN(BCTCR_06608!B26),",0",",0") -> 287662,26|2,0,0 | C26: =CONCATENATE(288145,",",ROW(BCTCR_06608!C26),"|",COLUMN(BCTCR_06608!C26),",0",",0") -> 288145,26|3,0,0 | D26: =CONCATENATE(288059,",",ROW(BCTCR_06608!D26),"|",COLUMN(BCTCR_06608!D26),",0",",0") -> 288059,26|4,0,0 | E26: =CONCATENATE(287876,",",ROW(BCTCR_06608!E26),"|",COLUMN(BCTCR_06608!E26),",0",",0") -> 287876,26|5,0,0
A27: =CONCATENATE(287846,",",ROW(BCTCR_06608!A27),"|",COLUMN(BCTCR_06608!A27),",0",",0") -> 287846,27|1,0,0 | B27: =CONCATENATE(287663,",",ROW(BCTCR_06608!B27),"|",COLUMN(BCTCR_06608!B27),",0",",0") -> 287663,27|2,0,0 | C27: =CONCATENATE(288146,",",ROW(BCTCR_06608!C27),"|",COLUMN(BCTCR_06608!C27),",0",",0") -> 288146,27|3,0,0 | D27: =CONCATENATE(288060,",",ROW(BCTCR_06608!D27),"|",COLUMN(BCTCR_06608!D27),",0",",0") -> 288060,27|4,0,0 | E27: =CONCATENATE(287877,",",ROW(BCTCR_06608!E27),"|",COLUMN(BCTCR_06608!E27),",0",",0") -> 287877,27|5,0,0
A28: =CONCATENATE(287847,",",ROW(BCTCR_06608!A28),"|",COLUMN(BCTCR_06608!A28),",0",",0") -> 287847,28|1,0,0 | B28: =CONCATENATE(287812,",",ROW(BCTCR_06608!B28),"|",COLUMN(BCTCR_06608!B28),",0",",0") -> 287812,28|2,0,0 | C28: =CONCATENATE(288094,",",ROW(BCTCR_06608!C28),"|",COLUMN(BCTCR_06608!C28),",0",",0") -> 288094,28|3,0,0 | D28: =CONCATENATE(287645,",",ROW(BCTCR_06608!D28),"|",COLUMN(BCTCR_06608!D28),",0",",0") -> 287645,28|4,0,0 | E28: =CONCATENATE(288213,",",ROW(BCTCR_06608!E28),"|",COLUMN(BCTCR_06608!E28),",0",",0") -> 288213,28|5,0,0
A29: =CONCATENATE(287902,",",ROW(BCTCR_06608!A29),"|",COLUMN(BCTCR_06608!A29),",0",",0") -> 287902,29|1,0,0 | B29: =CONCATENATE(287694,",",ROW(BCTCR_06608!B29),"|",COLUMN(BCTCR_06608!B29),",0",",0") -> 287694,29|2,0,0 | C29: =CONCATENATE(287940,",",ROW(BCTCR_06608!C29),"|",COLUMN(BCTCR_06608!C29),",0",",0") -> 287940,29|3,0,0 | D29: =CONCATENATE(288061,",",ROW(BCTCR_06608!D29),"|",COLUMN(BCTCR_06608!D29),",0",",0") -> 288061,29|4,0,0 | E29: =CONCATENATE(287878,",",ROW(BCTCR_06608!E29),"|",COLUMN(BCTCR_06608!E29),",0",",0") -> 287878,29|5,0,0
A30: =CONCATENATE(287903,",",ROW(BCTCR_06608!A30),"|",COLUMN(BCTCR_06608!A30),",0",",0") -> 287903,30|1,0,0 | B30: =CONCATENATE(287732,",",ROW(BCTCR_06608!B30),"|",COLUMN(BCTCR_06608!B30),",0",",0") -> 287732,30|2,0,0 | C30: =CONCATENATE(287984,",",ROW(BCTCR_06608!C30),"|",COLUMN(BCTCR_06608!C30),",0",",0") -> 287984,30|3,0,0 | D30: =CONCATENATE(288062,",",ROW(BCTCR_06608!D30),"|",COLUMN(BCTCR_06608!D30),",0",",0") -> 288062,30|4,0,0 | E30: =CONCATENATE(287879,",",ROW(BCTCR_06608!E30),"|",COLUMN(BCTCR_06608!E30),",0",",0") -> 287879,30|5,0,0
A31: =CONCATENATE(288204,",",ROW(BCTCR_06608!A31),"|",COLUMN(BCTCR_06608!A31),",0",",0") -> 288204,31|1,0,0 | B31: =CONCATENATE(288193,",",ROW(BCTCR_06608!B31),"|",COLUMN(BCTCR_06608!B31),",0",",0") -> 288193,31|2,0,0 | C31: =CONCATENATE(288095,",",ROW(BCTCR_06608!C31),"|",COLUMN(BCTCR_06608!C31),",0",",0") -> 288095,31|3,0,0 | D31: =CONCATENATE(287646,",",ROW(BCTCR_06608!D31),"|",COLUMN(BCTCR_06608!D31),",0",",0") -> 287646,31|4,0,0 | E31: =CONCATENATE(288214,",",ROW(BCTCR_06608!E31),"|",COLUMN(BCTCR_06608!E31),",0",",0") -> 288214,31|5,0,0
A32: =CONCATENATE(288188,",",ROW(BCTCR_06608!A32),"|",COLUMN(BCTCR_06608!A32),",0",",0") -> 288188,32|1,0,0 | B32: =CONCATENATE(287664,",",ROW(BCTCR_06608!B32),"|",COLUMN(BCTCR_06608!B32),",0",",0") -> 287664,32|2,0,0 | C32: =CONCATENATE(288091,",",ROW(BCTCR_06608!C32),"|",COLUMN(BCTCR_06608!C32),",0",",0") -> 288091,32|3,0,0 | D32: =CONCATENATE(287642,",",ROW(BCTCR_06608!D32),"|",COLUMN(BCTCR_06608!D32),",0",",0") -> 287642,32|4,0,0 | E32: =CONCATENATE(288210,",",ROW(BCTCR_06608!E32),"|",COLUMN(BCTCR_06608!E32),",0",",0") -> 288210,32|5,0,0
A33: =CONCATENATE(287904,",",ROW(BCTCR_06608!A33),"|",COLUMN(BCTCR_06608!A33),",0",",0") -> 287904,33|1,0,0 | B33: =CONCATENATE(287733,",",ROW(BCTCR_06608!B33),"|",COLUMN(BCTCR_06608!B33),",0",",0") -> 287733,33|2,0,0 | C33: =CONCATENATE(287985,",",ROW(BCTCR_06608!C33),"|",COLUMN(BCTCR_06608!C33),",0",",0") -> 287985,33|3,0,0 | D33: =CONCATENATE(288063,",",ROW(BCTCR_06608!D33),"|",COLUMN(BCTCR_06608!D33),",0",",0") -> 288063,33|4,0,0 | E33: =CONCATENATE(287880,",",ROW(BCTCR_06608!E33),"|",COLUMN(BCTCR_06608!E33),",0",",0") -> 287880,33|5,0,0
A34: =CONCATENATE(288156,",",ROW(BCTCR_06608!A34),"|",COLUMN(BCTCR_06608!A34),",0",",0") -> 288156,34|1,0,0 | B34: =CONCATENATE(287710,",",ROW(BCTCR_06608!B34),"|",COLUMN(BCTCR_06608!B34),",0",",0") -> 287710,34|2,0,0 | C34: =CONCATENATE(287986,",",ROW(BCTCR_06608!C34),"|",COLUMN(BCTCR_06608!C34),",0",",0") -> 287986,34|3,0,0 | D34: =CONCATENATE(288064,",",ROW(BCTCR_06608!D34),"|",COLUMN(BCTCR_06608!D34),",0",",0") -> 288064,34|4,0,0 | E34: =CONCATENATE(287881,",",ROW(BCTCR_06608!E34),"|",COLUMN(BCTCR_06608!E34),",0",",0") -> 287881,34|5,0,0
A35: =CONCATENATE(287905,",",ROW(BCTCR_06608!A35),"|",COLUMN(BCTCR_06608!A35),",0",",0") -> 287905,35|1,0,0 | B35: =CONCATENATE(287734,",",ROW(BCTCR_06608!B35),"|",COLUMN(BCTCR_06608!B35),",0",",0") -> 287734,35|2,0,0 | C35: =CONCATENATE(287987,",",ROW(BCTCR_06608!C35),"|",COLUMN(BCTCR_06608!C35),",0",",0") -> 287987,35|3,0,0 | D35: =CONCATENATE(288065,",",ROW(BCTCR_06608!D35),"|",COLUMN(BCTCR_06608!D35),",0",",0") -> 288065,35|4,0,0 | E35: =CONCATENATE(287882,",",ROW(BCTCR_06608!E35),"|",COLUMN(BCTCR_06608!E35),",0",",0") -> 287882,35|5,0,0
A36: =CONCATENATE(288157,",",ROW(BCTCR_06608!A36),"|",COLUMN(BCTCR_06608!A36),",0",",0") -> 288157,36|1,0,0 | B36: =CONCATENATE(287695,",",ROW(BCTCR_06608!B36),"|",COLUMN(BCTCR_06608!B36),",0",",0") -> 287695,36|2,0,0 | C36: =CONCATENATE(287988,",",ROW(BCTCR_06608!C36),"|",COLUMN(BCTCR_06608!C36),",0",",0") -> 287988,36|3,0,0 | D36: =CONCATENATE(288066,",",ROW(BCTCR_06608!D36),"|",COLUMN(BCTCR_06608!D36),",0",",0") -> 288066,36|4,0,0 | E36: =CONCATENATE(287883,",",ROW(BCTCR_06608!E36),"|",COLUMN(BCTCR_06608!E36),",0",",0") -> 287883,36|5,0,0
A37: =CONCATENATE(288205,",",ROW(BCTCR_06608!A37),"|",COLUMN(BCTCR_06608!A37),",0",",0") -> 288205,37|1,0,0 | B37: =CONCATENATE(288194,",",ROW(BCTCR_06608!B37),"|",COLUMN(BCTCR_06608!B37),",0",",0") -> 288194,37|2,0,0 | C37: =CONCATENATE(288096,",",ROW(BCTCR_06608!C37),"|",COLUMN(BCTCR_06608!C37),",0",",0") -> 288096,37|3,0,0 | D37: =CONCATENATE(287647,",",ROW(BCTCR_06608!D37),"|",COLUMN(BCTCR_06608!D37),",0",",0") -> 287647,37|4,0,0 | E37: =CONCATENATE(288215,",",ROW(BCTCR_06608!E37),"|",COLUMN(BCTCR_06608!E37),",0",",0") -> 288215,37|5,0,0
A38: =CONCATENATE(287923,",",ROW(BCTCR_06608!A38),"|",COLUMN(BCTCR_06608!A38),",0",",0") -> 287923,38|1,0,0 | B38: =CONCATENATE(287696,",",ROW(BCTCR_06608!B38),"|",COLUMN(BCTCR_06608!B38),",0",",0") -> 287696,38|2,0,0 | C38: =CONCATENATE(287972,",",ROW(BCTCR_06608!C38),"|",COLUMN(BCTCR_06608!C38),",0",",0") -> 287972,38|3,0,0 | D38: =CONCATENATE(287622,",",ROW(BCTCR_06608!D38),"|",COLUMN(BCTCR_06608!D38),",0",",0") -> 287622,38|4,0,0 | E38: =CONCATENATE(287817,",",ROW(BCTCR_06608!E38),"|",COLUMN(BCTCR_06608!E38),",0",",0") -> 287817,38|5,0,0
A39: =CONCATENATE(288158,",",ROW(BCTCR_06608!A39),"|",COLUMN(BCTCR_06608!A39),",0",",0") -> 288158,39|1,0,0 | B39: =CONCATENATE(287697,",",ROW(BCTCR_06608!B39),"|",COLUMN(BCTCR_06608!B39),",0",",0") -> 287697,39|2,0,0 | C39: =CONCATENATE(287683,",",ROW(BCTCR_06608!C39),"|",COLUMN(BCTCR_06608!C39),",0",",0") -> 287683,39|3,0,0 | D39: =CONCATENATE(288067,",",ROW(BCTCR_06608!D39),"|",COLUMN(BCTCR_06608!D39),",0",",0") -> 288067,39|4,0,0 | E39: =CONCATENATE(287884,",",ROW(BCTCR_06608!E39),"|",COLUMN(BCTCR_06608!E39),",0",",0") -> 287884,39|5,0,0
A40: =CONCATENATE(287674,",",ROW(BCTCR_06608!A40),"|",COLUMN(BCTCR_06608!A40),",0",",0") -> 287674,40|1,0,0 | B40: =CONCATENATE(288195,",",ROW(BCTCR_06608!B40),"|",COLUMN(BCTCR_06608!B40),",0",",0") -> 288195,40|2,0,0 | C40: =CONCATENATE(288097,",",ROW(BCTCR_06608!C40),"|",COLUMN(BCTCR_06608!C40),",0",",0") -> 288097,40|3,0,0 | D40: =CONCATENATE(287648,",",ROW(BCTCR_06608!D40),"|",COLUMN(BCTCR_06608!D40),",0",",0") -> 287648,40|4,0,0 | E40: =CONCATENATE(288216,",",ROW(BCTCR_06608!E40),"|",COLUMN(BCTCR_06608!E40),",0",",0") -> 288216,40|5,0,0
A41: =CONCATENATE(288159,",",ROW(BCTCR_06608!A41),"|",COLUMN(BCTCR_06608!A41),",0",",0") -> 288159,41|1,0,0 | B41: =CONCATENATE(287711,",",ROW(BCTCR_06608!B41),"|",COLUMN(BCTCR_06608!B41),",0",",0") -> 287711,41|2,0,0 | C41: =CONCATENATE(287989,",",ROW(BCTCR_06608!C41),"|",COLUMN(BCTCR_06608!C41),",0",",0") -> 287989,41|3,0,0 | D41: =CONCATENATE(288068,",",ROW(BCTCR_06608!D41),"|",COLUMN(BCTCR_06608!D41),",0",",0") -> 288068,41|4,0,0 | E41: =CONCATENATE(287885,",",ROW(BCTCR_06608!E41),"|",COLUMN(BCTCR_06608!E41),",0",",0") -> 287885,41|5,0,0
A42: =CONCATENATE(288206,",",ROW(BCTCR_06608!A42),"|",COLUMN(BCTCR_06608!A42),",0",",0") -> 288206,42|1,0,0 | B42: =CONCATENATE(287763,",",ROW(BCTCR_06608!B42),"|",COLUMN(BCTCR_06608!B42),",0",",0") -> 287763,42|2,0,0 | C42: =CONCATENATE(288127,",",ROW(BCTCR_06608!C42),"|",COLUMN(BCTCR_06608!C42),",0",",0") -> 288127,42|3,0,0 | D42: =CONCATENATE(288043,",",ROW(BCTCR_06608!D42),"|",COLUMN(BCTCR_06608!D42),",0",",0") -> 288043,42|4,0,0 | E42: =CONCATENATE(287859,",",ROW(BCTCR_06608!E42),"|",COLUMN(BCTCR_06608!E42),",0",",0") -> 287859,42|5,0,0
A43: =CONCATENATE(287906,",",ROW(BCTCR_06608!A43),"|",COLUMN(BCTCR_06608!A43),",0",",0") -> 287906,43|1,0,0 | B43: =CONCATENATE(287764,",",ROW(BCTCR_06608!B43),"|",COLUMN(BCTCR_06608!B43),",0",",0") -> 287764,43|2,0,0 | C43: =CONCATENATE(287990,",",ROW(BCTCR_06608!C43),"|",COLUMN(BCTCR_06608!C43),",0",",0") -> 287990,43|3,0,0 | D43: =CONCATENATE(288069,",",ROW(BCTCR_06608!D43),"|",COLUMN(BCTCR_06608!D43),",0",",0") -> 288069,43|4,0,0 | E43: =CONCATENATE(287886,",",ROW(BCTCR_06608!E43),"|",COLUMN(BCTCR_06608!E43),",0",",0") -> 287886,43|5,0,0
A44: =CONCATENATE(287924,",",ROW(BCTCR_06608!A44),"|",COLUMN(BCTCR_06608!A44),",0",",0") -> 287924,44|1,0,0 | B44: =CONCATENATE(287765,",",ROW(BCTCR_06608!B44),"|",COLUMN(BCTCR_06608!B44),",0",",0") -> 287765,44|2,0,0 | C44: =CONCATENATE(287973,",",ROW(BCTCR_06608!C44),"|",COLUMN(BCTCR_06608!C44),",0",",0") -> 287973,44|3,0,0 | D44: =CONCATENATE(287623,",",ROW(BCTCR_06608!D44),"|",COLUMN(BCTCR_06608!D44),",0",",0") -> 287623,44|4,0,0 | E44: =CONCATENATE(287818,",",ROW(BCTCR_06608!E44),"|",COLUMN(BCTCR_06608!E44),",0",",0") -> 287818,44|5,0,0
...

Sheet CCTTCR_06609
A1: CÁC CHỈ TIÊU NGOÀI BÁO CÁO TÌNH HÌNH TÀI CHÍNH RIÊNG
A2: Chỉ tiêu | B2: Mã số | C2: Thuyết minh | D2: Số cuối năm | E2: Số đầu năm
A3: A | B3: B | C3: C | D3: 1 | E3: 2
A4: A.TÀI SẢN CỦA CTCK VÀ TÀI SẢN QUẢN LÝ THEO CAM KẾT
A5: 1. Tài sản cố định thuê ngoài | B5: 1
A6: 2. Chứng chỉ có giá nhận giữ hộ | B6: 2
A7: 3. Tài sản nhận thế chấp | B7: 3
A8: 4. Nợ khó đòi đã xử lý | B8: 4 | D8: 390400000 | E8: 390400000
A9: 5. Ngoại tệ các loại | B9: 5
A10: 6. Cổ phiếu đang lưu hành | B10: 6 | D10: 72200145 | E10: 72200145
A11: 7. Cổ phiếu quỹ | B11: 7 | D11: 33792 | E11: 33792
A12: 8. Tài sản tài chính niêm yết/đăng ký giao dịch tại VSD của CTCK | B12: 8 | D12: 335799650000 | E12: 251061040000
A13: 9. Tài sản tài chính đã lưu ký tại VSD và chưa giao dịch của CTCK | B13: 9 | E13: 214580000
A14: 10. Tài sản tài chính chờ về của CTCK | B14: 10 | D14: 2372000000 | E14: 300000000
A15: 11. Tài sản tài chính sửa lỗi giao dịch của CTCK | B15: 11
A16: 12. Tài sản tài chính chưa lưu ký tại VSD của CTCK | B16: 12 | D16: 443548208700 | E16: 491849222900
A17: 13.Tài sản tài chính được hưởng quyền của CTCK | B17: 13
A18: B. TÀI SẢN VÀ CÁC KHOẢN PHẢI TRẢ VỀ TÀI SẢN QUẢN LÝ CAM KẾT VỚI KHÁCH HÀNG
A19: 1.Tài sản tài chính niêm yết/đăng ký giao dịch tại VSD của Nhà đầu tư | B19: 21 | D19: 30431498850400 | E19: 30822487644000
A20: a.Tài sản tài chính giao dịch tự do chuyển nhượng | B20: 21.1 | D20: 27066728541400 | E20: 27240925454000
A21: b.Tài sản tài chính hạn chế chuyển nhượng | B21: 21.2 | D21: 310470610000 | E21: 247273460000
A22: c.Tài sản tài chính giao dịch cầm cố | B22: 21.3 | D22: 2465631810000 | E22: 2951023610000
A23: d.Tài sản tài chính phong tỏa, tạm giữ | B23: 21.4 | D23: 488737520000 | E23: 111507010000
A24: e.Tài sản tài chính chờ thanh toán | B24: 21.5 | D24: 99930369000 | E24: 271758110000
A25: f. Tài sản tài chính chờ cho vay | B25: 21.6
A26: 2. Tài sản tài chính đã lưu ký tại VSD và chưa giao dịch của Nhà đầu tư | B26: 22 | D26: 63852230000 | E26: 155046150000
A27: a.Tài sản tài chính đã lưu ký tại VSD và chưa giao dịch, tự do chuyển nhượng | B27: 22.1 | D27: 45579630000 | E27: 36783150000
A28: b.Tài sản tài chính đã lưu ký tại VSD và chưa giao dịch, hạn chế chuyển nhượng | B28: 22.2 | D28: 18272600000 | E28: 118263000000
A29: c.Tài sản tài chính đã lưu ký tại VSD và chưa giao dịch, cầm cố | B29: 22.3
A30: d.Tài sản tài chính đã lưu ký tại VSD và chưa giao dịch, phong tỏa, tạm giữ | B30: 22.4
A31: 3. Tài sản tài chính chờ về của Nhà đầu tư | B31: 23 | D31: 262658181000 | E31: 255117898000
A32: 4. Tài sản tài chính sửa lỗi giao dịch của Nhà đầu tư | B32: 024.a
A33: 5.Tài sản tài chính chưa lưu ký tại VSD của Nhà đầu tư | B33: 024.b | D33: 461322300000 | E33: 661322300000
A34: 6.Tài sản tài chính được hưởng quyền của Nhà đầu tư | B34: 25
A35: 7. Tiền gửi của khách hàng | B35: 26 | D35: 1344995456540 | E35: 938847666218
A36: 7.1. Tiền gửi của Nhà đầu tư về giao dịch chứng khoán theo phương thức CTCK quản lý | B36: 27 | D36: 552781949486 | E36: 530836444058
A37: 7.2.Tiền gửi tổng hợp giao dịch chứng khoán cho khách hàng | B37: 28 | D37: 732124689414 | E37: 395900015767
A38: 7.3. Tiền gửi bù trừ và thanh toán giao dịch chứng khoán | B38: 29 | D38: 16711308842
A39: a. Tiền gửi bù trừ và thanh toán giao dịch chứng khoán Nhà đầu tư trong nước | B39: 29.1 | D39: 16696068370
A40: b. Tiền gửi bù trừ và thanh toán giao dịch chứng khoán Nhà đầu tư nước ngoài | B40: 29.2 | D40: 15240472
...

Sheet 6045_hidden
A3: =CONCATENATE(286602,",",ROW(CCTTCR_06609!A3),"|",COLUMN(CCTTCR_06609!A3),",0",",0") -> 286602,3|1,0,0 | B3: =CONCATENATE(286572,",",ROW(CCTTCR_06609!B3),"|",COLUMN(CCTTCR_06609!B3),",0",",0") -> 286572,3|2,0,0 | C3: =CONCATENATE(286673,",",ROW(CCTTCR_06609!C3),"|",COLUMN(CCTTCR_06609!C3),",0",",0") -> 286673,3|3,0,0 | D3: =CONCATENATE(286678,",",ROW(CCTTCR_06609!D3),"|",COLUMN(CCTTCR_06609!D3),",0",",0") -> 286678,3|4,0,0 | E3: =CONCATENATE(286679,",",ROW(CCTTCR_06609!E3),"|",COLUMN(CCTTCR_06609!E3),",0",",0") -> 286679,3|5,0,0
A4: =CONCATENATE(286603,",",ROW(CCTTCR_06609!A4),"|",COLUMN(CCTTCR_06609!A4),",0",",0") -> 286603,4|1,0,0 | C4: =CONCATENATE(286751,",",ROW(CCTTCR_06609!C4),"|",COLUMN(CCTTCR_06609!C4),",0",",0") -> 286751,4|3,0,0 | D4: =CONCATENATE(286630,",",ROW(CCTTCR_06609!D4),"|",COLUMN(CCTTCR_06609!D4),",0",",0") -> 286630,4|4,0,0 | E4: =CONCATENATE(286699,",",ROW(CCTTCR_06609!E4),"|",COLUMN(CCTTCR_06609!E4),",0",",0") -> 286699,4|5,0,0
A5: =CONCATENATE(286580,",",ROW(CCTTCR_06609!A5),"|",COLUMN(CCTTCR_06609!A5),",0",",0") -> 286580,5|1,0,0 | B5: =CONCATENATE(286559,",",ROW(CCTTCR_06609!B5),"|",COLUMN(CCTTCR_06609!B5),",0",",0") -> 286559,5|2,0,0 | C5: =CONCATENATE(286737,",",ROW(CCTTCR_06609!C5),"|",COLUMN(CCTTCR_06609!C5),",0",",0") -> 286737,5|3,0,0 | D5: =CONCATENATE(286614,",",ROW(CCTTCR_06609!D5),"|",COLUMN(CCTTCR_06609!D5),",0",",0") -> 286614,5|4,0,0 | E5: =CONCATENATE(286640,",",ROW(CCTTCR_06609!E5),"|",COLUMN(CCTTCR_06609!E5),",0",",0") -> 286640,5|5,0,0
A6: =CONCATENATE(286685,",",ROW(CCTTCR_06609!A6),"|",COLUMN(CCTTCR_06609!A6),",0",",0") -> 286685,6|1,0,0 | B6: =CONCATENATE(286574,",",ROW(CCTTCR_06609!B6),"|",COLUMN(CCTTCR_06609!B6),",0",",0") -> 286574,6|2,0,0 | C6: =CONCATENATE(286542,",",ROW(CCTTCR_06609!C6),"|",COLUMN(CCTTCR_06609!C6),",0",",0") -> 286542,6|3,0,0 | D6: =CONCATENATE(286646,",",ROW(CCTTCR_06609!D6),"|",COLUMN(CCTTCR_06609!D6),",0",",0") -> 286646,6|4,0,0 | E6: =CONCATENATE(286703,",",ROW(CCTTCR_06609!E6),"|",COLUMN(CCTTCR_06609!E6),",0",",0") -> 286703,6|5,0,0
A7: =CONCATENATE(286573,",",ROW(CCTTCR_06609!A7),"|",COLUMN(CCTTCR_06609!A7),",0",",0") -> 286573,7|1,0,0 | B7: =CONCATENATE(286560,",",ROW(CCTTCR_06609!B7),"|",COLUMN(CCTTCR_06609!B7),",0",",0") -> 286560,7|2,0,0 | C7: =CONCATENATE(286738,",",ROW(CCTTCR_06609!C7),"|",COLUMN(CCTTCR_06609!C7),",0",",0") -> 286738,7|3,0,0 | D7: =CONCATENATE(286615,",",ROW(CCTTCR_06609!D7),"|",COLUMN(CCTTCR_06609!D7),",0",",0") -> 286615,7|4,0,0 | E7: =CONCATENATE(286641,",",ROW(CCTTCR_06609!E7),"|",COLUMN(CCTTCR_06609!E7),",0",",0") -> 286641,7|5,0,0
A8: =CONCATENATE(286686,",",ROW(CCTTCR_06609!A8),"|",COLUMN(CCTTCR_06609!A8),",0",",0") -> 286686,8|1,0,0 | B8: =CONCATENATE(286561,",",ROW(CCTTCR_06609!B8),"|",COLUMN(CCTTCR_06609!B8),",0",",0") -> 286561,8|2,0,0 | C8: =CONCATENATE(286739,",",ROW(CCTTCR_06609!C8),"|",COLUMN(CCTTCR_06609!C8),",0",",0") -> 286739,8|3,0,0 | D8: =CONCATENATE(286616,",",ROW(CCTTCR_06609!D8),"|",COLUMN(CCTTCR_06609!D8),",0",",0") -> 286616,8|4,0,0 | E8: =CONCATENATE(286642,",",ROW(CCTTCR_06609!E8),"|",COLUMN(CCTTCR_06609!E8),",0",",0") -> 286642,8|5,0,0
A9: =CONCATENATE(286715,",",ROW(CCTTCR_06609!A9),"|",COLUMN(CCTTCR_06609!A9),",0",",0") -> 286715,9|1,0,0 | B9: =CONCATENATE(286666,",",ROW(CCTTCR_06609!B9),"|",COLUMN(CCTTCR_06609!B9),",0",",0") -> 286666,9|2,0,0 | C9: =CONCATENATE(286530,",",ROW(CCTTCR_06609!C9),"|",COLUMN(CCTTCR_06609!C9),",0",",0") -> 286530,9|3,0,0 | D9: =CONCATENATE(286647,",",ROW(CCTTCR_06609!D9),"|",COLUMN(CCTTCR_06609!D9),",0",",0") -> 286647,9|4,0,0 | E9: =CONCATENATE(286704,",",ROW(CCTTCR_06609!E9),"|",COLUMN(CCTTCR_06609!E9),",0",",0") -> 286704,9|5,0,0
A10: =CONCATENATE(286604,",",ROW(CCTTCR_06609!A10),"|",COLUMN(CCTTCR_06609!A10),",0",",0") -> 286604,10|1,0,0 | B10: =CONCATENATE(286563,",",ROW(CCTTCR_06609!B10),"|",COLUMN(CCTTCR_06609!B10),",0",",0") -> 286563,10|2,0,0 | C10: =CONCATENATE(286752,",",ROW(CCTTCR_06609!C10),"|",COLUMN(CCTTCR_06609!C10),",0",",0") -> 286752,10|3,0,0 | D10: =CONCATENATE(286643,",",ROW(CCTTCR_06609!D10),"|",COLUMN(CCTTCR_06609!D10),",0",",0") -> 286643,10|4,0,0 | E10: =CONCATENATE(286700,",",ROW(CCTTCR_06609!E10),"|",COLUMN(CCTTCR_06609!E10),",0",",0") -> 286700,10|5,0,0
A11: =CONCATENATE(286676,",",ROW(CCTTCR_06609!A11),"|",COLUMN(CCTTCR_06609!A11),",0",",0") -> 286676,11|1,0,0 | B11: =CONCATENATE(286564,",",ROW(CCTTCR_06609!B11),"|",COLUMN(CCTTCR_06609!B11),",0",",0") -> 286564,11|2,0,0 | C11: =CONCATENATE(286531,",",ROW(CCTTCR_06609!C11),"|",COLUMN(CCTTCR_06609!C11),",0",",0") -> 286531,11|3,0,0 | D11: =CONCATENATE(286648,",",ROW(CCTTCR_06609!D11),"|",COLUMN(CCTTCR_06609!D11),",0",",0") -> 286648,11|4,0,0 | E11: =CONCATENATE(286665,",",ROW(CCTTCR_06609!E11),"|",COLUMN(CCTTCR_06609!E11),",0",",0") -> 286665,11|5,0,0
A12: =CONCATENATE(286590,",",ROW(CCTTCR_06609!A12),"|",COLUMN(CCTTCR_06609!A12),",0",",0") -> 286590,12|1,0,0 | B12: =CONCATENATE(286667,",",ROW(CCTTCR_06609!B12),"|",COLUMN(CCTTCR_06609!B12),",0",",0") -> 286667,12|2,0,0 | C12: =CONCATENATE(286532,",",ROW(CCTTCR_06609!C12),"|",COLUMN(CCTTCR_06609!C12),",0",",0") -> 286532,12|3,0,0 | D12: =CONCATENATE(286649,",",ROW(CCTTCR_06609!D12),"|",COLUMN(CCTTCR_06609!D12),",0",",0") -> 286649,12|4,0,0 | E12: =CONCATENATE(286705,",",ROW(CCTTCR_06609!E12),"|",COLUMN(CCTTCR_06609!E12),",0",",0") -> 286705,12|5,0,0
A13: =CONCATENATE(286680,",",ROW(CCTTCR_06609!A13),"|",COLUMN(CCTTCR_06609!A13),",0",",0") -> 286680,13|1,0,0 | B13: =CONCATENATE(286585,",",ROW(CCTTCR_06609!B13),"|",COLUMN(CCTTCR_06609!B13),",0",",0") -> 286585,13|2,0,0 | C13: =CONCATENATE(286533,",",ROW(CCTTCR_06609!C13),"|",COLUMN(CCTTCR_06609!C13),",0",",0") -> 286533,13|3,0,0 | D13: =CONCATENATE(286650,",",ROW(CCTTCR_06609!D13),"|",COLUMN(CCTTCR_06609!D13),",0",",0") -> 286650,13|4,0,0 | E13: =CONCATENATE(286706,",",ROW(CCTTCR_06609!E13),"|",COLUMN(CCTTCR_06609!E13),",0",",0") -> 286706,13|5,0,0
A14: =CONCATENATE(286716,",",ROW(CCTTCR_06609!A14),"|",COLUMN(CCTTCR_06609!A14),",0",",0") -> 286716,14|1,0,0 | B14: =CONCATENATE(286581,",",ROW(CCTTCR_06609!B14),"|",COLUMN(CCTTCR_06609!B14),",0",",0") -> 286581,14|2,0,0 | C14: =CONCATENATE(286740,",",ROW(CCTTCR_06609!C14),"|",COLUMN(CCTTCR_06609!C14),",0",",0") -> 286740,14|3,0,0 | D14: =CONCATENATE(286617,",",ROW(CCTTCR_06609!D14),"|",COLUMN(CCTTCR_06609!D14),",0",",0") -> 286617,14|4,0,0 | E14: =CONCATENATE(286687,",",ROW(CCTTCR_06609!E14),"|",COLUMN(CCTTCR_06609!E14),",0",",0") -> 286687,14|5,0,0
A15: =CONCATENATE(286605,",",ROW(CCTTCR_06609!A15),"|",COLUMN(CCTTCR_06609!A15),",0",",0") -> 286605,15|1,0,0 | B15: =CONCATENATE(286565,",",ROW(CCTTCR_06609!B15),"|",COLUMN(CCTTCR_06609!B15),",0",",0") -> 286565,15|2,0,0 | C15: =CONCATENATE(286753,",",ROW(CCTTCR_06609!C15),"|",COLUMN(CCTTCR_06609!C15),",0",",0") -> 286753,15|3,0,0 | D15: =CONCATENATE(286644,",",ROW(CCTTCR_06609!D15),"|",COLUMN(CCTTCR_06609!D15),",0",",0") -> 286644,15|4,0,0 | E15: =CONCATENATE(286701,",",ROW(CCTTCR_06609!E15),"|",COLUMN(CCTTCR_06609!E15),",0",",0") -> 286701,15|5,0,0
A16: =CONCATENATE(286591,",",ROW(CCTTCR_06609!A16),"|",COLUMN(CCTTCR_06609!A16),",0",",0") -> 286591,16|1,0,0 | B16: =CONCATENATE(286668,",",ROW(CCTTCR_06609!B16),"|",COLUMN(CCTTCR_06609!B16),",0",",0") -> 286668,16|2,0,0 | C16: =CONCATENATE(286534,",",ROW(CCTTCR_06609!C16),"|",COLUMN(CCTTCR_06609!C16),",0",",0") -> 286534,16|3,0,0 | D16: =CONCATENATE(286651,",",ROW(CCTTCR_06609!D16),"|",COLUMN(CCTTCR_06609!D16),",0",",0") -> 286651,16|4,0,0 | E16: =CONCATENATE(286707,",",ROW(CCTTCR_06609!E16),"|",COLUMN(CCTTCR_06609!E16),",0",",0") -> 286707,16|5,0,0
A17: =CONCATENATE(286681,",",ROW(CCTTCR_06609!A17),"|",COLUMN(CCTTCR_06609!A17),",0",",0") -> 286681,17|1,0,0 | B17: =CONCATENATE(286669,",",ROW(CCTTCR_06609!B17),"|",COLUMN(CCTTCR_06609!B17),",0",",0") -> 286669,17|2,0,0 | C17: =CONCATENATE(286535,",",ROW(CCTTCR_06609!C17),"|",COLUMN(CCTTCR_06609!C17),",0",",0") -> 286535,17|3,0,0 | D17: =CONCATENATE(286652,",",ROW(CCTTCR_06609!D17),"|",COLUMN(CCTTCR_06609!D17),",0",",0") -> 286652,17|4,0,0 | E17: =CONCATENATE(286708,",",ROW(CCTTCR_06609!E17),"|",COLUMN(CCTTCR_06609!E17),",0",",0") -> 286708,17|5,0,0
A18: =CONCATENATE(286606,",",ROW(CCTTCR_06609!A18),"|",COLUMN(CCTTCR_06609!A18),",0",",0") -> 286606,18|1,0,0 | C18: =CONCATENATE(286754,",",ROW(CCTTCR_06609!C18),"|",COLUMN(CCTTCR_06609!C18),",0",",0") -> 286754,18|3,0,0 | D18: =CONCATENATE(286645,",",ROW(CCTTCR_06609!D18),"|",COLUMN(CCTTCR_06609!D18),",0",",0") -> 286645,18|4,0,0 | E18: =CONCATENATE(286702,",",ROW(CCTTCR_06609!E18),"|",COLUMN(CCTTCR_06609!E18),",0",",0") -> 286702,18|5,0,0
A19: =CONCATENATE(286582,",",ROW(CCTTCR_06609!A19),"|",COLUMN(CCTTCR_06609!A19),",0",",0") -> 286582,19|1,0,0 | B19: =CONCATENATE(286562,",",ROW(CCTTCR_06609!B19),"|",COLUMN(CCTTCR_06609!B19),",0",",0") -> 286562,19|2,0,0 | C19: =CONCATENATE(286741,",",ROW(CCTTCR_06609!C19),"|",COLUMN(CCTTCR_06609!C19),",0",",0") -> 286741,19|3,0,0 | D19: =CONCATENATE(286618,",",ROW(CCTTCR_06609!D19),"|",COLUMN(CCTTCR_06609!D19),",0",",0") -> 286618,19|4,0,0 | E19: =CONCATENATE(286688,",",ROW(CCTTCR_06609!E19),"|",COLUMN(CCTTCR_06609!E19),",0",",0") -> 286688,19|5,0,0
A20: =CONCATENATE(286723,",",ROW(CCTTCR_06609!A20),"|",COLUMN(CCTTCR_06609!A20),",0",",0") -> 286723,20|1,0,0 | B20: =CONCATENATE(286586,",",ROW(CCTTCR_06609!B20),"|",COLUMN(CCTTCR_06609!B20),",0",",0") -> 286586,20|2,0,0 | C20: =CONCATENATE(286536,",",ROW(CCTTCR_06609!C20),"|",COLUMN(CCTTCR_06609!C20),",0",",0") -> 286536,20|3,0,0 | D20: =CONCATENATE(286653,",",ROW(CCTTCR_06609!D20),"|",COLUMN(CCTTCR_06609!D20),",0",",0") -> 286653,20|4,0,0 | E20: =CONCATENATE(286709,",",ROW(CCTTCR_06609!E20),"|",COLUMN(CCTTCR_06609!E20),",0",",0") -> 286709,20|5,0,0
A21: =CONCATENATE(286717,",",ROW(CCTTCR_06609!A21),"|",COLUMN(CCTTCR_06609!A21),",0",",0") -> 286717,21|1,0,0 | B21: =CONCATENATE(286629,",",ROW(CCTTCR_06609!B21),"|",COLUMN(CCTTCR_06609!B21),",0",",0") -> 286629,21|2,0,0 | C21: =CONCATENATE(286742,",",ROW(CCTTCR_06609!C21),"|",COLUMN(CCTTCR_06609!C21),",0",",0") -> 286742,21|3,0,0 | D21: =CONCATENATE(286619,",",ROW(CCTTCR_06609!D21),"|",COLUMN(CCTTCR_06609!D21),",0",",0") -> 286619,21|4,0,0 | E21: =CONCATENATE(286689,",",ROW(CCTTCR_06609!E21),"|",COLUMN(CCTTCR_06609!E21),",0",",0") -> 286689,21|5,0,0
A22: =CONCATENATE(286724,",",ROW(CCTTCR_06609!A22),"|",COLUMN(CCTTCR_06609!A22),",0",",0") -> 286724,22|1,0,0 | B22: =CONCATENATE(286593,",",ROW(CCTTCR_06609!B22),"|",COLUMN(CCTTCR_06609!B22),",0",",0") -> 286593,22|2,0,0 | C22: =CONCATENATE(286743,",",ROW(CCTTCR_06609!C22),"|",COLUMN(CCTTCR_06609!C22),",0",",0") -> 286743,22|3,0,0 | D22: =CONCATENATE(286620,",",ROW(CCTTCR_06609!D22),"|",COLUMN(CCTTCR_06609!D22),",0",",0") -> 286620,22|4,0,0 | E22: =CONCATENATE(286690,",",ROW(CCTTCR_06609!E22),"|",COLUMN(CCTTCR_06609!E22),",0",",0") -> 286690,22|5,0,0
A23: =CONCATENATE(286677,",",ROW(CCTTCR_06609!A23),"|",COLUMN(CCTTCR_06609!A23),",0",",0") -> 286677,23|1,0,0 | B23: =CONCATENATE(286670,",",ROW(CCTTCR_06609!B23),"|",COLUMN(CCTTCR_06609!B23),",0",",0") -> 286670,23|2,0,0 | C23: =CONCATENATE(286537,",",ROW(CCTTCR_06609!C23),"|",COLUMN(CCTTCR_06609!C23),",0",",0") -> 286537,23|3,0,0 | D23: =CONCATENATE(286654,",",ROW(CCTTCR_06609!D23),"|",COLUMN(CCTTCR_06609!D23),",0",",0") -> 286654,23|4,0,0 | E23: =CONCATENATE(286710,",",ROW(CCTTCR_06609!E23),"|",COLUMN(CCTTCR_06609!E23),",0",",0") -> 286710,23|5,0,0
A24: =CONCATENATE(286674,",",ROW(CCTTCR_06609!A24),"|",COLUMN(CCTTCR_06609!A24),",0",",0") -> 286674,24|1,0,0 | B24: =CONCATENATE(286594,",",ROW(CCTTCR_06609!B24),"|",COLUMN(CCTTCR_06609!B24),",0",",0") -> 286594,24|2,0,0 | C24: =CONCATENATE(286744,",",ROW(CCTTCR_06609!C24),"|",COLUMN(CCTTCR_06609!C24),",0",",0") -> 286744,24|3,0,0 | D24: =CONCATENATE(286621,",",ROW(CCTTCR_06609!D24),"|",COLUMN(CCTTCR_06609!D24),",0",",0") -> 286621,24|4,0,0 | E24: =CONCATENATE(286691,",",ROW(CCTTCR_06609!E24),"|",COLUMN(CCTTCR_06609!E24),",0",",0") -> 286691,24|5,0,0
A25: =CONCATENATE(286725,",",ROW(CCTTCR_06609!A25),"|",COLUMN(CCTTCR_06609!A25),",0",",0") -> 286725,25|1,0,0 | B25: =CONCATENATE(286595,",",ROW(CCTTCR_06609!B25),"|",COLUMN(CCTTCR_06609!B25),",0",",0") -> 286595,25|2,0,0 | C25: =CONCATENATE(286745,",",ROW(CCTTCR_06609!C25),"|",COLUMN(CCTTCR_06609!C25),",0",",0") -> 286745,25|3,0,0 | D25: =CONCATENATE(286622,",",ROW(CCTTCR_06609!D25),"|",COLUMN(CCTTCR_06609!D25),",0",",0") -> 286622,25|4,0,0 | E25: =CONCATENATE(286692,",",ROW(CCTTCR_06609!E25),"|",COLUMN(CCTTCR_06609!E25),",0",",0") -> 286692,25|5,0,0
A26: =CONCATENATE(286683,",",ROW(CCTTCR_06609!A26),"|",COLUMN(CCTTCR_06609!A26),",0",",0") -> 286683,26|1,0,0 | B26: =CONCATENATE(286587,",",ROW(CCTTCR_06609!B26),"|",COLUMN(CCTTCR_06609!B26),",0",",0") -> 286587,26|2,0,0 | C26: =CONCATENATE(286538,",",ROW(CCTTCR_06609!C26),"|",COLUMN(CCTTCR_06609!C26),",0",",0") -> 286538,26|3,0,0 | D26: =CONCATENATE(286655,",",ROW(CCTTCR_06609!D26),"|",COLUMN(CCTTCR_06609!D26),",0",",0") -> 286655,26|4,0,0 | E26: =CONCATENATE(286711,",",ROW(CCTTCR_06609!E26),"|",COLUMN(CCTTCR_06609!E26),",0",",0") -> 286711,26|5,0,0
A27: =CONCATENATE(286684,",",ROW(CCTTCR_06609!A27),"|",COLUMN(CCTTCR_06609!A27),",0",",0") -> 286684,27|1,0,0 | B27: =CONCATENATE(286588,",",ROW(CCTTCR_06609!B27),"|",COLUMN(CCTTCR_06609!B27),",0",",0") -> 286588,27|2,0,0 | C27: =CONCATENATE(286539,",",ROW(CCTTCR_06609!C27),"|",COLUMN(CCTTCR_06609!C27),",0",",0") -> 286539,27|3,0,0 | D27: =CONCATENATE(286656,",",ROW(CCTTCR_06609!D27),"|",COLUMN(CCTTCR_06609!D27),",0",",0") -> 286656,27|4,0,0 | E27: =CONCATENATE(286712,",",ROW(CCTTCR_06609!E27),"|",COLUMN(CCTTCR_06609!E27),",0",",0") -> 286712,27|5,0,0
A28: =CONCATENATE(286583,",",ROW(CCTTCR_06609!A28),"|",COLUMN(CCTTCR_06609!A28),",0",",0") -> 286583,28|1,0,0 | B28: =CONCATENATE(286596,",",ROW(CCTTCR_06609!B28),"|",COLUMN(CCTTCR_06609!B28),",0",",0") -> 286596,28|2,0,0 | C28: =CONCATENATE(286746,",",ROW(CCTTCR_06609!C28),"|",COLUMN(CCTTCR_06609!C28),",0",",0") -> 286746,28|3,0,0 | D28: =CONCATENATE(286623,",",ROW(CCTTCR_06609!D28),"|",COLUMN(CCTTCR_06609!D28),",0",",0") -> 286623,28|4,0,0 | E28: =CONCATENATE(286693,",",ROW(CCTTCR_06609!E28),"|",COLUMN(CCTTCR_06609!E28),",0",",0") -> 286693,28|5,0,0
A29: =CONCATENATE(286718,",",ROW(CCTTCR_06609!A29),"|",COLUMN(CCTTCR_06609!A29),",0",",0") -> 286718,29|1,0,0 | B29: =CONCATENATE(286566,",",ROW(CCTTCR_06609!B29),"|",COLUMN(CCTTCR_06609!B29),",0",",0") -> 286566,29|2,0,0 | C29: =CONCATENATE(286540,",",ROW(CCTTCR_06609!C29),"|",COLUMN(CCTTCR_06609!C29),",0",",0") -> 286540,29|3,0,0 | D29: =CONCATENATE(286657,",",ROW(CCTTCR_06609!D29),"|",COLUMN(CCTTCR_06609!D29),",0",",0") -> 286657,29|4,0,0 | E29: =CONCATENATE(286713,",",ROW(CCTTCR_06609!E29),"|",COLUMN(CCTTCR_06609!E29),",0",",0") -> 286713,29|5,0,0
A30: =CONCATENATE(286719,",",ROW(CCTTCR_06609!A30),"|",COLUMN(CCTTCR_06609!A30),",0",",0") -> 286719,30|1,0,0 | B30: =CONCATENATE(286567,",",ROW(CCTTCR_06609!B30),"|",COLUMN(CCTTCR_06609!B30),",0",",0") -> 286567,30|2,0,0 | C30: =CONCATENATE(286541,",",ROW(CCTTCR_06609!C30),"|",COLUMN(CCTTCR_06609!C30),",0",",0") -> 286541,30|3,0,0 | D30: =CONCATENATE(286658,",",ROW(CCTTCR_06609!D30),"|",COLUMN(CCTTCR_06609!D30),",0",",0") -> 286658,30|4,0,0 | E30: =CONCATENATE(286714,",",ROW(CCTTCR_06609!E30),"|",COLUMN(CCTTCR_06609!E30),",0",",0") -> 286714,30|5,0,0
A31: =CONCATENATE(286720,",",ROW(CCTTCR_06609!A31),"|",COLUMN(CCTTCR_06609!A31),",0",",0") -> 286720,31|1,0,0 | B31: =CONCATENATE(286597,",",ROW(CCTTCR_06609!B31),"|",COLUMN(CCTTCR_06609!B31),",0",",0") -> 286597,31|2,0,0 | C31: =CONCATENATE(286747,",",ROW(CCTTCR_06609!C31),"|",COLUMN(CCTTCR_06609!C31),",0",",0") -> 286747,31|3,0,0 | D31: =CONCATENATE(286624,",",ROW(CCTTCR_06609!D31),"|",COLUMN(CCTTCR_06609!D31),",0",",0") -> 286624,31|4,0,0 | E31: =CONCATENATE(286694,",",ROW(CCTTCR_06609!E31),"|",COLUMN(CCTTCR_06609!E31),",0",",0") -> 286694,31|5,0,0
A32: =CONCATENATE(286721,",",ROW(CCTTCR_06609!A32),"|",COLUMN(CCTTCR_06609!A32),",0",",0") -> 286721,32|1,0,0 | B32: =CONCATENATE(286589,",",ROW(CCTTCR_06609!B32),"|",COLUMN(CCTTCR_06609!B32),",0",",0") -> 286589,32|2,0,0 | C32: =CONCATENATE(286543,",",ROW(CCTTCR_06609!C32),"|",COLUMN(CCTTCR_06609!C32),",0",",0") -> 286543,32|3,0,0 | D32: =CONCATENATE(286659,",",ROW(CCTTCR_06609!D32),"|",COLUMN(CCTTCR_06609!D32),",0",",0") -> 286659,32|4,0,0 | E32: =CONCATENATE(286546,",",ROW(CCTTCR_06609!E32),"|",COLUMN(CCTTCR_06609!E32),",0",",0") -> 286546,32|5,0,0
A33: =CONCATENATE(286722,",",ROW(CCTTCR_06609!A33),"|",COLUMN(CCTTCR_06609!A33),",0",",0") -> 286722,33|1,0,0 | B33: =CONCATENATE(286598,",",ROW(CCTTCR_06609!B33),"|",COLUMN(CCTTCR_06609!B33),",0",",0") -> 286598,33|2,0,0 | C33: =CONCATENATE(286631,",",ROW(CCTTCR_06609!C33),"|",COLUMN(CCTTCR_06609!C33),",0",",0") -> 286631,33|3,0,0 | D33: =CONCATENATE(286625,",",ROW(CCTTCR_06609!D33),"|",COLUMN(CCTTCR_06609!D33),",0",",0") -> 286625,33|4,0,0 | E33: =CONCATENATE(286695,",",ROW(CCTTCR_06609!E33),"|",COLUMN(CCTTCR_06609!E33),",0",",0") -> 286695,33|5,0,0
A34: =CONCATENATE(286750,",",ROW(CCTTCR_06609!A34),"|",COLUMN(CCTTCR_06609!A34),",0",",0") -> 286750,34|1,0,0 | B34: =CONCATENATE(286575,",",ROW(CCTTCR_06609!B34),"|",COLUMN(CCTTCR_06609!B34),",0",",0") -> 286575,34|2,0,0 | C34: =CONCATENATE(286544,",",ROW(CCTTCR_06609!C34),"|",COLUMN(CCTTCR_06609!C34),",0",",0") -> 286544,34|3,0,0 | D34: =CONCATENATE(286660,",",ROW(CCTTCR_06609!D34),"|",COLUMN(CCTTCR_06609!D34),",0",",0") -> 286660,34|4,0,0 | E34: =CONCATENATE(286547,",",ROW(CCTTCR_06609!E34),"|",COLUMN(CCTTCR_06609!E34),",0",",0") -> 286547,34|5,0,0
A35: =CONCATENATE(286726,",",ROW(CCTTCR_06609!A35),"|",COLUMN(CCTTCR_06609!A35),",0",",0") -> 286726,35|1,0,0 | B35: =CONCATENATE(286599,",",ROW(CCTTCR_06609!B35),"|",COLUMN(CCTTCR_06609!B35),",0",",0") -> 286599,35|2,0,0 | C35: =CONCATENATE(286632,",",ROW(CCTTCR_06609!C35),"|",COLUMN(CCTTCR_06609!C35),",0",",0") -> 286632,35|3,0,0 | D35: =CONCATENATE(286626,",",ROW(CCTTCR_06609!D35),"|",COLUMN(CCTTCR_06609!D35),",0",",0") -> 286626,35|4,0,0 | E35: =CONCATENATE(286696,",",ROW(CCTTCR_06609!E35),"|",COLUMN(CCTTCR_06609!E35),",0",",0") -> 286696,35|5,0,0
A36: =CONCATENATE(286727,",",ROW(CCTTCR_06609!A36),"|",COLUMN(CCTTCR_06609!A36),",0",",0") -> 286727,36|1,0,0 | B36: =CONCATENATE(286576,",",ROW(CCTTCR_06609!B36),"|",COLUMN(CCTTCR_06609!B36),",0",",0") -> 286576,36|2,0,0 | C36: =CONCATENATE(286545,",",ROW(CCTTCR_06609!C36),"|",COLUMN(CCTTCR_06609!C36),",0",",0") -> 286545,36|3,0,0 | D36: =CONCATENATE(286682,",",ROW(CCTTCR_06609!D36),"|",COLUMN(CCTTCR_06609!D36),",0",",0") -> 286682,36|4,0,0 | E36: =CONCATENATE(286548,",",ROW(CCTTCR_06609!E36),"|",COLUMN(CCTTCR_06609!E36),",0",",0") -> 286548,36|5,0,0
A37: =CONCATENATE(286728,",",ROW(CCTTCR_06609!A37),"|",COLUMN(CCTTCR_06609!A37),",0",",0") -> 286728,37|1,0,0 | B37: =CONCATENATE(286577,",",ROW(CCTTCR_06609!B37),"|",COLUMN(CCTTCR_06609!B37),",0",",0") -> 286577,37|2,0,0 | C37: =CONCATENATE(286755,",",ROW(CCTTCR_06609!C37),"|",COLUMN(CCTTCR_06609!C37),",0",",0") -> 286755,37|3,0,0 | D37: =CONCATENATE(286661,",",ROW(CCTTCR_06609!D37),"|",COLUMN(CCTTCR_06609!D37),",0",",0") -> 286661,37|4,0,0 | E37: =CONCATENATE(286549,",",ROW(CCTTCR_06609!E37),"|",COLUMN(CCTTCR_06609!E37),",0",",0") -> 286549,37|5,0,0
A38: =CONCATENATE(286552,",",ROW(CCTTCR_06609!A38),"|",COLUMN(CCTTCR_06609!A38),",0",",0") -> 286552,38|1,0,0 | B38: =CONCATENATE(286592,",",ROW(CCTTCR_06609!B38),"|",COLUMN(CCTTCR_06609!B38),",0",",0") -> 286592,38|2,0,0 | C38: =CONCATENATE(286730,",",ROW(CCTTCR_06609!C38),"|",COLUMN(CCTTCR_06609!C38),",0",",0") -> 286730,38|3,0,0 | D38: =CONCATENATE(286607,",",ROW(CCTTCR_06609!D38),"|",COLUMN(CCTTCR_06609!D38),",0",",0") -> 286607,38|4,0,0 | E38: =CONCATENATE(286633,",",ROW(CCTTCR_06609!E38),"|",COLUMN(CCTTCR_06609!E38),",0",",0") -> 286633,38|5,0,0
A39: =CONCATENATE(286664,",",ROW(CCTTCR_06609!A39),"|",COLUMN(CCTTCR_06609!A39),",0",",0") -> 286664,39|1,0,0 | B39: =CONCATENATE(286675,",",ROW(CCTTCR_06609!B39),"|",COLUMN(CCTTCR_06609!B39),",0",",0") -> 286675,39|2,0,0 | C39: =CONCATENATE(286756,",",ROW(CCTTCR_06609!C39),"|",COLUMN(CCTTCR_06609!C39),",0",",0") -> 286756,39|3,0,0 | D39: =CONCATENATE(286662,",",ROW(CCTTCR_06609!D39),"|",COLUMN(CCTTCR_06609!D39),",0",",0") -> 286662,39|4,0,0 | E39: =CONCATENATE(286550,",",ROW(CCTTCR_06609!E39),"|",COLUMN(CCTTCR_06609!E39),",0",",0") -> 286550,39|5,0,0
A40: =CONCATENATE(286553,",",ROW(CCTTCR_06609!A40),"|",COLUMN(CCTTCR_06609!A40),",0",",0") -> 286553,40|1,0,0 | B40: =CONCATENATE(286568,",",ROW(CCTTCR_06609!B40),"|",COLUMN(CCTTCR_06609!B40),",0",",0") -> 286568,40|2,0,0 | C40: =CONCATENATE(286731,",",ROW(CCTTCR_06609!C40),"|",COLUMN(CCTTCR_06609!C40),",0",",0") -> 286731,40|3,0,0 | D40: =CONCATENATE(286608,",",ROW(CCTTCR_06609!D40),"|",COLUMN(CCTTCR_06609!D40),",0",",0") -> 286608,40|4,0,0 | E40: =CONCATENATE(286634,",",ROW(CCTTCR_06609!E40),"|",COLUMN(CCTTCR_06609!E40),",0",",0") -> 286634,40|5,0,0
A41: =CONCATENATE(286554,",",ROW(CCTTCR_06609!A41),"|",COLUMN(CCTTCR_06609!A41),",0",",0") -> 286554,41|1,0,0 | B41: =CONCATENATE(286570,",",ROW(CCTTCR_06609!B41),"|",COLUMN(CCTTCR_06609!B41),",0",",0") -> 286570,41|2,0,0 | C41: =CONCATENATE(286732,",",ROW(CCTTCR_06609!C41),"|",COLUMN(CCTTCR_06609!C41),",0",",0") -> 286732,41|3,0,0 | D41: =CONCATENATE(286609,",",ROW(CCTTCR_06609!D41),"|",COLUMN(CCTTCR_06609!D41),",0",",0") -> 286609,41|4,0,0 | E41: =CONCATENATE(286635,",",ROW(CCTTCR_06609!E41),"|",COLUMN(CCTTCR_06609!E41),",0",",0") -> 286635,41|5,0,0
A42: =CONCATENATE(286584,",",ROW(CCTTCR_06609!A42),"|",COLUMN(CCTTCR_06609!A42),",0",",0") -> 286584,42|1,0,0 | B42: =CONCATENATE(286600,",",ROW(CCTTCR_06609!B42),"|",COLUMN(CCTTCR_06609!B42),",0",",0") -> 286600,42|2,0,0 | C42: =CONCATENATE(286748,",",ROW(CCTTCR_06609!C42),"|",COLUMN(CCTTCR_06609!C42),",0",",0") -> 286748,42|3,0,0 | D42: =CONCATENATE(286627,",",ROW(CCTTCR_06609!D42),"|",COLUMN(CCTTCR_06609!D42),",0",",0") -> 286627,42|4,0,0 | E42: =CONCATENATE(286697,",",ROW(CCTTCR_06609!E42),"|",COLUMN(CCTTCR_06609!E42),",0",",0") -> 286697,42|5,0,0
...

Sheet BCKQHDR_06610
A1: BÁO CÁO KẾT QUẢ HOẠT ĐỘNG RIÊNG
A2: Năm 2025
A3: Đơn vị tính: Đồng Việt Nam
A4: CHỈ TIÊU | B4: Mã số | C4: Thuyết minh | D4: Năm nay | E4: Năm trước
A5: A | B5: B | C5: C | D5: 1 | E5: 2
A6: I. DOANH THU HOẠT ĐỘNG
A7: 1.1. Lãi từ các tài sản tài chính ghi nhận thông qua lãi/lỗ (FVTPL) | B7: 1 | D7: 197915130547 | E7: 185911798747
A8: a. Lãi bán các tài sản tài chính FVTPL | B8: 1.1 | D8: 80963519756 | E8: 52622524659
A9: b. Chênh lệch tăng về đánh giá lại các TSTC FVTPL | B9: 1.2 | D9: 72369190137 | E9: 44113830678
A10: c. Cổ tức, tiền lãi phát sinh từ tài sản tài chính FVTPL | B10: 1.3 | D10: 44582420654 | E10: 89175443410
A11: 1.2. Lãi từ các khoản đầu tư nắm giữ đến ngày đáo hạn (HTM) | B11: 2 | D11: 74366854927 | E11: 52740536523
A12: 1.3. Lãi từ các khoản cho vay và phải thu | B12: 3 | D12: 433054020409 | E12: 410734387121
A13: 1.4. Lãi từ tài sản tài chính sẵn sàng để bán (AFS) | B13: 4 | D13: 6282879000 | E13: 8838018000
A14: 1.5. Lãi từ các công cụ phái sinh phòng ngừa rủi ro | B14: 5
A15: 1.6. Doanh thu nghiệp vụ môi giới chứng khoán | B15: 6 | D15: 374328183924 | E15: 318591880347
A16: 1.7. Doanh thu nghiệp vụ bảo lãnh, đại lý phát hành chứng khoán | B16: 7 | D16: 42324436
A17: 1.8. Doanh thu nghiệp vụ tư vấn đầu tư chứng khoán | B17: 8
A18: 1.9. Doanh thu nghiệp vụ lưu ký chứng khoán | B18: 9 | D18: 8318815614 | E18: 6856900965
A19: 1.10. Doanh thu hoạt động tư vấn tài chính | B19: 10 | D19: 4593454546 | E19: 3473613635
A20: 1.11. Thu nhập hoạt động khác | B20: 11 | D20: 2338368804 | E20: 3408700771
A21: Cộng doanh thu hoạt động (20 = 01 đến 11) | B21: 20 | D21: =+D20+D19+D17+D18+D16+D15+D14+D13+D12+D11+D7 -> 1101240032207 | E21: =+E20+E19+E17+E18+E16+E15+E14+E13+E12+E11+E7 -> 990555836109
A22: II. CHI PHÍ HOẠT ĐỘNG
A23: 2.1. Lỗ các tài sản tài chính ghi nhận thông qua lãi/lỗ (FVTPL) | B23: 21 | D23: 90490511706 | E23: =+E24+E25+E26 -> 136546969499
A24: a. Lỗ bán các tài sản tài chính FVTPL | B24: 21.1 | D24: 42685568046 | E24: 85929246886
A25: b. Chênh lệch giảm đánh giá lại các TSTC FVTPL | B25: 21.2 | D25: 47804943660 | E25: 50617722613
A26: c. Chi phí giao dịch mua các tài sản tài chính FVTPL | B26: 21.3
A27: 2.2. Lỗ các khoản đầu tư nắm giữ đến ngày đáo hạn (HTM) | B27: 22
A28: 2.3. Lỗ và ghi nhận chênh lệch đánh giá theo giá trị hợp lý tài sản tài chính sẵn sàng để bán (AFS) khi phân loại lại | B28: 23
A29: 2.4. Chi phí dự phòng tài sản tài chính, xử lý tổn thất các khoản phải thu khó đòi và lỗ suy giảm tài sản tài chính và chi phí đi vay của các khoản cho vay | B29: 24 | D29: -28458293859 | E29: 30633501365
A30: 2.5. Lỗ từ các tài sản tài chính phái sinh phòng ngừa rủi ro | B30: 25
A31: 2.6. Chi phí hoạt động tự doanh | B31: 26 | D31: 4307629448 | E31: 3470305948
A32: 2.7. Chi phí nghiệp vụ môi giới chứng khoán | B32: 27 | D32: 367576283423 | E32: 263491214050
A33: 2.8. Chi phí nghiệp vụ bảo lãnh, đại lý phát hành chứng khoán | B33: 28
A34: 2.9. Chi phí nghiệp vụ tư vấn đầu tư chứng khoán | B34: 29
A35: 2.10. Chi phí nghiệp vụ lưu ký chứng khoán | B35: 30 | D35: 22789393331 | E35: 19572919080
A36: 2.11. Chi phí hoạt động tư vấn tài chính | B36: 31 | D36: 9203916794 | E36: 9079808738
A37: 2.12. Chi phí các dịch vụ khác | B37: 32 | D37: 18316558700 | E37: 15056454457
A38: Cộng chi phí hoạt động (40 = 21 đến 32) | B38: 40 | D38: =+D37+D36+D35+D34+D33+D32+D31+D30+D29+D28+D27+D23 -> 484225999543 | E38: =+E37+E36+E35+E34+E33+E32+E31+E30+E29+E28+E27+E23 -> 477851173137
A39: III. DOANH THU HOẠT ĐỘNG TÀI CHÍNH
A40: 3.1. Chênh lệch lãi tỷ giá hối đoái đã và chưa thực hiện | B40: 41 | D40: 3080848 | E40: 3686342
...

Sheet 6041_hidden
A5: =CONCATENATE(285946,",",ROW(BCKQHDR_06610!A5),"|",COLUMN(BCKQHDR_06610!A5),",0",",0") -> 285946,5|1,0,0 | B5: =CONCATENATE(286136,",",ROW(BCKQHDR_06610!B5),"|",COLUMN(BCKQHDR_06610!B5),",0",",0") -> 286136,5|2,0,0 | C5: =CONCATENATE(285924,",",ROW(BCKQHDR_06610!C5),"|",COLUMN(BCKQHDR_06610!C5),",0",",0") -> 285924,5|3,0,0 | D5: =CONCATENATE(286137,",",ROW(BCKQHDR_06610!D5),"|",COLUMN(BCKQHDR_06610!D5),",0",",0") -> 286137,5|4,0,0 | E5: =CONCATENATE(285925,",",ROW(BCKQHDR_06610!E5),"|",COLUMN(BCKQHDR_06610!E5),",0",",0") -> 285925,5|5,0,0
A6: =CONCATENATE(286036,",",ROW(BCKQHDR_06610!A6),"|",COLUMN(BCKQHDR_06610!A6),",0",",0") -> 286036,6|1,0,0 | B6: =CONCATENATE(285930,",",ROW(BCKQHDR_06610!B6),"|",COLUMN(BCKQHDR_06610!B6),",0",",0") -> 285930,6|2,0,0 | C6: =CONCATENATE(286051,",",ROW(BCKQHDR_06610!C6),"|",COLUMN(BCKQHDR_06610!C6),",0",",0") -> 286051,6|3,0,0 | D6: =CONCATENATE(285981,",",ROW(BCKQHDR_06610!D6),"|",COLUMN(BCKQHDR_06610!D6),",0",",0") -> 285981,6|4,0,0 | E6: =CONCATENATE(285857,",",ROW(BCKQHDR_06610!E6),"|",COLUMN(BCKQHDR_06610!E6),",0",",0") -> 285857,6|5,0,0
A7: =CONCATENATE(285926,",",ROW(BCKQHDR_06610!A7),"|",COLUMN(BCKQHDR_06610!A7),",0",",0") -> 285926,7|1,0,0 | B7: =CONCATENATE(286163,",",ROW(BCKQHDR_06610!B7),"|",COLUMN(BCKQHDR_06610!B7),",0",",0") -> 286163,7|2,0,0 | C7: =CONCATENATE(286009,",",ROW(BCKQHDR_06610!C7),"|",COLUMN(BCKQHDR_06610!C7),",0",",0") -> 286009,7|3,0,0 | D7: =CONCATENATE(285885,",",ROW(BCKQHDR_06610!D7),"|",COLUMN(BCKQHDR_06610!D7),",0",",0") -> 285885,7|4,0,0 | E7: =CONCATENATE(286091,",",ROW(BCKQHDR_06610!E7),"|",COLUMN(BCKQHDR_06610!E7),",0",",0") -> 286091,7|5,0,0
A8: =CONCATENATE(286155,",",ROW(BCKQHDR_06610!A8),"|",COLUMN(BCKQHDR_06610!A8),",0",",0") -> 286155,8|1,0,0 | B8: =CONCATENATE(285818,",",ROW(BCKQHDR_06610!B8),"|",COLUMN(BCKQHDR_06610!B8),",0",",0") -> 285818,8|2,0,0 | C8: =CONCATENATE(286075,",",ROW(BCKQHDR_06610!C8),"|",COLUMN(BCKQHDR_06610!C8),",0",",0") -> 286075,8|3,0,0 | D8: =CONCATENATE(285886,",",ROW(BCKQHDR_06610!D8),"|",COLUMN(BCKQHDR_06610!D8),",0",",0") -> 285886,8|4,0,0 | E8: =CONCATENATE(286092,",",ROW(BCKQHDR_06610!E8),"|",COLUMN(BCKQHDR_06610!E8),",0",",0") -> 286092,8|5,0,0
