Workbook

Sheet Trang bìa
A1: Công ty chứng khoán: Cổ Phần Chứng Khoán Bảo Việt
A2: Địa chỉ: Số 8 Lê Thái Tổ - Hoàn Kiếm - Hà nội
B5: Kính gửi: Ủy ban Chứng khoán Nhà nước | C5: Kính gửi: Ủy ban Chứng khoán Nhà nước
B7: BÁO CÁO TÀI CHÍNH RIÊNG LẺ NĂM 2025
B9: Thông tư số 334/2016/TT-BTC ngày 27/12/2016 của Bộ Tài chính
B10: STT | C10: Nội dung | D10: Mã sheet
B11: 1 | C11: THÔNG TIN KIỂM TOÁN | D11: KT_06618
B12: 2 | C12: BÁO CÁO TÌNH HÌNH TÀI CHÍNH RIÊNG | D12: BCTCR_06608
B13: 3 | C13: CÁC CHỈ TIÊU NGOÀI BÁO CÁO TÌNH HÌNH TÀI CHÍNH RIÊNG | D13: CCTTCR_06609
B14: 4 | C14: BÁO CÁO KẾT QUẢ HOẠT ĐỘNG RIÊNG | D14: BCKQHDR_06610
B15: 5 | C15: BÁO CÁO LƯU CHUYỂN TIỀN TỆ RIÊNG | D15: BCLCTTRTT_06611
B16: 6 | C16: PHẦN LƯU CHUYỂN TIỀN TỆ HOẠT ĐỘNG MÔI GIỚI, ỦY THÁC CỦA KHÁCH HÀNG | D16: PLCTTHDMGUTCKHTT_06612
B17: 7 | C17: BÁO CÁO LƯU CHUYỂN TIỀN TỆ RIÊNG | D17: BCLCTTRGT_06613
B18: 8 | C18: PHẦN LƯU CHUYỂN TIỀN TỆ HOẠT ĐỘNG MÔI GIỚI, ỦY THÁC CỦA KHÁCH HÀNG | D18: PLCTTHDMGUTCKHGT_06614
B19: 9 | C19: BÁO CÁO TÌNH HÌNH BIẾN ĐỘNG VỐN CHỦ SỞ HỮU | D19: BCTHBDVCSH_06615
B21: Ghi chú
B22: Không đổi tên sheet Những chỉ tiêu không có số liệu có thể không phải trình bày nhưng không được đánh lại “Mã chỉ tiêu”. Không được xóa cột trên sheet
D24: Lập, ngày 26 tháng 03 năm 2026
B25: Người lập biểu | C25: Kế toán trưởng | D25: Giám đốc
B26: (Ký, họ tên) | C26: (Ký, họ tên) | D26: (Ký, họ tên, đóng dấu)
B29: Vũ Thị Thùy Linh | C29: Nguyễn Hồng Thủy | D29: Nhữ Đình Hòa

Sheet Setting
A1: 2814

Sheet KT_06618
A1: THÔNG TIN KIỂM TOÁN
A2: Người đại diện KT | B2: Chức vụ | C2: Giấy chứng nhận | D2: Người kiểm toán | E2: Giấy chứng nhận | F2: Ngày kiểm toán | G2: Ngày kiểm toán | H2: Ý kiến kiểm toán
A4: Saman Wijaya Bandara | B4: Phó Tổng Giám Đốc | C4: 2036-2023-004-1 | D4: Huỳnh Nhật Hưng | E4: 5040-2024-004-1 | F4: 46107 | G4: 46107 | H4: Theo ý kiến của chúng tôi, báo cáo tài chính đã phản ánh trung thực và hợp lý, trên các khía cạnh trọng yếu, tình hình tài chính của Công ty tại ngày 31 tháng 12 năm 2025, cũng như kết quả hoạt động kinh doanh, tình hình lưu chuyển tiền tệ và tình hình biến động vốn chủ sở hữu cho năm tài chính kết thúc cùng ngày, phù hợp với các Chuẩn mực kế toán Việt Nam, Chế độ kế toán doanh nghiệp Việt Nam, các hướng dẫn kế toán áp dụng cho các công ty chứng khoán và các quy định pháp lý có liên quan đến việc lập và trình bày báo cáo tài chính.
A5: ...

Sheet 6048_hidden
A3: =CONCATENATE(287228,",",ROW(KT_06618!A3),"|",COLUMN(KT_06618!A3),",1",",0") -> 287228,3|1,1,0 | B3: =CONCATENATE(287229,",",ROW(KT_06618!B3),"|",COLUMN(KT_06618!B3),",1",",0") -> 287229,3|2,1,0 | C3: =CONCATENATE(287230,",",ROW(KT_06618!C3),"|",COLUMN(KT_06618!C3),",1",",0") -> 287230,3|3,1,0 | D3: =CONCATENATE(287231,",",ROW(KT_06618!D3),"|",COLUMN(KT_06618!D3),",1",",0") -> 287231,3|4,1,0 | E3: =CONCATENATE(287232,",",ROW(KT_06618!E3),"|",COLUMN(KT_06618!E3),",1",",0") -> 287232,3|5,1,0 | F3: =CONCATENATE(287233,",",ROW(KT_06618!F3),"|",COLUMN(KT_06618!F3),",1",",0") -> 287233,3|6,1,0 | G3: =CONCATENATE(287235,",",ROW(KT_06618!G3),"|",COLUMN(KT_06618!G3),",1",",0") -> 287235,3|7,1,0 | H3: =CONCATENATE(287234,",",ROW(KT_06618!H3),"|",COLUMN(KT_06618!H3),",1",",0") -> 287234,3|8,1,0

Sheet BCTCR_06608
A1: BÁO CÁO TÌNH HÌNH TÀI CHÍNH RIÊNG
A2: Tại ngày 31 tháng 12 năm 2025
A3: Đơn vị tính: Đồng Việt Nam
A4: Chỉ tiêu | B4: Mã số | C4: Thuyết minh | D4: Số cuối năm | E4: Số đầu năm
A5: A | B5: B | C5: C | D5: 1 | E5: 2
A6: TÀI SẢN
A7: A. TÀI SẢN NGẮN HẠN (100 = 110 + 130) | B7: 100 | D7: =+D8+D28 -> 6479776240903 | E7: =+E8+E28 -> 5080994655407
A8: I. Tài sản tài chính | B8: 110 | D8: =+D9+D12+D13+D14+D15+D16+D17+D22++D23+D24+D25+D26+D27 -> 6473913240205 | E8: =+E9+E12+E13+E14+E15+E16+E17+E22++E23+E24+E25+E26+E27 -> 5074653021947
A9: 1.Tiền và các khoản tương đương tiền | B9: 111 | D9: =+D10+D11 -> 367910939027 | E9: =+E10+E11 -> 167854336536
A10: 1.1. Tiền | B10: 111.1 | D10: 367910939027 | E10: 167854336536
A11: 1.2. Các khoản tương đương tiền | B11: 111.2
A12: 2. Các tài sản tài chính ghi nhận thông qua lãi/lỗ (FVTPL) | B12: 112 | D12: 596931012196 | E12: 416563567584
A13: 3. Các khoản đầu tư nắm giữ đến ngày đáo hạn (HTM) | B13: 113 | D13: 787098313696 | E13: 860549280822
A14: 4. Các khoản cho vay | B14: 114 | D14: 4557146139544 | E14: 3503735501065
A15: 5. Tài sản tài chính sẵn sàng để bán (AFS) | B15: 115 | D15: 168838563387 | E15: 164918492047
A16: 6. Dự phòng suy giảm giá trị các tài sản tài chính và tài sản thế chấp | B16: 116 | D16: -57136773335 | E16: -109653683194
A17: 7. Các khoản phải thu | B17: 117 | D17: 73118360649 | E17: =+E18+E19 -> 57967118793
A18: 7.1. Phải thu bán các tài sản tài chính | B18: 117.1 | D18: 30041005700 | E18: 22650925000
A19: 7.2. Phải thu và dự thu cổ tức, tiền lãi các tài sản tài chính | B19: 117.2 | D19: 43077354949 | E19: 35316193793
A20: 7.2.1. Phải thu cổ tức, tiền lãi đến ngày nhận | B20: 117.3
A21: 7.2.2. Dự thu cổ tức, tiền lãi chưa đến ngày nhận | B21: 117.4 | D21: 43077354949 | E21: 35316193793
A22: 8. Trả trước cho người bán | B22: 118 | D22: 3756693164 | E22: 10152924445
A23: 9. Phải thu các dịch vụ CTCK cung cấp | B23: 119 | D23: 11032464813 | E23: 8986931664
A24: 10. Phải thu nội bộ | B24: 120
A25: 11. Phải thu về lỗi giao dịch chứng khoán | B25: 121
A26: 12. Các khoản phải thu khác | B26: 122 | D26: 12970197288 | E26: 13048922259
A27: 13. Dự phòng suy giảm giá trị các khoản phải thu (*) | B27: 129 | D27: -47752670224 | E27: -19470370074
A28: II. Tài sản ngắn hạn khác | B28: 130 | D28: =SUM(D29:D33) -> 5863000698 | E28: =SUM(E29:E33) -> 6341633460
A29: 1. Tạm ứng | B29: 131 | D29: 271000000 | E29: 205700000
A30: 2. Vật tư văn phòng, công cụ, dụng cụ | B30: 132 | D30: 136377620 | E30: 155779000
A31: 3. Chi phí trả trước ngắn hạn | B31: 133 | D31: 5361623078 | E31: 5914154460
A32: 4. Cầm cố, thế chấp, ký quỹ, ký cược ngắn hạn | B32: 134 | D32: 94000000 | E32: 66000000
A33: 5. Thuế giá trị gia tăng được khấu trừ | B33: 135
A34: 6. Thuế và các khoản khác phải thu Nhà nước | B34: 136
A35: 7. Tài sản ngắn hạn khác | B35: 137
A36: 8. Giao dịch mua bán lại trái phiếu Chính phủ | B36: 138
A37: 9. Dự phòng suy giảm giá trị tài sản ngắn hạn khác | B37: 139
A38: B. TÀI SẢN DÀI HẠN (200 = 210 + 220 + 230 + 240 + 250 - 260) | B38: 200 | D38: =+D39+D47+D60+D64+D65+D71 -> 553222987393 | E38: =+E39+E47+E60+E64+E65+E71 -> 547665110380
A39: I. Tài sản tài chính dài hạn | B39: 210 | D39: =+D40+D41+D46 -> 482784510127 | E39: =+E40+E41+E46 -> 471214589773
A40: 1. Các khoản phải thu dài hạn | B40: 211
A41: 2. Các khoản đầu tư | B41: 212 | D41: 482784510127 | E41: =+E42+E43+E44+E45 -> 474155973773
A42: 2.1.Các khoản đầu tư nắm giữ đến ngày đáo hạn | B42: 212.1 | D42: 302596817388 | E42: 302597007664
A43: 2.2. Đầu tư vào công ty con | B43: 212.2
A44: 2.3. Đầu tư vào công ty liên doanh, liên kết | B44: 212.3
A45: 2.4. Đầu tư dài hạn khác | B45: 212.4 | D45: 180187692739 | E45: 171558966109
A46: 3. Dự phòng suy giảm tài sản tài chính dài hạn | B46: 213 | E46: -2941384000
A47: II. Tài sản cố định | B47: 220 | D47: =+D48+D56 -> 22034033251 | E47: =+E48+E56 -> 19663795172
A48: 1. Tài sản cố định hữu hình | B48: 221 | D48: =+D49+D50+D51 -> 14351987273 | E48: =+E49+E50+E51 -> 11743292692
A49: - Nguyên giá | B49: 222 | D49: 58858404192 | E49: 51080662613
A50: - Giá trị hao mòn luỹ kế (*) | B50: 223a | D50: -44506416919 | E50: -39337369921
A51: - Đánh giá TSCĐHH theo giá trị hợp lý | B51: 223b
A52: 2. Tài sản cố định thuê tài chính | B52: 224 | D52: =+D53+D54+D55 -> 0 | E52: =+E53+E54+E55 -> 0
A53: - Nguyên giá | B53: 225
A54: - Giá trị hao mòn luỹ kế (*) | B54: 226a
A55: - Đánh giá TSCĐTTC theo giá trị hợp lý | B55: 226b
A56: 3. Tài sản cố định vô hình | B56: 227 | D56: =+D57+D58+D59 -> 7682045978 | E56: =+E57+E58+E59 -> 7920502480
A57: - Nguyên giá | B57: 228 | D57: 28951866090 | E57: 27185516090
A58: - Giá trị hao mòn luỹ kế (*) | B58: 229a | D58: -21269820112 | E58: -19265013610
A59: - Đánh giá TSCĐVH theo giá trị hợp lý | B59: 229b
A60: III. Bất động sản đầu tư | B60: 230
A61: - Nguyên giá | B61: 231
A62: - Giá trị hao mòn luỹ kế (*) | B62: 232a
A63: - Đánh giá BĐSĐT theo giá trị hợp lý | B63: 232b
A64: IV.Chi phí xây dựng cơ bản dở dang | B64: 240 | D64: 1306975000
A65: V. Tài sản dài hạn khác | B65: 250 | D65: =+D66+D67+D68+D69+D70 -> 47097469015 | E65: =+E66+E67+E68+E69+E70 -> 56786725435
A66: 1. Cầm cố, thế chấp, ký quỹ, ký cược dài hạn | B66: 251 | D66: 2407511192 | E66: 2176565237
A67: 2. Chi phí trả trước dài hạn | B67: 252 | D67: 23830214301 | E67: 33399650083
A68: 3. Tài sản thuế thu nhập hoãn lại | B68: 253
A69: 4. Tiền nộp Quỹ Hỗ trợ thanh toán | B69: 254 | D69: 20859743522 | E69: 21210510115
A70: 5. Tài sản dài hạn khác | B70: 255
A71: VI. Dự phòng suy giảm giá trị tài sản dài hạn | B71: 260
A72: TỔNG CỘNG TÀI SẢN | D72: =+D38+D7 -> 7032999228296 | E72: =+E38+E7 -> 5628659765787
A73: (270 = 100 + 200) | B73: 270
A74: C. NỢ PHẢI TRẢ (300 = 310 + 340) | B74: 300 | D74: =+D75+D98 -> 4376210636405 | E74: =+E75+E98 -> 3153287233438
A75: I. Nợ phải trả ngắn hạn | B75: 310 | D75: =+D76+D79+D80+D81+D82+D83+D84+D85+D86+D87+D88+D89+D90+D91+D92+D93+D94+D95+D96+D97 -> 4330690774733 | E75: =+E76+E79+E80+E81+E82+E83+E84+E85+E86+E87+E88+E89+E90+E91+E92+E93+E94+E95+E96+E97 -> 3118981333079
A76: 1. Vay và nợ thuê tài chính ngắn hạn | B76: 311 | D76: =+D77+D78 -> 4070368955884 | E76: =+E77+E78 -> 2908548369811
A77: 1.1. Vay ngắn hạn | B77: 312 | D77: 4070368955884 | E77: 2908548369811
A78: 1.2. Nợ thuê tài chính ngắn hạn | B78: 313
A79: 2. Vay tài sản tài chính ngắn hạn | B79: 314
A80: 3. Trái phiếu chuyển đổi ngắn hạn - Cấu phần nợ | B80: 315
A81: 4. Trái phiếu phát hành ngắn hạn | B81: 316
A82: 5. Vay Quỹ Hỗ trợ thanh toán | B82: 317
A83: 6. Phải trả hoạt động giao dịch chứng khoán | B83: 318 | D83: 7310248791 | E83: 4686958543
A84: 7. Phải trả về lỗi giao dịch các tài sản tài chính | B84: 319
A85: 8. Phải trả người bán ngắn hạn | B85: 320 | D85: 2768539312 | E85: 11259867371
A86: 9. Người mua trả tiền trước ngắn hạn | B86: 321 | D86: 4184580000 | E86: 21326000000
A87: 10. Thuế và các khoản phải nộp Nhà nước | B87: 322 | D87: 23185374616 | E87: 22189529933
A88: 11. Phải trả người lao động | B88: 323 | D88: 117470841136 | E88: 113102490705
A89: 12.Các khoản trích nộp phúc lợi nhân viên | B89: 324 | D89: 1373456171 | E89: 1682252723
A90: 13. Chi phí phải trả ngắn hạn | B90: 325 | D90: 39329554062 | E90: 21478614332
A91: 14. Phải trả nội bộ ngắn hạn | B91: 326
A92: 15. Doanh thu chưa thực hiện ngắn hạn | B92: 327
A93: 16. Nhận ký quỹ, ký cược ngắn hạn | B93: 328
A94: 17.Các khoản phải trả, phải nộp khác ngắn hạn | B94: 329 | D94: 3025728393 | E94: 2827318436
A95: 18. Dự phòng phải trả ngắn hạn | B95: 330 | D95: 45000000000
A96: 19. Quỹ khen thưởng, phúc lợi | B96: 331 | D96: 16673496368 | E96: 11879931225
A97: 20. Giao dịch mua bán lại trái phiếu Chính phủ | B97: 332
A98: II. Nợ phải trả dài hạn | B98: 340 | D98: =+D99+D102+D103+D104+D105+D106+D107+D109+D108+D110+D111+D112+D113+D114+D115 -> 45519861672 | E98: =+E99+E102+E103+E104+E105+E106+E107+E109+E108+E110+E111+E112+E113+E114+E115 -> 34305900359
A99: 1. Vay và nợ thuê tài chính dài hạn | B99: 341 | D99: =+D101+D100 -> 0 | E99: =+E101+E100 -> 0
A100: 1.1.Vay dài hạn | B100: 342
...

Sheet 6050_hidden
A5: =CONCATENATE(287843,",",ROW(BCTCR_06608!A5),"|",COLUMN(BCTCR_06608!A5),",0",",0") -> 287843,5|1,0,0 | B5: =CONCATENATE(287937,",",ROW(BCTCR_06608!B5),"|",COLUMN(BCTCR_06608!B5),",0",",0") -> 287937,5|2,0,0 | C5: =CONCATENATE(287807,",",ROW(BCTCR_06608!C5),"|",COLUMN(BCTCR_06608!C5),",0",",0") -> 287807,5|3,0,0 | D5: =CONCATENATE(288147,",",ROW(BCTCR_06608!D5),"|",COLUMN(BCTCR_06608!D5),",0",",0") -> 288147,5|4,0,0 | E5: =CONCATENATE(287808,",",ROW(BCTCR_06608!E5),"|",COLUMN(BCTCR_06608!E5),",0",",0") -> 287808,5|5,0,0
A6: =CONCATENATE(288148,",",ROW(BCTCR_06608!A6),"|",COLUMN(BCTCR_06608!A6),",0",",0") -> 288148,6|1,0,0 | C6: =CONCATENATE(287714,",",ROW(BCTCR_06608!C6),"|",COLUMN(BCTCR_06608!C6),",0",",0") -> 287714,6|3,0,0 | D6: =CONCATENATE(287963,",",ROW(BCTCR_06608!D6),"|",COLUMN(BCTCR_06608!D6),",0",",0") -> 287963,6|4,0,0 | E6: =CONCATENATE(288263,",",ROW(BCTCR_06608!E6),"|",COLUMN(BCTCR_06608!E6),",0",",0") -> 288263,6|5,0,0
A7: =CONCATENATE(288149,",",ROW(BCTCR_06608!A7),"|",COLUMN(BCTCR_06608!A7),",0",",0") -> 288149,7|1,0,0 | B7: =CONCATENATE(287728,",",ROW(BCTCR_06608!B7),"|",COLUMN(BCTCR_06608!B7),",0",",0") -> 287728,7|2,0,0 | C7: =CONCATENATE(288126,",",ROW(BCTCR_06608!C7),"|",COLUMN(BCTCR_06608!C7),",0",",0") -> 288126,7|3,0,0 | D7: =CONCATENATE(288042,",",ROW(BCTCR_06608!D7),"|",COLUMN(BCTCR_06608!D7),",0",",0") -> 288042,7|4,0,0 | E7: =CONCATENATE(287858,",",ROW(BCTCR_06608!E7),"|",COLUMN(BCTCR_06608!E7),",0",",0") -> 287858,7|5,0,0
A8: =CONCATENATE(287915,",",ROW(BCTCR_06608!A8),"|",COLUMN(BCTCR_06608!A8),",0",",0") -> 287915,8|1,0,0 | B8: =CONCATENATE(288181,",",ROW(BCTCR_06608!B8),"|",COLUMN(BCTCR_06608!B8),",0",",0") -> 288181,8|2,0,0 | C8: =CONCATENATE(287965,",",ROW(BCTCR_06608!C8),"|",COLUMN(BCTCR_06608!C8),",0",",0") -> 287965,8|3,0,0 | D8: =CONCATENATE(288264,",",ROW(BCTCR_06608!D8),"|",COLUMN(BCTCR_06608!D8),",0",",0") -> 288264,8|4,0,0 | E8: =CONCATENATE(288229,",",ROW(BCTCR_06608!E8),"|",COLUMN(BCTCR_06608!E8),",0",",0") -> 288229,8|5,0,0
A9: =CONCATENATE(288150,",",ROW(BCTCR_06608!A9),"|",COLUMN(BCTCR_06608!A9),",0",",0") -> 288150,9|1,0,0 | B9: =CONCATENATE(287729,",",ROW(BCTCR_06608!B9),"|",COLUMN(BCTCR_06608!B9),",0",",0") -> 287729,9|2,0,0 | C9: =CONCATENATE(288137,",",ROW(BCTCR_06608!C9),"|",COLUMN(BCTCR_06608!C9),",0",",0") -> 288137,9|3,0,0 | D9: =CONCATENATE(288052,",",ROW(BCTCR_06608!D9),"|",COLUMN(BCTCR_06608!D9),",0",",0") -> 288052,9|4,0,0 | E9: =CONCATENATE(287868,",",ROW(BCTCR_06608!E9),"|",COLUMN(BCTCR_06608!E9),",0",",0") -> 287868,9|5,0,0
A10: =CONCATENATE(287916,",",ROW(BCTCR_06608!A10),"|",COLUMN(BCTCR_06608!A10),",0",",0") -> 287916,10|1,0,0 | B10: =CONCATENATE(288182,",",ROW(BCTCR_06608!B10),"|",COLUMN(BCTCR_06608!B10),",0",",0") -> 288182,10|2,0,0 | C10: =CONCATENATE(287966,",",ROW(BCTCR_06608!C10),"|",COLUMN(BCTCR_06608!C10),",0",",0") -> 287966,10|3,0,0 | D10: =CONCATENATE(288265,",",ROW(BCTCR_06608!D10),"|",COLUMN(BCTCR_06608!D10),",0",",0") -> 288265,10|4,0,0 | E10: =CONCATENATE(287809,",",ROW(BCTCR_06608!E10),"|",COLUMN(BCTCR_06608!E10),",0",",0") -> 287809,10|5,0,0
A11: =CONCATENATE(287899,",",ROW(BCTCR_06608!A11),"|",COLUMN(BCTCR_06608!A11),",0",",0") -> 287899,11|1,0,0 | B11: =CONCATENATE(288189,",",ROW(BCTCR_06608!B11),"|",COLUMN(BCTCR_06608!B11),",0",",0") -> 288189,11|2,0,0 | C11: =CONCATENATE(288092,",",ROW(BCTCR_06608!C11),"|",COLUMN(BCTCR_06608!C11),",0",",0") -> 288092,11|3,0,0 | D11: =CONCATENATE(287643,",",ROW(BCTCR_06608!D11),"|",COLUMN(BCTCR_06608!D11),",0",",0") -> 287643,11|4,0,0 | E11: =CONCATENATE(288211,",",ROW(BCTCR_06608!E11),"|",COLUMN(BCTCR_06608!E11),",0",",0") -> 288211,11|5,0,0
A12: =CONCATENATE(287917,",",ROW(BCTCR_06608!A12),"|",COLUMN(BCTCR_06608!A12),",0",",0") -> 287917,12|1,0,0 | B12: =CONCATENATE(287659,",",ROW(BCTCR_06608!B12),"|",COLUMN(BCTCR_06608!B12),",0",",0") -> 287659,12|2,0,0 | C12: =CONCATENATE(287967,",",ROW(BCTCR_06608!C12),"|",COLUMN(BCTCR_06608!C12),",0",",0") -> 287967,12|3,0,0 | D12: =CONCATENATE(288266,",",ROW(BCTCR_06608!D12),"|",COLUMN(BCTCR_06608!D12),",0",",0") -> 288266,12|4,0,0 | E12: =CONCATENATE(287810,",",ROW(BCTCR_06608!E12),"|",COLUMN(BCTCR_06608!E12),",0",",0") -> 287810,12|5,0,0
A13: =CONCATENATE(288151,",",ROW(BCTCR_06608!A13),"|",COLUMN(BCTCR_06608!A13),",0",",0") -> 288151,13|1,0,0 | B13: =CONCATENATE(287730,",",ROW(BCTCR_06608!B13),"|",COLUMN(BCTCR_06608!B13),",0",",0") -> 287730,13|2,0,0 | C13: =CONCATENATE(288138,",",ROW(BCTCR_06608!C13),"|",COLUMN(BCTCR_06608!C13),",0",",0") -> 288138,13|3,0,0 | D13: =CONCATENATE(287964,",",ROW(BCTCR_06608!D13),"|",COLUMN(BCTCR_06608!D13),",0",",0") -> 287964,13|4,0,0 | E13: =CONCATENATE(287869,",",ROW(BCTCR_06608!E13),"|",COLUMN(BCTCR_06608!E13),",0",",0") -> 287869,13|5,0,0
A14: =CONCATENATE(288152,",",ROW(BCTCR_06608!A14),"|",COLUMN(BCTCR_06608!A14),",0",",0") -> 288152,14|1,0,0 | B14: =CONCATENATE(287660,",",ROW(BCTCR_06608!B14),"|",COLUMN(BCTCR_06608!B14),",0",",0") -> 287660,14|2,0,0 | C14: =CONCATENATE(288139,",",ROW(BCTCR_06608!C14),"|",COLUMN(BCTCR_06608!C14),",0",",0") -> 288139,14|3,0,0 | D14: =CONCATENATE(288053,",",ROW(BCTCR_06608!D14),"|",COLUMN(BCTCR_06608!D14),",0",",0") -> 288053,14|4,0,0 | E14: =CONCATENATE(287870,",",ROW(BCTCR_06608!E14),"|",COLUMN(BCTCR_06608!E14),",0",",0") -> 287870,14|5,0,0
A15: =CONCATENATE(287918,",",ROW(BCTCR_06608!A15),"|",COLUMN(BCTCR_06608!A15),",0",",0") -> 287918,15|1,0,0 | B15: =CONCATENATE(288190,",",ROW(BCTCR_06608!B15),"|",COLUMN(BCTCR_06608!B15),",0",",0") -> 288190,15|2,0,0 | C15: =CONCATENATE(287968,",",ROW(BCTCR_06608!C15),"|",COLUMN(BCTCR_06608!C15),",0",",0") -> 287968,15|3,0,0 | D15: =CONCATENATE(288267,",",ROW(BCTCR_06608!D15),"|",COLUMN(BCTCR_06608!D15),",0",",0") -> 288267,15|4,0,0 | E15: =CONCATENATE(287811,",",ROW(BCTCR_06608!E15),"|",COLUMN(BCTCR_06608!E15),",0",",0") -> 287811,15|5,0,0
A16: =CONCATENATE(288153,",",ROW(BCTCR_06608!A16),"|",COLUMN(BCTCR_06608!A16),",0",",0") -> 288153,16|1,0,0 | B16: =CONCATENATE(288183,",",ROW(BCTCR_06608!B16),"|",COLUMN(BCTCR_06608!B16),",0",",0") -> 288183,16|2,0,0 | C16: =CONCATENATE(288140,",",ROW(BCTCR_06608!C16),"|",COLUMN(BCTCR_06608!C16),",0",",0") -> 288140,16|3,0,0 | D16: =CONCATENATE(288054,",",ROW(BCTCR_06608!D16),"|",COLUMN(BCTCR_06608!D16),",0",",0") -> 288054,16|4,0,0 | E16: =CONCATENATE(287871,",",ROW(BCTCR_06608!E16),"|",COLUMN(BCTCR_06608!E16),",0",",0") -> 287871,16|5,0,0
A17: =CONCATENATE(287919,",",ROW(BCTCR_06608!A17),"|",COLUMN(BCTCR_06608!A17),",0",",0") -> 287919,17|1,0,0 | B17: =CONCATENATE(287661,",",ROW(BCTCR_06608!B17),"|",COLUMN(BCTCR_06608!B17),",0",",0") -> 287661,17|2,0,0 | C17: =CONCATENATE(287969,",",ROW(BCTCR_06608!C17),"|",COLUMN(BCTCR_06608!C17),",0",",0") -> 287969,17|3,0,0 | D17: =CONCATENATE(288268,",",ROW(BCTCR_06608!D17),"|",COLUMN(BCTCR_06608!D17),",0",",0") -> 288268,17|4,0,0 | E17: =CONCATENATE(287813,",",ROW(BCTCR_06608!E17),"|",COLUMN(BCTCR_06608!E17),",0",",0") -> 287813,17|5,0,0
A18: =CONCATENATE(287920,",",ROW(BCTCR_06608!A18),"|",COLUMN(BCTCR_06608!A18),",0",",0") -> 287920,18|1,0,0 | B18: =CONCATENATE(288184,",",ROW(BCTCR_06608!B18),"|",COLUMN(BCTCR_06608!B18),",0",",0") -> 288184,18|2,0,0 | C18: =CONCATENATE(287970,",",ROW(BCTCR_06608!C18),"|",COLUMN(BCTCR_06608!C18),",0",",0") -> 287970,18|3,0,0 | D18: =CONCATENATE(287619,",",ROW(BCTCR_06608!D18),"|",COLUMN(BCTCR_06608!D18),",0",",0") -> 287619,18|4,0,0 | E18: =CONCATENATE(287814,",",ROW(BCTCR_06608!E18),"|",COLUMN(BCTCR_06608!E18),",0",",0") -> 287814,18|5,0,0
A19: =CONCATENATE(287844,",",ROW(BCTCR_06608!A19),"|",COLUMN(BCTCR_06608!A19),",0",",0") -> 287844,19|1,0,0 | B19: =CONCATENATE(287693,",",ROW(BCTCR_06608!B19),"|",COLUMN(BCTCR_06608!B19),",0",",0") -> 287693,19|2,0,0 | C19: =CONCATENATE(288141,",",ROW(BCTCR_06608!C19),"|",COLUMN(BCTCR_06608!C19),",0",",0") -> 288141,19|3,0,0 | D19: =CONCATENATE(288055,",",ROW(BCTCR_06608!D19),"|",COLUMN(BCTCR_06608!D19),",0",",0") -> 288055,19|4,0,0 | E19: =CONCATENATE(287872,",",ROW(BCTCR_06608!E19),"|",COLUMN(BCTCR_06608!E19),",0",",0") -> 287872,19|5,0,0
A20: =CONCATENATE(288154,",",ROW(BCTCR_06608!A20),"|",COLUMN(BCTCR_06608!A20),",0",",0") -> 288154,20|1,0,0 | B20: =CONCATENATE(288191,",",ROW(BCTCR_06608!B20),"|",COLUMN(BCTCR_06608!B20),",0",",0") -> 288191,20|2,0,0 | C20: =CONCATENATE(288093,",",ROW(BCTCR_06608!C20),"|",COLUMN(BCTCR_06608!C20),",0",",0") -> 288093,20|3,0,0 | D20: =CONCATENATE(287644,",",ROW(BCTCR_06608!D20),"|",COLUMN(BCTCR_06608!D20),",0",",0") -> 287644,20|4,0,0 | E20: =CONCATENATE(288212,",",ROW(BCTCR_06608!E20),"|",COLUMN(BCTCR_06608!E20),",0",",0") -> 288212,20|5,0,0
A21: =CONCATENATE(287900,",",ROW(BCTCR_06608!A21),"|",COLUMN(BCTCR_06608!A21),",0",",0") -> 287900,21|1,0,0 | B21: =CONCATENATE(287731,",",ROW(BCTCR_06608!B21),"|",COLUMN(BCTCR_06608!B21),",0",",0") -> 287731,21|2,0,0 | C21: =CONCATENATE(288142,",",ROW(BCTCR_06608!C21),"|",COLUMN(BCTCR_06608!C21),",0",",0") -> 288142,21|3,0,0 | D21: =CONCATENATE(288056,",",ROW(BCTCR_06608!D21),"|",COLUMN(BCTCR_06608!D21),",0",",0") -> 288056,21|4,0,0 | E21: =CONCATENATE(287873,",",ROW(BCTCR_06608!E21),"|",COLUMN(BCTCR_06608!E21),",0",",0") -> 287873,21|5,0,0
A22: =CONCATENATE(287845,",",ROW(BCTCR_06608!A22),"|",COLUMN(BCTCR_06608!A22),",0",",0") -> 287845,22|1,0,0 | B22: =CONCATENATE(287707,",",ROW(BCTCR_06608!B22),"|",COLUMN(BCTCR_06608!B22),",0",",0") -> 287707,22|2,0,0 | C22: =CONCATENATE(288143,",",ROW(BCTCR_06608!C22),"|",COLUMN(BCTCR_06608!C22),",0",",0") -> 288143,22|3,0,0 | D22: =CONCATENATE(288057,",",ROW(BCTCR_06608!D22),"|",COLUMN(BCTCR_06608!D22),",0",",0") -> 288057,22|4,0,0 | E22: =CONCATENATE(287874,",",ROW(BCTCR_06608!E22),"|",COLUMN(BCTCR_06608!E22),",0",",0") -> 287874,22|5,0,0
A23: =CONCATENATE(287921,",",ROW(BCTCR_06608!A23),"|",COLUMN(BCTCR_06608!A23),",0",",0") -> 287921,23|1,0,0 | B23: =CONCATENATE(288192,",",ROW(BCTCR_06608!B23),"|",COLUMN(BCTCR_06608!B23),",0",",0") -> 288192,23|2,0,0 | C23: =CONCATENATE(288130,",",ROW(BCTCR_06608!C23),"|",COLUMN(BCTCR_06608!C23),",0",",0") -> 288130,23|3,0,0 | D23: =CONCATENATE(287620,",",ROW(BCTCR_06608!D23),"|",COLUMN(BCTCR_06608!D23),",0",",0") -> 287620,23|4,0,0 | E23: =CONCATENATE(287815,",",ROW(BCTCR_06608!E23),"|",COLUMN(BCTCR_06608!E23),",0",",0") -> 287815,23|5,0,0
A24: =CONCATENATE(287901,",",ROW(BCTCR_06608!A24),"|",COLUMN(BCTCR_06608!A24),",0",",0") -> 287901,24|1,0,0 | B24: =CONCATENATE(287708,",",ROW(BCTCR_06608!B24),"|",COLUMN(BCTCR_06608!B24),",0",",0") -> 287708,24|2,0,0 | C24: =CONCATENATE(288144,",",ROW(BCTCR_06608!C24),"|",COLUMN(BCTCR_06608!C24),",0",",0") -> 288144,24|3,0,0 | D24: =CONCATENATE(288058,",",ROW(BCTCR_06608!D24),"|",COLUMN(BCTCR_06608!D24),",0",",0") -> 288058,24|4,0,0 | E24: =CONCATENATE(287875,",",ROW(BCTCR_06608!E24),"|",COLUMN(BCTCR_06608!E24),",0",",0") -> 287875,24|5,0,0
A25: =CONCATENATE(287922,",",ROW(BCTCR_06608!A25),"|",COLUMN(BCTCR_06608!A25),",0",",0") -> 287922,25|1,0,0 | B25: =CONCATENATE(287709,",",ROW(BCTCR_06608!B25),"|",COLUMN(BCTCR_06608!B25),",0",",0") -> 287709,25|2,0,0 | C25: =CONCATENATE(287971,",",ROW(BCTCR_06608!C25),"|",COLUMN(BCTCR_06608!C25),",0",",0") -> 287971,25|3,0,0 | D25: =CONCATENATE(287621,",",ROW(BCTCR_06608!D25),"|",COLUMN(BCTCR_06608!D25),",0",",0") -> 287621,25|4,0,0 | E25: =CONCATENATE(287816,",",ROW(BCTCR_06608!E25),"|",COLUMN(BCTCR_06608!E25),",0",",0") -> 287816,25|5,0,0
A26: =CONCATENATE(288155,",",ROW(BCTCR_06608!A26),"|",COLUMN(BCTCR_06608!A26),",0",",0") -> 288155,26|1,0,0 | B26: =CONCATENATE(287662,",",ROW(BCTCR_06608!B26),"|",COLUMN(BCTCR_06608!B26),",0",",0") -> 287662,26|2,0,0 | C26: =CONCATENATE(288145,",",ROW(BCTCR_06608!C26),"|",COLUMN(BCTCR_06608!C26),",0",",0") -> 288145,26|3,0,0 | D26: =CONCATENATE(288059,",",ROW(BCTCR_06608!D26),"|",COLUMN(BCTCR_06608!D26),",0",",0") -> 288059,26|4,0,0 | E26: =CONCATENATE(287876,",",ROW(BCTCR_06608!E26),"|",COLUMN(BCTCR_06608!E26),",0",",0") -> 287876,26|5,0,0
A27: =CONCATENATE(287846,",",ROW(BCTCR_06608!A27),"|",COLUMN(BCTCR_06608!A27),",0",",0") -> 287846,27|1,0,0 | B27: =CONCATENATE(287663,",",ROW(BCTCR_06608!B27),"|",COLUMN(BCTCR_06608!B27),",0",",0") -> 287663,27|2,0,0 | C27: =CONCATENATE(288146,",",ROW(BCTCR_06608!C27),"|",COLUMN(BCTCR_06608!C27),",0",",0") -> 288146,27|3,0,0 | D27: =CONCATENATE(288060,",",ROW(BCTCR_06608!D27),"|",COLUMN(BCTCR_06608!D27),",0",",0") -> 288060,27|4,0,0 | E27: =CONCATENATE(287877,",",ROW(BCTCR_06608!E27),"|",COLUMN(BCTCR_06608!E27),",0",",0") -> 287877,27|5,0,0
A28: =CONCATENATE(287847,",",ROW(BCTCR_06608!A28),"|",COLUMN(BCTCR_06608!A28),",0",",0") -> 287847,28|1,0,0 | B28: =CONCATENATE(287812,",",ROW(BCTCR_06608!B28),"|",COLUMN(BCTCR_06608!B28),",0",",0") -> 287812,28|2,0,0 | C28: =CONCATENATE(288094,",",ROW(BCTCR_06608!C28),"|",COLUMN(BCTCR_06608!C28),",0",",0") -> 288094,28|3,0,0 | D28: =CONCATENATE(287645,",",ROW(BCTCR_06608!D28),"|",COLUMN(BCTCR_06608!D28),",0",",0") -> 287645,28|4,0,0 | E28: =CONCATENATE(288213,",",ROW(BCTCR_06608!E28),"|",COLUMN(BCTCR_06608!E28),",0",",0") -> 288213,28|5,0,0
A29: =CONCATENATE(287902,",",ROW(BCTCR_06608!A29),"|",COLUMN(BCTCR_06608!A29),",0",",0") -> 287902,29|1,0,0 | B29: =CONCATENATE(287694,",",ROW(BCTCR_06608!B29),"|",COLUMN(BCTCR_06608!B29),",0",",0") -> 287694,29|2,0,0 | C29: =CONCATENATE(287940,",",ROW(BCTCR_06608!C29),"|",COLUMN(BCTCR_06608!C29),",0",",0") -> 287940,29|3,0,0 | D29: =CONCATENATE(288061,",",ROW(BCTCR_06608!D29),"|",COLUMN(BCTCR_06608!D29),",0",",0") -> 288061,29|4,0,0 | E29: =CONCATENATE(287878,",",ROW(BCTCR_06608!E29),"|",COLUMN(BCTCR_06608!E29),",0",",0") -> 287878,29|5,0,0
A30: =CONCATENATE(287903,",",ROW(BCTCR_06608!A30),"|",COLUMN(BCTCR_06608!A30),",0",",0") -> 287903,30|1,0,0 | B30: =CONCATENATE(287732,",",ROW(BCTCR_06608!B30),"|",COLUMN(BCTCR_06608!B30),",0",",0") -> 287732,30|2,0,0 | C30: =CONCATENATE(287984,",",ROW(BCTCR_06608!C30),"|",COLUMN(BCTCR_06608!C30),",0",",0") -> 287984,30|3,0,0 | D30: =CONCATENATE(288062,",",ROW(BCTCR_06608!D30),"|",COLUMN(BCTCR_06608!D30),",0",",0") -> 288062,30|4,0,0 | E30: =CONCATENATE(287879,",",ROW(BCTCR_06608!E30),"|",COLUMN(BCTCR_06608!E30),",0",",0") -> 287879,30|5,0,0
A31: =CONCATENATE(288204,",",ROW(BCTCR_06608!A31),"|",COLUMN(BCTCR_06608!A31),",0",",0") -> 288204,31|1,0,0 | B31: =CONCATENATE(288193,",",ROW(BCTCR_06608!B31),"|",COLUMN(BCTCR_06608!B31),",0",",0") -> 288193,31|2,0,0 | C31: =CONCATENATE(288095,",",ROW(BCTCR_06608!C31),"|",COLUMN(BCTCR_06608!C31),",0",",0") -> 288095,31|3,0,0 | D31: =CONCATENATE(287646,",",ROW(BCTCR_06608!D31),"|",COLUMN(BCTCR_06608!D31),",0",",0") -> 287646,31|4,0,0 | E31: =CONCATENATE(288214,",",ROW(BCTCR_06608!E31),"|",COLUMN(BCTCR_06608!E31),",0",",0") -> 288214,31|5,0,0
A32: =CONCATENATE(288188,",",ROW(BCTCR_06608!A32),"|",COLUMN(BCTCR_06608!A32),",0",",0") -> 288188,32|1,0,0 | B32: =CONCATENATE(287664,",",ROW(BCTCR_06608!B32),"|",COLUMN(BCTCR_06608!B32),",0",",0") -> 287664,32|2,0,0 | C32: =CONCATENATE(288091,",",ROW(BCTCR_06608!C32),"|",COLUMN(BCTCR_06608!C32),",0",",0") -> 288091,32|3,0,0 | D32: =CONCATENATE(287642,",",ROW(BCTCR_06608!D32),"|",COLUMN(BCTCR_06608!D32),",0",",0") -> 287642,32|4,0,0 | E32: =CONCATENATE(288210,",",ROW(BCTCR_06608!E32),"|",COLUMN(BCTCR_06608!E32),",0",",0") -> 288210,32|5,0,0
A33: =CONCATENATE(287904,",",ROW(BCTCR_06608!A33),"|",COLUMN(BCTCR_06608!A33),",0",",0") -> 287904,33|1,0,0 | B33: =CONCATENATE(287733,",",ROW(BCTCR_06608!B33),"|",COLUMN(BCTCR_06608!B33),",0",",0") -> 287733,33|2,0,0 | C33: =CONCATENATE(287985,",",ROW(BCTCR_06608!C33),"|",COLUMN(BCTCR_06608!C33),",0",",0") -> 287985,33|3,0,0 | D33: =CONCATENATE(288063,",",ROW(BCTCR_06608!D33),"|",COLUMN(BCTCR_06608!D33),",0",",0") -> 288063,33|4,0,0 | E33: =CONCATENATE(287880,",",ROW(BCTCR_06608!E33),"|",COLUMN(BCTCR_06608!E33),",0",",0") -> 287880,33|5,0,0
A34: =CONCATENATE(288156,",",ROW(BCTCR_06608!A34),"|",COLUMN(BCTCR_06608!A34),",0",",0") -> 288156,34|1,0,0 | B34: =CONCATENATE(287710,",",ROW(BCTCR_06608!B34),"|",COLUMN(BCTCR_06608!B34),",0",",0") -> 287710,34|2,0,0 | C34: =CONCATENATE(287986,",",ROW(BCTCR_06608!C34),"|",COLUMN(BCTCR_06608!C34),",0",",0") -> 287986,34|3,0,0 | D34: =CONCATENATE(288064,",",ROW(BCTCR_06608!D34),"|",COLUMN(BCTCR_06608!D34),",0",",0") -> 288064,34|4,0,0 | E34: =CONCATENATE(287881,",",ROW(BCTCR_06608!E34),"|",COLUMN(BCTCR_06608!E34),",0",",0") -> 287881,34|5,0,0
A35: =CONCATENATE(287905,",",ROW(BCTCR_06608!A35),"|",COLUMN(BCTCR_06608!A35),",0",",0") -> 287905,35|1,0,0 | B35: =CONCATENATE(287734,",",ROW(BCTCR_06608!B35),"|",COLUMN(BCTCR_06608!B35),",0",",0") -> 287734,35|2,0,0 | C35: =CONCATENATE(287987,",",ROW(BCTCR_06608!C35),"|",COLUMN(BCTCR_06608!C35),",0",",0") -> 287987,35|3,0,0 | D35: =CONCATENATE(288065,",",ROW(BCTCR_06608!D35),"|",COLUMN(BCTCR_06608!D35),",0",",0") -> 288065,35|4,0,0 | E35: =CONCATENATE(287882,",",ROW(BCTCR_06608!E35),"|",COLUMN(BCTCR_06608!E35),",0",",0") -> 287882,35|5,0,0
A36: =CONCATENATE(288157,",",ROW(BCTCR_06608!A36),"|",COLUMN(BCTCR_06608!A36),",0",",0") -> 288157,36|1,0,0 | B36: =CONCATENATE(287695,",",ROW(BCTCR_06608!B36),"|",COLUMN(BCTCR_06608!B36),",0",",0") -> 287695,36|2,0,0 | C36: =CONCATENATE(287988,",",ROW(BCTCR_06608!C36),"|",COLUMN(BCTCR_06608!C36),",0",",0") -> 287988,36|3,0,0 | D36: =CONCATENATE(288066,",",ROW(BCTCR_06608!D36),"|",COLUMN(BCTCR_06608!D36),",0",",0") -> 288066,36|4,0,0 | E36: =CONCATENATE(287883,",",ROW(BCTCR_06608!E36),"|",COLUMN(BCTCR_06608!E36),",0",",0") -> 287883,36|5,0,0
A37: =CONCATENATE(288205,",",ROW(BCTCR_06608!A37),"|",COLUMN(BCTCR_06608!A37),",0",",0") -> 288205,37|1,0,0 | B37: =CONCATENATE(288194,",",ROW(BCTCR_06608!B37),"|",COLUMN(BCTCR_06608!B37),",0",",0") -> 288194,37|2,0,0 | C37: =CONCATENATE(288096,",",ROW(BCTCR_06608!C37),"|",COLUMN(BCTCR_06608!C37),",0",",0") -> 288096,37|3,0,0 | D37: =CONCATENATE(287647,",",ROW(BCTCR_06608!D37),"|",COLUMN(BCTCR_06608!D37),",0",",0") -> 287647,37|4,0,0 | E37: =CONCATENATE(288215,",",ROW(BCTCR_06608!E37),"|",COLUMN(BCTCR_06608!E37),",0",",0") -> 288215,37|5,0,0
A38: =CONCATENATE(287923,",",ROW(BCTCR_06608!A38),"|",COLUMN(BCTCR_06608!A38),",0",",0") -> 287923,38|1,0,0 | B38: =CONCATENATE(287696,",",ROW(BCTCR_06608!B38),"|",COLUMN(BCTCR_06608!B38),",0",",0") -> 287696,38|2,0,0 | C38: =CONCATENATE(287972,",",ROW(BCTCR_06608!C38),"|",COLUMN(BCTCR_06608!C38),",0",",0") -> 287972,38|3,0,0 | D38: =CONCATENATE(287622,",",ROW(BCTCR_06608!D38),"|",COLUMN(BCTCR_06608!D38),",0",",0") -> 287622,38|4,0,0 | E38: =CONCATENATE(287817,",",ROW(BCTCR_06608!E38),"|",COLUMN(BCTCR_06608!E38),",0",",0") -> 287817,38|5,0,0
A39: =CONCATENATE(288158,",",ROW(BCTCR_06608!A39),"|",COLUMN(BCTCR_06608!A39),",0",",0") -> 288158,39|1,0,0 | B39: =CONCATENATE(287697,",",ROW(BCTCR_06608!B39),"|",COLUMN(BCTCR_06608!B39),",0",",0") -> 287697,39|2,0,0 | C39: =CONCATENATE(287683,",",ROW(BCTCR_06608!C39),"|",COLUMN(BCTCR_06608!C39),",0",",0") -> 287683,39|3,0,0 | D39: =CONCATENATE(288067,",",ROW(BCTCR_06608!D39),"|",COLUMN(BCTCR_06608!D39),",0",",0") -> 288067,39|4,0,0 | E39: =CONCATENATE(287884,",",ROW(BCTCR_06608!E39),"|",COLUMN(BCTCR_06608!E39),",0",",0") -> 287884,39|5,0,0
A40: =CONCATENATE(287674,",",ROW(BCTCR_06608!A40),"|",COLUMN(BCTCR_06608!A40),",0",",0") -> 287674,40|1,0,0 | B40: =CONCATENATE(288195,",",ROW(BCTCR_06608!B40),"|",COLUMN(BCTCR_06608!B40),",0",",0") -> 288195,40|2,0,0 | C40: =CONCATENATE(288097,",",ROW(BCTCR_06608!C40),"|",COLUMN(BCTCR_06608!C40),",0",",0") -> 288097,40|3,0,0 | D40: =CONCATENATE(287648,",",ROW(BCTCR_06608!D40),"|",COLUMN(BCTCR_06608!D40),",0",",0") -> 287648,40|4,0,0 | E40: =CONCATENATE(288216,",",ROW(BCTCR_06608!E40),"|",COLUMN(BCTCR_06608!E40),",0",",0") -> 288216,40|5,0,0
A41: =CONCATENATE(288159,",",ROW(BCTCR_06608!A41),"|",COLUMN(BCTCR_06608!A41),",0",",0") -> 288159,41|1,0,0 | B41: =CONCATENATE(287711,",",ROW(BCTCR_06608!B41),"|",COLUMN(BCTCR_06608!B41),",0",",0") -> 287711,41|2,0,0 | C41: =CONCATENATE(287989,",",ROW(BCTCR_06608!C41),"|",COLUMN(BCTCR_06608!C41),",0",",0") -> 287989,41|3,0,0 | D41: =CONCATENATE(288068,",",ROW(BCTCR_06608!D41),"|",COLUMN(BCTCR_06608!D41),",0",",0") -> 288068,41|4,0,0 | E41: =CONCATENATE(287885,",",ROW(BCTCR_06608!E41),"|",COLUMN(BCTCR_06608!E41),",0",",0") -> 287885,41|5,0,0
A42: =CONCATENATE(288206,",",ROW(BCTCR_06608!A42),"|",COLUMN(BCTCR_06608!A42),",0",",0") -> 288206,42|1,0,0 | B42: =CONCATENATE(287763,",",ROW(BCTCR_06608!B42),"|",COLUMN(BCTCR_06608!B42),",0",",0") -> 287763,42|2,0,0 | C42: =CONCATENATE(288127,",",ROW(BCTCR_06608!C42),"|",COLUMN(BCTCR_06608!C42),",0",",0") -> 288127,42|3,0,0 | D42: =CONCATENATE(288043,",",ROW(BCTCR_06608!D42),"|",COLUMN(BCTCR_06608!D42),",0",",0") -> 288043,42|4,0,0 | E42: =CONCATENATE(287859,",",ROW(BCTCR_06608!E42),"|",COLUMN(BCTCR_06608!E42),",0",",0") -> 287859,42|5,0,0
A43: =CONCATENATE(287906,",",ROW(BCTCR_06608!A43),"|",COLUMN(BCTCR_06608!A43),",0",",0") -> 287906,43|1,0,0 | B43: =CONCATENATE(287764,",",ROW(BCTCR_06608!B43),"|",COLUMN(BCTCR_06608!B43),",0",",0") -> 287764,43|2,0,0 | C43: =CONCATENATE(287990,",",ROW(BCTCR_06608!C43),"|",COLUMN(BCTCR_06608!C43),",0",",0") -> 287990,43|3,0,0 | D43: =CONCATENATE(288069,",",ROW(BCTCR_06608!D43),"|",COLUMN(BCTCR_06608!D43),",0",",0") -> 288069,43|4,0,0 | E43: =CONCATENATE(287886,",",ROW(BCTCR_06608!E43),"|",COLUMN(BCTCR_06608!E43),",0",",0") -> 287886,43|5,0,0
A44: =CONCATENATE(287924,",",ROW(BCTCR_06608!A44),"|",COLUMN(BCTCR_06608!A44),",0",",0") -> 287924,44|1,0,0 | B44: =CONCATENATE(287765,",",ROW(BCTCR_06608!B44),"|",COLUMN(BCTCR_06608!B44),",0",",0") -> 287765,44|2,0,0 | C44: =CONCATENATE(287973,",",ROW(BCTCR_06608!C44),"|",COLUMN(BCTCR_06608!C44),",0",",0") -> 287973,44|3,0,0 | D44: =CONCATENATE(287623,",",ROW(BCTCR_06608!D44),"|",COLUMN(BCTCR_06608!D44),",0",",0") -> 287623,44|4,0,0 | E44: =CONCATENATE(287818,",",ROW(BCTCR_06608!E44),"|",COLUMN(BCTCR_06608!E44),",0",",0") -> 287818,44|5,0,0
A45: =CONCATENATE(287699,",",ROW(BCTCR_06608!A45),"|",COLUMN(BCTCR_06608!A45),",0",",0") -> 287699,45|1,0,0 | B45: =CONCATENATE(287735,",",ROW(BCTCR_06608!B45),"|",COLUMN(BCTCR_06608!B45),",0",",0") -> 287735,45|2,0,0 | C45: =CONCATENATE(288128,",",ROW(BCTCR_06608!C45),"|",COLUMN(BCTCR_06608!C45),",0",",0") -> 288128,45|3,0,0 | D45: =CONCATENATE(288044,",",ROW(BCTCR_06608!D45),"|",COLUMN(BCTCR_06608!D45),",0",",0") -> 288044,45|4,0,0 | E45: =CONCATENATE(287860,",",ROW(BCTCR_06608!E45),"|",COLUMN(BCTCR_06608!E45),",0",",0") -> 287860,45|5,0,0
A46: =CONCATENATE(287700,",",ROW(BCTCR_06608!A46),"|",COLUMN(BCTCR_06608!A46),",0",",0") -> 287700,46|1,0,0 | B46: =CONCATENATE(287665,",",ROW(BCTCR_06608!B46),"|",COLUMN(BCTCR_06608!B46),",0",",0") -> 287665,46|2,0,0 | C46: =CONCATENATE(288129,",",ROW(BCTCR_06608!C46),"|",COLUMN(BCTCR_06608!C46),",0",",0") -> 288129,46|3,0,0 | D46: =CONCATENATE(288045,",",ROW(BCTCR_06608!D46),"|",COLUMN(BCTCR_06608!D46),",0",",0") -> 288045,46|4,0,0 | E46: =CONCATENATE(287861,",",ROW(BCTCR_06608!E46),"|",COLUMN(BCTCR_06608!E46),",0",",0") -> 287861,46|5,0,0
A47: =CONCATENATE(287701,",",ROW(BCTCR_06608!A47),"|",COLUMN(BCTCR_06608!A47),",0",",0") -> 287701,47|1,0,0 | B47: =CONCATENATE(287766,",",ROW(BCTCR_06608!B47),"|",COLUMN(BCTCR_06608!B47),",0",",0") -> 287766,47|2,0,0 | C47: =CONCATENATE(288131,",",ROW(BCTCR_06608!C47),"|",COLUMN(BCTCR_06608!C47),",0",",0") -> 288131,47|3,0,0 | D47: =CONCATENATE(288046,",",ROW(BCTCR_06608!D47),"|",COLUMN(BCTCR_06608!D47),",0",",0") -> 288046,47|4,0,0 | E47: =CONCATENATE(287862,",",ROW(BCTCR_06608!E47),"|",COLUMN(BCTCR_06608!E47),",0",",0") -> 287862,47|5,0,0
A48: =CONCATENATE(288160,",",ROW(BCTCR_06608!A48),"|",COLUMN(BCTCR_06608!A48),",0",",0") -> 288160,48|1,0,0 | B48: =CONCATENATE(288238,",",ROW(BCTCR_06608!B48),"|",COLUMN(BCTCR_06608!B48),",0",",0") -> 288238,48|2,0,0 | C48: =CONCATENATE(287991,",",ROW(BCTCR_06608!C48),"|",COLUMN(BCTCR_06608!C48),",0",",0") -> 287991,48|3,0,0 | D48: =CONCATENATE(288070,",",ROW(BCTCR_06608!D48),"|",COLUMN(BCTCR_06608!D48),",0",",0") -> 288070,48|4,0,0 | E48: =CONCATENATE(287887,",",ROW(BCTCR_06608!E48),"|",COLUMN(BCTCR_06608!E48),",0",",0") -> 287887,48|5,0,0
A49: =CONCATENATE(288161,",",ROW(BCTCR_06608!A49),"|",COLUMN(BCTCR_06608!A49),",0",",0") -> 288161,49|1,0,0 | B49: =CONCATENATE(287767,",",ROW(BCTCR_06608!B49),"|",COLUMN(BCTCR_06608!B49),",0",",0") -> 287767,49|2,0,0 | C49: =CONCATENATE(287992,",",ROW(BCTCR_06608!C49),"|",COLUMN(BCTCR_06608!C49),",0",",0") -> 287992,49|3,0,0 | D49: =CONCATENATE(288071,",",ROW(BCTCR_06608!D49),"|",COLUMN(BCTCR_06608!D49),",0",",0") -> 288071,49|4,0,0 | E49: =CONCATENATE(287888,",",ROW(BCTCR_06608!E49),"|",COLUMN(BCTCR_06608!E49),",0",",0") -> 287888,49|5,0,0
A50: =CONCATENATE(287907,",",ROW(BCTCR_06608!A50),"|",COLUMN(BCTCR_06608!A50),",0",",0") -> 287907,50|1,0,0 | B50: =CONCATENATE(287768,",",ROW(BCTCR_06608!B50),"|",COLUMN(BCTCR_06608!B50),",0",",0") -> 287768,50|2,0,0 | C50: =CONCATENATE(287993,",",ROW(BCTCR_06608!C50),"|",COLUMN(BCTCR_06608!C50),",0",",0") -> 287993,50|3,0,0 | D50: =CONCATENATE(288072,",",ROW(BCTCR_06608!D50),"|",COLUMN(BCTCR_06608!D50),",0",",0") -> 288072,50|4,0,0 | E50: =CONCATENATE(287889,",",ROW(BCTCR_06608!E50),"|",COLUMN(BCTCR_06608!E50),",0",",0") -> 287889,50|5,0,0
A51: =CONCATENATE(287908,",",ROW(BCTCR_06608!A51),"|",COLUMN(BCTCR_06608!A51),",0",",0") -> 287908,51|1,0,0 | B51: =CONCATENATE(287769,",",ROW(BCTCR_06608!B51),"|",COLUMN(BCTCR_06608!B51),",0",",0") -> 287769,51|2,0,0 | C51: =CONCATENATE(287994,",",ROW(BCTCR_06608!C51),"|",COLUMN(BCTCR_06608!C51),",0",",0") -> 287994,51|3,0,0 | D51: =CONCATENATE(288073,",",ROW(BCTCR_06608!D51),"|",COLUMN(BCTCR_06608!D51),",0",",0") -> 288073,51|4,0,0 | E51: =CONCATENATE(287890,",",ROW(BCTCR_06608!E51),"|",COLUMN(BCTCR_06608!E51),",0",",0") -> 287890,51|5,0,0
A52: =CONCATENATE(287925,",",ROW(BCTCR_06608!A52),"|",COLUMN(BCTCR_06608!A52),",0",",0") -> 287925,52|1,0,0 | B52: =CONCATENATE(287770,",",ROW(BCTCR_06608!B52),"|",COLUMN(BCTCR_06608!B52),",0",",0") -> 287770,52|2,0,0 | C52: =CONCATENATE(287974,",",ROW(BCTCR_06608!C52),"|",COLUMN(BCTCR_06608!C52),",0",",0") -> 287974,52|3,0,0 | D52: =CONCATENATE(287624,",",ROW(BCTCR_06608!D52),"|",COLUMN(BCTCR_06608!D52),",0",",0") -> 287624,52|4,0,0 | E52: =CONCATENATE(287819,",",ROW(BCTCR_06608!E52),"|",COLUMN(BCTCR_06608!E52),",0",",0") -> 287819,52|5,0,0
A53: =CONCATENATE(287926,",",ROW(BCTCR_06608!A53),"|",COLUMN(BCTCR_06608!A53),",0",",0") -> 287926,53|1,0,0 | B53: =CONCATENATE(288196,",",ROW(BCTCR_06608!B53),"|",COLUMN(BCTCR_06608!B53),",0",",0") -> 288196,53|2,0,0 | C53: =CONCATENATE(287975,",",ROW(BCTCR_06608!C53),"|",COLUMN(BCTCR_06608!C53),",0",",0") -> 287975,53|3,0,0 | D53: =CONCATENATE(287625,",",ROW(BCTCR_06608!D53),"|",COLUMN(BCTCR_06608!D53),",0",",0") -> 287625,53|4,0,0 | E53: =CONCATENATE(287820,",",ROW(BCTCR_06608!E53),"|",COLUMN(BCTCR_06608!E53),",0",",0") -> 287820,53|5,0,0
A54: =CONCATENATE(288162,",",ROW(BCTCR_06608!A54),"|",COLUMN(BCTCR_06608!A54),",0",",0") -> 288162,54|1,0,0 | B54: =CONCATENATE(287771,",",ROW(BCTCR_06608!B54),"|",COLUMN(BCTCR_06608!B54),",0",",0") -> 287771,54|2,0,0 | C54: =CONCATENATE(287995,",",ROW(BCTCR_06608!C54),"|",COLUMN(BCTCR_06608!C54),",0",",0") -> 287995,54|3,0,0 | D54: =CONCATENATE(288074,",",ROW(BCTCR_06608!D54),"|",COLUMN(BCTCR_06608!D54),",0",",0") -> 288074,54|4,0,0 | E54: =CONCATENATE(287891,",",ROW(BCTCR_06608!E54),"|",COLUMN(BCTCR_06608!E54),",0",",0") -> 287891,54|5,0,0
A55: =CONCATENATE(287927,",",ROW(BCTCR_06608!A55),"|",COLUMN(BCTCR_06608!A55),",0",",0") -> 287927,55|1,0,0 | B55: =CONCATENATE(287736,",",ROW(BCTCR_06608!B55),"|",COLUMN(BCTCR_06608!B55),",0",",0") -> 287736,55|2,0,0 | C55: =CONCATENATE(287976,",",ROW(BCTCR_06608!C55),"|",COLUMN(BCTCR_06608!C55),",0",",0") -> 287976,55|3,0,0 | D55: =CONCATENATE(287626,",",ROW(BCTCR_06608!D55),"|",COLUMN(BCTCR_06608!D55),",0",",0") -> 287626,55|4,0,0 | E55: =CONCATENATE(287821,",",ROW(BCTCR_06608!E55),"|",COLUMN(BCTCR_06608!E55),",0",",0") -> 287821,55|5,0,0
A56: =CONCATENATE(287928,",",ROW(BCTCR_06608!A56),"|",COLUMN(BCTCR_06608!A56),",0",",0") -> 287928,56|1,0,0 | B56: =CONCATENATE(287666,",",ROW(BCTCR_06608!B56),"|",COLUMN(BCTCR_06608!B56),",0",",0") -> 287666,56|2,0,0 | C56: =CONCATENATE(287977,",",ROW(BCTCR_06608!C56),"|",COLUMN(BCTCR_06608!C56),",0",",0") -> 287977,56|3,0,0 | D56: =CONCATENATE(287627,",",ROW(BCTCR_06608!D56),"|",COLUMN(BCTCR_06608!D56),",0",",0") -> 287627,56|4,0,0 | E56: =CONCATENATE(287822,",",ROW(BCTCR_06608!E56),"|",COLUMN(BCTCR_06608!E56),",0",",0") -> 287822,56|5,0,0
A57: =CONCATENATE(287929,",",ROW(BCTCR_06608!A57),"|",COLUMN(BCTCR_06608!A57),",0",",0") -> 287929,57|1,0,0 | B57: =CONCATENATE(287772,",",ROW(BCTCR_06608!B57),"|",COLUMN(BCTCR_06608!B57),",0",",0") -> 287772,57|2,0,0 | C57: =CONCATENATE(287978,",",ROW(BCTCR_06608!C57),"|",COLUMN(BCTCR_06608!C57),",0",",0") -> 287978,57|3,0,0 | D57: =CONCATENATE(287628,",",ROW(BCTCR_06608!D57),"|",COLUMN(BCTCR_06608!D57),",0",",0") -> 287628,57|4,0,0 | E57: =CONCATENATE(287823,",",ROW(BCTCR_06608!E57),"|",COLUMN(BCTCR_06608!E57),",0",",0") -> 287823,57|5,0,0
A58: =CONCATENATE(287656,",",ROW(BCTCR_06608!A58),"|",COLUMN(BCTCR_06608!A58),",0",",0") -> 287656,58|1,0,0 | B58: =CONCATENATE(287737,",",ROW(BCTCR_06608!B58),"|",COLUMN(BCTCR_06608!B58),",0",",0") -> 287737,58|2,0,0 | C58: =CONCATENATE(287996,",",ROW(BCTCR_06608!C58),"|",COLUMN(BCTCR_06608!C58),",0",",0") -> 287996,58|3,0,0 | D58: =CONCATENATE(288075,",",ROW(BCTCR_06608!D58),"|",COLUMN(BCTCR_06608!D58),",0",",0") -> 288075,58|4,0,0 | E58: =CONCATENATE(287892,",",ROW(BCTCR_06608!E58),"|",COLUMN(BCTCR_06608!E58),",0",",0") -> 287892,58|5,0,0
A59: =CONCATENATE(287675,",",ROW(BCTCR_06608!A59),"|",COLUMN(BCTCR_06608!A59),",0",",0") -> 287675,59|1,0,0 | B59: =CONCATENATE(287773,",",ROW(BCTCR_06608!B59),"|",COLUMN(BCTCR_06608!B59),",0",",0") -> 287773,59|2,0,0 | C59: =CONCATENATE(287997,",",ROW(BCTCR_06608!C59),"|",COLUMN(BCTCR_06608!C59),",0",",0") -> 287997,59|3,0,0 | D59: =CONCATENATE(288076,",",ROW(BCTCR_06608!D59),"|",COLUMN(BCTCR_06608!D59),",0",",0") -> 288076,59|4,0,0 | E59: =CONCATENATE(287893,",",ROW(BCTCR_06608!E59),"|",COLUMN(BCTCR_06608!E59),",0",",0") -> 287893,59|5,0,0
A60: =CONCATENATE(287702,",",ROW(BCTCR_06608!A60),"|",COLUMN(BCTCR_06608!A60),",0",",0") -> 287702,60|1,0,0 | B60: =CONCATENATE(287774,",",ROW(BCTCR_06608!B60),"|",COLUMN(BCTCR_06608!B60),",0",",0") -> 287774,60|2,0,0 | C60: =CONCATENATE(288132,",",ROW(BCTCR_06608!C60),"|",COLUMN(BCTCR_06608!C60),",0",",0") -> 288132,60|3,0,0 | D60: =CONCATENATE(288047,",",ROW(BCTCR_06608!D60),"|",COLUMN(BCTCR_06608!D60),",0",",0") -> 288047,60|4,0,0 | E60: =CONCATENATE(287863,",",ROW(BCTCR_06608!E60),"|",COLUMN(BCTCR_06608!E60),",0",",0") -> 287863,60|5,0,0
A61: =CONCATENATE(287930,",",ROW(BCTCR_06608!A61),"|",COLUMN(BCTCR_06608!A61),",0",",0") -> 287930,61|1,0,0 | B61: =CONCATENATE(287738,",",ROW(BCTCR_06608!B61),"|",COLUMN(BCTCR_06608!B61),",0",",0") -> 287738,61|2,0,0 | C61: =CONCATENATE(287979,",",ROW(BCTCR_06608!C61),"|",COLUMN(BCTCR_06608!C61),",0",",0") -> 287979,61|3,0,0 | D61: =CONCATENATE(287629,",",ROW(BCTCR_06608!D61),"|",COLUMN(BCTCR_06608!D61),",0",",0") -> 287629,61|4,0,0 | E61: =CONCATENATE(287824,",",ROW(BCTCR_06608!E61),"|",COLUMN(BCTCR_06608!E61),",0",",0") -> 287824,61|5,0,0
A62: =CONCATENATE(287909,",",ROW(BCTCR_06608!A62),"|",COLUMN(BCTCR_06608!A62),",0",",0") -> 287909,62|1,0,0 | B62: =CONCATENATE(287775,",",ROW(BCTCR_06608!B62),"|",COLUMN(BCTCR_06608!B62),",0",",0") -> 287775,62|2,0,0 | C62: =CONCATENATE(287998,",",ROW(BCTCR_06608!C62),"|",COLUMN(BCTCR_06608!C62),",0",",0") -> 287998,62|3,0,0 | D62: =CONCATENATE(288077,",",ROW(BCTCR_06608!D62),"|",COLUMN(BCTCR_06608!D62),",0",",0") -> 288077,62|4,0,0 | E62: =CONCATENATE(287894,",",ROW(BCTCR_06608!E62),"|",COLUMN(BCTCR_06608!E62),",0",",0") -> 287894,62|5,0,0
A63: =CONCATENATE(287703,",",ROW(BCTCR_06608!A63),"|",COLUMN(BCTCR_06608!A63),",0",",0") -> 287703,63|1,0,0 | B63: =CONCATENATE(287739,",",ROW(BCTCR_06608!B63),"|",COLUMN(BCTCR_06608!B63),",0",",0") -> 287739,63|2,0,0 | C63: =CONCATENATE(288133,",",ROW(BCTCR_06608!C63),"|",COLUMN(BCTCR_06608!C63),",0",",0") -> 288133,63|3,0,0 | D63: =CONCATENATE(288048,",",ROW(BCTCR_06608!D63),"|",COLUMN(BCTCR_06608!D63),",0",",0") -> 288048,63|4,0,0 | E63: =CONCATENATE(287864,",",ROW(BCTCR_06608!E63),"|",COLUMN(BCTCR_06608!E63),",0",",0") -> 287864,63|5,0,0
A64: =CONCATENATE(287931,",",ROW(BCTCR_06608!A64),"|",COLUMN(BCTCR_06608!A64),",0",",0") -> 287931,64|1,0,0 | B64: =CONCATENATE(288197,",",ROW(BCTCR_06608!B64),"|",COLUMN(BCTCR_06608!B64),",0",",0") -> 288197,64|2,0,0 | C64: =CONCATENATE(287980,",",ROW(BCTCR_06608!C64),"|",COLUMN(BCTCR_06608!C64),",0",",0") -> 287980,64|3,0,0 | D64: =CONCATENATE(287630,",",ROW(BCTCR_06608!D64),"|",COLUMN(BCTCR_06608!D64),",0",",0") -> 287630,64|4,0,0 | E64: =CONCATENATE(287825,",",ROW(BCTCR_06608!E64),"|",COLUMN(BCTCR_06608!E64),",0",",0") -> 287825,64|5,0,0
A65: =CONCATENATE(287704,",",ROW(BCTCR_06608!A65),"|",COLUMN(BCTCR_06608!A65),",0",",0") -> 287704,65|1,0,0 | B65: =CONCATENATE(287667,",",ROW(BCTCR_06608!B65),"|",COLUMN(BCTCR_06608!B65),",0",",0") -> 287667,65|2,0,0 | C65: =CONCATENATE(288134,",",ROW(BCTCR_06608!C65),"|",COLUMN(BCTCR_06608!C65),",0",",0") -> 288134,65|3,0,0 | D65: =CONCATENATE(288049,",",ROW(BCTCR_06608!D65),"|",COLUMN(BCTCR_06608!D65),",0",",0") -> 288049,65|4,0,0 | E65: =CONCATENATE(287865,",",ROW(BCTCR_06608!E65),"|",COLUMN(BCTCR_06608!E65),",0",",0") -> 287865,65|5,0,0
A66: =CONCATENATE(287932,",",ROW(BCTCR_06608!A66),"|",COLUMN(BCTCR_06608!A66),",0",",0") -> 287932,66|1,0,0 | B66: =CONCATENATE(287776,",",ROW(BCTCR_06608!B66),"|",COLUMN(BCTCR_06608!B66),",0",",0") -> 287776,66|2,0,0 | C66: =CONCATENATE(287981,",",ROW(BCTCR_06608!C66),"|",COLUMN(BCTCR_06608!C66),",0",",0") -> 287981,66|3,0,0 | D66: =CONCATENATE(287631,",",ROW(BCTCR_06608!D66),"|",COLUMN(BCTCR_06608!D66),",0",",0") -> 287631,66|4,0,0 | E66: =CONCATENATE(287826,",",ROW(BCTCR_06608!E66),"|",COLUMN(BCTCR_06608!E66),",0",",0") -> 287826,66|5,0,0
A67: =CONCATENATE(287910,",",ROW(BCTCR_06608!A67),"|",COLUMN(BCTCR_06608!A67),",0",",0") -> 287910,67|1,0,0 | B67: =CONCATENATE(287740,",",ROW(BCTCR_06608!B67),"|",COLUMN(BCTCR_06608!B67),",0",",0") -> 287740,67|2,0,0 | C67: =CONCATENATE(287999,",",ROW(BCTCR_06608!C67),"|",COLUMN(BCTCR_06608!C67),",0",",0") -> 287999,67|3,0,0 | D67: =CONCATENATE(288078,",",ROW(BCTCR_06608!D67),"|",COLUMN(BCTCR_06608!D67),",0",",0") -> 288078,67|4,0,0 | E67: =CONCATENATE(287895,",",ROW(BCTCR_06608!E67),"|",COLUMN(BCTCR_06608!E67),",0",",0") -> 287895,67|5,0,0
A68: =CONCATENATE(287685,",",ROW(BCTCR_06608!A68),"|",COLUMN(BCTCR_06608!A68),",0",",0") -> 287685,68|1,0,0 | B68: =CONCATENATE(287777,",",ROW(BCTCR_06608!B68),"|",COLUMN(BCTCR_06608!B68),",0",",0") -> 287777,68|2,0,0 | C68: =CONCATENATE(288000,",",ROW(BCTCR_06608!C68),"|",COLUMN(BCTCR_06608!C68),",0",",0") -> 288000,68|3,0,0 | D68: =CONCATENATE(288079,",",ROW(BCTCR_06608!D68),"|",COLUMN(BCTCR_06608!D68),",0",",0") -> 288079,68|4,0,0 | E68: =CONCATENATE(287896,",",ROW(BCTCR_06608!E68),"|",COLUMN(BCTCR_06608!E68),",0",",0") -> 287896,68|5,0,0
A69: =CONCATENATE(287911,",",ROW(BCTCR_06608!A69),"|",COLUMN(BCTCR_06608!A69),",0",",0") -> 287911,69|1,0,0 | B69: =CONCATENATE(287778,",",ROW(BCTCR_06608!B69),"|",COLUMN(BCTCR_06608!B69),",0",",0") -> 287778,69|2,0,0 | C69: =CONCATENATE(288001,",",ROW(BCTCR_06608!C69),"|",COLUMN(BCTCR_06608!C69),",0",",0") -> 288001,69|3,0,0 | D69: =CONCATENATE(288080,",",ROW(BCTCR_06608!D69),"|",COLUMN(BCTCR_06608!D69),",0",",0") -> 288080,69|4,0,0 | E69: =CONCATENATE(287897,",",ROW(BCTCR_06608!E69),"|",COLUMN(BCTCR_06608!E69),",0",",0") -> 287897,69|5,0,0
A70: =CONCATENATE(287676,",",ROW(BCTCR_06608!A70),"|",COLUMN(BCTCR_06608!A70),",0",",0") -> 287676,70|1,0,0 | B70: =CONCATENATE(287668,",",ROW(BCTCR_06608!B70),"|",COLUMN(BCTCR_06608!B70),",0",",0") -> 287668,70|2,0,0 | C70: =CONCATENATE(288002,",",ROW(BCTCR_06608!C70),"|",COLUMN(BCTCR_06608!C70),",0",",0") -> 288002,70|3,0,0 | D70: =CONCATENATE(288081,",",ROW(BCTCR_06608!D70),"|",COLUMN(BCTCR_06608!D70),",0",",0") -> 288081,70|4,0,0 | E70: =CONCATENATE(287898,",",ROW(BCTCR_06608!E70),"|",COLUMN(BCTCR_06608!E70),",0",",0") -> 287898,70|5,0,0
A71: =CONCATENATE(287705,",",ROW(BCTCR_06608!A71),"|",COLUMN(BCTCR_06608!A71),",0",",0") -> 287705,71|1,0,0 | B71: =CONCATENATE(287779,",",ROW(BCTCR_06608!B71),"|",COLUMN(BCTCR_06608!B71),",0",",0") -> 287779,71|2,0,0 | C71: =CONCATENATE(288135,",",ROW(BCTCR_06608!C71),"|",COLUMN(BCTCR_06608!C71),",0",",0") -> 288135,71|3,0,0 | D71: =CONCATENATE(288050,",",ROW(BCTCR_06608!D71),"|",COLUMN(BCTCR_06608!D71),",0",",0") -> 288050,71|4,0,0 | E71: =CONCATENATE(287866,",",ROW(BCTCR_06608!E71),"|",COLUMN(BCTCR_06608!E71),",0",",0") -> 287866,71|5,0,0
A72: =CONCATENATE(287938,",",ROW(BCTCR_06608!A72),"|",COLUMN(BCTCR_06608!A72),",0",",0") -> 287938,72|1,0,0 | C72: =CONCATENATE(288272,",",ROW(BCTCR_06608!C72),"|",COLUMN(BCTCR_06608!C72),",0",",0") -> 288272,72|3,0,0 | D72: =CONCATENATE(288271,",",ROW(BCTCR_06608!D72),"|",COLUMN(BCTCR_06608!D72),",0",",0") -> 288271,72|4,0,0 | E72: =CONCATENATE(288269,",",ROW(BCTCR_06608!E72),"|",COLUMN(BCTCR_06608!E72),",0",",0") -> 288269,72|5,0,0
A73: =CONCATENATE(287912,",",ROW(BCTCR_06608!A73),"|",COLUMN(BCTCR_06608!A73),",0",",0") -> 287912,73|1,0,0 | B73: =CONCATENATE(287741,",",ROW(BCTCR_06608!B73),"|",COLUMN(BCTCR_06608!B73),",0",",0") -> 287741,73|2,0,0 | C73: =CONCATENATE(288003,",",ROW(BCTCR_06608!C73),"|",COLUMN(BCTCR_06608!C73),",0",",0") -> 288003,73|3,0,0 | D73: =CONCATENATE(288082,",",ROW(BCTCR_06608!D73),"|",COLUMN(BCTCR_06608!D73),",0",",0") -> 288082,73|4,0,0 | E73: =CONCATENATE(288239,",",ROW(BCTCR_06608!E73),"|",COLUMN(BCTCR_06608!E73),",0",",0") -> 288239,73|5,0,0
A74: =CONCATENATE(287913,",",ROW(BCTCR_06608!A74),"|",COLUMN(BCTCR_06608!A74),",0",",0") -> 287913,74|1,0,0 | B74: =CONCATENATE(287742,",",ROW(BCTCR_06608!B74),"|",COLUMN(BCTCR_06608!B74),",0",",0") -> 287742,74|2,0,0 | C74: =CONCATENATE(288004,",",ROW(BCTCR_06608!C74),"|",COLUMN(BCTCR_06608!C74),",0",",0") -> 288004,74|3,0,0 | D74: =CONCATENATE(288083,",",ROW(BCTCR_06608!D74),"|",COLUMN(BCTCR_06608!D74),",0",",0") -> 288083,74|4,0,0 | E74: =CONCATENATE(288240,",",ROW(BCTCR_06608!E74),"|",COLUMN(BCTCR_06608!E74),",0",",0") -> 288240,74|5,0,0
A75: =CONCATENATE(287686,",",ROW(BCTCR_06608!A75),"|",COLUMN(BCTCR_06608!A75),",0",",0") -> 287686,75|1,0,0 | B75: =CONCATENATE(287780,",",ROW(BCTCR_06608!B75),"|",COLUMN(BCTCR_06608!B75),",0",",0") -> 287780,75|2,0,0 | C75: =CONCATENATE(288005,",",ROW(BCTCR_06608!C75),"|",COLUMN(BCTCR_06608!C75),",0",",0") -> 288005,75|3,0,0 | D75: =CONCATENATE(287941,",",ROW(BCTCR_06608!D75),"|",COLUMN(BCTCR_06608!D75),",0",",0") -> 287941,75|4,0,0 | E75: =CONCATENATE(288241,",",ROW(BCTCR_06608!E75),"|",COLUMN(BCTCR_06608!E75),",0",",0") -> 288241,75|5,0,0
A76: =CONCATENATE(287706,",",ROW(BCTCR_06608!A76),"|",COLUMN(BCTCR_06608!A76),",0",",0") -> 287706,76|1,0,0 | B76: =CONCATENATE(287743,",",ROW(BCTCR_06608!B76),"|",COLUMN(BCTCR_06608!B76),",0",",0") -> 287743,76|2,0,0 | C76: =CONCATENATE(288136,",",ROW(BCTCR_06608!C76),"|",COLUMN(BCTCR_06608!C76),",0",",0") -> 288136,76|3,0,0 | D76: =CONCATENATE(288051,",",ROW(BCTCR_06608!D76),"|",COLUMN(BCTCR_06608!D76),",0",",0") -> 288051,76|4,0,0 | E76: =CONCATENATE(287867,",",ROW(BCTCR_06608!E76),"|",COLUMN(BCTCR_06608!E76),",0",",0") -> 287867,76|5,0,0
A77: =CONCATENATE(287687,",",ROW(BCTCR_06608!A77),"|",COLUMN(BCTCR_06608!A77),",0",",0") -> 287687,77|1,0,0 | B77: =CONCATENATE(287781,",",ROW(BCTCR_06608!B77),"|",COLUMN(BCTCR_06608!B77),",0",",0") -> 287781,77|2,0,0 | C77: =CONCATENATE(288006,",",ROW(BCTCR_06608!C77),"|",COLUMN(BCTCR_06608!C77),",0",",0") -> 288006,77|3,0,0 | D77: =CONCATENATE(287942,",",ROW(BCTCR_06608!D77),"|",COLUMN(BCTCR_06608!D77),",0",",0") -> 287942,77|4,0,0 | E77: =CONCATENATE(288242,",",ROW(BCTCR_06608!E77),"|",COLUMN(BCTCR_06608!E77),",0",",0") -> 288242,77|5,0,0
A78: =CONCATENATE(287680,",",ROW(BCTCR_06608!A78),"|",COLUMN(BCTCR_06608!A78),",0",",0") -> 287680,78|1,0,0 | B78: =CONCATENATE(287744,",",ROW(BCTCR_06608!B78),"|",COLUMN(BCTCR_06608!B78),",0",",0") -> 287744,78|2,0,0 | C78: =CONCATENATE(288007,",",ROW(BCTCR_06608!C78),"|",COLUMN(BCTCR_06608!C78),",0",",0") -> 288007,78|3,0,0 | D78: =CONCATENATE(287943,",",ROW(BCTCR_06608!D78),"|",COLUMN(BCTCR_06608!D78),",0",",0") -> 287943,78|4,0,0 | E78: =CONCATENATE(288243,",",ROW(BCTCR_06608!E78),"|",COLUMN(BCTCR_06608!E78),",0",",0") -> 288243,78|5,0,0
A79: =CONCATENATE(287848,",",ROW(BCTCR_06608!A79),"|",COLUMN(BCTCR_06608!A79),",0",",0") -> 287848,79|1,0,0 | B79: =CONCATENATE(287745,",",ROW(BCTCR_06608!B79),"|",COLUMN(BCTCR_06608!B79),",0",",0") -> 287745,79|2,0,0 | C79: =CONCATENATE(288008,",",ROW(BCTCR_06608!C79),"|",COLUMN(BCTCR_06608!C79),",0",",0") -> 288008,79|3,0,0 | D79: =CONCATENATE(287944,",",ROW(BCTCR_06608!D79),"|",COLUMN(BCTCR_06608!D79),",0",",0") -> 287944,79|4,0,0 | E79: =CONCATENATE(288244,",",ROW(BCTCR_06608!E79),"|",COLUMN(BCTCR_06608!E79),",0",",0") -> 288244,79|5,0,0
A80: =CONCATENATE(287787,",",ROW(BCTCR_06608!A80),"|",COLUMN(BCTCR_06608!A80),",0",",0") -> 287787,80|1,0,0 | B80: =CONCATENATE(287670,",",ROW(BCTCR_06608!B80),"|",COLUMN(BCTCR_06608!B80),",0",",0") -> 287670,80|2,0,0 | C80: =CONCATENATE(288123,",",ROW(BCTCR_06608!C80),"|",COLUMN(BCTCR_06608!C80),",0",",0") -> 288123,80|3,0,0 | D80: =CONCATENATE(288039,",",ROW(BCTCR_06608!D80),"|",COLUMN(BCTCR_06608!D80),",0",",0") -> 288039,80|4,0,0 | E80: =CONCATENATE(287855,",",ROW(BCTCR_06608!E80),"|",COLUMN(BCTCR_06608!E80),",0",",0") -> 287855,80|5,0,0
A81: =CONCATENATE(287788,",",ROW(BCTCR_06608!A81),"|",COLUMN(BCTCR_06608!A81),",0",",0") -> 287788,81|1,0,0 | B81: =CONCATENATE(287746,",",ROW(BCTCR_06608!B81),"|",COLUMN(BCTCR_06608!B81),",0",",0") -> 287746,81|2,0,0 | C81: =CONCATENATE(288124,",",ROW(BCTCR_06608!C81),"|",COLUMN(BCTCR_06608!C81),",0",",0") -> 288124,81|3,0,0 | D81: =CONCATENATE(288040,",",ROW(BCTCR_06608!D81),"|",COLUMN(BCTCR_06608!D81),",0",",0") -> 288040,81|4,0,0 | E81: =CONCATENATE(287856,",",ROW(BCTCR_06608!E81),"|",COLUMN(BCTCR_06608!E81),",0",",0") -> 287856,81|5,0,0
A82: =CONCATENATE(287789,",",ROW(BCTCR_06608!A82),"|",COLUMN(BCTCR_06608!A82),",0",",0") -> 287789,82|1,0,0 | B82: =CONCATENATE(287671,",",ROW(BCTCR_06608!B82),"|",COLUMN(BCTCR_06608!B82),",0",",0") -> 287671,82|2,0,0 | C82: =CONCATENATE(288125,",",ROW(BCTCR_06608!C82),"|",COLUMN(BCTCR_06608!C82),",0",",0") -> 288125,82|3,0,0 | D82: =CONCATENATE(288041,",",ROW(BCTCR_06608!D82),"|",COLUMN(BCTCR_06608!D82),",0",",0") -> 288041,82|4,0,0 | E82: =CONCATENATE(287857,",",ROW(BCTCR_06608!E82),"|",COLUMN(BCTCR_06608!E82),",0",",0") -> 287857,82|5,0,0
A83: =CONCATENATE(287790,",",ROW(BCTCR_06608!A83),"|",COLUMN(BCTCR_06608!A83),",0",",0") -> 287790,83|1,0,0 | B83: =CONCATENATE(287782,",",ROW(BCTCR_06608!B83),"|",COLUMN(BCTCR_06608!B83),",0",",0") -> 287782,83|2,0,0 | C83: =CONCATENATE(288009,",",ROW(BCTCR_06608!C83),"|",COLUMN(BCTCR_06608!C83),",0",",0") -> 288009,83|3,0,0 | D83: =CONCATENATE(287945,",",ROW(BCTCR_06608!D83),"|",COLUMN(BCTCR_06608!D83),",0",",0") -> 287945,83|4,0,0 | E83: =CONCATENATE(288245,",",ROW(BCTCR_06608!E83),"|",COLUMN(BCTCR_06608!E83),",0",",0") -> 288245,83|5,0,0
A84: =CONCATENATE(288163,",",ROW(BCTCR_06608!A84),"|",COLUMN(BCTCR_06608!A84),",0",",0") -> 288163,84|1,0,0 | B84: =CONCATENATE(287783,",",ROW(BCTCR_06608!B84),"|",COLUMN(BCTCR_06608!B84),",0",",0") -> 287783,84|2,0,0 | C84: =CONCATENATE(288010,",",ROW(BCTCR_06608!C84),"|",COLUMN(BCTCR_06608!C84),",0",",0") -> 288010,84|3,0,0 | D84: =CONCATENATE(287946,",",ROW(BCTCR_06608!D84),"|",COLUMN(BCTCR_06608!D84),",0",",0") -> 287946,84|4,0,0 | E84: =CONCATENATE(288246,",",ROW(BCTCR_06608!E84),"|",COLUMN(BCTCR_06608!E84),",0",",0") -> 288246,84|5,0,0
A85: =CONCATENATE(288164,",",ROW(BCTCR_06608!A85),"|",COLUMN(BCTCR_06608!A85),",0",",0") -> 288164,85|1,0,0 | B85: =CONCATENATE(287784,",",ROW(BCTCR_06608!B85),"|",COLUMN(BCTCR_06608!B85),",0",",0") -> 287784,85|2,0,0 | C85: =CONCATENATE(288011,",",ROW(BCTCR_06608!C85),"|",COLUMN(BCTCR_06608!C85),",0",",0") -> 288011,85|3,0,0 | D85: =CONCATENATE(287947,",",ROW(BCTCR_06608!D85),"|",COLUMN(BCTCR_06608!D85),",0",",0") -> 287947,85|4,0,0 | E85: =CONCATENATE(288247,",",ROW(BCTCR_06608!E85),"|",COLUMN(BCTCR_06608!E85),",0",",0") -> 288247,85|5,0,0
A86: =CONCATENATE(288165,",",ROW(BCTCR_06608!A86),"|",COLUMN(BCTCR_06608!A86),",0",",0") -> 288165,86|1,0,0 | B86: =CONCATENATE(287747,",",ROW(BCTCR_06608!B86),"|",COLUMN(BCTCR_06608!B86),",0",",0") -> 287747,86|2,0,0 | C86: =CONCATENATE(288012,",",ROW(BCTCR_06608!C86),"|",COLUMN(BCTCR_06608!C86),",0",",0") -> 288012,86|3,0,0 | D86: =CONCATENATE(287948,",",ROW(BCTCR_06608!D86),"|",COLUMN(BCTCR_06608!D86),",0",",0") -> 287948,86|4,0,0 | E86: =CONCATENATE(288248,",",ROW(BCTCR_06608!E86),"|",COLUMN(BCTCR_06608!E86),",0",",0") -> 288248,86|5,0,0
A87: =CONCATENATE(288166,",",ROW(BCTCR_06608!A87),"|",COLUMN(BCTCR_06608!A87),",0",",0") -> 288166,87|1,0,0 | B87: =CONCATENATE(287785,",",ROW(BCTCR_06608!B87),"|",COLUMN(BCTCR_06608!B87),",0",",0") -> 287785,87|2,0,0 | C87: =CONCATENATE(288013,",",ROW(BCTCR_06608!C87),"|",COLUMN(BCTCR_06608!C87),",0",",0") -> 288013,87|3,0,0 | D87: =CONCATENATE(287949,",",ROW(BCTCR_06608!D87),"|",COLUMN(BCTCR_06608!D87),",0",",0") -> 287949,87|4,0,0 | E87: =CONCATENATE(288249,",",ROW(BCTCR_06608!E87),"|",COLUMN(BCTCR_06608!E87),",0",",0") -> 288249,87|5,0,0
A88: =CONCATENATE(288167,",",ROW(BCTCR_06608!A88),"|",COLUMN(BCTCR_06608!A88),",0",",0") -> 288167,88|1,0,0 | B88: =CONCATENATE(287786,",",ROW(BCTCR_06608!B88),"|",COLUMN(BCTCR_06608!B88),",0",",0") -> 287786,88|2,0,0 | C88: =CONCATENATE(288014,",",ROW(BCTCR_06608!C88),"|",COLUMN(BCTCR_06608!C88),",0",",0") -> 288014,88|3,0,0 | D88: =CONCATENATE(287950,",",ROW(BCTCR_06608!D88),"|",COLUMN(BCTCR_06608!D88),",0",",0") -> 287950,88|4,0,0 | E88: =CONCATENATE(288250,",",ROW(BCTCR_06608!E88),"|",COLUMN(BCTCR_06608!E88),",0",",0") -> 288250,88|5,0,0
A89: =CONCATENATE(288168,",",ROW(BCTCR_06608!A89),"|",COLUMN(BCTCR_06608!A89),",0",",0") -> 288168,89|1,0,0 | B89: =CONCATENATE(287791,",",ROW(BCTCR_06608!B89),"|",COLUMN(BCTCR_06608!B89),",0",",0") -> 287791,89|2,0,0 | C89: =CONCATENATE(287684,",",ROW(BCTCR_06608!C89),"|",COLUMN(BCTCR_06608!C89),",0",",0") -> 287684,89|3,0,0 | D89: =CONCATENATE(287951,",",ROW(BCTCR_06608!D89),"|",COLUMN(BCTCR_06608!D89),",0",",0") -> 287951,89|4,0,0 | E89: =CONCATENATE(288251,",",ROW(BCTCR_06608!E89),"|",COLUMN(BCTCR_06608!E89),",0",",0") -> 288251,89|5,0,0
A90: =CONCATENATE(288169,",",ROW(BCTCR_06608!A90),"|",COLUMN(BCTCR_06608!A90),",0",",0") -> 288169,90|1,0,0 | B90: =CONCATENATE(287792,",",ROW(BCTCR_06608!B90),"|",COLUMN(BCTCR_06608!B90),",0",",0") -> 287792,90|2,0,0 | C90: =CONCATENATE(287834,",",ROW(BCTCR_06608!C90),"|",COLUMN(BCTCR_06608!C90),",0",",0") -> 287834,90|3,0,0 | D90: =CONCATENATE(287952,",",ROW(BCTCR_06608!D90),"|",COLUMN(BCTCR_06608!D90),",0",",0") -> 287952,90|4,0,0 | E90: =CONCATENATE(288253,",",ROW(BCTCR_06608!E90),"|",COLUMN(BCTCR_06608!E90),",0",",0") -> 288253,90|5,0,0
A91: =CONCATENATE(288170,",",ROW(BCTCR_06608!A91),"|",COLUMN(BCTCR_06608!A91),",0",",0") -> 288170,91|1,0,0 | B91: =CONCATENATE(287748,",",ROW(BCTCR_06608!B91),"|",COLUMN(BCTCR_06608!B91),",0",",0") -> 287748,91|2,0,0 | C91: =CONCATENATE(287835,",",ROW(BCTCR_06608!C91),"|",COLUMN(BCTCR_06608!C91),",0",",0") -> 287835,91|3,0,0 | D91: =CONCATENATE(287953,",",ROW(BCTCR_06608!D91),"|",COLUMN(BCTCR_06608!D91),",0",",0") -> 287953,91|4,0,0 | E91: =CONCATENATE(288254,",",ROW(BCTCR_06608!E91),"|",COLUMN(BCTCR_06608!E91),",0",",0") -> 288254,91|5,0,0
A92: =CONCATENATE(287933,",",ROW(BCTCR_06608!A92),"|",COLUMN(BCTCR_06608!A92),",0",",0") -> 287933,92|1,0,0 | B92: =CONCATENATE(287793,",",ROW(BCTCR_06608!B92),"|",COLUMN(BCTCR_06608!B92),",0",",0") -> 287793,92|2,0,0 | C92: =CONCATENATE(287982,",",ROW(BCTCR_06608!C92),"|",COLUMN(BCTCR_06608!C92),",0",",0") -> 287982,92|3,0,0 | D92: =CONCATENATE(287632,",",ROW(BCTCR_06608!D92),"|",COLUMN(BCTCR_06608!D92),",0",",0") -> 287632,92|4,0,0 | E92: =CONCATENATE(287827,",",ROW(BCTCR_06608!E92),"|",COLUMN(BCTCR_06608!E92),",0",",0") -> 287827,92|5,0,0
A93: =CONCATENATE(287934,",",ROW(BCTCR_06608!A93),"|",COLUMN(BCTCR_06608!A93),",0",",0") -> 287934,93|1,0,0 | B93: =CONCATENATE(288198,",",ROW(BCTCR_06608!B93),"|",COLUMN(BCTCR_06608!B93),",0",",0") -> 288198,93|2,0,0 | C93: =CONCATENATE(287983,",",ROW(BCTCR_06608!C93),"|",COLUMN(BCTCR_06608!C93),",0",",0") -> 287983,93|3,0,0 | D93: =CONCATENATE(287633,",",ROW(BCTCR_06608!D93),"|",COLUMN(BCTCR_06608!D93),",0",",0") -> 287633,93|4,0,0 | E93: =CONCATENATE(287828,",",ROW(BCTCR_06608!E93),"|",COLUMN(BCTCR_06608!E93),",0",",0") -> 287828,93|5,0,0
A94: =CONCATENATE(287688,",",ROW(BCTCR_06608!A94),"|",COLUMN(BCTCR_06608!A94),",0",",0") -> 287688,94|1,0,0 | B94: =CONCATENATE(287794,",",ROW(BCTCR_06608!B94),"|",COLUMN(BCTCR_06608!B94),",0",",0") -> 287794,94|2,0,0 | C94: =CONCATENATE(287836,",",ROW(BCTCR_06608!C94),"|",COLUMN(BCTCR_06608!C94),",0",",0") -> 287836,94|3,0,0 | D94: =CONCATENATE(287954,",",ROW(BCTCR_06608!D94),"|",COLUMN(BCTCR_06608!D94),",0",",0") -> 287954,94|4,0,0 | E94: =CONCATENATE(288255,",",ROW(BCTCR_06608!E94),"|",COLUMN(BCTCR_06608!E94),",0",",0") -> 288255,94|5,0,0
A95: =CONCATENATE(288171,",",ROW(BCTCR_06608!A95),"|",COLUMN(BCTCR_06608!A95),",0",",0") -> 288171,95|1,0,0 | B95: =CONCATENATE(288199,",",ROW(BCTCR_06608!B95),"|",COLUMN(BCTCR_06608!B95),",0",",0") -> 288199,95|2,0,0 | C95: =CONCATENATE(288098,",",ROW(BCTCR_06608!C95),"|",COLUMN(BCTCR_06608!C95),",0",",0") -> 288098,95|3,0,0 | D95: =CONCATENATE(287649,",",ROW(BCTCR_06608!D95),"|",COLUMN(BCTCR_06608!D95),",0",",0") -> 287649,95|4,0,0 | E95: =CONCATENATE(288217,",",ROW(BCTCR_06608!E95),"|",COLUMN(BCTCR_06608!E95),",0",",0") -> 288217,95|5,0,0
A96: =CONCATENATE(287935,",",ROW(BCTCR_06608!A96),"|",COLUMN(BCTCR_06608!A96),",0",",0") -> 287935,96|1,0,0 | B96: =CONCATENATE(287749,",",ROW(BCTCR_06608!B96),"|",COLUMN(BCTCR_06608!B96),",0",",0") -> 287749,96|2,0,0 | C96: =CONCATENATE(288015,",",ROW(BCTCR_06608!C96),"|",COLUMN(BCTCR_06608!C96),",0",",0") -> 288015,96|3,0,0 | D96: =CONCATENATE(287634,",",ROW(BCTCR_06608!D96),"|",COLUMN(BCTCR_06608!D96),",0",",0") -> 287634,96|4,0,0 | E96: =CONCATENATE(287829,",",ROW(BCTCR_06608!E96),"|",COLUMN(BCTCR_06608!E96),",0",",0") -> 287829,96|5,0,0
A97: =CONCATENATE(288172,",",ROW(BCTCR_06608!A97),"|",COLUMN(BCTCR_06608!A97),",0",",0") -> 288172,97|1,0,0 | B97: =CONCATENATE(288200,",",ROW(BCTCR_06608!B97),"|",COLUMN(BCTCR_06608!B97),",0",",0") -> 288200,97|2,0,0 | C97: =CONCATENATE(288099,",",ROW(BCTCR_06608!C97),"|",COLUMN(BCTCR_06608!C97),",0",",0") -> 288099,97|3,0,0 | D97: =CONCATENATE(287650,",",ROW(BCTCR_06608!D97),"|",COLUMN(BCTCR_06608!D97),",0",",0") -> 287650,97|4,0,0 | E97: =CONCATENATE(288218,",",ROW(BCTCR_06608!E97),"|",COLUMN(BCTCR_06608!E97),",0",",0") -> 288218,97|5,0,0
A98: =CONCATENATE(287715,",",ROW(BCTCR_06608!A98),"|",COLUMN(BCTCR_06608!A98),",0",",0") -> 287715,98|1,0,0 | B98: =CONCATENATE(287750,",",ROW(BCTCR_06608!B98),"|",COLUMN(BCTCR_06608!B98),",0",",0") -> 287750,98|2,0,0 | C98: =CONCATENATE(287837,",",ROW(BCTCR_06608!C98),"|",COLUMN(BCTCR_06608!C98),",0",",0") -> 287837,98|3,0,0 | D98: =CONCATENATE(287955,",",ROW(BCTCR_06608!D98),"|",COLUMN(BCTCR_06608!D98),",0",",0") -> 287955,98|4,0,0 | E98: =CONCATENATE(288256,",",ROW(BCTCR_06608!E98),"|",COLUMN(BCTCR_06608!E98),",0",",0") -> 288256,98|5,0,0
A99: =CONCATENATE(287716,",",ROW(BCTCR_06608!A99),"|",COLUMN(BCTCR_06608!A99),",0",",0") -> 287716,99|1,0,0 | B99: =CONCATENATE(287672,",",ROW(BCTCR_06608!B99),"|",COLUMN(BCTCR_06608!B99),",0",",0") -> 287672,99|2,0,0 | C99: =CONCATENATE(287838,",",ROW(BCTCR_06608!C99),"|",COLUMN(BCTCR_06608!C99),",0",",0") -> 287838,99|3,0,0 | D99: =CONCATENATE(287956,",",ROW(BCTCR_06608!D99),"|",COLUMN(BCTCR_06608!D99),",0",",0") -> 287956,99|4,0,0 | E99: =CONCATENATE(288257,",",ROW(BCTCR_06608!E99),"|",COLUMN(BCTCR_06608!E99),",0",",0") -> 288257,99|5,0,0
A100: =CONCATENATE(287689,",",ROW(BCTCR_06608!A100),"|",COLUMN(BCTCR_06608!A100),",0",",0") -> 287689,100|1,0,0 | B100: =CONCATENATE(287795,",",ROW(BCTCR_06608!B100),"|",COLUMN(BCTCR_06608!B100),",0",",0") -> 287795,100|2,0,0 | C100: =CONCATENATE(287839,",",ROW(BCTCR_06608!C100),"|",COLUMN(BCTCR_06608!C100),",0",",0") -> 287839,100|3,0,0 | D100: =CONCATENATE(287957,",",ROW(BCTCR_06608!D100),"|",COLUMN(BCTCR_06608!D100),",0",",0") -> 287957,100|4,0,0 | E100: =CONCATENATE(288258,",",ROW(BCTCR_06608!E100),"|",COLUMN(BCTCR_06608!E100),",0",",0") -> 288258,100|5,0,0
A101: =CONCATENATE(288173,",",ROW(BCTCR_06608!A101),"|",COLUMN(BCTCR_06608!A101),",0",",0") -> 288173,101|1,0,0 | B101: =CONCATENATE(287797,",",ROW(BCTCR_06608!B101),"|",COLUMN(BCTCR_06608!B101),",0",",0") -> 287797,101|2,0,0 | C101: =CONCATENATE(287713,",",ROW(BCTCR_06608!C101),"|",COLUMN(BCTCR_06608!C101),",0",",0") -> 287713,101|3,0,0 | D101: =CONCATENATE(287962,",",ROW(BCTCR_06608!D101),"|",COLUMN(BCTCR_06608!D101),",0",",0") -> 287962,101|4,0,0 | E101: =CONCATENATE(288274,",",ROW(BCTCR_06608!E101),"|",COLUMN(BCTCR_06608!E101),",0",",0") -> 288274,101|5,0,0
A102: =CONCATENATE(288174,",",ROW(BCTCR_06608!A102),"|",COLUMN(BCTCR_06608!A102),",0",",0") -> 288174,102|1,0,0 | B102: =CONCATENATE(288201,",",ROW(BCTCR_06608!B102),"|",COLUMN(BCTCR_06608!B102),",0",",0") -> 288201,102|2,0,0 | C102: =CONCATENATE(288100,",",ROW(BCTCR_06608!C102),"|",COLUMN(BCTCR_06608!C102),",0",",0") -> 288100,102|3,0,0 | D102: =CONCATENATE(288016,",",ROW(BCTCR_06608!D102),"|",COLUMN(BCTCR_06608!D102),",0",",0") -> 288016,102|4,0,0 | E102: =CONCATENATE(288219,",",ROW(BCTCR_06608!E102),"|",COLUMN(BCTCR_06608!E102),",0",",0") -> 288219,102|5,0,0
A103: =CONCATENATE(287936,",",ROW(BCTCR_06608!A103),"|",COLUMN(BCTCR_06608!A103),",0",",0") -> 287936,103|1,0,0 | B103: =CONCATENATE(287751,",",ROW(BCTCR_06608!B103),"|",COLUMN(BCTCR_06608!B103),",0",",0") -> 287751,103|2,0,0 | C103: =CONCATENATE(288084,",",ROW(BCTCR_06608!C103),"|",COLUMN(BCTCR_06608!C103),",0",",0") -> 288084,103|3,0,0 | D103: =CONCATENATE(287635,",",ROW(BCTCR_06608!D103),"|",COLUMN(BCTCR_06608!D103),",0",",0") -> 287635,103|4,0,0 | E103: =CONCATENATE(287830,",",ROW(BCTCR_06608!E103),"|",COLUMN(BCTCR_06608!E103),",0",",0") -> 287830,103|5,0,0
A104: =CONCATENATE(287717,",",ROW(BCTCR_06608!A104),"|",COLUMN(BCTCR_06608!A104),",0",",0") -> 287717,104|1,0,0 | B104: =CONCATENATE(287798,",",ROW(BCTCR_06608!B104),"|",COLUMN(BCTCR_06608!B104),",0",",0") -> 287798,104|2,0,0 | C104: =CONCATENATE(287840,",",ROW(BCTCR_06608!C104),"|",COLUMN(BCTCR_06608!C104),",0",",0") -> 287840,104|3,0,0 | D104: =CONCATENATE(287958,",",ROW(BCTCR_06608!D104),"|",COLUMN(BCTCR_06608!D104),",0",",0") -> 287958,104|4,0,0 | E104: =CONCATENATE(288259,",",ROW(BCTCR_06608!E104),"|",COLUMN(BCTCR_06608!E104),",0",",0") -> 288259,104|5,0,0
...

Sheet CCTTCR_06609
A1: CÁC CHỈ TIÊU NGOÀI BÁO CÁO TÌNH HÌNH TÀI CHÍNH RIÊNG
A2: Chỉ tiêu | B2: Mã số | C2: Thuyết minh | D2: Số cuối năm | E2: Số đầu năm
A3: A | B3: B | C3: C | D3: 1 | E3: 2
A4: A.TÀI SẢN CỦA CTCK VÀ TÀI SẢN QUẢN LÝ THEO CAM KẾT
A5: 1. Tài sản cố định thuê ngoài | B5: 1
A6: 2. Chứng chỉ có giá nhận giữ hộ | B6: 2
A7: 3. Tài sản nhận thế chấp | B7: 3
A8: 4. Nợ khó đòi đã xử lý | B8: 4 | D8: 390400000 | E8: 390400000
A9: 5. Ngoại tệ các loại | B9: 5
A10: 6. Cổ phiếu đang lưu hành | B10: 6 | D10: 72200145 | E10: 72200145
A11: 7. Cổ phiếu quỹ | B11: 7 | D11: 33792 | E11: 33792
A12: 8. Tài sản tài chính niêm yết/đăng ký giao dịch tại VSD của CTCK | B12: 8 | D12: 335799650000 | E12: 251061040000
A13: 9. Tài sản tài chính đã lưu ký tại VSD và chưa giao dịch của CTCK | B13: 9 | E13: 214580000
A14: 10. Tài sản tài chính chờ về của CTCK | B14: 10 | D14: 2372000000 | E14: 300000000
A15: 11. Tài sản tài chính sửa lỗi giao dịch của CTCK | B15: 11
A16: 12. Tài sản tài chính chưa lưu ký tại VSD của CTCK | B16: 12 | D16: 443548208700 | E16: 491849222900
A17: 13.Tài sản tài chính được hưởng quyền của CTCK | B17: 13
A18: B. TÀI SẢN VÀ CÁC KHOẢN PHẢI TRẢ VỀ TÀI SẢN QUẢN LÝ CAM KẾT VỚI KHÁCH HÀNG
A19: 1.Tài sản tài chính niêm yết/đăng ký giao dịch tại VSD của Nhà đầu tư | B19: 21 | D19: 30431498850400 | E19: 30822487644000
A20: a.Tài sản tài chính giao dịch tự do chuyển nhượng | B20: 21.1 | D20: 27066728541400 | E20: 27240925454000
A21: b.Tài sản tài chính hạn chế chuyển nhượng | B21: 21.2 | D21: 310470610000 | E21: 247273460000
A22: c.Tài sản tài chính giao dịch cầm cố | B22: 21.3 | D22: 2465631810000 | E22: 2951023610000
A23: d.Tài sản tài chính phong tỏa, tạm giữ | B23: 21.4 | D23: 488737520000 | E23: 111507010000
A24: e.Tài sản tài chính chờ thanh toán | B24: 21.5 | D24: 99930369000 | E24: 271758110000
A25: f. Tài sản tài chính chờ cho vay | B25: 21.6
A26: 2. Tài sản tài chính đã lưu ký tại VSD và chưa giao dịch của Nhà đầu tư | B26: 22 | D26: 63852230000 | E26: 155046150000
A27: a.Tài sản tài chính đã lưu ký tại VSD và chưa giao dịch, tự do chuyển nhượng | B27: 22.1 | D27: 45579630000 | E27: 36783150000
A28: b.Tài sản tài chính đã lưu ký tại VSD và chưa giao dịch, hạn chế chuyển nhượng | B28: 22.2 | D28: 18272600000 | E28: 118263000000
A29: c.Tài sản tài chính đã lưu ký tại VSD và chưa giao dịch, cầm cố | B29: 22.3
A30: d.Tài sản tài chính đã lưu ký tại VSD và chưa giao dịch, phong tỏa, tạm giữ | B30: 22.4
A31: 3. Tài sản tài chính chờ về của Nhà đầu tư | B31: 23 | D31: 262658181000 | E31: 255117898000
A32: 4. Tài sản tài chính sửa lỗi giao dịch của Nhà đầu tư | B32: 024.a
A33: 5.Tài sản tài chính chưa lưu ký tại VSD của Nhà đầu tư | B33: 024.b | D33: 461322300000 | E33: 661322300000
A34: 6.Tài sản tài chính được hưởng quyền của Nhà đầu tư | B34: 25
A35: 7. Tiền gửi của khách hàng | B35: 26 | D35: 1344995456540 | E35: 938847666218
A36: 7.1. Tiền gửi của Nhà đầu tư về giao dịch chứng khoán theo phương thức CTCK quản lý | B36: 27 | D36: 552781949486 | E36: 530836444058
A37: 7.2.Tiền gửi tổng hợp giao dịch chứng khoán cho khách hàng | B37: 28 | D37: 732124689414 | E37: 395900015767
A38: 7.3. Tiền gửi bù trừ và thanh toán giao dịch chứng khoán | B38: 29 | D38: 16711308842
A39: a. Tiền gửi bù trừ và thanh toán giao dịch chứng khoán Nhà đầu tư trong nước | B39: 29.1 | D39: 16696068370
A40: b. Tiền gửi bù trừ và thanh toán giao dịch chứng khoán Nhà đầu tư nước ngoài | B40: 29.2 | D40: 15240472
A41: 7.4. Tiền gửi của Tổ chức phát hành chứng khoán | B41: 30 | D41: 43377508798 | E41: 12111206393
A42: 8. Phải trả Nhà đầu tư về tiền gửi giao dịch chứng khoán theo phương thức CTCK quản lý | B42: 31 | D42: 1301647367012 | E42: 926765480460
A43: 8.1. Phải trả Nhà đầu tư trong nước về tiền gửi giao dịch chứng khoán theo phương thức CTCK quản lý | B43: 31.1 | D43: 1291121558644 | E43: 906421210233
A44: 8.2. Phải trả Nhà đầu tư nước ngoài về tiền gửi giao dịch chứng khoán theo phương thức CTCK quản lý | B44: 31.2 | D44: 10525808368 | E44: 20344270227
A45: 9. Phải trả Tổ chức phát hành chứng khoán | B45: 32 | D45: 33161043639 | E45: 2034576639
A46: 10. Phải thu của khách hàng về lỗi giao dịch các tài sản tài chính | B46: 33
A47: 11. Phải trả của khách hàng về lỗi giao dịch các tài sản tài chính | B47: 34
A48: 12. Phải trả cổ tức, gốc và lãi trái phiếu | B48: 35 | D48: 10187045889 | E48: 10047609119

Sheet 6045_hidden
A3: =CONCATENATE(286602,",",ROW(CCTTCR_06609!A3),"|",COLUMN(CCTTCR_06609!A3),",0",",0") -> 286602,3|1,0,0 | B3: =CONCATENATE(286572,",",ROW(CCTTCR_06609!B3),"|",COLUMN(CCTTCR_06609!B3),",0",",0") -> 286572,3|2,0,0 | C3: =CONCATENATE(286673,",",ROW(CCTTCR_06609!C3),"|",COLUMN(CCTTCR_06609!C3),",0",",0") -> 286673,3|3,0,0 | D3: =CONCATENATE(286678,",",ROW(CCTTCR_06609!D3),"|",COLUMN(CCTTCR_06609!D3),",0",",0") -> 286678,3|4,0,0 | E3: =CONCATENATE(286679,",",ROW(CCTTCR_06609!E3),"|",COLUMN(CCTTCR_06609!E3),",0",",0") -> 286679,3|5,0,0
A4: =CONCATENATE(286603,",",ROW(CCTTCR_06609!A4),"|",COLUMN(CCTTCR_06609!A4),",0",",0") -> 286603,4|1,0,0 | C4: =CONCATENATE(286751,",",ROW(CCTTCR_06609!C4),"|",COLUMN(CCTTCR_06609!C4),",0",",0") -> 286751,4|3,0,0 | D4: =CONCATENATE(286630,",",ROW(CCTTCR_06609!D4),"|",COLUMN(CCTTCR_06609!D4),",0",",0") -> 286630,4|4,0,0 | E4: =CONCATENATE(286699,",",ROW(CCTTCR_06609!E4),"|",COLUMN(CCTTCR_06609!E4),",0",",0") -> 286699,4|5,0,0
A5: =CONCATENATE(286580,",",ROW(CCTTCR_06609!A5),"|",COLUMN(CCTTCR_06609!A5),",0",",0") -> 286580,5|1,0,0 | B5: =CONCATENATE(286559,",",ROW(CCTTCR_06609!B5),"|",COLUMN(CCTTCR_06609!B5),",0",",0") -> 286559,5|2,0,0 | C5: =CONCATENATE(286737,",",ROW(CCTTCR_06609!C5),"|",COLUMN(CCTTCR_06609!C5),",0",",0") -> 286737,5|3,0,0 | D5: =CONCATENATE(286614,",",ROW(CCTTCR_06609!D5),"|",COLUMN(CCTTCR_06609!D5),",0",",0") -> 286614,5|4,0,0 | E5: =CONCATENATE(286640,",",ROW(CCTTCR_06609!E5),"|",COLUMN(CCTTCR_06609!E5),",0",",0") -> 286640,5|5,0,0
A6: =CONCATENATE(286685,",",ROW(CCTTCR_06609!A6),"|",COLUMN(CCTTCR_06609!A6),",0",",0") -> 286685,6|1,0,0 | B6: =CONCATENATE(286574,",",ROW(CCTTCR_06609!B6),"|",COLUMN(CCTTCR_06609!B6),",0",",0") -> 286574,6|2,0,0 | C6: =CONCATENATE(286542,",",ROW(CCTTCR_06609!C6),"|",COLUMN(CCTTCR_06609!C6),",0",",0") -> 286542,6|3,0,0 | D6: =CONCATENATE(286646,",",ROW(CCTTCR_06609!D6),"|",COLUMN(CCTTCR_06609!D6),",0",",0") -> 286646,6|4,0,0 | E6: =CONCATENATE(286703,",",ROW(CCTTCR_06609!E6),"|",COLUMN(CCTTCR_06609!E6),",0",",0") -> 286703,6|5,0,0
A7: =CONCATENATE(286573,",",ROW(CCTTCR_06609!A7),"|",COLUMN(CCTTCR_06609!A7),",0",",0") -> 286573,7|1,0,0 | B7: =CONCATENATE(286560,",",ROW(CCTTCR_06609!B7),"|",COLUMN(CCTTCR_06609!B7),",0",",0") -> 286560,7|2,0,0 | C7: =CONCATENATE(286738,",",ROW(CCTTCR_06609!C7),"|",COLUMN(CCTTCR_06609!C7),",0",",0") -> 286738,7|3,0,0 | D7: =CONCATENATE(286615,",",ROW(CCTTCR_06609!D7),"|",COLUMN(CCTTCR_06609!D7),",0",",0") -> 286615,7|4,0,0 | E7: =CONCATENATE(286641,",",ROW(CCTTCR_06609!E7),"|",COLUMN(CCTTCR_06609!E7),",0",",0") -> 286641,7|5,0,0
A8: =CONCATENATE(286686,",",ROW(CCTTCR_06609!A8),"|",COLUMN(CCTTCR_06609!A8),",0",",0") -> 286686,8|1,0,0 | B8: =CONCATENATE(286561,",",ROW(CCTTCR_06609!B8),"|",COLUMN(CCTTCR_06609!B8),",0",",0") -> 286561,8|2,0,0 | C8: =CONCATENATE(286739,",",ROW(CCTTCR_06609!C8),"|",COLUMN(CCTTCR_06609!C8),",0",",0") -> 286739,8|3,0,0 | D8: =CONCATENATE(286616,",",ROW(CCTTCR_06609!D8),"|",COLUMN(CCTTCR_06609!D8),",0",",0") -> 286616,8|4,0,0 | E8: =CONCATENATE(286642,",",ROW(CCTTCR_06609!E8),"|",COLUMN(CCTTCR_06609!E8),",0",",0") -> 286642,8|5,0,0
A9: =CONCATENATE(286715,",",ROW(CCTTCR_06609!A9),"|",COLUMN(CCTTCR_06609!A9),",0",",0") -> 286715,9|1,0,0 | B9: =CONCATENATE(286666,",",ROW(CCTTCR_06609!B9),"|",COLUMN(CCTTCR_06609!B9),",0",",0") -> 286666,9|2,0,0 | C9: =CONCATENATE(286530,",",ROW(CCTTCR_06609!C9),"|",COLUMN(CCTTCR_06609!C9),",0",",0") -> 286530,9|3,0,0 | D9: =CONCATENATE(286647,",",ROW(CCTTCR_06609!D9),"|",COLUMN(CCTTCR_06609!D9),",0",",0") -> 286647,9|4,0,0 | E9: =CONCATENATE(286704,",",ROW(CCTTCR_06609!E9),"|",COLUMN(CCTTCR_06609!E9),",0",",0") -> 286704,9|5,0,0
A10: =CONCATENATE(286604,",",ROW(CCTTCR_06609!A10),"|",COLUMN(CCTTCR_06609!A10),",0",",0") -> 286604,10|1,0,0 | B10: =CONCATENATE(286563,",",ROW(CCTTCR_06609!B10),"|",COLUMN(CCTTCR_06609!B10),",0",",0") -> 286563,10|2,0,0 | C10: =CONCATENATE(286752,",",ROW(CCTTCR_06609!C10),"|",COLUMN(CCTTCR_06609!C10),",0",",0") -> 286752,10|3,0,0 | D10: =CONCATENATE(286643,",",ROW(CCTTCR_06609!D10),"|",COLUMN(CCTTCR_06609!D10),",0",",0") -> 286643,10|4,0,0 | E10: =CONCATENATE(286700,",",ROW(CCTTCR_06609!E10),"|",COLUMN(CCTTCR_06609!E10),",0",",0") -> 286700,10|5,0,0
A11: =CONCATENATE(286676,",",ROW(CCTTCR_06609!A11),"|",COLUMN(CCTTCR_06609!A11),",0",",0") -> 286676,11|1,0,0 | B11: =CONCATENATE(286564,",",ROW(CCTTCR_06609!B11),"|",COLUMN(CCTTCR_06609!B11),",0",",0") -> 286564,11|2,0,0 | C11: =CONCATENATE(286531,",",ROW(CCTTCR_06609!C11),"|",COLUMN(CCTTCR_06609!C11),",0",",0") -> 286531,11|3,0,0 | D11: =CONCATENATE(286648,",",ROW(CCTTCR_06609!D11),"|",COLUMN(CCTTCR_06609!D11),",0",",0") -> 286648,11|4,0,0 | E11: =CONCATENATE(286665,",",ROW(CCTTCR_06609!E11),"|",COLUMN(CCTTCR_06609!E11),",0",",0") -> 286665,11|5,0,0
A12: =CONCATENATE(286590,",",ROW(CCTTCR_06609!A12),"|",COLUMN(CCTTCR_06609!A12),",0",",0") -> 286590,12|1,0,0 | B12: =CONCATENATE(286667,",",ROW(CCTTCR_06609!B12),"|",COLUMN(CCTTCR_06609!B12),",0",",0") -> 286667,12|2,0,0 | C12: =CONCATENATE(286532,",",ROW(CCTTCR_06609!C12),"|",COLUMN(CCTTCR_06609!C12),",0",",0") -> 286532,12|3,0,0 | D12: =CONCATENATE(286649,",",ROW(CCTTCR_06609!D12),"|",COLUMN(CCTTCR_06609!D12),",0",",0") -> 286649,12|4,0,0 | E12: =CONCATENATE(286705,",",ROW(CCTTCR_06609!E12),"|",COLUMN(CCTTCR_06609!E12),",0",",0") -> 286705,12|5,0,0
A13: =CONCATENATE(286680,",",ROW(CCTTCR_06609!A13),"|",COLUMN(CCTTCR_06609!A13),",0",",0") -> 286680,13|1,0,0 | B13: =CONCATENATE(286585,",",ROW(CCTTCR_06609!B13),"|",COLUMN(CCTTCR_06609!B13),",0",",0") -> 286585,13|2,0,0 | C13: =CONCATENATE(286533,",",ROW(CCTTCR_06609!C13),"|",COLUMN(CCTTCR_06609!C13),",0",",0") -> 286533,13|3,0,0 | D13: =CONCATENATE(286650,",",ROW(CCTTCR_06609!D13),"|",COLUMN(CCTTCR_06609!D13),",0",",0") -> 286650,13|4,0,0 | E13: =CONCATENATE(286706,",",ROW(CCTTCR_06609!E13),"|",COLUMN(CCTTCR_06609!E13),",0",",0") -> 286706,13|5,0,0
A14: =CONCATENATE(286716,",",ROW(CCTTCR_06609!A14),"|",COLUMN(CCTTCR_06609!A14),",0",",0") -> 286716,14|1,0,0 | B14: =CONCATENATE(286581,",",ROW(CCTTCR_06609!B14),"|",COLUMN(CCTTCR_06609!B14),",0",",0") -> 286581,14|2,0,0 | C14: =CONCATENATE(286740,",",ROW(CCTTCR_06609!C14),"|",COLUMN(CCTTCR_06609!C14),",0",",0") -> 286740,14|3,0,0 | D14: =CONCATENATE(286617,",",ROW(CCTTCR_06609!D14),"|",COLUMN(CCTTCR_06609!D14),",0",",0") -> 286617,14|4,0,0 | E14: =CONCATENATE(286687,",",ROW(CCTTCR_06609!E14),"|",COLUMN(CCTTCR_06609!E14),",0",",0") -> 286687,14|5,0,0
A15: =CONCATENATE(286605,",",ROW(CCTTCR_06609!A15),"|",COLUMN(CCTTCR_06609!A15),",0",",0") -> 286605,15|1,0,0 | B15: =CONCATENATE(286565,",",ROW(CCTTCR_06609!B15),"|",COLUMN(CCTTCR_06609!B15),",0",",0") -> 286565,15|2,0,0 | C15: =CONCATENATE(286753,",",ROW(CCTTCR_06609!C15),"|",COLUMN(CCTTCR_06609!C15),",0",",0") -> 286753,15|3,0,0 | D15: =CONCATENATE(286644,",",ROW(CCTTCR_06609!D15),"|",COLUMN(CCTTCR_06609!D15),",0",",0") -> 286644,15|4,0,0 | E15: =CONCATENATE(286701,",",ROW(CCTTCR_06609!E15),"|",COLUMN(CCTTCR_06609!E15),",0",",0") -> 286701,15|5,0,0
A16: =CONCATENATE(286591,",",ROW(CCTTCR_06609!A16),"|",COLUMN(CCTTCR_06609!A16),",0",",0") -> 286591,16|1,0,0 | B16: =CONCATENATE(286668,",",ROW(CCTTCR_06609!B16),"|",COLUMN(CCTTCR_06609!B16),",0",",0") -> 286668,16|2,0,0 | C16: =CONCATENATE(286534,",",ROW(CCTTCR_06609!C16),"|",COLUMN(CCTTCR_06609!C16),",0",",0") -> 286534,16|3,0,0 | D16: =CONCATENATE(286651,",",ROW(CCTTCR_06609!D16),"|",COLUMN(CCTTCR_06609!D16),",0",",0") -> 286651,16|4,0,0 | E16: =CONCATENATE(286707,",",ROW(CCTTCR_06609!E16),"|",COLUMN(CCTTCR_06609!E16),",0",",0") -> 286707,16|5,0,0
A17: =CONCATENATE(286681,",",ROW(CCTTCR_06609!A17),"|",COLUMN(CCTTCR_06609!A17),",0",",0") -> 286681,17|1,0,0 | B17: =CONCATENATE(286669,",",ROW(CCTTCR_06609!B17),"|",COLUMN(CCTTCR_06609!B17),",0",",0") -> 286669,17|2,0,0 | C17: =CONCATENATE(286535,",",ROW(CCTTCR_06609!C17),"|",COLUMN(CCTTCR_06609!C17),",0",",0") -> 286535,17|3,0,0 | D17: =CONCATENATE(286652,",",ROW(CCTTCR_06609!D17),"|",COLUMN(CCTTCR_06609!D17),",0",",0") -> 286652,17|4,0,0 | E17: =CONCATENATE(286708,",",ROW(CCTTCR_06609!E17),"|",COLUMN(CCTTCR_06609!E17),",0",",0") -> 286708,17|5,0,0
A18: =CONCATENATE(286606,",",ROW(CCTTCR_06609!A18),"|",COLUMN(CCTTCR_06609!A18),",0",",0") -> 286606,18|1,0,0 | C18: =CONCATENATE(286754,",",ROW(CCTTCR_06609!C18),"|",COLUMN(CCTTCR_06609!C18),",0",",0") -> 286754,18|3,0,0 | D18: =CONCATENATE(286645,",",ROW(CCTTCR_06609!D18),"|",COLUMN(CCTTCR_06609!D18),",0",",0") -> 286645,18|4,0,0 | E18: =CONCATENATE(286702,",",ROW(CCTTCR_06609!E18),"|",COLUMN(CCTTCR_06609!E18),",0",",0") -> 286702,18|5,0,0
A19: =CONCATENATE(286582,",",ROW(CCTTCR_06609!A19),"|",COLUMN(CCTTCR_06609!A19),",0",",0") -> 286582,19|1,0,0 | B19: =CONCATENATE(286562,",",ROW(CCTTCR_06609!B19),"|",COLUMN(CCTTCR_06609!B19),",0",",0") -> 286562,19|2,0,0 | C19: =CONCATENATE(286741,",",ROW(CCTTCR_06609!C19),"|",COLUMN(CCTTCR_06609!C19),",0",",0") -> 286741,19|3,0,0 | D19: =CONCATENATE(286618,",",ROW(CCTTCR_06609!D19),"|",COLUMN(CCTTCR_06609!D19),",0",",0") -> 286618,19|4,0,0 | E19: =CONCATENATE(286688,",",ROW(CCTTCR_06609!E19),"|",COLUMN(CCTTCR_06609!E19),",0",",0") -> 286688,19|5,0,0
A20: =CONCATENATE(286723,",",ROW(CCTTCR_06609!A20),"|",COLUMN(CCTTCR_06609!A20),",0",",0") -> 286723,20|1,0,0 | B20: =CONCATENATE(286586,",",ROW(CCTTCR_06609!B20),"|",COLUMN(CCTTCR_06609!B20),",0",",0") -> 286586,20|2,0,0 | C20: =CONCATENATE(286536,",",ROW(CCTTCR_06609!C20),"|",COLUMN(CCTTCR_06609!C20),",0",",0") -> 286536,20|3,0,0 | D20: =CONCATENATE(286653,",",ROW(CCTTCR_06609!D20),"|",COLUMN(CCTTCR_06609!D20),",0",",0") -> 286653,20|4,0,0 | E20: =CONCATENATE(286709,",",ROW(CCTTCR_06609!E20),"|",COLUMN(CCTTCR_06609!E20),",0",",0") -> 286709,20|5,0,0
A21: =CONCATENATE(286717,",",ROW(CCTTCR_06609!A21),"|",COLUMN(CCTTCR_06609!A21),",0",",0") -> 286717,21|1,0,0 | B21: =CONCATENATE(286629,",",ROW(CCTTCR_06609!B21),"|",COLUMN(CCTTCR_06609!B21),",0",",0") -> 286629,21|2,0,0 | C21: =CONCATENATE(286742,",",ROW(CCTTCR_06609!C21),"|",COLUMN(CCTTCR_06609!C21),",0",",0") -> 286742,21|3,0,0 | D21: =CONCATENATE(286619,",",ROW(CCTTCR_06609!D21),"|",COLUMN(CCTTCR_06609!D21),",0",",0") -> 286619,21|4,0,0 | E21: =CONCATENATE(286689,",",ROW(CCTTCR_06609!E21),"|",COLUMN(CCTTCR_06609!E21),",0",",0") -> 286689,21|5,0,0
A22: =CONCATENATE(286724,",",ROW(CCTTCR_06609!A22),"|",COLUMN(CCTTCR_06609!A22),",0",",0") -> 286724,22|1,0,0 | B22: =CONCATENATE(286593,",",ROW(CCTTCR_06609!B22),"|",COLUMN(CCTTCR_06609!B22),",0",",0") -> 286593,22|2,0,0 | C22: =CONCATENATE(286743,",",ROW(CCTTCR_06609!C22),"|",COLUMN(CCTTCR_06609!C22),",0",",0") -> 286743,22|3,0,0 | D22: =CONCATENATE(286620,",",ROW(CCTTCR_06609!D22),"|",COLUMN(CCTTCR_06609!D22),",0",",0") -> 286620,22|4,0,0 | E22: =CONCATENATE(286690,",",ROW(CCTTCR_06609!E22),"|",COLUMN(CCTTCR_06609!E22),",0",",0") -> 286690,22|5,0,0
A23: =CONCATENATE(286677,",",ROW(CCTTCR_06609!A23),"|",COLUMN(CCTTCR_06609!A23),",0",",0") -> 286677,23|1,0,0 | B23: =CONCATENATE(286670,",",ROW(CCTTCR_06609!B23),"|",COLUMN(CCTTCR_06609!B23),",0",",0") -> 286670,23|2,0,0 | C23: =CONCATENATE(286537,",",ROW(CCTTCR_06609!C23),"|",COLUMN(CCTTCR_06609!C23),",0",",0") -> 286537,23|3,0,0 | D23: =CONCATENATE(286654,",",ROW(CCTTCR_06609!D23),"|",COLUMN(CCTTCR_06609!D23),",0",",0") -> 286654,23|4,0,0 | E23: =CONCATENATE(286710,",",ROW(CCTTCR_06609!E23),"|",COLUMN(CCTTCR_06609!E23),",0",",0") -> 286710,23|5,0,0
A24: =CONCATENATE(286674,",",ROW(CCTTCR_06609!A24),"|",COLUMN(CCTTCR_06609!A24),",0",",0") -> 286674,24|1,0,0 | B24: =CONCATENATE(286594,",",ROW(CCTTCR_06609!B24),"|",COLUMN(CCTTCR_06609!B24),",0",",0") -> 286594,24|2,0,0 | C24: =CONCATENATE(286744,",",ROW(CCTTCR_06609!C24),"|",COLUMN(CCTTCR_06609!C24),",0",",0") -> 286744,24|3,0,0 | D24: =CONCATENATE(286621,",",ROW(CCTTCR_06609!D24),"|",COLUMN(CCTTCR_06609!D24),",0",",0") -> 286621,24|4,0,0 | E24: =CONCATENATE(286691,",",ROW(CCTTCR_06609!E24),"|",COLUMN(CCTTCR_06609!E24),",0",",0") -> 286691,24|5,0,0
A25: =CONCATENATE(286725,",",ROW(CCTTCR_06609!A25),"|",COLUMN(CCTTCR_06609!A25),",0",",0") -> 286725,25|1,0,0 | B25: =CONCATENATE(286595,",",ROW(CCTTCR_06609!B25),"|",COLUMN(CCTTCR_06609!B25),",0",",0") -> 286595,25|2,0,0 | C25: =CONCATENATE(286745,",",ROW(CCTTCR_06609!C25),"|",COLUMN(CCTTCR_06609!C25),",0",",0") -> 286745,25|3,0,0 | D25: =CONCATENATE(286622,",",ROW(CCTTCR_06609!D25),"|",COLUMN(CCTTCR_06609!D25),",0",",0") -> 286622,25|4,0,0 | E25: =CONCATENATE(286692,",",ROW(CCTTCR_06609!E25),"|",COLUMN(CCTTCR_06609!E25),",0",",0") -> 286692,25|5,0,0
A26: =CONCATENATE(286683,",",ROW(CCTTCR_06609!A26),"|",COLUMN(CCTTCR_06609!A26),",0",",0") -> 286683,26|1,0,0 | B26: =CONCATENATE(286587,",",ROW(CCTTCR_06609!B26),"|",COLUMN(CCTTCR_06609!B26),",0",",0") -> 286587,26|2,0,0 | C26: =CONCATENATE(286538,",",ROW(CCTTCR_06609!C26),"|",COLUMN(CCTTCR_06609!C26),",0",",0") -> 286538,26|3,0,0 | D26: =CONCATENATE(286655,",",ROW(CCTTCR_06609!D26),"|",COLUMN(CCTTCR_06609!D26),",0",",0") -> 286655,26|4,0,0 | E26: =CONCATENATE(286711,",",ROW(CCTTCR_06609!E26),"|",COLUMN(CCTTCR_06609!E26),",0",",0") -> 286711,26|5,0,0
A27: =CONCATENATE(286684,",",ROW(CCTTCR_06609!A27),"|",COLUMN(CCTTCR_06609!A27),",0",",0") -> 286684,27|1,0,0 | B27: =CONCATENATE(286588,",",ROW(CCTTCR_06609!B27),"|",COLUMN(CCTTCR_06609!B27),",0",",0") -> 286588,27|2,0,0 | C27: =CONCATENATE(286539,",",ROW(CCTTCR_06609!C27),"|",COLUMN(CCTTCR_06609!C27),",0",",0") -> 286539,27|3,0,0 | D27: =CONCATENATE(286656,",",ROW(CCTTCR_06609!D27),"|",COLUMN(CCTTCR_06609!D27),",0",",0") -> 286656,27|4,0,0 | E27: =CONCATENATE(286712,",",ROW(CCTTCR_06609!E27),"|",COLUMN(CCTTCR_06609!E27),",0",",0") -> 286712,27|5,0,0
A28: =CONCATENATE(286583,",",ROW(CCTTCR_06609!A28),"|",COLUMN(CCTTCR_06609!A28),",0",",0") -> 286583,28|1,0,0 | B28: =CONCATENATE(286596,",",ROW(CCTTCR_06609!B28),"|",COLUMN(CCTTCR_06609!B28),",0",",0") -> 286596,28|2,0,0 | C28: =CONCATENATE(286746,",",ROW(CCTTCR_06609!C28),"|",COLUMN(CCTTCR_06609!C28),",0",",0") -> 286746,28|3,0,0 | D28: =CONCATENATE(286623,",",ROW(CCTTCR_06609!D28),"|",COLUMN(CCTTCR_06609!D28),",0",",0") -> 286623,28|4,0,0 | E28: =CONCATENATE(286693,",",ROW(CCTTCR_06609!E28),"|",COLUMN(CCTTCR_06609!E28),",0",",0") -> 286693,28|5,0,0
A29: =CONCATENATE(286718,",",ROW(CCTTCR_06609!A29),"|",COLUMN(CCTTCR_06609!A29),",0",",0") -> 286718,29|1,0,0 | B29: =CONCATENATE(286566,",",ROW(CCTTCR_06609!B29),"|",COLUMN(CCTTCR_06609!B29),",0",",0") -> 286566,29|2,0,0 | C29: =CONCATENATE(286540,",",ROW(CCTTCR_06609!C29),"|",COLUMN(CCTTCR_06609!C29),",0",",0") -> 286540,29|3,0,0 | D29: =CONCATENATE(286657,",",ROW(CCTTCR_06609!D29),"|",COLUMN(CCTTCR_06609!D29),",0",",0") -> 286657,29|4,0,0 | E29: =CONCATENATE(286713,",",ROW(CCTTCR_06609!E29),"|",COLUMN(CCTTCR_06609!E29),",0",",0") -> 286713,29|5,0,0
A30: =CONCATENATE(286719,",",ROW(CCTTCR_06609!A30),"|",COLUMN(CCTTCR_06609!A30),",0",",0") -> 286719,30|1,0,0 | B30: =CONCATENATE(286567,",",ROW(CCTTCR_06609!B30),"|",COLUMN(CCTTCR_06609!B30),",0",",0") -> 286567,30|2,0,0 | C30: =CONCATENATE(286541,",",ROW(CCTTCR_06609!C30),"|",COLUMN(CCTTCR_06609!C30),",0",",0") -> 286541,30|3,0,0 | D30: =CONCATENATE(286658,",",ROW(CCTTCR_06609!D30),"|",COLUMN(CCTTCR_06609!D30),",0",",0") -> 286658,30|4,0,0 | E30: =CONCATENATE(286714,",",ROW(CCTTCR_06609!E30),"|",COLUMN(CCTTCR_06609!E30),",0",",0") -> 286714,30|5,0,0
A31: =CONCATENATE(286720,",",ROW(CCTTCR_06609!A31),"|",COLUMN(CCTTCR_06609!A31),",0",",0") -> 286720,31|1,0,0 | B31: =CONCATENATE(286597,",",ROW(CCTTCR_06609!B31),"|",COLUMN(CCTTCR_06609!B31),",0",",0") -> 286597,31|2,0,0 | C31: =CONCATENATE(286747,",",ROW(CCTTCR_06609!C31),"|",COLUMN(CCTTCR_06609!C31),",0",",0") -> 286747,31|3,0,0 | D31: =CONCATENATE(286624,",",ROW(CCTTCR_06609!D31),"|",COLUMN(CCTTCR_06609!D31),",0",",0") -> 286624,31|4,0,0 | E31: =CONCATENATE(286694,",",ROW(CCTTCR_06609!E31),"|",COLUMN(CCTTCR_06609!E31),",0",",0") -> 286694,31|5,0,0
A32: =CONCATENATE(286721,",",ROW(CCTTCR_06609!A32),"|",COLUMN(CCTTCR_06609!A32),",0",",0") -> 286721,32|1,0,0 | B32: =CONCATENATE(286589,",",ROW(CCTTCR_06609!B32),"|",COLUMN(CCTTCR_06609!B32),",0",",0") -> 286589,32|2,0,0 | C32: =CONCATENATE(286543,",",ROW(CCTTCR_06609!C32),"|",COLUMN(CCTTCR_06609!C32),",0",",0") -> 286543,32|3,0,0 | D32: =CONCATENATE(286659,",",ROW(CCTTCR_06609!D32),"|",COLUMN(CCTTCR_06609!D32),",0",",0") -> 286659,32|4,0,0 | E32: =CONCATENATE(286546,",",ROW(CCTTCR_06609!E32),"|",COLUMN(CCTTCR_06609!E32),",0",",0") -> 286546,32|5,0,0
A33: =CONCATENATE(286722,",",ROW(CCTTCR_06609!A33),"|",COLUMN(CCTTCR_06609!A33),",0",",0") -> 286722,33|1,0,0 | B33: =CONCATENATE(286598,",",ROW(CCTTCR_06609!B33),"|",COLUMN(CCTTCR_06609!B33),",0",",0") -> 286598,33|2,0,0 | C33: =CONCATENATE(286631,",",ROW(CCTTCR_06609!C33),"|",COLUMN(CCTTCR_06609!C33),",0",",0") -> 286631,33|3,0,0 | D33: =CONCATENATE(286625,",",ROW(CCTTCR_06609!D33),"|",COLUMN(CCTTCR_06609!D33),",0",",0") -> 286625,33|4,0,0 | E33: =CONCATENATE(286695,",",ROW(CCTTCR_06609!E33),"|",COLUMN(CCTTCR_06609!E33),",0",",0") -> 286695,33|5,0,0
A34: =CONCATENATE(286750,",",ROW(CCTTCR_06609!A34),"|",COLUMN(CCTTCR_06609!A34),",0",",0") -> 286750,34|1,0,0 | B34: =CONCATENATE(286575,",",ROW(CCTTCR_06609!B34),"|",COLUMN(CCTTCR_06609!B34),",0",",0") -> 286575,34|2,0,0 | C34: =CONCATENATE(286544,",",ROW(CCTTCR_06609!C34),"|",COLUMN(CCTTCR_06609!C34),",0",",0") -> 286544,34|3,0,0 | D34: =CONCATENATE(286660,",",ROW(CCTTCR_06609!D34),"|",COLUMN(CCTTCR_06609!D34),",0",",0") -> 286660,34|4,0,0 | E34: =CONCATENATE(286547,",",ROW(CCTTCR_06609!E34),"|",COLUMN(CCTTCR_06609!E34),",0",",0") -> 286547,34|5,0,0
A35: =CONCATENATE(286726,",",ROW(CCTTCR_06609!A35),"|",COLUMN(CCTTCR_06609!A35),",0",",0") -> 286726,35|1,0,0 | B35: =CONCATENATE(286599,",",ROW(CCTTCR_06609!B35),"|",COLUMN(CCTTCR_06609!B35),",0",",0") -> 286599,35|2,0,0 | C35: =CONCATENATE(286632,",",ROW(CCTTCR_06609!C35),"|",COLUMN(CCTTCR_06609!C35),",0",",0") -> 286632,35|3,0,0 | D35: =CONCATENATE(286626,",",ROW(CCTTCR_06609!D35),"|",COLUMN(CCTTCR_06609!D35),",0",",0") -> 286626,35|4,0,0 | E35: =CONCATENATE(286696,",",ROW(CCTTCR_06609!E35),"|",COLUMN(CCTTCR_06609!E35),",0",",0") -> 286696,35|5,0,0
A36: =CONCATENATE(286727,",",ROW(CCTTCR_06609!A36),"|",COLUMN(CCTTCR_06609!A36),",0",",0") -> 286727,36|1,0,0 | B36: =CONCATENATE(286576,",",ROW(CCTTCR_06609!B36),"|",COLUMN(CCTTCR_06609!B36),",0",",0") -> 286576,36|2,0,0 | C36: =CONCATENATE(286545,",",ROW(CCTTCR_06609!C36),"|",COLUMN(CCTTCR_06609!C36),",0",",0") -> 286545,36|3,0,0 | D36: =CONCATENATE(286682,",",ROW(CCTTCR_06609!D36),"|",COLUMN(CCTTCR_06609!D36),",0",",0") -> 286682,36|4,0,0 | E36: =CONCATENATE(286548,",",ROW(CCTTCR_06609!E36),"|",COLUMN(CCTTCR_06609!E36),",0",",0") -> 286548,36|5,0,0
A37: =CONCATENATE(286728,",",ROW(CCTTCR_06609!A37),"|",COLUMN(CCTTCR_06609!A37),",0",",0") -> 286728,37|1,0,0 | B37: =CONCATENATE(286577,",",ROW(CCTTCR_06609!B37),"|",COLUMN(CCTTCR_06609!B37),",0",",0") -> 286577,37|2,0,0 | C37: =CONCATENATE(286755,",",ROW(CCTTCR_06609!C37),"|",COLUMN(CCTTCR_06609!C37),",0",",0") -> 286755,37|3,0,0 | D37: =CONCATENATE(286661,",",ROW(CCTTCR_06609!D37),"|",COLUMN(CCTTCR_06609!D37),",0",",0") -> 286661,37|4,0,0 | E37: =CONCATENATE(286549,",",ROW(CCTTCR_06609!E37),"|",COLUMN(CCTTCR_06609!E37),",0",",0") -> 286549,37|5,0,0
A38: =CONCATENATE(286552,",",ROW(CCTTCR_06609!A38),"|",COLUMN(CCTTCR_06609!A38),",0",",0") -> 286552,38|1,0,0 | B38: =CONCATENATE(286592,",",ROW(CCTTCR_06609!B38),"|",COLUMN(CCTTCR_06609!B38),",0",",0") -> 286592,38|2,0,0 | C38: =CONCATENATE(286730,",",ROW(CCTTCR_06609!C38),"|",COLUMN(CCTTCR_06609!C38),",0",",0") -> 286730,38|3,0,0 | D38: =CONCATENATE(286607,",",ROW(CCTTCR_06609!D38),"|",COLUMN(CCTTCR_06609!D38),",0",",0") -> 286607,38|4,0,0 | E38: =CONCATENATE(286633,",",ROW(CCTTCR_06609!E38),"|",COLUMN(CCTTCR_06609!E38),",0",",0") -> 286633,38|5,0,0
A39: =CONCATENATE(286664,",",ROW(CCTTCR_06609!A39),"|",COLUMN(CCTTCR_06609!A39),",0",",0") -> 286664,39|1,0,0 | B39: =CONCATENATE(286675,",",ROW(CCTTCR_06609!B39),"|",COLUMN(CCTTCR_06609!B39),",0",",0") -> 286675,39|2,0,0 | C39: =CONCATENATE(286756,",",ROW(CCTTCR_06609!C39),"|",COLUMN(CCTTCR_06609!C39),",0",",0") -> 286756,39|3,0,0 | D39: =CONCATENATE(286662,",",ROW(CCTTCR_06609!D39),"|",COLUMN(CCTTCR_06609!D39),",0",",0") -> 286662,39|4,0,0 | E39: =CONCATENATE(286550,",",ROW(CCTTCR_06609!E39),"|",COLUMN(CCTTCR_06609!E39),",0",",0") -> 286550,39|5,0,0
A40: =CONCATENATE(286553,",",ROW(CCTTCR_06609!A40),"|",COLUMN(CCTTCR_06609!A40),",0",",0") -> 286553,40|1,0,0 | B40: =CONCATENATE(286568,",",ROW(CCTTCR_06609!B40),"|",COLUMN(CCTTCR_06609!B40),",0",",0") -> 286568,40|2,0,0 | C40: =CONCATENATE(286731,",",ROW(CCTTCR_06609!C40),"|",COLUMN(CCTTCR_06609!C40),",0",",0") -> 286731,40|3,0,0 | D40: =CONCATENATE(286608,",",ROW(CCTTCR_06609!D40),"|",COLUMN(CCTTCR_06609!D40),",0",",0") -> 286608,40|4,0,0 | E40: =CONCATENATE(286634,",",ROW(CCTTCR_06609!E40),"|",COLUMN(CCTTCR_06609!E40),",0",",0") -> 286634,40|5,0,0
A41: =CONCATENATE(286554,",",ROW(CCTTCR_06609!A41),"|",COLUMN(CCTTCR_06609!A41),",0",",0") -> 286554,41|1,0,0 | B41: =CONCATENATE(286570,",",ROW(CCTTCR_06609!B41),"|",COLUMN(CCTTCR_06609!B41),",0",",0") -> 286570,41|2,0,0 | C41: =CONCATENATE(286732,",",ROW(CCTTCR_06609!C41),"|",COLUMN(CCTTCR_06609!C41),",0",",0") -> 286732,41|3,0,0 | D41: =CONCATENATE(286609,",",ROW(CCTTCR_06609!D41),"|",COLUMN(CCTTCR_06609!D41),",0",",0") -> 286609,41|4,0,0 | E41: =CONCATENATE(286635,",",ROW(CCTTCR_06609!E41),"|",COLUMN(CCTTCR_06609!E41),",0",",0") -> 286635,41|5,0,0
A42: =CONCATENATE(286584,",",ROW(CCTTCR_06609!A42),"|",COLUMN(CCTTCR_06609!A42),",0",",0") -> 286584,42|1,0,0 | B42: =CONCATENATE(286600,",",ROW(CCTTCR_06609!B42),"|",COLUMN(CCTTCR_06609!B42),",0",",0") -> 286600,42|2,0,0 | C42: =CONCATENATE(286748,",",ROW(CCTTCR_06609!C42),"|",COLUMN(CCTTCR_06609!C42),",0",",0") -> 286748,42|3,0,0 | D42: =CONCATENATE(286627,",",ROW(CCTTCR_06609!D42),"|",COLUMN(CCTTCR_06609!D42),",0",",0") -> 286627,42|4,0,0 | E42: =CONCATENATE(286697,",",ROW(CCTTCR_06609!E42),"|",COLUMN(CCTTCR_06609!E42),",0",",0") -> 286697,42|5,0,0
A43: =CONCATENATE(286555,",",ROW(CCTTCR_06609!A43),"|",COLUMN(CCTTCR_06609!A43),",0",",0") -> 286555,43|1,0,0 | B43: =CONCATENATE(286571,",",ROW(CCTTCR_06609!B43),"|",COLUMN(CCTTCR_06609!B43),",0",",0") -> 286571,43|2,0,0 | C43: =CONCATENATE(286733,",",ROW(CCTTCR_06609!C43),"|",COLUMN(CCTTCR_06609!C43),",0",",0") -> 286733,43|3,0,0 | D43: =CONCATENATE(286610,",",ROW(CCTTCR_06609!D43),"|",COLUMN(CCTTCR_06609!D43),",0",",0") -> 286610,43|4,0,0 | E43: =CONCATENATE(286636,",",ROW(CCTTCR_06609!E43),"|",COLUMN(CCTTCR_06609!E43),",0",",0") -> 286636,43|5,0,0
A44: =CONCATENATE(286556,",",ROW(CCTTCR_06609!A44),"|",COLUMN(CCTTCR_06609!A44),",0",",0") -> 286556,44|1,0,0 | B44: =CONCATENATE(286578,",",ROW(CCTTCR_06609!B44),"|",COLUMN(CCTTCR_06609!B44),",0",",0") -> 286578,44|2,0,0 | C44: =CONCATENATE(286734,",",ROW(CCTTCR_06609!C44),"|",COLUMN(CCTTCR_06609!C44),",0",",0") -> 286734,44|3,0,0 | D44: =CONCATENATE(286611,",",ROW(CCTTCR_06609!D44),"|",COLUMN(CCTTCR_06609!D44),",0",",0") -> 286611,44|4,0,0 | E44: =CONCATENATE(286637,",",ROW(CCTTCR_06609!E44),"|",COLUMN(CCTTCR_06609!E44),",0",",0") -> 286637,44|5,0,0
A45: =CONCATENATE(286729,",",ROW(CCTTCR_06609!A45),"|",COLUMN(CCTTCR_06609!A45),",0",",0") -> 286729,45|1,0,0 | B45: =CONCATENATE(286579,",",ROW(CCTTCR_06609!B45),"|",COLUMN(CCTTCR_06609!B45),",0",",0") -> 286579,45|2,0,0 | C45: =CONCATENATE(286757,",",ROW(CCTTCR_06609!C45),"|",COLUMN(CCTTCR_06609!C45),",0",",0") -> 286757,45|3,0,0 | D45: =CONCATENATE(286663,",",ROW(CCTTCR_06609!D45),"|",COLUMN(CCTTCR_06609!D45),",0",",0") -> 286663,45|4,0,0 | E45: =CONCATENATE(286551,",",ROW(CCTTCR_06609!E45),"|",COLUMN(CCTTCR_06609!E45),",0",",0") -> 286551,45|5,0,0
A46: =CONCATENATE(286557,",",ROW(CCTTCR_06609!A46),"|",COLUMN(CCTTCR_06609!A46),",0",",0") -> 286557,46|1,0,0 | B46: =CONCATENATE(286671,",",ROW(CCTTCR_06609!B46),"|",COLUMN(CCTTCR_06609!B46),",0",",0") -> 286671,46|2,0,0 | C46: =CONCATENATE(286735,",",ROW(CCTTCR_06609!C46),"|",COLUMN(CCTTCR_06609!C46),",0",",0") -> 286735,46|3,0,0 | D46: =CONCATENATE(286612,",",ROW(CCTTCR_06609!D46),"|",COLUMN(CCTTCR_06609!D46),",0",",0") -> 286612,46|4,0,0 | E46: =CONCATENATE(286638,",",ROW(CCTTCR_06609!E46),"|",COLUMN(CCTTCR_06609!E46),",0",",0") -> 286638,46|5,0,0
A47: =CONCATENATE(286569,",",ROW(CCTTCR_06609!A47),"|",COLUMN(CCTTCR_06609!A47),",0",",0") -> 286569,47|1,0,0 | B47: =CONCATENATE(286601,",",ROW(CCTTCR_06609!B47),"|",COLUMN(CCTTCR_06609!B47),",0",",0") -> 286601,47|2,0,0 | C47: =CONCATENATE(286749,",",ROW(CCTTCR_06609!C47),"|",COLUMN(CCTTCR_06609!C47),",0",",0") -> 286749,47|3,0,0 | D47: =CONCATENATE(286628,",",ROW(CCTTCR_06609!D47),"|",COLUMN(CCTTCR_06609!D47),",0",",0") -> 286628,47|4,0,0 | E47: =CONCATENATE(286698,",",ROW(CCTTCR_06609!E47),"|",COLUMN(CCTTCR_06609!E47),",0",",0") -> 286698,47|5,0,0
A48: =CONCATENATE(286558,",",ROW(CCTTCR_06609!A48),"|",COLUMN(CCTTCR_06609!A48),",0",",0") -> 286558,48|1,0,0 | B48: =CONCATENATE(286672,",",ROW(CCTTCR_06609!B48),"|",COLUMN(CCTTCR_06609!B48),",0",",0") -> 286672,48|2,0,0 | C48: =CONCATENATE(286736,",",ROW(CCTTCR_06609!C48),"|",COLUMN(CCTTCR_06609!C48),",0",",0") -> 286736,48|3,0,0 | D48: =CONCATENATE(286613,",",ROW(CCTTCR_06609!D48),"|",COLUMN(CCTTCR_06609!D48),",0",",0") -> 286613,48|4,0,0 | E48: =CONCATENATE(286639,",",ROW(CCTTCR_06609!E48),"|",COLUMN(CCTTCR_06609!E48),",0",",0") -> 286639,48|5,0,0

Sheet BCKQHDR_06610
A1: BÁO CÁO KẾT QUẢ HOẠT ĐỘNG RIÊNG
A2: Năm 2025
A3: Đơn vị tính: Đồng Việt Nam
A4: CHỈ TIÊU | B4: Mã số | C4: Thuyết minh | D4: Năm nay | E4: Năm trước
A5: A | B5: B | C5: C | D5: 1 | E5: 2
A6: I. DOANH THU HOẠT ĐỘNG
A7: 1.1. Lãi từ các tài sản tài chính ghi nhận thông qua lãi/lỗ (FVTPL) | B7: 1 | D7: 197915130547 | E7: 185911798747
A8: a. Lãi bán các tài sản tài chính FVTPL | B8: 1.1 | D8: 80963519756 | E8: 52622524659
A9: b. Chênh lệch tăng về đánh giá lại các TSTC FVTPL | B9: 1.2 | D9: 72369190137 | E9: 44113830678
A10: c. Cổ tức, tiền lãi phát sinh từ tài sản tài chính FVTPL | B10: 1.3 | D10: 44582420654 | E10: 89175443410
A11: 1.2. Lãi từ các khoản đầu tư nắm giữ đến ngày đáo hạn (HTM) | B11: 2 | D11: 74366854927 | E11: 52740536523
A12: 1.3. Lãi từ các khoản cho vay và phải thu | B12: 3 | D12: 433054020409 | E12: 410734387121
A13: 1.4. Lãi từ tài sản tài chính sẵn sàng để bán (AFS) | B13: 4 | D13: 6282879000 | E13: 8838018000
A14: 1.5. Lãi từ các công cụ phái sinh phòng ngừa rủi ro | B14: 5
A15: 1.6. Doanh thu nghiệp vụ môi giới chứng khoán | B15: 6 | D15: 374328183924 | E15: 318591880347
A16: 1.7. Doanh thu nghiệp vụ bảo lãnh, đại lý phát hành chứng khoán | B16: 7 | D16: 42324436
A17: 1.8. Doanh thu nghiệp vụ tư vấn đầu tư chứng khoán | B17: 8
A18: 1.9. Doanh thu nghiệp vụ lưu ký chứng khoán | B18: 9 | D18: 8318815614 | E18: 6856900965
A19: 1.10. Doanh thu hoạt động tư vấn tài chính | B19: 10 | D19: 4593454546 | E19: 3473613635
A20: 1.11. Thu nhập hoạt động khác | B20: 11 | D20: 2338368804 | E20: 3408700771
A21: Cộng doanh thu hoạt động (20 = 01 đến 11) | B21: 20 | D21: =+D20+D19+D17+D18+D16+D15+D14+D13+D12+D11+D7 -> 1101240032207 | E21: =+E20+E19+E17+E18+E16+E15+E14+E13+E12+E11+E7 -> 990555836109
A22: II. CHI PHÍ HOẠT ĐỘNG
A23: 2.1. Lỗ các tài sản tài chính ghi nhận thông qua lãi/lỗ (FVTPL) | B23: 21 | D23: 90490511706 | E23: =+E24+E25+E26 -> 136546969499
A24: a. Lỗ bán các tài sản tài chính FVTPL | B24: 21.1 | D24: 42685568046 | E24: 85929246886
A25: b. Chênh lệch giảm đánh giá lại các TSTC FVTPL | B25: 21.2 | D25: 47804943660 | E25: 50617722613
A26: c. Chi phí giao dịch mua các tài sản tài chính FVTPL | B26: 21.3
A27: 2.2. Lỗ các khoản đầu tư nắm giữ đến ngày đáo hạn (HTM) | B27: 22
A28: 2.3. Lỗ và ghi nhận chênh lệch đánh giá theo giá trị hợp lý tài sản tài chính sẵn sàng để bán (AFS) khi phân loại lại | B28: 23
A29: 2.4. Chi phí dự phòng tài sản tài chính, xử lý tổn thất các khoản phải thu khó đòi và lỗ suy giảm tài sản tài chính và chi phí đi vay của các khoản cho vay | B29: 24 | D29: -28458293859 | E29: 30633501365
A30: 2.5. Lỗ từ các tài sản tài chính phái sinh phòng ngừa rủi ro | B30: 25
A31: 2.6. Chi phí hoạt động tự doanh | B31: 26 | D31: 4307629448 | E31: 3470305948
A32: 2.7. Chi phí nghiệp vụ môi giới chứng khoán | B32: 27 | D32: 367576283423 | E32: 263491214050
A33: 2.8. Chi phí nghiệp vụ bảo lãnh, đại lý phát hành chứng khoán | B33: 28
A34: 2.9. Chi phí nghiệp vụ tư vấn đầu tư chứng khoán | B34: 29
A35: 2.10. Chi phí nghiệp vụ lưu ký chứng khoán | B35: 30 | D35: 22789393331 | E35: 19572919080
A36: 2.11. Chi phí hoạt động tư vấn tài chính | B36: 31 | D36: 9203916794 | E36: 9079808738
A37: 2.12. Chi phí các dịch vụ khác | B37: 32 | D37: 18316558700 | E37: 15056454457
A38: Cộng chi phí hoạt động (40 = 21 đến 32) | B38: 40 | D38: =+D37+D36+D35+D34+D33+D32+D31+D30+D29+D28+D27+D23 -> 484225999543 | E38: =+E37+E36+E35+E34+E33+E32+E31+E30+E29+E28+E27+E23 -> 477851173137
A39: III. DOANH THU HOẠT ĐỘNG TÀI CHÍNH
A40: 3.1. Chênh lệch lãi tỷ giá hối đoái đã và chưa thực hiện | B40: 41 | D40: 3080848 | E40: 3686342
A41: 3.2. Doanh thu, dự thu cổ tức, lãi tiền gửi ngân hàng không cố định | B41: 42 | D41: 1915647540 | E41: 2207894912
A42: 3.3. Lãi bán, thanh lý các khoản đầu tư vào công ty con, liên kết, liên doanh | B42: 43
A43: 3.4. Doanh thu khác về đầu tư | B43: 44 | D43: 1489259835
A44: Cộng doanh thu hoạt động tài chính (50 = 41 đến 44) | B44: 50 | D44: =+D40+D41+D42+D43 -> 3407988223 | E44: =+E40+E41+E42+E43 -> 2211581254
A45: IV. CHI PHÍ TÀI CHÍNH
A46: 4.1. Chênh lệch lỗ tỷ giá hối đoái đã và chưa thực hiện | B46: 51 | D46: 544878
A47: 4.2. Chi phí lãi vay | B47: 52 | D47: 169714061265 | E47: 134926880166
A48: 4.3. Lỗ bán, thanh lý các khoản đầu tư vào công ty con, liên kết, liên doanh | B48: 60
A49: 4.4. Chi phí dự phòng suy giảm giá trị các khoản đầu tư tài chính dài hạn | B49: 54
A50: 4.5. Chi phí tài chính khác | B50: 55
A51: Cộng chi phí tài chính (60 = 51 đến 55) | B51: 60 | D51: =+D46+D47+D48+D49+D50 -> 169714606143 | E51: =+E46+E47+E48+E49+E50 -> 134926880166
A52: V. CHI PHÍ BÁN HÀNG | B52: 61
A53: VI. CHI PHÍ QUẢN LÝ CÔNG TY CHỨNG KHOÁN | B53: 62 | D53: 184926668530 | E53: 138944723607
A54: VII. KẾT QUẢ HOẠT ĐỘNG (70= 20+50-40 -60-61-62) | B54: 70 | D54: =+D21-D38+D44-D51-D53 -> 265780746214 | E54: =+E21-E38+E44-E51-E53 -> 241044640453
A55: VIII. THU NHẬP KHÁC VÀ CHI PHÍ KHÁC
A56: 8.1. Thu nhập khác | B56: 71 | D56: 16057965 | E56: 638965997
A57: 8.2. Chi phí khác | B57: 72 | D57: 736630984 | E57: 754016714
A58: Cộng kết quả hoạt động khác (80= 71-72) | B58: 80 | D58: =+D56-D57 -> -720573019 | E58: =+E56-E57 -> -115050717
A59: IX. TỔNG LỢI NHUẬN KẾ TOÁN TRƯỚC THUẾ (90=70 + 80) | B59: 90 | D59: =+D58+D54 -> 265060173195 | E59: =+E58+E54 -> 240929589736
A60: 9.1. Lợi nhuận đã thực hiện | B60: 91 | D60: 240495926718 | E60: 247433481671
A61: 9.2. Lợi nhuận chưa thực hiện | B61: 92 | D61: 24564246477 | E61: -6503891935
A62: X. CHI PHÍ THUẾ TNDN | B62: 100 | D62: =+D63+D64 -> 40542790200 | E62: =+E63+E64 -> 40975728123
A63: 10.1.Chi phí thuế TNDN hiện hành | B63: 100.1 | D63: 36089900213 | E63: 41008602392
A64: 10.2.Chi phí thuế TNDN hoãn lại | B64: 100.2 | D64: 4452889987 | E64: -32874269
A65: XI. LỢI NHUẬN KẾ TOÁN SAU THUẾ TNDN (200 = 90 - 100) | B65: 200 | D65: =+D59-D62 -> 224517382995 | E65: =+E59-E62 -> 199953861613
A66: XII. THU NHẬP (LỖ) TOÀN DIỆN KHÁC SAU THUẾ TNDN | B66: 300 | D66: =+D67 -> 27044285304 | E66: =+E67 -> 21045986880
A67: 12.1.Lãi/(Lỗ) từ đánh giá lại các tài sản tài chính sẵn sàng để bán | B67: 301 | D67: 27044285304 | E67: 21045986880
A68: 12.2. Lãi/(lỗ) chênh lệch tỷ giá của hoạt động tại nước ngoài | B68: 302
A69: 12.3. Lãi, lỗ đánh giá lại tài sản cố định theo mô hình giá trị hợp lý | B69: 303
A70: 12.4. Lãi, lỗ toàn diện khác | B70: 304
A71: Tổng thu nhập toàn diện | B71: 400 | D71: =+D67 -> 27044285304 | E71: =+E67 -> 21045986880
A72: XIII. THU NHẬP THUẦN TRÊN CỔ PHIẾU PHỔ THÔNG | B72: 500
A73: 13.1.Lãi cơ bản trên cổ phiếu (Đồng/1 cổ phiếu) | B73: 501 | D73: 2661 | E73: 2688
A74: 13.2.Thu nhập pha loãng trên cổ phiếu (Đồng/1 cổ phiếu) | B74: 502

Sheet 6041_hidden
A5: =CONCATENATE(285946,",",ROW(BCKQHDR_06610!A5),"|",COLUMN(BCKQHDR_06610!A5),",0",",0") -> 285946,5|1,0,0 | B5: =CONCATENATE(286136,",",ROW(BCKQHDR_06610!B5),"|",COLUMN(BCKQHDR_06610!B5),",0",",0") -> 286136,5|2,0,0 | C5: =CONCATENATE(285924,",",ROW(BCKQHDR_06610!C5),"|",COLUMN(BCKQHDR_06610!C5),",0",",0") -> 285924,5|3,0,0 | D5: =CONCATENATE(286137,",",ROW(BCKQHDR_06610!D5),"|",COLUMN(BCKQHDR_06610!D5),",0",",0") -> 286137,5|4,0,0 | E5: =CONCATENATE(285925,",",ROW(BCKQHDR_06610!E5),"|",COLUMN(BCKQHDR_06610!E5),",0",",0") -> 285925,5|5,0,0
A6: =CONCATENATE(286036,",",ROW(BCKQHDR_06610!A6),"|",COLUMN(BCKQHDR_06610!A6),",0",",0") -> 286036,6|1,0,0 | B6: =CONCATENATE(285930,",",ROW(BCKQHDR_06610!B6),"|",COLUMN(BCKQHDR_06610!B6),",0",",0") -> 285930,6|2,0,0 | C6: =CONCATENATE(286051,",",ROW(BCKQHDR_06610!C6),"|",COLUMN(BCKQHDR_06610!C6),",0",",0") -> 286051,6|3,0,0 | D6: =CONCATENATE(285981,",",ROW(BCKQHDR_06610!D6),"|",COLUMN(BCKQHDR_06610!D6),",0",",0") -> 285981,6|4,0,0 | E6: =CONCATENATE(285857,",",ROW(BCKQHDR_06610!E6),"|",COLUMN(BCKQHDR_06610!E6),",0",",0") -> 285857,6|5,0,0
A7: =CONCATENATE(285926,",",ROW(BCKQHDR_06610!A7),"|",COLUMN(BCKQHDR_06610!A7),",0",",0") -> 285926,7|1,0,0 | B7: =CONCATENATE(286163,",",ROW(BCKQHDR_06610!B7),"|",COLUMN(BCKQHDR_06610!B7),",0",",0") -> 286163,7|2,0,0 | C7: =CONCATENATE(286009,",",ROW(BCKQHDR_06610!C7),"|",COLUMN(BCKQHDR_06610!C7),",0",",0") -> 286009,7|3,0,0 | D7: =CONCATENATE(285885,",",ROW(BCKQHDR_06610!D7),"|",COLUMN(BCKQHDR_06610!D7),",0",",0") -> 285885,7|4,0,0 | E7: =CONCATENATE(286091,",",ROW(BCKQHDR_06610!E7),"|",COLUMN(BCKQHDR_06610!E7),",0",",0") -> 286091,7|5,0,0
A8: =CONCATENATE(286155,",",ROW(BCKQHDR_06610!A8),"|",COLUMN(BCKQHDR_06610!A8),",0",",0") -> 286155,8|1,0,0 | B8: =CONCATENATE(285818,",",ROW(BCKQHDR_06610!B8),"|",COLUMN(BCKQHDR_06610!B8),",0",",0") -> 285818,8|2,0,0 | C8: =CONCATENATE(286075,",",ROW(BCKQHDR_06610!C8),"|",COLUMN(BCKQHDR_06610!C8),",0",",0") -> 286075,8|3,0,0 | D8: =CONCATENATE(285886,",",ROW(BCKQHDR_06610!D8),"|",COLUMN(BCKQHDR_06610!D8),",0",",0") -> 285886,8|4,0,0 | E8: =CONCATENATE(286092,",",ROW(BCKQHDR_06610!E8),"|",COLUMN(BCKQHDR_06610!E8),",0",",0") -> 286092,8|5,0,0
A9: =CONCATENATE(286037,",",ROW(BCKQHDR_06610!A9),"|",COLUMN(BCKQHDR_06610!A9),",0",",0") -> 286037,9|1,0,0 | B9: =CONCATENATE(285843,",",ROW(BCKQHDR_06610!B9),"|",COLUMN(BCKQHDR_06610!B9),",0",",0") -> 285843,9|2,0,0 | C9: =CONCATENATE(286076,",",ROW(BCKQHDR_06610!C9),"|",COLUMN(BCKQHDR_06610!C9),",0",",0") -> 286076,9|3,0,0 | D9: =CONCATENATE(285887,",",ROW(BCKQHDR_06610!D9),"|",COLUMN(BCKQHDR_06610!D9),",0",",0") -> 285887,9|4,0,0 | E9: =CONCATENATE(286093,",",ROW(BCKQHDR_06610!E9),"|",COLUMN(BCKQHDR_06610!E9),",0",",0") -> 286093,9|5,0,0
A10: =CONCATENATE(285947,",",ROW(BCKQHDR_06610!A10),"|",COLUMN(BCKQHDR_06610!A10),",0",",0") -> 285947,10|1,0,0 | B10: =CONCATENATE(285909,",",ROW(BCKQHDR_06610!B10),"|",COLUMN(BCKQHDR_06610!B10),",0",",0") -> 285909,10|2,0,0 | C10: =CONCATENATE(285950,",",ROW(BCKQHDR_06610!C10),"|",COLUMN(BCKQHDR_06610!C10),",0",",0") -> 285950,10|3,0,0 | D10: =CONCATENATE(285888,",",ROW(BCKQHDR_06610!D10),"|",COLUMN(BCKQHDR_06610!D10),",0",",0") -> 285888,10|4,0,0 | E10: =CONCATENATE(286094,",",ROW(BCKQHDR_06610!E10),"|",COLUMN(BCKQHDR_06610!E10),",0",",0") -> 286094,10|5,0,0
A11: =CONCATENATE(286156,",",ROW(BCKQHDR_06610!A11),"|",COLUMN(BCKQHDR_06610!A11),",0",",0") -> 286156,11|1,0,0 | B11: =CONCATENATE(286067,",",ROW(BCKQHDR_06610!B11),"|",COLUMN(BCKQHDR_06610!B11),",0",",0") -> 286067,11|2,0,0 | C11: =CONCATENATE(285951,",",ROW(BCKQHDR_06610!C11),"|",COLUMN(BCKQHDR_06610!C11),",0",",0") -> 285951,11|3,0,0 | D11: =CONCATENATE(285889,",",ROW(BCKQHDR_06610!D11),"|",COLUMN(BCKQHDR_06610!D11),",0",",0") -> 285889,11|4,0,0 | E11: =CONCATENATE(286095,",",ROW(BCKQHDR_06610!E11),"|",COLUMN(BCKQHDR_06610!E11),",0",",0") -> 286095,11|5,0,0
A12: =CONCATENATE(285835,",",ROW(BCKQHDR_06610!A12),"|",COLUMN(BCKQHDR_06610!A12),",0",",0") -> 285835,12|1,0,0 | B12: =CONCATENATE(285819,",",ROW(BCKQHDR_06610!B12),"|",COLUMN(BCKQHDR_06610!B12),",0",",0") -> 285819,12|2,0,0 | C12: =CONCATENATE(285952,",",ROW(BCKQHDR_06610!C12),"|",COLUMN(BCKQHDR_06610!C12),",0",",0") -> 285952,12|3,0,0 | D12: =CONCATENATE(285890,",",ROW(BCKQHDR_06610!D12),"|",COLUMN(BCKQHDR_06610!D12),",0",",0") -> 285890,12|4,0,0 | E12: =CONCATENATE(286096,",",ROW(BCKQHDR_06610!E12),"|",COLUMN(BCKQHDR_06610!E12),",0",",0") -> 286096,12|5,0,0
A13: =CONCATENATE(285927,",",ROW(BCKQHDR_06610!A13),"|",COLUMN(BCKQHDR_06610!A13),",0",",0") -> 285927,13|1,0,0 | B13: =CONCATENATE(285820,",",ROW(BCKQHDR_06610!B13),"|",COLUMN(BCKQHDR_06610!B13),",0",",0") -> 285820,13|2,0,0 | C13: =CONCATENATE(285953,",",ROW(BCKQHDR_06610!C13),"|",COLUMN(BCKQHDR_06610!C13),",0",",0") -> 285953,13|3,0,0 | D13: =CONCATENATE(285891,",",ROW(BCKQHDR_06610!D13),"|",COLUMN(BCKQHDR_06610!D13),",0",",0") -> 285891,13|4,0,0 | E13: =CONCATENATE(286097,",",ROW(BCKQHDR_06610!E13),"|",COLUMN(BCKQHDR_06610!E13),",0",",0") -> 286097,13|5,0,0
A14: =CONCATENATE(285928,",",ROW(BCKQHDR_06610!A14),"|",COLUMN(BCKQHDR_06610!A14),",0",",0") -> 285928,14|1,0,0 | B14: =CONCATENATE(285910,",",ROW(BCKQHDR_06610!B14),"|",COLUMN(BCKQHDR_06610!B14),",0",",0") -> 285910,14|2,0,0 | C14: =CONCATENATE(285954,",",ROW(BCKQHDR_06610!C14),"|",COLUMN(BCKQHDR_06610!C14),",0",",0") -> 285954,14|3,0,0 | D14: =CONCATENATE(285892,",",ROW(BCKQHDR_06610!D14),"|",COLUMN(BCKQHDR_06610!D14),",0",",0") -> 285892,14|4,0,0 | E14: =CONCATENATE(286098,",",ROW(BCKQHDR_06610!E14),"|",COLUMN(BCKQHDR_06610!E14),",0",",0") -> 286098,14|5,0,0
A15: =CONCATENATE(286038,",",ROW(BCKQHDR_06610!A15),"|",COLUMN(BCKQHDR_06610!A15),",0",",0") -> 286038,15|1,0,0 | B15: =CONCATENATE(285931,",",ROW(BCKQHDR_06610!B15),"|",COLUMN(BCKQHDR_06610!B15),",0",",0") -> 285931,15|2,0,0 | C15: =CONCATENATE(285955,",",ROW(BCKQHDR_06610!C15),"|",COLUMN(BCKQHDR_06610!C15),",0",",0") -> 285955,15|3,0,0 | D15: =CONCATENATE(285893,",",ROW(BCKQHDR_06610!D15),"|",COLUMN(BCKQHDR_06610!D15),",0",",0") -> 285893,15|4,0,0 | E15: =CONCATENATE(286099,",",ROW(BCKQHDR_06610!E15),"|",COLUMN(BCKQHDR_06610!E15),",0",",0") -> 286099,15|5,0,0
A16: =CONCATENATE(286152,",",ROW(BCKQHDR_06610!A16),"|",COLUMN(BCKQHDR_06610!A16),",0",",0") -> 286152,16|1,0,0 | B16: =CONCATENATE(285844,",",ROW(BCKQHDR_06610!B16),"|",COLUMN(BCKQHDR_06610!B16),",0",",0") -> 285844,16|2,0,0 | C16: =CONCATENATE(285956,",",ROW(BCKQHDR_06610!C16),"|",COLUMN(BCKQHDR_06610!C16),",0",",0") -> 285956,16|3,0,0 | D16: =CONCATENATE(285894,",",ROW(BCKQHDR_06610!D16),"|",COLUMN(BCKQHDR_06610!D16),",0",",0") -> 285894,16|4,0,0 | E16: =CONCATENATE(286100,",",ROW(BCKQHDR_06610!E16),"|",COLUMN(BCKQHDR_06610!E16),",0",",0") -> 286100,16|5,0,0
A17: =CONCATENATE(286039,",",ROW(BCKQHDR_06610!A17),"|",COLUMN(BCKQHDR_06610!A17),",0",",0") -> 286039,17|1,0,0 | B17: =CONCATENATE(285932,",",ROW(BCKQHDR_06610!B17),"|",COLUMN(BCKQHDR_06610!B17),",0",",0") -> 285932,17|2,0,0 | C17: =CONCATENATE(285957,",",ROW(BCKQHDR_06610!C17),"|",COLUMN(BCKQHDR_06610!C17),",0",",0") -> 285957,17|3,0,0 | D17: =CONCATENATE(285895,",",ROW(BCKQHDR_06610!D17),"|",COLUMN(BCKQHDR_06610!D17),",0",",0") -> 285895,17|4,0,0 | E17: =CONCATENATE(286101,",",ROW(BCKQHDR_06610!E17),"|",COLUMN(BCKQHDR_06610!E17),",0",",0") -> 286101,17|5,0,0
A18: =CONCATENATE(286138,",",ROW(BCKQHDR_06610!A18),"|",COLUMN(BCKQHDR_06610!A18),",0",",0") -> 286138,18|1,0,0 | B18: =CONCATENATE(285933,",",ROW(BCKQHDR_06610!B18),"|",COLUMN(BCKQHDR_06610!B18),",0",",0") -> 285933,18|2,0,0 | C18: =CONCATENATE(285958,",",ROW(BCKQHDR_06610!C18),"|",COLUMN(BCKQHDR_06610!C18),",0",",0") -> 285958,18|3,0,0 | D18: =CONCATENATE(285896,",",ROW(BCKQHDR_06610!D18),"|",COLUMN(BCKQHDR_06610!D18),",0",",0") -> 285896,18|4,0,0 | E18: =CONCATENATE(286102,",",ROW(BCKQHDR_06610!E18),"|",COLUMN(BCKQHDR_06610!E18),",0",",0") -> 286102,18|5,0,0
A19: =CONCATENATE(286139,",",ROW(BCKQHDR_06610!A19),"|",COLUMN(BCKQHDR_06610!A19),",0",",0") -> 286139,19|1,0,0 | B19: =CONCATENATE(286068,",",ROW(BCKQHDR_06610!B19),"|",COLUMN(BCKQHDR_06610!B19),",0",",0") -> 286068,19|2,0,0 | C19: =CONCATENATE(285959,",",ROW(BCKQHDR_06610!C19),"|",COLUMN(BCKQHDR_06610!C19),",0",",0") -> 285959,19|3,0,0 | D19: =CONCATENATE(285897,",",ROW(BCKQHDR_06610!D19),"|",COLUMN(BCKQHDR_06610!D19),",0",",0") -> 285897,19|4,0,0 | E19: =CONCATENATE(286103,",",ROW(BCKQHDR_06610!E19),"|",COLUMN(BCKQHDR_06610!E19),",0",",0") -> 286103,19|5,0,0
A20: =CONCATENATE(286157,",",ROW(BCKQHDR_06610!A20),"|",COLUMN(BCKQHDR_06610!A20),",0",",0") -> 286157,20|1,0,0 | B20: =CONCATENATE(285821,",",ROW(BCKQHDR_06610!B20),"|",COLUMN(BCKQHDR_06610!B20),",0",",0") -> 285821,20|2,0,0 | C20: =CONCATENATE(286015,",",ROW(BCKQHDR_06610!C20),"|",COLUMN(BCKQHDR_06610!C20),",0",",0") -> 286015,20|3,0,0 | D20: =CONCATENATE(285898,",",ROW(BCKQHDR_06610!D20),"|",COLUMN(BCKQHDR_06610!D20),",0",",0") -> 285898,20|4,0,0 | E20: =CONCATENATE(286104,",",ROW(BCKQHDR_06610!E20),"|",COLUMN(BCKQHDR_06610!E20),",0",",0") -> 286104,20|5,0,0
A21: =CONCATENATE(286060,",",ROW(BCKQHDR_06610!A21),"|",COLUMN(BCKQHDR_06610!A21),",0",",0") -> 286060,21|1,0,0 | B21: =CONCATENATE(286069,",",ROW(BCKQHDR_06610!B21),"|",COLUMN(BCKQHDR_06610!B21),",0",",0") -> 286069,21|2,0,0 | C21: =CONCATENATE(286016,",",ROW(BCKQHDR_06610!C21),"|",COLUMN(BCKQHDR_06610!C21),",0",",0") -> 286016,21|3,0,0 | D21: =CONCATENATE(285899,",",ROW(BCKQHDR_06610!D21),"|",COLUMN(BCKQHDR_06610!D21),",0",",0") -> 285899,21|4,0,0 | E21: =CONCATENATE(286105,",",ROW(BCKQHDR_06610!E21),"|",COLUMN(BCKQHDR_06610!E21),",0",",0") -> 286105,21|5,0,0
A22: =CONCATENATE(286140,",",ROW(BCKQHDR_06610!A22),"|",COLUMN(BCKQHDR_06610!A22),",0",",0") -> 286140,22|1,0,0 | C22: =CONCATENATE(286017,",",ROW(BCKQHDR_06610!C22),"|",COLUMN(BCKQHDR_06610!C22),",0",",0") -> 286017,22|3,0,0 | D22: =CONCATENATE(285900,",",ROW(BCKQHDR_06610!D22),"|",COLUMN(BCKQHDR_06610!D22),",0",",0") -> 285900,22|4,0,0 | E22: =CONCATENATE(286106,",",ROW(BCKQHDR_06610!E22),"|",COLUMN(BCKQHDR_06610!E22),",0",",0") -> 286106,22|5,0,0
A23: =CONCATENATE(286141,",",ROW(BCKQHDR_06610!A23),"|",COLUMN(BCKQHDR_06610!A23),",0",",0") -> 286141,23|1,0,0 | B23: =CONCATENATE(285822,",",ROW(BCKQHDR_06610!B23),"|",COLUMN(BCKQHDR_06610!B23),",0",",0") -> 285822,23|2,0,0 | C23: =CONCATENATE(286018,",",ROW(BCKQHDR_06610!C23),"|",COLUMN(BCKQHDR_06610!C23),",0",",0") -> 286018,23|3,0,0 | D23: =CONCATENATE(285901,",",ROW(BCKQHDR_06610!D23),"|",COLUMN(BCKQHDR_06610!D23),",0",",0") -> 285901,23|4,0,0 | E23: =CONCATENATE(286107,",",ROW(BCKQHDR_06610!E23),"|",COLUMN(BCKQHDR_06610!E23),",0",",0") -> 286107,23|5,0,0
A24: =CONCATENATE(286061,",",ROW(BCKQHDR_06610!A24),"|",COLUMN(BCKQHDR_06610!A24),",0",",0") -> 286061,24|1,0,0 | B24: =CONCATENATE(285823,",",ROW(BCKQHDR_06610!B24),"|",COLUMN(BCKQHDR_06610!B24),",0",",0") -> 285823,24|2,0,0 | C24: =CONCATENATE(286019,",",ROW(BCKQHDR_06610!C24),"|",COLUMN(BCKQHDR_06610!C24),",0",",0") -> 286019,24|3,0,0 | D24: =CONCATENATE(285902,",",ROW(BCKQHDR_06610!D24),"|",COLUMN(BCKQHDR_06610!D24),",0",",0") -> 285902,24|4,0,0 | E24: =CONCATENATE(286108,",",ROW(BCKQHDR_06610!E24),"|",COLUMN(BCKQHDR_06610!E24),",0",",0") -> 286108,24|5,0,0
A25: =CONCATENATE(285836,",",ROW(BCKQHDR_06610!A25),"|",COLUMN(BCKQHDR_06610!A25),",0",",0") -> 285836,25|1,0,0 | B25: =CONCATENATE(285934,",",ROW(BCKQHDR_06610!B25),"|",COLUMN(BCKQHDR_06610!B25),",0",",0") -> 285934,25|2,0,0 | C25: =CONCATENATE(286020,",",ROW(BCKQHDR_06610!C25),"|",COLUMN(BCKQHDR_06610!C25),",0",",0") -> 286020,25|3,0,0 | D25: =CONCATENATE(285903,",",ROW(BCKQHDR_06610!D25),"|",COLUMN(BCKQHDR_06610!D25),",0",",0") -> 285903,25|4,0,0 | E25: =CONCATENATE(286109,",",ROW(BCKQHDR_06610!E25),"|",COLUMN(BCKQHDR_06610!E25),",0",",0") -> 286109,25|5,0,0
A26: =CONCATENATE(286158,",",ROW(BCKQHDR_06610!A26),"|",COLUMN(BCKQHDR_06610!A26),",0",",0") -> 286158,26|1,0,0 | B26: =CONCATENATE(285935,",",ROW(BCKQHDR_06610!B26),"|",COLUMN(BCKQHDR_06610!B26),",0",",0") -> 285935,26|2,0,0 | C26: =CONCATENATE(286021,",",ROW(BCKQHDR_06610!C26),"|",COLUMN(BCKQHDR_06610!C26),",0",",0") -> 286021,26|3,0,0 | D26: =CONCATENATE(285904,",",ROW(BCKQHDR_06610!D26),"|",COLUMN(BCKQHDR_06610!D26),",0",",0") -> 285904,26|4,0,0 | E26: =CONCATENATE(286110,",",ROW(BCKQHDR_06610!E26),"|",COLUMN(BCKQHDR_06610!E26),",0",",0") -> 286110,26|5,0,0
A27: =CONCATENATE(286062,",",ROW(BCKQHDR_06610!A27),"|",COLUMN(BCKQHDR_06610!A27),",0",",0") -> 286062,27|1,0,0 | B27: =CONCATENATE(285936,",",ROW(BCKQHDR_06610!B27),"|",COLUMN(BCKQHDR_06610!B27),",0",",0") -> 285936,27|2,0,0 | C27: =CONCATENATE(286022,",",ROW(BCKQHDR_06610!C27),"|",COLUMN(BCKQHDR_06610!C27),",0",",0") -> 286022,27|3,0,0 | D27: =CONCATENATE(285905,",",ROW(BCKQHDR_06610!D27),"|",COLUMN(BCKQHDR_06610!D27),",0",",0") -> 285905,27|4,0,0 | E27: =CONCATENATE(286111,",",ROW(BCKQHDR_06610!E27),"|",COLUMN(BCKQHDR_06610!E27),",0",",0") -> 286111,27|5,0,0
A28: =CONCATENATE(286159,",",ROW(BCKQHDR_06610!A28),"|",COLUMN(BCKQHDR_06610!A28),",0",",0") -> 286159,28|1,0,0 | B28: =CONCATENATE(286070,",",ROW(BCKQHDR_06610!B28),"|",COLUMN(BCKQHDR_06610!B28),",0",",0") -> 286070,28|2,0,0 | C28: =CONCATENATE(286023,",",ROW(BCKQHDR_06610!C28),"|",COLUMN(BCKQHDR_06610!C28),",0",",0") -> 286023,28|3,0,0 | D28: =CONCATENATE(285962,",",ROW(BCKQHDR_06610!D28),"|",COLUMN(BCKQHDR_06610!D28),",0",",0") -> 285962,28|4,0,0 | E28: =CONCATENATE(286112,",",ROW(BCKQHDR_06610!E28),"|",COLUMN(BCKQHDR_06610!E28),",0",",0") -> 286112,28|5,0,0
A29: =CONCATENATE(285961,",",ROW(BCKQHDR_06610!A29),"|",COLUMN(BCKQHDR_06610!A29),",0",",0") -> 285961,29|1,0,0 | B29: =CONCATENATE(286072,",",ROW(BCKQHDR_06610!B29),"|",COLUMN(BCKQHDR_06610!B29),",0",",0") -> 286072,29|2,0,0 | C29: =CONCATENATE(286024,",",ROW(BCKQHDR_06610!C29),"|",COLUMN(BCKQHDR_06610!C29),",0",",0") -> 286024,29|3,0,0 | D29: =CONCATENATE(286029,",",ROW(BCKQHDR_06610!D29),"|",COLUMN(BCKQHDR_06610!D29),",0",",0") -> 286029,29|4,0,0 | E29: =CONCATENATE(286113,",",ROW(BCKQHDR_06610!E29),"|",COLUMN(BCKQHDR_06610!E29),",0",",0") -> 286113,29|5,0,0
A30: =CONCATENATE(285832,",",ROW(BCKQHDR_06610!A30),"|",COLUMN(BCKQHDR_06610!A30),",0",",0") -> 285832,30|1,0,0 | B30: =CONCATENATE(286073,",",ROW(BCKQHDR_06610!B30),"|",COLUMN(BCKQHDR_06610!B30),",0",",0") -> 286073,30|2,0,0 | C30: =CONCATENATE(286025,",",ROW(BCKQHDR_06610!C30),"|",COLUMN(BCKQHDR_06610!C30),",0",",0") -> 286025,30|3,0,0 | D30: =CONCATENATE(285963,",",ROW(BCKQHDR_06610!D30),"|",COLUMN(BCKQHDR_06610!D30),",0",",0") -> 285963,30|4,0,0 | E30: =CONCATENATE(286115,",",ROW(BCKQHDR_06610!E30),"|",COLUMN(BCKQHDR_06610!E30),",0",",0") -> 286115,30|5,0,0
A31: =CONCATENATE(285833,",",ROW(BCKQHDR_06610!A31),"|",COLUMN(BCKQHDR_06610!A31),",0",",0") -> 285833,31|1,0,0 | B31: =CONCATENATE(285845,",",ROW(BCKQHDR_06610!B31),"|",COLUMN(BCKQHDR_06610!B31),",0",",0") -> 285845,31|2,0,0 | C31: =CONCATENATE(286026,",",ROW(BCKQHDR_06610!C31),"|",COLUMN(BCKQHDR_06610!C31),",0",",0") -> 286026,31|3,0,0 | D31: =CONCATENATE(285964,",",ROW(BCKQHDR_06610!D31),"|",COLUMN(BCKQHDR_06610!D31),",0",",0") -> 285964,31|4,0,0 | E31: =CONCATENATE(286116,",",ROW(BCKQHDR_06610!E31),"|",COLUMN(BCKQHDR_06610!E31),",0",",0") -> 286116,31|5,0,0
A32: =CONCATENATE(286063,",",ROW(BCKQHDR_06610!A32),"|",COLUMN(BCKQHDR_06610!A32),",0",",0") -> 286063,32|1,0,0 | B32: =CONCATENATE(285824,",",ROW(BCKQHDR_06610!B32),"|",COLUMN(BCKQHDR_06610!B32),",0",",0") -> 285824,32|2,0,0 | C32: =CONCATENATE(286027,",",ROW(BCKQHDR_06610!C32),"|",COLUMN(BCKQHDR_06610!C32),",0",",0") -> 286027,32|3,0,0 | D32: =CONCATENATE(285965,",",ROW(BCKQHDR_06610!D32),"|",COLUMN(BCKQHDR_06610!D32),",0",",0") -> 285965,32|4,0,0 | E32: =CONCATENATE(286117,",",ROW(BCKQHDR_06610!E32),"|",COLUMN(BCKQHDR_06610!E32),",0",",0") -> 286117,32|5,0,0
A33: =CONCATENATE(285837,",",ROW(BCKQHDR_06610!A33),"|",COLUMN(BCKQHDR_06610!A33),",0",",0") -> 285837,33|1,0,0 | B33: =CONCATENATE(285937,",",ROW(BCKQHDR_06610!B33),"|",COLUMN(BCKQHDR_06610!B33),",0",",0") -> 285937,33|2,0,0 | C33: =CONCATENATE(286028,",",ROW(BCKQHDR_06610!C33),"|",COLUMN(BCKQHDR_06610!C33),",0",",0") -> 286028,33|3,0,0 | D33: =CONCATENATE(285966,",",ROW(BCKQHDR_06610!D33),"|",COLUMN(BCKQHDR_06610!D33),",0",",0") -> 285966,33|4,0,0 | E33: =CONCATENATE(286118,",",ROW(BCKQHDR_06610!E33),"|",COLUMN(BCKQHDR_06610!E33),",0",",0") -> 286118,33|5,0,0
A34: =CONCATENATE(286142,",",ROW(BCKQHDR_06610!A34),"|",COLUMN(BCKQHDR_06610!A34),",0",",0") -> 286142,34|1,0,0 | B34: =CONCATENATE(285938,",",ROW(BCKQHDR_06610!B34),"|",COLUMN(BCKQHDR_06610!B34),",0",",0") -> 285938,34|2,0,0 | C34: =CONCATENATE(286030,",",ROW(BCKQHDR_06610!C34),"|",COLUMN(BCKQHDR_06610!C34),",0",",0") -> 286030,34|3,0,0 | D34: =CONCATENATE(285967,",",ROW(BCKQHDR_06610!D34),"|",COLUMN(BCKQHDR_06610!D34),",0",",0") -> 285967,34|4,0,0 | E34: =CONCATENATE(286119,",",ROW(BCKQHDR_06610!E34),"|",COLUMN(BCKQHDR_06610!E34),",0",",0") -> 286119,34|5,0,0
A35: =CONCATENATE(285948,",",ROW(BCKQHDR_06610!A35),"|",COLUMN(BCKQHDR_06610!A35),",0",",0") -> 285948,35|1,0,0 | B35: =CONCATENATE(285911,",",ROW(BCKQHDR_06610!B35),"|",COLUMN(BCKQHDR_06610!B35),",0",",0") -> 285911,35|2,0,0 | C35: =CONCATENATE(286031,",",ROW(BCKQHDR_06610!C35),"|",COLUMN(BCKQHDR_06610!C35),",0",",0") -> 286031,35|3,0,0 | D35: =CONCATENATE(285968,",",ROW(BCKQHDR_06610!D35),"|",COLUMN(BCKQHDR_06610!D35),",0",",0") -> 285968,35|4,0,0 | E35: =CONCATENATE(286120,",",ROW(BCKQHDR_06610!E35),"|",COLUMN(BCKQHDR_06610!E35),",0",",0") -> 286120,35|5,0,0
A36: =CONCATENATE(285949,",",ROW(BCKQHDR_06610!A36),"|",COLUMN(BCKQHDR_06610!A36),",0",",0") -> 285949,36|1,0,0 | B36: =CONCATENATE(285939,",",ROW(BCKQHDR_06610!B36),"|",COLUMN(BCKQHDR_06610!B36),",0",",0") -> 285939,36|2,0,0 | C36: =CONCATENATE(286032,",",ROW(BCKQHDR_06610!C36),"|",COLUMN(BCKQHDR_06610!C36),",0",",0") -> 286032,36|3,0,0 | D36: =CONCATENATE(285969,",",ROW(BCKQHDR_06610!D36),"|",COLUMN(BCKQHDR_06610!D36),",0",",0") -> 285969,36|4,0,0 | E36: =CONCATENATE(286121,",",ROW(BCKQHDR_06610!E36),"|",COLUMN(BCKQHDR_06610!E36),",0",",0") -> 286121,36|5,0,0
A37: =CONCATENATE(286160,",",ROW(BCKQHDR_06610!A37),"|",COLUMN(BCKQHDR_06610!A37),",0",",0") -> 286160,37|1,0,0 | B37: =CONCATENATE(285940,",",ROW(BCKQHDR_06610!B37),"|",COLUMN(BCKQHDR_06610!B37),",0",",0") -> 285940,37|2,0,0 | C37: =CONCATENATE(286040,",",ROW(BCKQHDR_06610!C37),"|",COLUMN(BCKQHDR_06610!C37),",0",",0") -> 286040,37|3,0,0 | D37: =CONCATENATE(285970,",",ROW(BCKQHDR_06610!D37),"|",COLUMN(BCKQHDR_06610!D37),",0",",0") -> 285970,37|4,0,0 | E37: =CONCATENATE(286122,",",ROW(BCKQHDR_06610!E37),"|",COLUMN(BCKQHDR_06610!E37),",0",",0") -> 286122,37|5,0,0
A38: =CONCATENATE(286010,",",ROW(BCKQHDR_06610!A38),"|",COLUMN(BCKQHDR_06610!A38),",0",",0") -> 286010,38|1,0,0 | B38: =CONCATENATE(285913,",",ROW(BCKQHDR_06610!B38),"|",COLUMN(BCKQHDR_06610!B38),",0",",0") -> 285913,38|2,0,0 | C38: =CONCATENATE(286041,",",ROW(BCKQHDR_06610!C38),"|",COLUMN(BCKQHDR_06610!C38),",0",",0") -> 286041,38|3,0,0 | D38: =CONCATENATE(285971,",",ROW(BCKQHDR_06610!D38),"|",COLUMN(BCKQHDR_06610!D38),",0",",0") -> 285971,38|4,0,0 | E38: =CONCATENATE(286123,",",ROW(BCKQHDR_06610!E38),"|",COLUMN(BCKQHDR_06610!E38),",0",",0") -> 286123,38|5,0,0
A39: =CONCATENATE(286064,",",ROW(BCKQHDR_06610!A39),"|",COLUMN(BCKQHDR_06610!A39),",0",",0") -> 286064,39|1,0,0 | C39: =CONCATENATE(286042,",",ROW(BCKQHDR_06610!C39),"|",COLUMN(BCKQHDR_06610!C39),",0",",0") -> 286042,39|3,0,0 | D39: =CONCATENATE(285972,",",ROW(BCKQHDR_06610!D39),"|",COLUMN(BCKQHDR_06610!D39),",0",",0") -> 285972,39|4,0,0 | E39: =CONCATENATE(286124,",",ROW(BCKQHDR_06610!E39),"|",COLUMN(BCKQHDR_06610!E39),",0",",0") -> 286124,39|5,0,0
A40: =CONCATENATE(286011,",",ROW(BCKQHDR_06610!A40),"|",COLUMN(BCKQHDR_06610!A40),",0",",0") -> 286011,40|1,0,0 | B40: =CONCATENATE(285914,",",ROW(BCKQHDR_06610!B40),"|",COLUMN(BCKQHDR_06610!B40),",0",",0") -> 285914,40|2,0,0 | C40: =CONCATENATE(286043,",",ROW(BCKQHDR_06610!C40),"|",COLUMN(BCKQHDR_06610!C40),",0",",0") -> 286043,40|3,0,0 | D40: =CONCATENATE(285973,",",ROW(BCKQHDR_06610!D40),"|",COLUMN(BCKQHDR_06610!D40),",0",",0") -> 285973,40|4,0,0 | E40: =CONCATENATE(286125,",",ROW(BCKQHDR_06610!E40),"|",COLUMN(BCKQHDR_06610!E40),",0",",0") -> 286125,40|5,0,0
A41: =CONCATENATE(286012,",",ROW(BCKQHDR_06610!A41),"|",COLUMN(BCKQHDR_06610!A41),",0",",0") -> 286012,41|1,0,0 | B41: =CONCATENATE(285846,",",ROW(BCKQHDR_06610!B41),"|",COLUMN(BCKQHDR_06610!B41),",0",",0") -> 285846,41|2,0,0 | C41: =CONCATENATE(286044,",",ROW(BCKQHDR_06610!C41),"|",COLUMN(BCKQHDR_06610!C41),",0",",0") -> 286044,41|3,0,0 | D41: =CONCATENATE(285974,",",ROW(BCKQHDR_06610!D41),"|",COLUMN(BCKQHDR_06610!D41),",0",",0") -> 285974,41|4,0,0 | E41: =CONCATENATE(286126,",",ROW(BCKQHDR_06610!E41),"|",COLUMN(BCKQHDR_06610!E41),",0",",0") -> 286126,41|5,0,0
A42: =CONCATENATE(286065,",",ROW(BCKQHDR_06610!A42),"|",COLUMN(BCKQHDR_06610!A42),",0",",0") -> 286065,42|1,0,0 | B42: =CONCATENATE(286074,",",ROW(BCKQHDR_06610!B42),"|",COLUMN(BCKQHDR_06610!B42),",0",",0") -> 286074,42|2,0,0 | C42: =CONCATENATE(286045,",",ROW(BCKQHDR_06610!C42),"|",COLUMN(BCKQHDR_06610!C42),",0",",0") -> 286045,42|3,0,0 | D42: =CONCATENATE(285975,",",ROW(BCKQHDR_06610!D42),"|",COLUMN(BCKQHDR_06610!D42),",0",",0") -> 285975,42|4,0,0 | E42: =CONCATENATE(286127,",",ROW(BCKQHDR_06610!E42),"|",COLUMN(BCKQHDR_06610!E42),",0",",0") -> 286127,42|5,0,0
A43: =CONCATENATE(286077,",",ROW(BCKQHDR_06610!A43),"|",COLUMN(BCKQHDR_06610!A43),",0",",0") -> 286077,43|1,0,0 | B43: =CONCATENATE(285825,",",ROW(BCKQHDR_06610!B43),"|",COLUMN(BCKQHDR_06610!B43),",0",",0") -> 285825,43|2,0,0 | C43: =CONCATENATE(286046,",",ROW(BCKQHDR_06610!C43),"|",COLUMN(BCKQHDR_06610!C43),",0",",0") -> 286046,43|3,0,0 | D43: =CONCATENATE(285976,",",ROW(BCKQHDR_06610!D43),"|",COLUMN(BCKQHDR_06610!D43),",0",",0") -> 285976,43|4,0,0 | E43: =CONCATENATE(286128,",",ROW(BCKQHDR_06610!E43),"|",COLUMN(BCKQHDR_06610!E43),",0",",0") -> 286128,43|5,0,0
A44: =CONCATENATE(286013,",",ROW(BCKQHDR_06610!A44),"|",COLUMN(BCKQHDR_06610!A44),",0",",0") -> 286013,44|1,0,0 | B44: =CONCATENATE(285915,",",ROW(BCKQHDR_06610!B44),"|",COLUMN(BCKQHDR_06610!B44),",0",",0") -> 285915,44|2,0,0 | C44: =CONCATENATE(286047,",",ROW(BCKQHDR_06610!C44),"|",COLUMN(BCKQHDR_06610!C44),",0",",0") -> 286047,44|3,0,0 | D44: =CONCATENATE(285977,",",ROW(BCKQHDR_06610!D44),"|",COLUMN(BCKQHDR_06610!D44),",0",",0") -> 285977,44|4,0,0 | E44: =CONCATENATE(285853,",",ROW(BCKQHDR_06610!E44),"|",COLUMN(BCKQHDR_06610!E44),",0",",0") -> 285853,44|5,0,0
A45: =CONCATENATE(286078,",",ROW(BCKQHDR_06610!A45),"|",COLUMN(BCKQHDR_06610!A45),",0",",0") -> 286078,45|1,0,0 | C45: =CONCATENATE(286048,",",ROW(BCKQHDR_06610!C45),"|",COLUMN(BCKQHDR_06610!C45),",0",",0") -> 286048,45|3,0,0 | D45: =CONCATENATE(285978,",",ROW(BCKQHDR_06610!D45),"|",COLUMN(BCKQHDR_06610!D45),",0",",0") -> 285978,45|4,0,0 | E45: =CONCATENATE(285854,",",ROW(BCKQHDR_06610!E45),"|",COLUMN(BCKQHDR_06610!E45),",0",",0") -> 285854,45|5,0,0
A46: =CONCATENATE(286129,",",ROW(BCKQHDR_06610!A46),"|",COLUMN(BCKQHDR_06610!A46),",0",",0") -> 286129,46|1,0,0 | B46: =CONCATENATE(285826,",",ROW(BCKQHDR_06610!B46),"|",COLUMN(BCKQHDR_06610!B46),",0",",0") -> 285826,46|2,0,0 | C46: =CONCATENATE(286049,",",ROW(BCKQHDR_06610!C46),"|",COLUMN(BCKQHDR_06610!C46),",0",",0") -> 286049,46|3,0,0 | D46: =CONCATENATE(285979,",",ROW(BCKQHDR_06610!D46),"|",COLUMN(BCKQHDR_06610!D46),",0",",0") -> 285979,46|4,0,0 | E46: =CONCATENATE(285855,",",ROW(BCKQHDR_06610!E46),"|",COLUMN(BCKQHDR_06610!E46),",0",",0") -> 285855,46|5,0,0
A47: =CONCATENATE(286130,",",ROW(BCKQHDR_06610!A47),"|",COLUMN(BCKQHDR_06610!A47),",0",",0") -> 286130,47|1,0,0 | B47: =CONCATENATE(285916,",",ROW(BCKQHDR_06610!B47),"|",COLUMN(BCKQHDR_06610!B47),",0",",0") -> 285916,47|2,0,0 | C47: =CONCATENATE(286050,",",ROW(BCKQHDR_06610!C47),"|",COLUMN(BCKQHDR_06610!C47),",0",",0") -> 286050,47|3,0,0 | D47: =CONCATENATE(285980,",",ROW(BCKQHDR_06610!D47),"|",COLUMN(BCKQHDR_06610!D47),",0",",0") -> 285980,47|4,0,0 | E47: =CONCATENATE(285856,",",ROW(BCKQHDR_06610!E47),"|",COLUMN(BCKQHDR_06610!E47),",0",",0") -> 285856,47|5,0,0
A48: =CONCATENATE(285838,",",ROW(BCKQHDR_06610!A48),"|",COLUMN(BCKQHDR_06610!A48),",0",",0") -> 285838,48|1,0,0 | B48: =CONCATENATE(285917,",",ROW(BCKQHDR_06610!B48),"|",COLUMN(BCKQHDR_06610!B48),",0",",0") -> 285917,48|2,0,0 | C48: =CONCATENATE(285982,",",ROW(BCKQHDR_06610!C48),"|",COLUMN(BCKQHDR_06610!C48),",0",",0") -> 285982,48|3,0,0 | D48: =CONCATENATE(285858,",",ROW(BCKQHDR_06610!D48),"|",COLUMN(BCKQHDR_06610!D48),",0",",0") -> 285858,48|4,0,0 | E48: =CONCATENATE(286052,",",ROW(BCKQHDR_06610!E48),"|",COLUMN(BCKQHDR_06610!E48),",0",",0") -> 286052,48|5,0,0
A49: =CONCATENATE(286079,",",ROW(BCKQHDR_06610!A49),"|",COLUMN(BCKQHDR_06610!A49),",0",",0") -> 286079,49|1,0,0 | B49: =CONCATENATE(285849,",",ROW(BCKQHDR_06610!B49),"|",COLUMN(BCKQHDR_06610!B49),",0",",0") -> 285849,49|2,0,0 | C49: =CONCATENATE(285983,",",ROW(BCKQHDR_06610!C49),"|",COLUMN(BCKQHDR_06610!C49),",0",",0") -> 285983,49|3,0,0 | D49: =CONCATENATE(285859,",",ROW(BCKQHDR_06610!D49),"|",COLUMN(BCKQHDR_06610!D49),",0",",0") -> 285859,49|4,0,0 | E49: =CONCATENATE(286053,",",ROW(BCKQHDR_06610!E49),"|",COLUMN(BCKQHDR_06610!E49),",0",",0") -> 286053,49|5,0,0
A50: =CONCATENATE(286131,",",ROW(BCKQHDR_06610!A50),"|",COLUMN(BCKQHDR_06610!A50),",0",",0") -> 286131,50|1,0,0 | B50: =CONCATENATE(285847,",",ROW(BCKQHDR_06610!B50),"|",COLUMN(BCKQHDR_06610!B50),",0",",0") -> 285847,50|2,0,0 | C50: =CONCATENATE(285984,",",ROW(BCKQHDR_06610!C50),"|",COLUMN(BCKQHDR_06610!C50),",0",",0") -> 285984,50|3,0,0 | D50: =CONCATENATE(285860,",",ROW(BCKQHDR_06610!D50),"|",COLUMN(BCKQHDR_06610!D50),",0",",0") -> 285860,50|4,0,0 | E50: =CONCATENATE(286054,",",ROW(BCKQHDR_06610!E50),"|",COLUMN(BCKQHDR_06610!E50),",0",",0") -> 286054,50|5,0,0
A51: =CONCATENATE(285839,",",ROW(BCKQHDR_06610!A51),"|",COLUMN(BCKQHDR_06610!A51),",0",",0") -> 285839,51|1,0,0 | B51: =CONCATENATE(285848,",",ROW(BCKQHDR_06610!B51),"|",COLUMN(BCKQHDR_06610!B51),",0",",0") -> 285848,51|2,0,0 | C51: =CONCATENATE(285985,",",ROW(BCKQHDR_06610!C51),"|",COLUMN(BCKQHDR_06610!C51),",0",",0") -> 285985,51|3,0,0 | D51: =CONCATENATE(285861,",",ROW(BCKQHDR_06610!D51),"|",COLUMN(BCKQHDR_06610!D51),",0",",0") -> 285861,51|4,0,0 | E51: =CONCATENATE(286055,",",ROW(BCKQHDR_06610!E51),"|",COLUMN(BCKQHDR_06610!E51),",0",",0") -> 286055,51|5,0,0
A52: =CONCATENATE(286132,",",ROW(BCKQHDR_06610!A52),"|",COLUMN(BCKQHDR_06610!A52),",0",",0") -> 286132,52|1,0,0 | B52: =CONCATENATE(285941,",",ROW(BCKQHDR_06610!B52),"|",COLUMN(BCKQHDR_06610!B52),",0",",0") -> 285941,52|2,0,0 | C52: =CONCATENATE(285986,",",ROW(BCKQHDR_06610!C52),"|",COLUMN(BCKQHDR_06610!C52),",0",",0") -> 285986,52|3,0,0 | D52: =CONCATENATE(285862,",",ROW(BCKQHDR_06610!D52),"|",COLUMN(BCKQHDR_06610!D52),",0",",0") -> 285862,52|4,0,0 | E52: =CONCATENATE(285830,",",ROW(BCKQHDR_06610!E52),"|",COLUMN(BCKQHDR_06610!E52),",0",",0") -> 285830,52|5,0,0
A53: =CONCATENATE(286148,",",ROW(BCKQHDR_06610!A53),"|",COLUMN(BCKQHDR_06610!A53),",0",",0") -> 286148,53|1,0,0 | B53: =CONCATENATE(285827,",",ROW(BCKQHDR_06610!B53),"|",COLUMN(BCKQHDR_06610!B53),",0",",0") -> 285827,53|2,0,0 | C53: =CONCATENATE(285987,",",ROW(BCKQHDR_06610!C53),"|",COLUMN(BCKQHDR_06610!C53),",0",",0") -> 285987,53|3,0,0 | D53: =CONCATENATE(285863,",",ROW(BCKQHDR_06610!D53),"|",COLUMN(BCKQHDR_06610!D53),",0",",0") -> 285863,53|4,0,0 | E53: =CONCATENATE(286056,",",ROW(BCKQHDR_06610!E53),"|",COLUMN(BCKQHDR_06610!E53),",0",",0") -> 286056,53|5,0,0
A54: =CONCATENATE(285866,",",ROW(BCKQHDR_06610!A54),"|",COLUMN(BCKQHDR_06610!A54),",0",",0") -> 285866,54|1,0,0 | B54: =CONCATENATE(286033,",",ROW(BCKQHDR_06610!B54),"|",COLUMN(BCKQHDR_06610!B54),",0",",0") -> 286033,54|2,0,0 | C54: =CONCATENATE(285988,",",ROW(BCKQHDR_06610!C54),"|",COLUMN(BCKQHDR_06610!C54),",0",",0") -> 285988,54|3,0,0 | D54: =CONCATENATE(285864,",",ROW(BCKQHDR_06610!D54),"|",COLUMN(BCKQHDR_06610!D54),",0",",0") -> 285864,54|4,0,0 | E54: =CONCATENATE(286057,",",ROW(BCKQHDR_06610!E54),"|",COLUMN(BCKQHDR_06610!E54),",0",",0") -> 286057,54|5,0,0
A55: =CONCATENATE(286149,",",ROW(BCKQHDR_06610!A55),"|",COLUMN(BCKQHDR_06610!A55),",0",",0") -> 286149,55|1,0,0 | C55: =CONCATENATE(285989,",",ROW(BCKQHDR_06610!C55),"|",COLUMN(BCKQHDR_06610!C55),",0",",0") -> 285989,55|3,0,0 | D55: =CONCATENATE(285865,",",ROW(BCKQHDR_06610!D55),"|",COLUMN(BCKQHDR_06610!D55),",0",",0") -> 285865,55|4,0,0 | E55: =CONCATENATE(286058,",",ROW(BCKQHDR_06610!E55),"|",COLUMN(BCKQHDR_06610!E55),",0",",0") -> 286058,55|5,0,0
A56: =CONCATENATE(286014,",",ROW(BCKQHDR_06610!A56),"|",COLUMN(BCKQHDR_06610!A56),",0",",0") -> 286014,56|1,0,0 | B56: =CONCATENATE(286034,",",ROW(BCKQHDR_06610!B56),"|",COLUMN(BCKQHDR_06610!B56),",0",",0") -> 286034,56|2,0,0 | C56: =CONCATENATE(285990,",",ROW(BCKQHDR_06610!C56),"|",COLUMN(BCKQHDR_06610!C56),",0",",0") -> 285990,56|3,0,0 | D56: =CONCATENATE(285912,",",ROW(BCKQHDR_06610!D56),"|",COLUMN(BCKQHDR_06610!D56),",0",",0") -> 285912,56|4,0,0 | E56: =CONCATENATE(286059,",",ROW(BCKQHDR_06610!E56),"|",COLUMN(BCKQHDR_06610!E56),",0",",0") -> 286059,56|5,0,0
A57: =CONCATENATE(286150,",",ROW(BCKQHDR_06610!A57),"|",COLUMN(BCKQHDR_06610!A57),",0",",0") -> 286150,57|1,0,0 | B57: =CONCATENATE(285918,",",ROW(BCKQHDR_06610!B57),"|",COLUMN(BCKQHDR_06610!B57),",0",",0") -> 285918,57|2,0,0 | C57: =CONCATENATE(285991,",",ROW(BCKQHDR_06610!C57),"|",COLUMN(BCKQHDR_06610!C57),",0",",0") -> 285991,57|3,0,0 | D57: =CONCATENATE(285867,",",ROW(BCKQHDR_06610!D57),"|",COLUMN(BCKQHDR_06610!D57),",0",",0") -> 285867,57|4,0,0 | E57: =CONCATENATE(286080,",",ROW(BCKQHDR_06610!E57),"|",COLUMN(BCKQHDR_06610!E57),",0",",0") -> 286080,57|5,0,0
A58: =CONCATENATE(285960,",",ROW(BCKQHDR_06610!A58),"|",COLUMN(BCKQHDR_06610!A58),",0",",0") -> 285960,58|1,0,0 | B58: =CONCATENATE(285919,",",ROW(BCKQHDR_06610!B58),"|",COLUMN(BCKQHDR_06610!B58),",0",",0") -> 285919,58|2,0,0 | C58: =CONCATENATE(285992,",",ROW(BCKQHDR_06610!C58),"|",COLUMN(BCKQHDR_06610!C58),",0",",0") -> 285992,58|3,0,0 | D58: =CONCATENATE(285868,",",ROW(BCKQHDR_06610!D58),"|",COLUMN(BCKQHDR_06610!D58),",0",",0") -> 285868,58|4,0,0 | E58: =CONCATENATE(286081,",",ROW(BCKQHDR_06610!E58),"|",COLUMN(BCKQHDR_06610!E58),",0",",0") -> 286081,58|5,0,0
A59: =CONCATENATE(285906,",",ROW(BCKQHDR_06610!A59),"|",COLUMN(BCKQHDR_06610!A59),",0",",0") -> 285906,59|1,0,0 | B59: =CONCATENATE(285920,",",ROW(BCKQHDR_06610!B59),"|",COLUMN(BCKQHDR_06610!B59),",0",",0") -> 285920,59|2,0,0 | C59: =CONCATENATE(285993,",",ROW(BCKQHDR_06610!C59),"|",COLUMN(BCKQHDR_06610!C59),",0",",0") -> 285993,59|3,0,0 | D59: =CONCATENATE(285869,",",ROW(BCKQHDR_06610!D59),"|",COLUMN(BCKQHDR_06610!D59),",0",",0") -> 285869,59|4,0,0 | E59: =CONCATENATE(286082,",",ROW(BCKQHDR_06610!E59),"|",COLUMN(BCKQHDR_06610!E59),",0",",0") -> 286082,59|5,0,0
A60: =CONCATENATE(285907,",",ROW(BCKQHDR_06610!A60),"|",COLUMN(BCKQHDR_06610!A60),",0",",0") -> 285907,60|1,0,0 | B60: =CONCATENATE(285942,",",ROW(BCKQHDR_06610!B60),"|",COLUMN(BCKQHDR_06610!B60),",0",",0") -> 285942,60|2,0,0 | C60: =CONCATENATE(285994,",",ROW(BCKQHDR_06610!C60),"|",COLUMN(BCKQHDR_06610!C60),",0",",0") -> 285994,60|3,0,0 | D60: =CONCATENATE(285870,",",ROW(BCKQHDR_06610!D60),"|",COLUMN(BCKQHDR_06610!D60),",0",",0") -> 285870,60|4,0,0 | E60: =CONCATENATE(286083,",",ROW(BCKQHDR_06610!E60),"|",COLUMN(BCKQHDR_06610!E60),",0",",0") -> 286083,60|5,0,0
A61: =CONCATENATE(285840,",",ROW(BCKQHDR_06610!A61),"|",COLUMN(BCKQHDR_06610!A61),",0",",0") -> 285840,61|1,0,0 | B61: =CONCATENATE(285850,",",ROW(BCKQHDR_06610!B61),"|",COLUMN(BCKQHDR_06610!B61),",0",",0") -> 285850,61|2,0,0 | C61: =CONCATENATE(285995,",",ROW(BCKQHDR_06610!C61),"|",COLUMN(BCKQHDR_06610!C61),",0",",0") -> 285995,61|3,0,0 | D61: =CONCATENATE(285871,",",ROW(BCKQHDR_06610!D61),"|",COLUMN(BCKQHDR_06610!D61),",0",",0") -> 285871,61|4,0,0 | E61: =CONCATENATE(286084,",",ROW(BCKQHDR_06610!E61),"|",COLUMN(BCKQHDR_06610!E61),",0",",0") -> 286084,61|5,0,0
A62: =CONCATENATE(285908,",",ROW(BCKQHDR_06610!A62),"|",COLUMN(BCKQHDR_06610!A62),",0",",0") -> 285908,62|1,0,0 | B62: =CONCATENATE(285828,",",ROW(BCKQHDR_06610!B62),"|",COLUMN(BCKQHDR_06610!B62),",0",",0") -> 285828,62|2,0,0 | C62: =CONCATENATE(285996,",",ROW(BCKQHDR_06610!C62),"|",COLUMN(BCKQHDR_06610!C62),",0",",0") -> 285996,62|3,0,0 | D62: =CONCATENATE(285872,",",ROW(BCKQHDR_06610!D62),"|",COLUMN(BCKQHDR_06610!D62),",0",",0") -> 285872,62|4,0,0 | E62: =CONCATENATE(286085,",",ROW(BCKQHDR_06610!E62),"|",COLUMN(BCKQHDR_06610!E62),",0",",0") -> 286085,62|5,0,0
A63: =CONCATENATE(286133,",",ROW(BCKQHDR_06610!A63),"|",COLUMN(BCKQHDR_06610!A63),",0",",0") -> 286133,63|1,0,0 | B63: =CONCATENATE(285943,",",ROW(BCKQHDR_06610!B63),"|",COLUMN(BCKQHDR_06610!B63),",0",",0") -> 285943,63|2,0,0 | C63: =CONCATENATE(285997,",",ROW(BCKQHDR_06610!C63),"|",COLUMN(BCKQHDR_06610!C63),",0",",0") -> 285997,63|3,0,0 | D63: =CONCATENATE(285873,",",ROW(BCKQHDR_06610!D63),"|",COLUMN(BCKQHDR_06610!D63),",0",",0") -> 285873,63|4,0,0 | E63: =CONCATENATE(286143,",",ROW(BCKQHDR_06610!E63),"|",COLUMN(BCKQHDR_06610!E63),",0",",0") -> 286143,63|5,0,0
A64: =CONCATENATE(286151,",",ROW(BCKQHDR_06610!A64),"|",COLUMN(BCKQHDR_06610!A64),",0",",0") -> 286151,64|1,0,0 | B64: =CONCATENATE(286035,",",ROW(BCKQHDR_06610!B64),"|",COLUMN(BCKQHDR_06610!B64),",0",",0") -> 286035,64|2,0,0 | C64: =CONCATENATE(285998,",",ROW(BCKQHDR_06610!C64),"|",COLUMN(BCKQHDR_06610!C64),",0",",0") -> 285998,64|3,0,0 | D64: =CONCATENATE(285874,",",ROW(BCKQHDR_06610!D64),"|",COLUMN(BCKQHDR_06610!D64),",0",",0") -> 285874,64|4,0,0 | E64: =CONCATENATE(286144,",",ROW(BCKQHDR_06610!E64),"|",COLUMN(BCKQHDR_06610!E64),",0",",0") -> 286144,64|5,0,0
A65: =CONCATENATE(286153,",",ROW(BCKQHDR_06610!A65),"|",COLUMN(BCKQHDR_06610!A65),",0",",0") -> 286153,65|1,0,0 | B65: =CONCATENATE(285829,",",ROW(BCKQHDR_06610!B65),"|",COLUMN(BCKQHDR_06610!B65),",0",",0") -> 285829,65|2,0,0 | C65: =CONCATENATE(285999,",",ROW(BCKQHDR_06610!C65),"|",COLUMN(BCKQHDR_06610!C65),",0",",0") -> 285999,65|3,0,0 | D65: =CONCATENATE(285875,",",ROW(BCKQHDR_06610!D65),"|",COLUMN(BCKQHDR_06610!D65),",0",",0") -> 285875,65|4,0,0 | E65: =CONCATENATE(286145,",",ROW(BCKQHDR_06610!E65),"|",COLUMN(BCKQHDR_06610!E65),",0",",0") -> 286145,65|5,0,0
A66: =CONCATENATE(286134,",",ROW(BCKQHDR_06610!A66),"|",COLUMN(BCKQHDR_06610!A66),",0",",0") -> 286134,66|1,0,0 | B66: =CONCATENATE(285921,",",ROW(BCKQHDR_06610!B66),"|",COLUMN(BCKQHDR_06610!B66),",0",",0") -> 285921,66|2,0,0 | C66: =CONCATENATE(286000,",",ROW(BCKQHDR_06610!C66),"|",COLUMN(BCKQHDR_06610!C66),",0",",0") -> 286000,66|3,0,0 | D66: =CONCATENATE(285876,",",ROW(BCKQHDR_06610!D66),"|",COLUMN(BCKQHDR_06610!D66),",0",",0") -> 285876,66|4,0,0 | E66: =CONCATENATE(286146,",",ROW(BCKQHDR_06610!E66),"|",COLUMN(BCKQHDR_06610!E66),",0",",0") -> 286146,66|5,0,0
A67: =CONCATENATE(286154,",",ROW(BCKQHDR_06610!A67),"|",COLUMN(BCKQHDR_06610!A67),",0",",0") -> 286154,67|1,0,0 | B67: =CONCATENATE(285944,",",ROW(BCKQHDR_06610!B67),"|",COLUMN(BCKQHDR_06610!B67),",0",",0") -> 285944,67|2,0,0 | C67: =CONCATENATE(286001,",",ROW(BCKQHDR_06610!C67),"|",COLUMN(BCKQHDR_06610!C67),",0",",0") -> 286001,67|3,0,0 | D67: =CONCATENATE(285877,",",ROW(BCKQHDR_06610!D67),"|",COLUMN(BCKQHDR_06610!D67),",0",",0") -> 285877,67|4,0,0 | E67: =CONCATENATE(286147,",",ROW(BCKQHDR_06610!E67),"|",COLUMN(BCKQHDR_06610!E67),",0",",0") -> 286147,67|5,0,0
A68: =CONCATENATE(285834,",",ROW(BCKQHDR_06610!A68),"|",COLUMN(BCKQHDR_06610!A68),",0",",0") -> 285834,68|1,0,0 | B68: =CONCATENATE(285851,",",ROW(BCKQHDR_06610!B68),"|",COLUMN(BCKQHDR_06610!B68),",0",",0") -> 285851,68|2,0,0 | C68: =CONCATENATE(286002,",",ROW(BCKQHDR_06610!C68),"|",COLUMN(BCKQHDR_06610!C68),",0",",0") -> 286002,68|3,0,0 | D68: =CONCATENATE(285878,",",ROW(BCKQHDR_06610!D68),"|",COLUMN(BCKQHDR_06610!D68),",0",",0") -> 285878,68|4,0,0 | E68: =CONCATENATE(286114,",",ROW(BCKQHDR_06610!E68),"|",COLUMN(BCKQHDR_06610!E68),",0",",0") -> 286114,68|5,0,0
A69: =CONCATENATE(285841,",",ROW(BCKQHDR_06610!A69),"|",COLUMN(BCKQHDR_06610!A69),",0",",0") -> 285841,69|1,0,0 | B69: =CONCATENATE(285831,",",ROW(BCKQHDR_06610!B69),"|",COLUMN(BCKQHDR_06610!B69),",0",",0") -> 285831,69|2,0,0 | C69: =CONCATENATE(286003,",",ROW(BCKQHDR_06610!C69),"|",COLUMN(BCKQHDR_06610!C69),",0",",0") -> 286003,69|3,0,0 | D69: =CONCATENATE(285879,",",ROW(BCKQHDR_06610!D69),"|",COLUMN(BCKQHDR_06610!D69),",0",",0") -> 285879,69|4,0,0 | E69: =CONCATENATE(286086,",",ROW(BCKQHDR_06610!E69),"|",COLUMN(BCKQHDR_06610!E69),",0",",0") -> 286086,69|5,0,0
A70: =CONCATENATE(286135,",",ROW(BCKQHDR_06610!A70),"|",COLUMN(BCKQHDR_06610!A70),",0",",0") -> 286135,70|1,0,0 | B70: =CONCATENATE(286071,",",ROW(BCKQHDR_06610!B70),"|",COLUMN(BCKQHDR_06610!B70),",0",",0") -> 286071,70|2,0,0 | C70: =CONCATENATE(286004,",",ROW(BCKQHDR_06610!C70),"|",COLUMN(BCKQHDR_06610!C70),",0",",0") -> 286004,70|3,0,0 | D70: =CONCATENATE(285880,",",ROW(BCKQHDR_06610!D70),"|",COLUMN(BCKQHDR_06610!D70),",0",",0") -> 285880,70|4,0,0 | E70: =CONCATENATE(286087,",",ROW(BCKQHDR_06610!E70),"|",COLUMN(BCKQHDR_06610!E70),",0",",0") -> 286087,70|5,0,0
A71: =CONCATENATE(286162,",",ROW(BCKQHDR_06610!A71),"|",COLUMN(BCKQHDR_06610!A71),",0",",0") -> 286162,71|1,0,0 | B71: =CONCATENATE(285922,",",ROW(BCKQHDR_06610!B71),"|",COLUMN(BCKQHDR_06610!B71),",0",",0") -> 285922,71|2,0,0 | C71: =CONCATENATE(286005,",",ROW(BCKQHDR_06610!C71),"|",COLUMN(BCKQHDR_06610!C71),",0",",0") -> 286005,71|3,0,0 | D71: =CONCATENATE(285881,",",ROW(BCKQHDR_06610!D71),"|",COLUMN(BCKQHDR_06610!D71),",0",",0") -> 285881,71|4,0,0 | E71: =CONCATENATE(286088,",",ROW(BCKQHDR_06610!E71),"|",COLUMN(BCKQHDR_06610!E71),",0",",0") -> 286088,71|5,0,0
A72: =CONCATENATE(285842,",",ROW(BCKQHDR_06610!A72),"|",COLUMN(BCKQHDR_06610!A72),",0",",0") -> 285842,72|1,0,0 | B72: =CONCATENATE(285945,",",ROW(BCKQHDR_06610!B72),"|",COLUMN(BCKQHDR_06610!B72),",0",",0") -> 285945,72|2,0,0 | C72: =CONCATENATE(286006,",",ROW(BCKQHDR_06610!C72),"|",COLUMN(BCKQHDR_06610!C72),",0",",0") -> 286006,72|3,0,0 | D72: =CONCATENATE(285882,",",ROW(BCKQHDR_06610!D72),"|",COLUMN(BCKQHDR_06610!D72),",0",",0") -> 285882,72|4,0,0 | E72: =CONCATENATE(286089,",",ROW(BCKQHDR_06610!E72),"|",COLUMN(BCKQHDR_06610!E72),",0",",0") -> 286089,72|5,0,0
A73: =CONCATENATE(286066,",",ROW(BCKQHDR_06610!A73),"|",COLUMN(BCKQHDR_06610!A73),",0",",0") -> 286066,73|1,0,0 | B73: =CONCATENATE(285923,",",ROW(BCKQHDR_06610!B73),"|",COLUMN(BCKQHDR_06610!B73),",0",",0") -> 285923,73|2,0,0 | C73: =CONCATENATE(286007,",",ROW(BCKQHDR_06610!C73),"|",COLUMN(BCKQHDR_06610!C73),",0",",0") -> 286007,73|3,0,0 | D73: =CONCATENATE(285883,",",ROW(BCKQHDR_06610!D73),"|",COLUMN(BCKQHDR_06610!D73),",0",",0") -> 285883,73|4,0,0 | E73: =CONCATENATE(286090,",",ROW(BCKQHDR_06610!E73),"|",COLUMN(BCKQHDR_06610!E73),",0",",0") -> 286090,73|5,0,0
A74: =CONCATENATE(285929,",",ROW(BCKQHDR_06610!A74),"|",COLUMN(BCKQHDR_06610!A74),",0",",0") -> 285929,74|1,0,0 | B74: =CONCATENATE(285852,",",ROW(BCKQHDR_06610!B74),"|",COLUMN(BCKQHDR_06610!B74),",0",",0") -> 285852,74|2,0,0 | C74: =CONCATENATE(286008,",",ROW(BCKQHDR_06610!C74),"|",COLUMN(BCKQHDR_06610!C74),",0",",0") -> 286008,74|3,0,0 | D74: =CONCATENATE(285884,",",ROW(BCKQHDR_06610!D74),"|",COLUMN(BCKQHDR_06610!D74),",0",",0") -> 285884,74|4,0,0 | E74: =CONCATENATE(286161,",",ROW(BCKQHDR_06610!E74),"|",COLUMN(BCKQHDR_06610!E74),",0",",0") -> 286161,74|5,0,0

Sheet BCLCTTRTT_06611
A1: BÁO CÁO LƯU CHUYỂN TIỀN TỆ RIÊNG
A2: (Theo phương pháp trực tiếp)
A3: Đơn vị tính: Đồng Việt Nam
A4: CHỈ TIÊU | B4: Mã số | C4: Thuyết minh | D4: Năm nay | E4: Năm trước
A5: A | B5: B | C5: C | D5: 1 | E5: 2
A6: I. Lưu chuyển tiền từ hoạt động kinh doanh
A7: 1.Tiền đã chi mua các tài sản tài chính | B7: 1 | D7: -154459507263334 | E7: -140971876367728
A8: 2.Tiền đã thu từ bán các tài sản tài chính | B8: 2 | D8: 153437482173078 | E8: 141481801356105
A9: 3. Tiền chi nộp Quỹ Hỗ trợ thanh toán | B9: 3
A10: 4. Cổ tức đã nhận | B10: 4 | D10: 45741318133 | E10: 70519147087
A11: 5. Tiền lãi đã thu | B11: 5 | D11: 502103502321 | E11: 484507479347
A12: 6. Tiền chi trả lãi vay cho hoạt động của CTCK | B12: 6 | D12: -110937836400 | E12: -87686641206
A13: 7. Tiền chi trả Tổ chức cung cấp dịch vụ cho CTCK | B13: 7 | D13: -79730741243 | E13: -70977455615
A14: 8. Tiền chi trả cho người lao động | B14: 8 | D14: -266209484688 | E14: -254225093459
A15: 9. Tiền chi nộp thuế liên quan đến hoạt động CTCK | B15: 9 | D15: -239088483804 | E15: -208927117778
A16: 10.Tiền chi thanh toán các chi phí cho hoạt động mua, bán các tài sản tài chính | B16: 10
A17: 11. Tiền thu khác từ hoạt động kinh doanh | B17: 11 | D17: 7009698513469 | E17: 7431351608066
A18: 12. Tiền chi khác cho hoạt động kinh doanh | B18: 12 | D18: -6514174100681 | E18: -7289606468557
A19: Lưu chuyển tiền thuần từ hoạt động kinh doanh | B19: 20 | D19: =SUM(D7:D18) -> -674622403149 | E19: =SUM(E7:E18) -> 584880446262
A20: II. Lưu chuyển tiền từ hoạt động đầu tư
A21: 1.Tiền chi để mua sắm, xây dựng TSCĐ, BĐSĐT và các tài sản khác | B21: 21 | D21: -9294727000 | E21: -6961767675
A22: 2.Tiền thu từ thanh lý, nhượng bán TSCĐ, BĐSĐT và các tài sản khác | B22: 22
A23: 3.Tiền chi đầu tư góp vốn vào công ty con, công ty liên doanh, liên kết và đầu tư khác | B23: 23
A24: 4.Tiền thu hồi đầu tư góp vốn vào công ty con, công ty liên doanh, liên kết và đầu tư khác | B24: 24
A25: 5.Tiền thu về cổ tức và lợi nhuận được chia từ các khoản đầu tư tài chính dài hạn | B25: 25
A26: Lưu chuyển tiền thuần từ hoạt động đầu tư | B26: 30 | D26: =+D21+D22+D23+D24+D25 -> -9294727000 | E26: =+E21+E22+E23+E24+E25 -> -6961767675
A27: III. Lưu chuyển tiền từ hoạt động tài chính
A28: 1.Tiền thu từ phát hành cổ phiếu, nhận vốn góp của chủ sở hữu | B28: 31
A29: 2.Tiền chi trả vốn góp cho các chủ sở hữu, mua lại cổ phiếu đã phát hành | B29: 32
A30: 3.Tiền vay gốc | B30: 33 | D30: 9266672866431 | E30: 10412120000000
A31: 3.1. Tiền vay Quỹ Hỗ trợ thanh toán | B31: 33.1
A32: 3.2. Tiền vay khác | B32: 33.2 | D32: 9266672866431 | E32: 10412120000000
A33: 4. Tiền chi trả nợ gốc vay | B33: 34 | D33: -8326092866431 | E33: -10767600000000
A34: 4.1. Tiền chi trả gốc vay Quỹ Hỗ trợ thanh toán | B34: 34.1
A35: 4.2. Tiền chi trả gốc vay tài sản tài chính | B35: 34.2
A36: 4.3. Tiền chi trả gốc vay khác | B36: 34.3 | D36: -8326092866431 | E36: -10767600000000
A37: 5.Tiền chi trả nợ gốc thuê tài chính | B37: 35
A38: 6. Cổ tức, lợi nhuận đã trả cho chủ sở hữu | B38: 36 | D38: -56606267360 | E38: -56637033720
A39: Lưu chuyển tiền thuần từ hoạt động tài chính | B39: 40 | D39: =+D38+D37+D33+D30+D29+D28 -> 883973732640 | E39: =+E38+E37+E33+E30+E29+E28 -> -412117033720
A40: IV. Tăng/giảm tiền thuần trong kỳ | B40: 50 | D40: =+D39+D26+D19 -> 200056602491 | E40: =+E39+E26+E19 -> 165801644867
A41: V. Tiền và các khoản tương đương tiền đầu kỳ | B41: 60 | D41: =+D42+D43+D44 -> 167854336536 | E41: =+E42+E43+E44 -> 2052691669
A42: Tiền | B42: 61 | D42: 167854336536 | E42: 2052691669
A43: Các khoản tương đương tiền | B43: 62
A44: Ảnh hưởng của thay đổi tỷ giá hối đoái quy đổi ngoại tệ | B44: 63
A45: VI. Tiền và các khoản tương đương tiền cuối kỳ (70 = 50 + 60) | B45: 70 | D45: =+D40+D41 -> 367910939027 | E45: =+E40+E41 -> 167854336536
A46: Tiền | B46: 71 | D46: 367910939027 | E46: 167854336536
A47: Các khoản tương đương tiền | B47: 72
A48: Ảnh hưởng của thay đổi tỷ giá hối đoái quy đổi ngoại tệ | B48: 73

Sheet 6046_hidden
A5: =CONCATENATE(286883,",",ROW(BCLCTTRTT_06611!A5),"|",COLUMN(BCLCTTRTT_06611!A5),",0",",0") -> 286883,5|1,0,0 | B5: =CONCATENATE(286869,",",ROW(BCLCTTRTT_06611!B5),"|",COLUMN(BCLCTTRTT_06611!B5),",0",",0") -> 286869,5|2,0,0 | C5: =CONCATENATE(286951,",",ROW(BCLCTTRTT_06611!C5),"|",COLUMN(BCLCTTRTT_06611!C5),",0",",0") -> 286951,5|3,0,0 | D5: =CONCATENATE(286870,",",ROW(BCLCTTRTT_06611!D5),"|",COLUMN(BCLCTTRTT_06611!D5),",0",",0") -> 286870,5|4,0,0 | E5: =CONCATENATE(286875,",",ROW(BCLCTTRTT_06611!E5),"|",COLUMN(BCLCTTRTT_06611!E5),",0",",0") -> 286875,5|5,0,0
A6: =CONCATENATE(286871,",",ROW(BCLCTTRTT_06611!A6),"|",COLUMN(BCLCTTRTT_06611!A6),",0",",0") -> 286871,6|1,0,0 | C6: =CONCATENATE(286913,",",ROW(BCLCTTRTT_06611!C6),"|",COLUMN(BCLCTTRTT_06611!C6),",0",",0") -> 286913,6|3,0,0 | D6: =CONCATENATE(286778,",",ROW(BCLCTTRTT_06611!D6),"|",COLUMN(BCLCTTRTT_06611!D6),",0",",0") -> 286778,6|4,0,0 | E6: =CONCATENATE(286820,",",ROW(BCLCTTRTT_06611!E6),"|",COLUMN(BCLCTTRTT_06611!E6),",0",",0") -> 286820,6|5,0,0
A7: =CONCATENATE(286882,",",ROW(BCLCTTRTT_06611!A7),"|",COLUMN(BCLCTTRTT_06611!A7),",0",",0") -> 286882,7|1,0,0 | B7: =CONCATENATE(286848,",",ROW(BCLCTTRTT_06611!B7),"|",COLUMN(BCLCTTRTT_06611!B7),",0",",0") -> 286848,7|2,0,0 | C7: =CONCATENATE(286886,",",ROW(BCLCTTRTT_06611!C7),"|",COLUMN(BCLCTTRTT_06611!C7),",0",",0") -> 286886,7|3,0,0 | D7: =CONCATENATE(286929,",",ROW(BCLCTTRTT_06611!D7),"|",COLUMN(BCLCTTRTT_06611!D7),",0",",0") -> 286929,7|4,0,0 | E7: =CONCATENATE(286794,",",ROW(BCLCTTRTT_06611!E7),"|",COLUMN(BCLCTTRTT_06611!E7),",0",",0") -> 286794,7|5,0,0
A8: =CONCATENATE(286877,",",ROW(BCLCTTRTT_06611!A8),"|",COLUMN(BCLCTTRTT_06611!A8),",0",",0") -> 286877,8|1,0,0 | B8: =CONCATENATE(286849,",",ROW(BCLCTTRTT_06611!B8),"|",COLUMN(BCLCTTRTT_06611!B8),",0",",0") -> 286849,8|2,0,0 | C8: =CONCATENATE(286898,",",ROW(BCLCTTRTT_06611!C8),"|",COLUMN(BCLCTTRTT_06611!C8),",0",",0") -> 286898,8|3,0,0 | D8: =CONCATENATE(286763,",",ROW(BCLCTTRTT_06611!D8),"|",COLUMN(BCLCTTRTT_06611!D8),",0",",0") -> 286763,8|4,0,0 | E8: =CONCATENATE(286806,",",ROW(BCLCTTRTT_06611!E8),"|",COLUMN(BCLCTTRTT_06611!E8),",0",",0") -> 286806,8|5,0,0
A9: =CONCATENATE(286952,",",ROW(BCLCTTRTT_06611!A9),"|",COLUMN(BCLCTTRTT_06611!A9),",0",",0") -> 286952,9|1,0,0 | B9: =CONCATENATE(286850,",",ROW(BCLCTTRTT_06611!B9),"|",COLUMN(BCLCTTRTT_06611!B9),",0",",0") -> 286850,9|2,0,0 | C9: =CONCATENATE(286899,",",ROW(BCLCTTRTT_06611!C9),"|",COLUMN(BCLCTTRTT_06611!C9),",0",",0") -> 286899,9|3,0,0 | D9: =CONCATENATE(286764,",",ROW(BCLCTTRTT_06611!D9),"|",COLUMN(BCLCTTRTT_06611!D9),",0",",0") -> 286764,9|4,0,0 | E9: =CONCATENATE(286807,",",ROW(BCLCTTRTT_06611!E9),"|",COLUMN(BCLCTTRTT_06611!E9),",0",",0") -> 286807,9|5,0,0
A10: =CONCATENATE(286872,",",ROW(BCLCTTRTT_06611!A10),"|",COLUMN(BCLCTTRTT_06611!A10),",0",",0") -> 286872,10|1,0,0 | B10: =CONCATENATE(286851,",",ROW(BCLCTTRTT_06611!B10),"|",COLUMN(BCLCTTRTT_06611!B10),",0",",0") -> 286851,10|2,0,0 | C10: =CONCATENATE(286900,",",ROW(BCLCTTRTT_06611!C10),"|",COLUMN(BCLCTTRTT_06611!C10),",0",",0") -> 286900,10|3,0,0 | D10: =CONCATENATE(286765,",",ROW(BCLCTTRTT_06611!D10),"|",COLUMN(BCLCTTRTT_06611!D10),",0",",0") -> 286765,10|4,0,0 | E10: =CONCATENATE(286808,",",ROW(BCLCTTRTT_06611!E10),"|",COLUMN(BCLCTTRTT_06611!E10),",0",",0") -> 286808,10|5,0,0
A11: =CONCATENATE(286953,",",ROW(BCLCTTRTT_06611!A11),"|",COLUMN(BCLCTTRTT_06611!A11),",0",",0") -> 286953,11|1,0,0 | B11: =CONCATENATE(286852,",",ROW(BCLCTTRTT_06611!B11),"|",COLUMN(BCLCTTRTT_06611!B11),",0",",0") -> 286852,11|2,0,0 | C11: =CONCATENATE(286901,",",ROW(BCLCTTRTT_06611!C11),"|",COLUMN(BCLCTTRTT_06611!C11),",0",",0") -> 286901,11|3,0,0 | D11: =CONCATENATE(286766,",",ROW(BCLCTTRTT_06611!D11),"|",COLUMN(BCLCTTRTT_06611!D11),",0",",0") -> 286766,11|4,0,0 | E11: =CONCATENATE(286809,",",ROW(BCLCTTRTT_06611!E11),"|",COLUMN(BCLCTTRTT_06611!E11),",0",",0") -> 286809,11|5,0,0
A12: =CONCATENATE(286954,",",ROW(BCLCTTRTT_06611!A12),"|",COLUMN(BCLCTTRTT_06611!A12),",0",",0") -> 286954,12|1,0,0 | B12: =CONCATENATE(286853,",",ROW(BCLCTTRTT_06611!B12),"|",COLUMN(BCLCTTRTT_06611!B12),",0",",0") -> 286853,12|2,0,0 | C12: =CONCATENATE(286902,",",ROW(BCLCTTRTT_06611!C12),"|",COLUMN(BCLCTTRTT_06611!C12),",0",",0") -> 286902,12|3,0,0 | D12: =CONCATENATE(286767,",",ROW(BCLCTTRTT_06611!D12),"|",COLUMN(BCLCTTRTT_06611!D12),",0",",0") -> 286767,12|4,0,0 | E12: =CONCATENATE(286810,",",ROW(BCLCTTRTT_06611!E12),"|",COLUMN(BCLCTTRTT_06611!E12),",0",",0") -> 286810,12|5,0,0
A13: =CONCATENATE(286878,",",ROW(BCLCTTRTT_06611!A13),"|",COLUMN(BCLCTTRTT_06611!A13),",0",",0") -> 286878,13|1,0,0 | B13: =CONCATENATE(286967,",",ROW(BCLCTTRTT_06611!B13),"|",COLUMN(BCLCTTRTT_06611!B13),",0",",0") -> 286967,13|2,0,0 | C13: =CONCATENATE(286916,",",ROW(BCLCTTRTT_06611!C13),"|",COLUMN(BCLCTTRTT_06611!C13),",0",",0") -> 286916,13|3,0,0 | D13: =CONCATENATE(286781,",",ROW(BCLCTTRTT_06611!D13),"|",COLUMN(BCLCTTRTT_06611!D13),",0",",0") -> 286781,13|4,0,0 | E13: =CONCATENATE(286823,",",ROW(BCLCTTRTT_06611!E13),"|",COLUMN(BCLCTTRTT_06611!E13),",0",",0") -> 286823,13|5,0,0
A14: =CONCATENATE(286873,",",ROW(BCLCTTRTT_06611!A14),"|",COLUMN(BCLCTTRTT_06611!A14),",0",",0") -> 286873,14|1,0,0 | B14: =CONCATENATE(286960,",",ROW(BCLCTTRTT_06611!B14),"|",COLUMN(BCLCTTRTT_06611!B14),",0",",0") -> 286960,14|2,0,0 | C14: =CONCATENATE(286914,",",ROW(BCLCTTRTT_06611!C14),"|",COLUMN(BCLCTTRTT_06611!C14),",0",",0") -> 286914,14|3,0,0 | D14: =CONCATENATE(286779,",",ROW(BCLCTTRTT_06611!D14),"|",COLUMN(BCLCTTRTT_06611!D14),",0",",0") -> 286779,14|4,0,0 | E14: =CONCATENATE(286821,",",ROW(BCLCTTRTT_06611!E14),"|",COLUMN(BCLCTTRTT_06611!E14),",0",",0") -> 286821,14|5,0,0
A15: =CONCATENATE(286956,",",ROW(BCLCTTRTT_06611!A15),"|",COLUMN(BCLCTTRTT_06611!A15),",0",",0") -> 286956,15|1,0,0 | B15: =CONCATENATE(286961,",",ROW(BCLCTTRTT_06611!B15),"|",COLUMN(BCLCTTRTT_06611!B15),",0",",0") -> 286961,15|2,0,0 | C15: =CONCATENATE(286925,",",ROW(BCLCTTRTT_06611!C15),"|",COLUMN(BCLCTTRTT_06611!C15),",0",",0") -> 286925,15|3,0,0 | D15: =CONCATENATE(286789,",",ROW(BCLCTTRTT_06611!D15),"|",COLUMN(BCLCTTRTT_06611!D15),",0",",0") -> 286789,15|4,0,0 | E15: =CONCATENATE(286831,",",ROW(BCLCTTRTT_06611!E15),"|",COLUMN(BCLCTTRTT_06611!E15),",0",",0") -> 286831,15|5,0,0
A16: =CONCATENATE(286835,",",ROW(BCLCTTRTT_06611!A16),"|",COLUMN(BCLCTTRTT_06611!A16),",0",",0") -> 286835,16|1,0,0 | B16: =CONCATENATE(286962,",",ROW(BCLCTTRTT_06611!B16),"|",COLUMN(BCLCTTRTT_06611!B16),",0",",0") -> 286962,16|2,0,0 | C16: =CONCATENATE(286887,",",ROW(BCLCTTRTT_06611!C16),"|",COLUMN(BCLCTTRTT_06611!C16),",0",",0") -> 286887,16|3,0,0 | D16: =CONCATENATE(286930,",",ROW(BCLCTTRTT_06611!D16),"|",COLUMN(BCLCTTRTT_06611!D16),",0",",0") -> 286930,16|4,0,0 | E16: =CONCATENATE(286795,",",ROW(BCLCTTRTT_06611!E16),"|",COLUMN(BCLCTTRTT_06611!E16),",0",",0") -> 286795,16|5,0,0
A17: =CONCATENATE(286955,",",ROW(BCLCTTRTT_06611!A17),"|",COLUMN(BCLCTTRTT_06611!A17),",0",",0") -> 286955,17|1,0,0 | B17: =CONCATENATE(286963,",",ROW(BCLCTTRTT_06611!B17),"|",COLUMN(BCLCTTRTT_06611!B17),",0",",0") -> 286963,17|2,0,0 | C17: =CONCATENATE(286924,",",ROW(BCLCTTRTT_06611!C17),"|",COLUMN(BCLCTTRTT_06611!C17),",0",",0") -> 286924,17|3,0,0 | D17: =CONCATENATE(286788,",",ROW(BCLCTTRTT_06611!D17),"|",COLUMN(BCLCTTRTT_06611!D17),",0",",0") -> 286788,17|4,0,0 | E17: =CONCATENATE(286830,",",ROW(BCLCTTRTT_06611!E17),"|",COLUMN(BCLCTTRTT_06611!E17),",0",",0") -> 286830,17|5,0,0
A18: =CONCATENATE(286836,",",ROW(BCLCTTRTT_06611!A18),"|",COLUMN(BCLCTTRTT_06611!A18),",0",",0") -> 286836,18|1,0,0 | B18: =CONCATENATE(286842,",",ROW(BCLCTTRTT_06611!B18),"|",COLUMN(BCLCTTRTT_06611!B18),",0",",0") -> 286842,18|2,0,0 | C18: =CONCATENATE(286790,",",ROW(BCLCTTRTT_06611!C18),"|",COLUMN(BCLCTTRTT_06611!C18),",0",",0") -> 286790,18|3,0,0 | D18: =CONCATENATE(286931,",",ROW(BCLCTTRTT_06611!D18),"|",COLUMN(BCLCTTRTT_06611!D18),",0",",0") -> 286931,18|4,0,0 | E18: =CONCATENATE(286796,",",ROW(BCLCTTRTT_06611!E18),"|",COLUMN(BCLCTTRTT_06611!E18),",0",",0") -> 286796,18|5,0,0
A19: =CONCATENATE(286837,",",ROW(BCLCTTRTT_06611!A19),"|",COLUMN(BCLCTTRTT_06611!A19),",0",",0") -> 286837,19|1,0,0 | B19: =CONCATENATE(286968,",",ROW(BCLCTTRTT_06611!B19),"|",COLUMN(BCLCTTRTT_06611!B19),",0",",0") -> 286968,19|2,0,0 | C19: =CONCATENATE(286888,",",ROW(BCLCTTRTT_06611!C19),"|",COLUMN(BCLCTTRTT_06611!C19),",0",",0") -> 286888,19|3,0,0 | D19: =CONCATENATE(286932,",",ROW(BCLCTTRTT_06611!D19),"|",COLUMN(BCLCTTRTT_06611!D19),",0",",0") -> 286932,19|4,0,0 | E19: =CONCATENATE(286797,",",ROW(BCLCTTRTT_06611!E19),"|",COLUMN(BCLCTTRTT_06611!E19),",0",",0") -> 286797,19|5,0,0
A20: =CONCATENATE(286957,",",ROW(BCLCTTRTT_06611!A20),"|",COLUMN(BCLCTTRTT_06611!A20),",0",",0") -> 286957,20|1,0,0 | C20: =CONCATENATE(286926,",",ROW(BCLCTTRTT_06611!C20),"|",COLUMN(BCLCTTRTT_06611!C20),",0",",0") -> 286926,20|3,0,0 | D20: =CONCATENATE(286791,",",ROW(BCLCTTRTT_06611!D20),"|",COLUMN(BCLCTTRTT_06611!D20),",0",",0") -> 286791,20|4,0,0 | E20: =CONCATENATE(286832,",",ROW(BCLCTTRTT_06611!E20),"|",COLUMN(BCLCTTRTT_06611!E20),",0",",0") -> 286832,20|5,0,0
A21: =CONCATENATE(286859,",",ROW(BCLCTTRTT_06611!A21),"|",COLUMN(BCLCTTRTT_06611!A21),",0",",0") -> 286859,21|1,0,0 | B21: =CONCATENATE(286973,",",ROW(BCLCTTRTT_06611!B21),"|",COLUMN(BCLCTTRTT_06611!B21),",0",",0") -> 286973,21|2,0,0 | C21: =CONCATENATE(286908,",",ROW(BCLCTTRTT_06611!C21),"|",COLUMN(BCLCTTRTT_06611!C21),",0",",0") -> 286908,21|3,0,0 | D21: =CONCATENATE(286773,",",ROW(BCLCTTRTT_06611!D21),"|",COLUMN(BCLCTTRTT_06611!D21),",0",",0") -> 286773,21|4,0,0 | E21: =CONCATENATE(286815,",",ROW(BCLCTTRTT_06611!E21),"|",COLUMN(BCLCTTRTT_06611!E21),",0",",0") -> 286815,21|5,0,0
A22: =CONCATENATE(286879,",",ROW(BCLCTTRTT_06611!A22),"|",COLUMN(BCLCTTRTT_06611!A22),",0",",0") -> 286879,22|1,0,0 | B22: =CONCATENATE(286974,",",ROW(BCLCTTRTT_06611!B22),"|",COLUMN(BCLCTTRTT_06611!B22),",0",",0") -> 286974,22|2,0,0 | C22: =CONCATENATE(286917,",",ROW(BCLCTTRTT_06611!C22),"|",COLUMN(BCLCTTRTT_06611!C22),",0",",0") -> 286917,22|3,0,0 | D22: =CONCATENATE(286782,",",ROW(BCLCTTRTT_06611!D22),"|",COLUMN(BCLCTTRTT_06611!D22),",0",",0") -> 286782,22|4,0,0 | E22: =CONCATENATE(286824,",",ROW(BCLCTTRTT_06611!E22),"|",COLUMN(BCLCTTRTT_06611!E22),",0",",0") -> 286824,22|5,0,0
A23: =CONCATENATE(286881,",",ROW(BCLCTTRTT_06611!A23),"|",COLUMN(BCLCTTRTT_06611!A23),",0",",0") -> 286881,23|1,0,0 | B23: =CONCATENATE(286918,",",ROW(BCLCTTRTT_06611!B23),"|",COLUMN(BCLCTTRTT_06611!B23),",0",",0") -> 286918,23|2,0,0 | C23: =CONCATENATE(286928,",",ROW(BCLCTTRTT_06611!C23),"|",COLUMN(BCLCTTRTT_06611!C23),",0",",0") -> 286928,23|3,0,0 | D23: =CONCATENATE(286793,",",ROW(BCLCTTRTT_06611!D23),"|",COLUMN(BCLCTTRTT_06611!D23),",0",",0") -> 286793,23|4,0,0 | E23: =CONCATENATE(286834,",",ROW(BCLCTTRTT_06611!E23),"|",COLUMN(BCLCTTRTT_06611!E23),",0",",0") -> 286834,23|5,0,0
A24: =CONCATENATE(286884,",",ROW(BCLCTTRTT_06611!A24),"|",COLUMN(BCLCTTRTT_06611!A24),",0",",0") -> 286884,24|1,0,0 | B24: =CONCATENATE(286885,",",ROW(BCLCTTRTT_06611!B24),"|",COLUMN(BCLCTTRTT_06611!B24),",0",",0") -> 286885,24|2,0,0 | C24: =CONCATENATE(286927,",",ROW(BCLCTTRTT_06611!C24),"|",COLUMN(BCLCTTRTT_06611!C24),",0",",0") -> 286927,24|3,0,0 | D24: =CONCATENATE(286792,",",ROW(BCLCTTRTT_06611!D24),"|",COLUMN(BCLCTTRTT_06611!D24),",0",",0") -> 286792,24|4,0,0 | E24: =CONCATENATE(286833,",",ROW(BCLCTTRTT_06611!E24),"|",COLUMN(BCLCTTRTT_06611!E24),",0",",0") -> 286833,24|5,0,0
A25: =CONCATENATE(286958,",",ROW(BCLCTTRTT_06611!A25),"|",COLUMN(BCLCTTRTT_06611!A25),",0",",0") -> 286958,25|1,0,0 | B25: =CONCATENATE(286945,",",ROW(BCLCTTRTT_06611!B25),"|",COLUMN(BCLCTTRTT_06611!B25),",0",",0") -> 286945,25|2,0,0 | C25: =CONCATENATE(286922,",",ROW(BCLCTTRTT_06611!C25),"|",COLUMN(BCLCTTRTT_06611!C25),",0",",0") -> 286922,25|3,0,0 | D25: =CONCATENATE(286786,",",ROW(BCLCTTRTT_06611!D25),"|",COLUMN(BCLCTTRTT_06611!D25),",0",",0") -> 286786,25|4,0,0 | E25: =CONCATENATE(286828,",",ROW(BCLCTTRTT_06611!E25),"|",COLUMN(BCLCTTRTT_06611!E25),",0",",0") -> 286828,25|5,0,0
A26: =CONCATENATE(286860,",",ROW(BCLCTTRTT_06611!A26),"|",COLUMN(BCLCTTRTT_06611!A26),",0",",0") -> 286860,26|1,0,0 | B26: =CONCATENATE(286843,",",ROW(BCLCTTRTT_06611!B26),"|",COLUMN(BCLCTTRTT_06611!B26),",0",",0") -> 286843,26|2,0,0 | C26: =CONCATENATE(286893,",",ROW(BCLCTTRTT_06611!C26),"|",COLUMN(BCLCTTRTT_06611!C26),",0",",0") -> 286893,26|3,0,0 | D26: =CONCATENATE(286937,",",ROW(BCLCTTRTT_06611!D26),"|",COLUMN(BCLCTTRTT_06611!D26),",0",",0") -> 286937,26|4,0,0 | E26: =CONCATENATE(286801,",",ROW(BCLCTTRTT_06611!E26),"|",COLUMN(BCLCTTRTT_06611!E26),",0",",0") -> 286801,26|5,0,0
A27: =CONCATENATE(286880,",",ROW(BCLCTTRTT_06611!A27),"|",COLUMN(BCLCTTRTT_06611!A27),",0",",0") -> 286880,27|1,0,0 | C27: =CONCATENATE(286894,",",ROW(BCLCTTRTT_06611!C27),"|",COLUMN(BCLCTTRTT_06611!C27),",0",",0") -> 286894,27|3,0,0 | D27: =CONCATENATE(286938,",",ROW(BCLCTTRTT_06611!D27),"|",COLUMN(BCLCTTRTT_06611!D27),",0",",0") -> 286938,27|4,0,0 | E27: =CONCATENATE(286802,",",ROW(BCLCTTRTT_06611!E27),"|",COLUMN(BCLCTTRTT_06611!E27),",0",",0") -> 286802,27|5,0,0
A28: =CONCATENATE(286838,",",ROW(BCLCTTRTT_06611!A28),"|",COLUMN(BCLCTTRTT_06611!A28),",0",",0") -> 286838,28|1,0,0 | B28: =CONCATENATE(286844,",",ROW(BCLCTTRTT_06611!B28),"|",COLUMN(BCLCTTRTT_06611!B28),",0",",0") -> 286844,28|2,0,0 | C28: =CONCATENATE(286889,",",ROW(BCLCTTRTT_06611!C28),"|",COLUMN(BCLCTTRTT_06611!C28),",0",",0") -> 286889,28|3,0,0 | D28: =CONCATENATE(286933,",",ROW(BCLCTTRTT_06611!D28),"|",COLUMN(BCLCTTRTT_06611!D28),",0",",0") -> 286933,28|4,0,0 | E28: =CONCATENATE(286798,",",ROW(BCLCTTRTT_06611!E28),"|",COLUMN(BCLCTTRTT_06611!E28),",0",",0") -> 286798,28|5,0,0
A29: =CONCATENATE(286940,",",ROW(BCLCTTRTT_06611!A29),"|",COLUMN(BCLCTTRTT_06611!A29),",0",",0") -> 286940,29|1,0,0 | B29: =CONCATENATE(286969,",",ROW(BCLCTTRTT_06611!B29),"|",COLUMN(BCLCTTRTT_06611!B29),",0",",0") -> 286969,29|2,0,0 | C29: =CONCATENATE(286919,",",ROW(BCLCTTRTT_06611!C29),"|",COLUMN(BCLCTTRTT_06611!C29),",0",",0") -> 286919,29|3,0,0 | D29: =CONCATENATE(286783,",",ROW(BCLCTTRTT_06611!D29),"|",COLUMN(BCLCTTRTT_06611!D29),",0",",0") -> 286783,29|4,0,0 | E29: =CONCATENATE(286825,",",ROW(BCLCTTRTT_06611!E29),"|",COLUMN(BCLCTTRTT_06611!E29),",0",",0") -> 286825,29|5,0,0
A30: =CONCATENATE(286839,",",ROW(BCLCTTRTT_06611!A30),"|",COLUMN(BCLCTTRTT_06611!A30),",0",",0") -> 286839,30|1,0,0 | B30: =CONCATENATE(286964,",",ROW(BCLCTTRTT_06611!B30),"|",COLUMN(BCLCTTRTT_06611!B30),",0",",0") -> 286964,30|2,0,0 | C30: =CONCATENATE(286890,",",ROW(BCLCTTRTT_06611!C30),"|",COLUMN(BCLCTTRTT_06611!C30),",0",",0") -> 286890,30|3,0,0 | D30: =CONCATENATE(286934,",",ROW(BCLCTTRTT_06611!D30),"|",COLUMN(BCLCTTRTT_06611!D30),",0",",0") -> 286934,30|4,0,0 | E30: =CONCATENATE(286876,",",ROW(BCLCTTRTT_06611!E30),"|",COLUMN(BCLCTTRTT_06611!E30),",0",",0") -> 286876,30|5,0,0
A31: =CONCATENATE(286941,",",ROW(BCLCTTRTT_06611!A31),"|",COLUMN(BCLCTTRTT_06611!A31),",0",",0") -> 286941,31|1,0,0 | B31: =CONCATENATE(286854,",",ROW(BCLCTTRTT_06611!B31),"|",COLUMN(BCLCTTRTT_06611!B31),",0",",0") -> 286854,31|2,0,0 | C31: =CONCATENATE(286903,",",ROW(BCLCTTRTT_06611!C31),"|",COLUMN(BCLCTTRTT_06611!C31),",0",",0") -> 286903,31|3,0,0 | D31: =CONCATENATE(286768,",",ROW(BCLCTTRTT_06611!D31),"|",COLUMN(BCLCTTRTT_06611!D31),",0",",0") -> 286768,31|4,0,0 | E31: =CONCATENATE(286811,",",ROW(BCLCTTRTT_06611!E31),"|",COLUMN(BCLCTTRTT_06611!E31),",0",",0") -> 286811,31|5,0,0
A32: =CONCATENATE(286861,",",ROW(BCLCTTRTT_06611!A32),"|",COLUMN(BCLCTTRTT_06611!A32),",0",",0") -> 286861,32|1,0,0 | B32: =CONCATENATE(286970,",",ROW(BCLCTTRTT_06611!B32),"|",COLUMN(BCLCTTRTT_06611!B32),",0",",0") -> 286970,32|2,0,0 | C32: =CONCATENATE(286909,",",ROW(BCLCTTRTT_06611!C32),"|",COLUMN(BCLCTTRTT_06611!C32),",0",",0") -> 286909,32|3,0,0 | D32: =CONCATENATE(286774,",",ROW(BCLCTTRTT_06611!D32),"|",COLUMN(BCLCTTRTT_06611!D32),",0",",0") -> 286774,32|4,0,0 | E32: =CONCATENATE(286816,",",ROW(BCLCTTRTT_06611!E32),"|",COLUMN(BCLCTTRTT_06611!E32),",0",",0") -> 286816,32|5,0,0
A33: =CONCATENATE(286840,",",ROW(BCLCTTRTT_06611!A33),"|",COLUMN(BCLCTTRTT_06611!A33),",0",",0") -> 286840,33|1,0,0 | B33: =CONCATENATE(286946,",",ROW(BCLCTTRTT_06611!B33),"|",COLUMN(BCLCTTRTT_06611!B33),",0",",0") -> 286946,33|2,0,0 | C33: =CONCATENATE(286891,",",ROW(BCLCTTRTT_06611!C33),"|",COLUMN(BCLCTTRTT_06611!C33),",0",",0") -> 286891,33|3,0,0 | D33: =CONCATENATE(286935,",",ROW(BCLCTTRTT_06611!D33),"|",COLUMN(BCLCTTRTT_06611!D33),",0",",0") -> 286935,33|4,0,0 | E33: =CONCATENATE(286799,",",ROW(BCLCTTRTT_06611!E33),"|",COLUMN(BCLCTTRTT_06611!E33),",0",",0") -> 286799,33|5,0,0
A34: =CONCATENATE(286867,",",ROW(BCLCTTRTT_06611!A34),"|",COLUMN(BCLCTTRTT_06611!A34),",0",",0") -> 286867,34|1,0,0 | B34: =CONCATENATE(286855,",",ROW(BCLCTTRTT_06611!B34),"|",COLUMN(BCLCTTRTT_06611!B34),",0",",0") -> 286855,34|2,0,0 | C34: =CONCATENATE(286904,",",ROW(BCLCTTRTT_06611!C34),"|",COLUMN(BCLCTTRTT_06611!C34),",0",",0") -> 286904,34|3,0,0 | D34: =CONCATENATE(286769,",",ROW(BCLCTTRTT_06611!D34),"|",COLUMN(BCLCTTRTT_06611!D34),",0",",0") -> 286769,34|4,0,0 | E34: =CONCATENATE(286812,",",ROW(BCLCTTRTT_06611!E34),"|",COLUMN(BCLCTTRTT_06611!E34),",0",",0") -> 286812,34|5,0,0
A35: =CONCATENATE(286942,",",ROW(BCLCTTRTT_06611!A35),"|",COLUMN(BCLCTTRTT_06611!A35),",0",",0") -> 286942,35|1,0,0 | B35: =CONCATENATE(286845,",",ROW(BCLCTTRTT_06611!B35),"|",COLUMN(BCLCTTRTT_06611!B35),",0",",0") -> 286845,35|2,0,0 | C35: =CONCATENATE(286895,",",ROW(BCLCTTRTT_06611!C35),"|",COLUMN(BCLCTTRTT_06611!C35),",0",",0") -> 286895,35|3,0,0 | D35: =CONCATENATE(286939,",",ROW(BCLCTTRTT_06611!D35),"|",COLUMN(BCLCTTRTT_06611!D35),",0",",0") -> 286939,35|4,0,0 | E35: =CONCATENATE(286803,",",ROW(BCLCTTRTT_06611!E35),"|",COLUMN(BCLCTTRTT_06611!E35),",0",",0") -> 286803,35|5,0,0
A36: =CONCATENATE(286943,",",ROW(BCLCTTRTT_06611!A36),"|",COLUMN(BCLCTTRTT_06611!A36),",0",",0") -> 286943,36|1,0,0 | B36: =CONCATENATE(286971,",",ROW(BCLCTTRTT_06611!B36),"|",COLUMN(BCLCTTRTT_06611!B36),",0",",0") -> 286971,36|2,0,0 | C36: =CONCATENATE(286920,",",ROW(BCLCTTRTT_06611!C36),"|",COLUMN(BCLCTTRTT_06611!C36),",0",",0") -> 286920,36|3,0,0 | D36: =CONCATENATE(286784,",",ROW(BCLCTTRTT_06611!D36),"|",COLUMN(BCLCTTRTT_06611!D36),",0",",0") -> 286784,36|4,0,0 | E36: =CONCATENATE(286826,",",ROW(BCLCTTRTT_06611!E36),"|",COLUMN(BCLCTTRTT_06611!E36),",0",",0") -> 286826,36|5,0,0
A37: =CONCATENATE(286944,",",ROW(BCLCTTRTT_06611!A37),"|",COLUMN(BCLCTTRTT_06611!A37),",0",",0") -> 286944,37|1,0,0 | B37: =CONCATENATE(286856,",",ROW(BCLCTTRTT_06611!B37),"|",COLUMN(BCLCTTRTT_06611!B37),",0",",0") -> 286856,37|2,0,0 | C37: =CONCATENATE(286905,",",ROW(BCLCTTRTT_06611!C37),"|",COLUMN(BCLCTTRTT_06611!C37),",0",",0") -> 286905,37|3,0,0 | D37: =CONCATENATE(286770,",",ROW(BCLCTTRTT_06611!D37),"|",COLUMN(BCLCTTRTT_06611!D37),",0",",0") -> 286770,37|4,0,0 | E37: =CONCATENATE(286813,",",ROW(BCLCTTRTT_06611!E37),"|",COLUMN(BCLCTTRTT_06611!E37),",0",",0") -> 286813,37|5,0,0
A38: =CONCATENATE(286868,",",ROW(BCLCTTRTT_06611!A38),"|",COLUMN(BCLCTTRTT_06611!A38),",0",",0") -> 286868,38|1,0,0 | B38: =CONCATENATE(286846,",",ROW(BCLCTTRTT_06611!B38),"|",COLUMN(BCLCTTRTT_06611!B38),",0",",0") -> 286846,38|2,0,0 | C38: =CONCATENATE(286896,",",ROW(BCLCTTRTT_06611!C38),"|",COLUMN(BCLCTTRTT_06611!C38),",0",",0") -> 286896,38|3,0,0 | D38: =CONCATENATE(286761,",",ROW(BCLCTTRTT_06611!D38),"|",COLUMN(BCLCTTRTT_06611!D38),",0",",0") -> 286761,38|4,0,0 | E38: =CONCATENATE(286804,",",ROW(BCLCTTRTT_06611!E38),"|",COLUMN(BCLCTTRTT_06611!E38),",0",",0") -> 286804,38|5,0,0
A39: =CONCATENATE(286874,",",ROW(BCLCTTRTT_06611!A39),"|",COLUMN(BCLCTTRTT_06611!A39),",0",",0") -> 286874,39|1,0,0 | B39: =CONCATENATE(286758,",",ROW(BCLCTTRTT_06611!B39),"|",COLUMN(BCLCTTRTT_06611!B39),",0",",0") -> 286758,39|2,0,0 | C39: =CONCATENATE(286915,",",ROW(BCLCTTRTT_06611!C39),"|",COLUMN(BCLCTTRTT_06611!C39),",0",",0") -> 286915,39|3,0,0 | D39: =CONCATENATE(286780,",",ROW(BCLCTTRTT_06611!D39),"|",COLUMN(BCLCTTRTT_06611!D39),",0",",0") -> 286780,39|4,0,0 | E39: =CONCATENATE(286822,",",ROW(BCLCTTRTT_06611!E39),"|",COLUMN(BCLCTTRTT_06611!E39),",0",",0") -> 286822,39|5,0,0
A40: =CONCATENATE(286862,",",ROW(BCLCTTRTT_06611!A40),"|",COLUMN(BCLCTTRTT_06611!A40),",0",",0") -> 286862,40|1,0,0 | B40: =CONCATENATE(286857,",",ROW(BCLCTTRTT_06611!B40),"|",COLUMN(BCLCTTRTT_06611!B40),",0",",0") -> 286857,40|2,0,0 | C40: =CONCATENATE(286906,",",ROW(BCLCTTRTT_06611!C40),"|",COLUMN(BCLCTTRTT_06611!C40),",0",",0") -> 286906,40|3,0,0 | D40: =CONCATENATE(286771,",",ROW(BCLCTTRTT_06611!D40),"|",COLUMN(BCLCTTRTT_06611!D40),",0",",0") -> 286771,40|4,0,0 | E40: =CONCATENATE(286814,",",ROW(BCLCTTRTT_06611!E40),"|",COLUMN(BCLCTTRTT_06611!E40),",0",",0") -> 286814,40|5,0,0
A41: =CONCATENATE(286863,",",ROW(BCLCTTRTT_06611!A41),"|",COLUMN(BCLCTTRTT_06611!A41),",0",",0") -> 286863,41|1,0,0 | B41: =CONCATENATE(286847,",",ROW(BCLCTTRTT_06611!B41),"|",COLUMN(BCLCTTRTT_06611!B41),",0",",0") -> 286847,41|2,0,0 | C41: =CONCATENATE(286897,",",ROW(BCLCTTRTT_06611!C41),"|",COLUMN(BCLCTTRTT_06611!C41),",0",",0") -> 286897,41|3,0,0 | D41: =CONCATENATE(286762,",",ROW(BCLCTTRTT_06611!D41),"|",COLUMN(BCLCTTRTT_06611!D41),",0",",0") -> 286762,41|4,0,0 | E41: =CONCATENATE(286805,",",ROW(BCLCTTRTT_06611!E41),"|",COLUMN(BCLCTTRTT_06611!E41),",0",",0") -> 286805,41|5,0,0
A42: =CONCATENATE(286760,",",ROW(BCLCTTRTT_06611!A42),"|",COLUMN(BCLCTTRTT_06611!A42),",0",",0") -> 286760,42|1,0,0 | B42: =CONCATENATE(286858,",",ROW(BCLCTTRTT_06611!B42),"|",COLUMN(BCLCTTRTT_06611!B42),",0",",0") -> 286858,42|2,0,0 | C42: =CONCATENATE(286907,",",ROW(BCLCTTRTT_06611!C42),"|",COLUMN(BCLCTTRTT_06611!C42),",0",",0") -> 286907,42|3,0,0 | D42: =CONCATENATE(286772,",",ROW(BCLCTTRTT_06611!D42),"|",COLUMN(BCLCTTRTT_06611!D42),",0",",0") -> 286772,42|4,0,0 | E42: =CONCATENATE(286972,",",ROW(BCLCTTRTT_06611!E42),"|",COLUMN(BCLCTTRTT_06611!E42),",0",",0") -> 286972,42|5,0,0
A43: =CONCATENATE(286864,",",ROW(BCLCTTRTT_06611!A43),"|",COLUMN(BCLCTTRTT_06611!A43),",0",",0") -> 286864,43|1,0,0 | B43: =CONCATENATE(286947,",",ROW(BCLCTTRTT_06611!B43),"|",COLUMN(BCLCTTRTT_06611!B43),",0",",0") -> 286947,43|2,0,0 | C43: =CONCATENATE(286910,",",ROW(BCLCTTRTT_06611!C43),"|",COLUMN(BCLCTTRTT_06611!C43),",0",",0") -> 286910,43|3,0,0 | D43: =CONCATENATE(286775,",",ROW(BCLCTTRTT_06611!D43),"|",COLUMN(BCLCTTRTT_06611!D43),",0",",0") -> 286775,43|4,0,0 | E43: =CONCATENATE(286817,",",ROW(BCLCTTRTT_06611!E43),"|",COLUMN(BCLCTTRTT_06611!E43),",0",",0") -> 286817,43|5,0,0
A44: =CONCATENATE(286841,",",ROW(BCLCTTRTT_06611!A44),"|",COLUMN(BCLCTTRTT_06611!A44),",0",",0") -> 286841,44|1,0,0 | B44: =CONCATENATE(286965,",",ROW(BCLCTTRTT_06611!B44),"|",COLUMN(BCLCTTRTT_06611!B44),",0",",0") -> 286965,44|2,0,0 | C44: =CONCATENATE(286892,",",ROW(BCLCTTRTT_06611!C44),"|",COLUMN(BCLCTTRTT_06611!C44),",0",",0") -> 286892,44|3,0,0 | D44: =CONCATENATE(286936,",",ROW(BCLCTTRTT_06611!D44),"|",COLUMN(BCLCTTRTT_06611!D44),",0",",0") -> 286936,44|4,0,0 | E44: =CONCATENATE(286800,",",ROW(BCLCTTRTT_06611!E44),"|",COLUMN(BCLCTTRTT_06611!E44),",0",",0") -> 286800,44|5,0,0
A45: =CONCATENATE(286759,",",ROW(BCLCTTRTT_06611!A45),"|",COLUMN(BCLCTTRTT_06611!A45),",0",",0") -> 286759,45|1,0,0 | B45: =CONCATENATE(286948,",",ROW(BCLCTTRTT_06611!B45),"|",COLUMN(BCLCTTRTT_06611!B45),",0",",0") -> 286948,45|2,0,0 | C45: =CONCATENATE(286921,",",ROW(BCLCTTRTT_06611!C45),"|",COLUMN(BCLCTTRTT_06611!C45),",0",",0") -> 286921,45|3,0,0 | D45: =CONCATENATE(286785,",",ROW(BCLCTTRTT_06611!D45),"|",COLUMN(BCLCTTRTT_06611!D45),",0",",0") -> 286785,45|4,0,0 | E45: =CONCATENATE(286827,",",ROW(BCLCTTRTT_06611!E45),"|",COLUMN(BCLCTTRTT_06611!E45),",0",",0") -> 286827,45|5,0,0
A46: =CONCATENATE(286865,",",ROW(BCLCTTRTT_06611!A46),"|",COLUMN(BCLCTTRTT_06611!A46),",0",",0") -> 286865,46|1,0,0 | B46: =CONCATENATE(286966,",",ROW(BCLCTTRTT_06611!B46),"|",COLUMN(BCLCTTRTT_06611!B46),",0",",0") -> 286966,46|2,0,0 | C46: =CONCATENATE(286911,",",ROW(BCLCTTRTT_06611!C46),"|",COLUMN(BCLCTTRTT_06611!C46),",0",",0") -> 286911,46|3,0,0 | D46: =CONCATENATE(286776,",",ROW(BCLCTTRTT_06611!D46),"|",COLUMN(BCLCTTRTT_06611!D46),",0",",0") -> 286776,46|4,0,0 | E46: =CONCATENATE(286818,",",ROW(BCLCTTRTT_06611!E46),"|",COLUMN(BCLCTTRTT_06611!E46),",0",",0") -> 286818,46|5,0,0
A47: =CONCATENATE(286866,",",ROW(BCLCTTRTT_06611!A47),"|",COLUMN(BCLCTTRTT_06611!A47),",0",",0") -> 286866,47|1,0,0 | B47: =CONCATENATE(286949,",",ROW(BCLCTTRTT_06611!B47),"|",COLUMN(BCLCTTRTT_06611!B47),",0",",0") -> 286949,47|2,0,0 | C47: =CONCATENATE(286912,",",ROW(BCLCTTRTT_06611!C47),"|",COLUMN(BCLCTTRTT_06611!C47),",0",",0") -> 286912,47|3,0,0 | D47: =CONCATENATE(286777,",",ROW(BCLCTTRTT_06611!D47),"|",COLUMN(BCLCTTRTT_06611!D47),",0",",0") -> 286777,47|4,0,0 | E47: =CONCATENATE(286819,",",ROW(BCLCTTRTT_06611!E47),"|",COLUMN(BCLCTTRTT_06611!E47),",0",",0") -> 286819,47|5,0,0
A48: =CONCATENATE(286959,",",ROW(BCLCTTRTT_06611!A48),"|",COLUMN(BCLCTTRTT_06611!A48),",0",",0") -> 286959,48|1,0,0 | B48: =CONCATENATE(286950,",",ROW(BCLCTTRTT_06611!B48),"|",COLUMN(BCLCTTRTT_06611!B48),",0",",0") -> 286950,48|2,0,0 | C48: =CONCATENATE(286923,",",ROW(BCLCTTRTT_06611!C48),"|",COLUMN(BCLCTTRTT_06611!C48),",0",",0") -> 286923,48|3,0,0 | D48: =CONCATENATE(286787,",",ROW(BCLCTTRTT_06611!D48),"|",COLUMN(BCLCTTRTT_06611!D48),",0",",0") -> 286787,48|4,0,0 | E48: =CONCATENATE(286829,",",ROW(BCLCTTRTT_06611!E48),"|",COLUMN(BCLCTTRTT_06611!E48),",0",",0") -> 286829,48|5,0,0

Sheet PLCTTHDMGUTCKHTT_06612
A1: PHẦN LƯU CHUYỂN TIỀN TỆ HOẠT ĐỘNG MÔI GIỚI, ỦY THÁC CỦA KHÁCH HÀNG
A2: Theo phương pháp trực tiếp
A3: Chỉ tiêu | B3: Mã số | C3: Thuyết minh | D3: Năm nay | E3: Năm trước
A4: A | B4: B | D4: 1
A5: I. Lưu chuyển tiền hoạt động môi giới, ủy thác của khách hàng
A6: 1. Tiền thu bán chứng khoán môi giới cho khách hàng | B6: 1 | D6: 124293883746582 | E6: 95632140848316
A7: 2. Tiền chi mua chứng khoán môi giới cho khách hàng | B7: 2 | D7: -116069681847019 | E7: -92136133807140
A8: 3. Tiền thu bán chứng khoán ủy thác của khách hàng | B8: 3
A9: 4.Tiền chi mua chứng khoán ủy thác của khách hàng | B9: 4
A10: 5. Thu vay Quỹ Hỗ trợ thanh toán | B10: 5
A11: 6. Chi trả vay Quỹ Hỗ trợ thanh toán | B11: 6
A12: 7. Nhận tiền gửi để thanh toán giao dịch chứng khoán của khách hàng | B12: 7 | D12: -7816892673219 | E12: -3677004095298
A13: 8. Nhận tiền gửi của Nhà đầu tư cho hoạt động ủy thác đầu tư của khách hàng | B13: 8
A14: 9. Chi trả phí lưu ký chứng khoán của khách hàng | B14: 9 | D14: -6560073032 | E14: -6622343641
A15: 10. Thu lỗi giao dịch chứng khoán | B15: 10
A16: 11. Chi lỗi giao dịch chứng khoán | B16: 11
A17: 12. Tiền thu của Tổ chức phát hành chứng khoán | B17: 12 | D17: 1976550315615 | E17: 1647772577611
A18: 13. Tiền chi trả Tổ chức phát hành chứng khoán | B18: 13 | D18: -1971151678605 | E18: -1610692319466
A19: Tăng/giảm tiền thuần trong kỳ | B19: 20 | D19: =SUM(D6:D18) -> 406147790322 | E19: =SUM(E6:E18) -> -150539139618
A20: II. Tiền và các khoản tương đương tiền đầu kỳ của khách hàng | B20: 30 | D20: =+D21 -> 938847666218 | E20: =+E21 -> 1089386805836
A21: Tiền gửi ngân hàng đầu kỳ: | B21: 31 | D21: =+D22+D24+D25+D26 -> 938847666218 | E21: =+E22+E24+E25+E26 -> 1089386805836
A22: -Tiền gửi của Nhà đầu tư về giao dịch chứng khoán theo phương thức CTCK quản lý | B22: 32 | D22: 530836444058 | E22: 340173685859
A23: Trong đó có kỳ hạn | B23: 32
A24: - Tiền gửi bù trừ và thanh toán giao dịch chứng khoán | B24: 33
A25: - Tiền gửi tổng hợp giao dịch chứng khoán cho khách hàng | B25: 34 | D25: 395900015767 | E25: 703169849306
A26: -Tiền gửi của tổ chức phát hành | B26: 35 | D26: 12111206393 | E26: 46043270671
A27: Trong đó có kỳ hạn | B27: 35
A28: Các khoản tương đương tiền | B28: 36
A29: Ảnh hưởng của thay đổi tỷ giá hối đoái quy đổi ngoại tệ | B29: 37
A30: III. Tiền và các khoản tương đương tiền cuối kỳ của khách hàng (40 = 20 + 30) | B30: 40 | D30: =+D19+D20 -> 1344995456540 | E30: =+E19+E20 -> 938847666218
A31: Tiền gửi ngân hàng cuối kỳ: | B31: 41 | D31: =+D32+D34+D35+D36 -> 1344995456540 | E31: =+E32+E34+E35+E36 -> 938847666218
A32: -Tiền gửi của Nhà đầu tư về giao dịch chứng khoán theo phương thức CTCK quản lý | B32: 42 | D32: 552781949486 | E32: 530836444058
A33: Trong đó có kỳ hạn | B33: 42
A34: - Tiền gửi tổng hợp giao dịch chứng khoán cho khách hàng | B34: 43 | D34: 732124689414 | E34: 395900015767
A35: - Tiền gửi bù trừ và thanh toán giao dịch chứng khoán | B35: 44 | D35: 16711308842
A36: -Tiền gửi của tổ chức phát hành | B36: 45 | D36: 43377508798 | E36: 12111206393
A37: Trong đó có kỳ hạn | B37: 45
A38: Các khoản tương đương tiền | B38: 46
A39: Ảnh hưởng của thay đổi tỷ giá hối đoái quy đổi ngoại tệ | B39: 47

Sheet 6043_hidden
A4: =CONCATENATE(286186,",",ROW(PLCTTHDMGUTCKHTT_06612!A4),"|",COLUMN(PLCTTHDMGUTCKHTT_06612!A4),",0",",0") -> 286186,4|1,0,0 | B4: =CONCATENATE(286210,",",ROW(PLCTTHDMGUTCKHTT_06612!B4),"|",COLUMN(PLCTTHDMGUTCKHTT_06612!B4),",0",",0") -> 286210,4|2,0,0 | C4: =CONCATENATE(286230,",",ROW(PLCTTHDMGUTCKHTT_06612!C4),"|",COLUMN(PLCTTHDMGUTCKHTT_06612!C4),",0",",0") -> 286230,4|3,0,0 | D4: =CONCATENATE(286165,",",ROW(PLCTTHDMGUTCKHTT_06612!D4),"|",COLUMN(PLCTTHDMGUTCKHTT_06612!D4),",0",",0") -> 286165,4|4,0,0 | E4: =CONCATENATE(286287,",",ROW(PLCTTHDMGUTCKHTT_06612!E4),"|",COLUMN(PLCTTHDMGUTCKHTT_06612!E4),",0",",0") -> 286287,4|5,0,0
A5: =CONCATENATE(286251,",",ROW(PLCTTHDMGUTCKHTT_06612!A5),"|",COLUMN(PLCTTHDMGUTCKHTT_06612!A5),",0",",0") -> 286251,5|1,0,0 | C5: =CONCATENATE(286229,",",ROW(PLCTTHDMGUTCKHTT_06612!C5),"|",COLUMN(PLCTTHDMGUTCKHTT_06612!C5),",0",",0") -> 286229,5|3,0,0 | D5: =CONCATENATE(286334,",",ROW(PLCTTHDMGUTCKHTT_06612!D5),"|",COLUMN(PLCTTHDMGUTCKHTT_06612!D5),",0",",0") -> 286334,5|4,0,0 | E5: =CONCATENATE(286286,",",ROW(PLCTTHDMGUTCKHTT_06612!E5),"|",COLUMN(PLCTTHDMGUTCKHTT_06612!E5),",0",",0") -> 286286,5|5,0,0
A6: =CONCATENATE(286166,",",ROW(PLCTTHDMGUTCKHTT_06612!A6),"|",COLUMN(PLCTTHDMGUTCKHTT_06612!A6),",0",",0") -> 286166,6|1,0,0 | B6: =CONCATENATE(286198,",",ROW(PLCTTHDMGUTCKHTT_06612!B6),"|",COLUMN(PLCTTHDMGUTCKHTT_06612!B6),",0",",0") -> 286198,6|2,0,0 | C6: =CONCATENATE(286289,",",ROW(PLCTTHDMGUTCKHTT_06612!C6),"|",COLUMN(PLCTTHDMGUTCKHTT_06612!C6),",0",",0") -> 286289,6|3,0,0 | D6: =CONCATENATE(286231,",",ROW(PLCTTHDMGUTCKHTT_06612!D6),"|",COLUMN(PLCTTHDMGUTCKHTT_06612!D6),",0",",0") -> 286231,6|4,0,0 | E6: =CONCATENATE(286254,",",ROW(PLCTTHDMGUTCKHTT_06612!E6),"|",COLUMN(PLCTTHDMGUTCKHTT_06612!E6),",0",",0") -> 286254,6|5,0,0
A7: =CONCATENATE(286189,",",ROW(PLCTTHDMGUTCKHTT_06612!A7),"|",COLUMN(PLCTTHDMGUTCKHTT_06612!A7),",0",",0") -> 286189,7|1,0,0 | B7: =CONCATENATE(286221,",",ROW(PLCTTHDMGUTCKHTT_06612!B7),"|",COLUMN(PLCTTHDMGUTCKHTT_06612!B7),",0",",0") -> 286221,7|2,0,0 | C7: =CONCATENATE(286288,",",ROW(PLCTTHDMGUTCKHTT_06612!C7),"|",COLUMN(PLCTTHDMGUTCKHTT_06612!C7),",0",",0") -> 286288,7|3,0,0 | D7: =CONCATENATE(286232,",",ROW(PLCTTHDMGUTCKHTT_06612!D7),"|",COLUMN(PLCTTHDMGUTCKHTT_06612!D7),",0",",0") -> 286232,7|4,0,0 | E7: =CONCATENATE(286255,",",ROW(PLCTTHDMGUTCKHTT_06612!E7),"|",COLUMN(PLCTTHDMGUTCKHTT_06612!E7),",0",",0") -> 286255,7|5,0,0
A8: =CONCATENATE(286247,",",ROW(PLCTTHDMGUTCKHTT_06612!A8),"|",COLUMN(PLCTTHDMGUTCKHTT_06612!A8),",0",",0") -> 286247,8|1,0,0 | B8: =CONCATENATE(286250,",",ROW(PLCTTHDMGUTCKHTT_06612!B8),"|",COLUMN(PLCTTHDMGUTCKHTT_06612!B8),",0",",0") -> 286250,8|2,0,0 | C8: =CONCATENATE(286290,",",ROW(PLCTTHDMGUTCKHTT_06612!C8),"|",COLUMN(PLCTTHDMGUTCKHTT_06612!C8),",0",",0") -> 286290,8|3,0,0 | D8: =CONCATENATE(286233,",",ROW(PLCTTHDMGUTCKHTT_06612!D8),"|",COLUMN(PLCTTHDMGUTCKHTT_06612!D8),",0",",0") -> 286233,8|4,0,0 | E8: =CONCATENATE(286256,",",ROW(PLCTTHDMGUTCKHTT_06612!E8),"|",COLUMN(PLCTTHDMGUTCKHTT_06612!E8),",0",",0") -> 286256,8|5,0,0
A9: =CONCATENATE(286248,",",ROW(PLCTTHDMGUTCKHTT_06612!A9),"|",COLUMN(PLCTTHDMGUTCKHTT_06612!A9),",0",",0") -> 286248,9|1,0,0 | B9: =CONCATENATE(286222,",",ROW(PLCTTHDMGUTCKHTT_06612!B9),"|",COLUMN(PLCTTHDMGUTCKHTT_06612!B9),",0",",0") -> 286222,9|2,0,0 | C9: =CONCATENATE(286291,",",ROW(PLCTTHDMGUTCKHTT_06612!C9),"|",COLUMN(PLCTTHDMGUTCKHTT_06612!C9),",0",",0") -> 286291,9|3,0,0 | D9: =CONCATENATE(286234,",",ROW(PLCTTHDMGUTCKHTT_06612!D9),"|",COLUMN(PLCTTHDMGUTCKHTT_06612!D9),",0",",0") -> 286234,9|4,0,0 | E9: =CONCATENATE(286257,",",ROW(PLCTTHDMGUTCKHTT_06612!E9),"|",COLUMN(PLCTTHDMGUTCKHTT_06612!E9),",0",",0") -> 286257,9|5,0,0
A10: =CONCATENATE(286167,",",ROW(PLCTTHDMGUTCKHTT_06612!A10),"|",COLUMN(PLCTTHDMGUTCKHTT_06612!A10),",0",",0") -> 286167,10|1,0,0 | B10: =CONCATENATE(286338,",",ROW(PLCTTHDMGUTCKHTT_06612!B10),"|",COLUMN(PLCTTHDMGUTCKHTT_06612!B10),",0",",0") -> 286338,10|2,0,0 | C10: =CONCATENATE(286292,",",ROW(PLCTTHDMGUTCKHTT_06612!C10),"|",COLUMN(PLCTTHDMGUTCKHTT_06612!C10),",0",",0") -> 286292,10|3,0,0 | D10: =CONCATENATE(286235,",",ROW(PLCTTHDMGUTCKHTT_06612!D10),"|",COLUMN(PLCTTHDMGUTCKHTT_06612!D10),",0",",0") -> 286235,10|4,0,0 | E10: =CONCATENATE(286258,",",ROW(PLCTTHDMGUTCKHTT_06612!E10),"|",COLUMN(PLCTTHDMGUTCKHTT_06612!E10),",0",",0") -> 286258,10|5,0,0
A11: =CONCATENATE(286211,",",ROW(PLCTTHDMGUTCKHTT_06612!A11),"|",COLUMN(PLCTTHDMGUTCKHTT_06612!A11),",0",",0") -> 286211,11|1,0,0 | B11: =CONCATENATE(286164,",",ROW(PLCTTHDMGUTCKHTT_06612!B11),"|",COLUMN(PLCTTHDMGUTCKHTT_06612!B11),",0",",0") -> 286164,11|2,0,0 | C11: =CONCATENATE(286293,",",ROW(PLCTTHDMGUTCKHTT_06612!C11),"|",COLUMN(PLCTTHDMGUTCKHTT_06612!C11),",0",",0") -> 286293,11|3,0,0 | D11: =CONCATENATE(286236,",",ROW(PLCTTHDMGUTCKHTT_06612!D11),"|",COLUMN(PLCTTHDMGUTCKHTT_06612!D11),",0",",0") -> 286236,11|4,0,0 | E11: =CONCATENATE(286259,",",ROW(PLCTTHDMGUTCKHTT_06612!E11),"|",COLUMN(PLCTTHDMGUTCKHTT_06612!E11),",0",",0") -> 286259,11|5,0,0
A12: =CONCATENATE(286252,",",ROW(PLCTTHDMGUTCKHTT_06612!A12),"|",COLUMN(PLCTTHDMGUTCKHTT_06612!A12),",0",",0") -> 286252,12|1,0,0 | B12: =CONCATENATE(286173,",",ROW(PLCTTHDMGUTCKHTT_06612!B12),"|",COLUMN(PLCTTHDMGUTCKHTT_06612!B12),",0",",0") -> 286173,12|2,0,0 | C12: =CONCATENATE(286294,",",ROW(PLCTTHDMGUTCKHTT_06612!C12),"|",COLUMN(PLCTTHDMGUTCKHTT_06612!C12),",0",",0") -> 286294,12|3,0,0 | D12: =CONCATENATE(286237,",",ROW(PLCTTHDMGUTCKHTT_06612!D12),"|",COLUMN(PLCTTHDMGUTCKHTT_06612!D12),",0",",0") -> 286237,12|4,0,0 | E12: =CONCATENATE(286260,",",ROW(PLCTTHDMGUTCKHTT_06612!E12),"|",COLUMN(PLCTTHDMGUTCKHTT_06612!E12),",0",",0") -> 286260,12|5,0,0
A13: =CONCATENATE(286181,",",ROW(PLCTTHDMGUTCKHTT_06612!A13),"|",COLUMN(PLCTTHDMGUTCKHTT_06612!A13),",0",",0") -> 286181,13|1,0,0 | B13: =CONCATENATE(286203,",",ROW(PLCTTHDMGUTCKHTT_06612!B13),"|",COLUMN(PLCTTHDMGUTCKHTT_06612!B13),",0",",0") -> 286203,13|2,0,0 | C13: =CONCATENATE(286295,",",ROW(PLCTTHDMGUTCKHTT_06612!C13),"|",COLUMN(PLCTTHDMGUTCKHTT_06612!C13),",0",",0") -> 286295,13|3,0,0 | D13: =CONCATENATE(286238,",",ROW(PLCTTHDMGUTCKHTT_06612!D13),"|",COLUMN(PLCTTHDMGUTCKHTT_06612!D13),",0",",0") -> 286238,13|4,0,0 | E13: =CONCATENATE(286261,",",ROW(PLCTTHDMGUTCKHTT_06612!E13),"|",COLUMN(PLCTTHDMGUTCKHTT_06612!E13),",0",",0") -> 286261,13|5,0,0
A14: =CONCATENATE(286182,",",ROW(PLCTTHDMGUTCKHTT_06612!A14),"|",COLUMN(PLCTTHDMGUTCKHTT_06612!A14),",0",",0") -> 286182,14|1,0,0 | B14: =CONCATENATE(286337,",",ROW(PLCTTHDMGUTCKHTT_06612!B14),"|",COLUMN(PLCTTHDMGUTCKHTT_06612!B14),",0",",0") -> 286337,14|2,0,0 | C14: =CONCATENATE(286296,",",ROW(PLCTTHDMGUTCKHTT_06612!C14),"|",COLUMN(PLCTTHDMGUTCKHTT_06612!C14),",0",",0") -> 286296,14|3,0,0 | D14: =CONCATENATE(286239,",",ROW(PLCTTHDMGUTCKHTT_06612!D14),"|",COLUMN(PLCTTHDMGUTCKHTT_06612!D14),",0",",0") -> 286239,14|4,0,0 | E14: =CONCATENATE(286262,",",ROW(PLCTTHDMGUTCKHTT_06612!E14),"|",COLUMN(PLCTTHDMGUTCKHTT_06612!E14),",0",",0") -> 286262,14|5,0,0
A15: =CONCATENATE(286183,",",ROW(PLCTTHDMGUTCKHTT_06612!A15),"|",COLUMN(PLCTTHDMGUTCKHTT_06612!A15),",0",",0") -> 286183,15|1,0,0 | B15: =CONCATENATE(286204,",",ROW(PLCTTHDMGUTCKHTT_06612!B15),"|",COLUMN(PLCTTHDMGUTCKHTT_06612!B15),",0",",0") -> 286204,15|2,0,0 | C15: =CONCATENATE(286297,",",ROW(PLCTTHDMGUTCKHTT_06612!C15),"|",COLUMN(PLCTTHDMGUTCKHTT_06612!C15),",0",",0") -> 286297,15|3,0,0 | D15: =CONCATENATE(286240,",",ROW(PLCTTHDMGUTCKHTT_06612!D15),"|",COLUMN(PLCTTHDMGUTCKHTT_06612!D15),",0",",0") -> 286240,15|4,0,0 | E15: =CONCATENATE(286263,",",ROW(PLCTTHDMGUTCKHTT_06612!E15),"|",COLUMN(PLCTTHDMGUTCKHTT_06612!E15),",0",",0") -> 286263,15|5,0,0
A16: =CONCATENATE(286168,",",ROW(PLCTTHDMGUTCKHTT_06612!A16),"|",COLUMN(PLCTTHDMGUTCKHTT_06612!A16),",0",",0") -> 286168,16|1,0,0 | B16: =CONCATENATE(286205,",",ROW(PLCTTHDMGUTCKHTT_06612!B16),"|",COLUMN(PLCTTHDMGUTCKHTT_06612!B16),",0",",0") -> 286205,16|2,0,0 | C16: =CONCATENATE(286298,",",ROW(PLCTTHDMGUTCKHTT_06612!C16),"|",COLUMN(PLCTTHDMGUTCKHTT_06612!C16),",0",",0") -> 286298,16|3,0,0 | D16: =CONCATENATE(286241,",",ROW(PLCTTHDMGUTCKHTT_06612!D16),"|",COLUMN(PLCTTHDMGUTCKHTT_06612!D16),",0",",0") -> 286241,16|4,0,0 | E16: =CONCATENATE(286264,",",ROW(PLCTTHDMGUTCKHTT_06612!E16),"|",COLUMN(PLCTTHDMGUTCKHTT_06612!E16),",0",",0") -> 286264,16|5,0,0
A17: =CONCATENATE(286184,",",ROW(PLCTTHDMGUTCKHTT_06612!A17),"|",COLUMN(PLCTTHDMGUTCKHTT_06612!A17),",0",",0") -> 286184,17|1,0,0 | B17: =CONCATENATE(286206,",",ROW(PLCTTHDMGUTCKHTT_06612!B17),"|",COLUMN(PLCTTHDMGUTCKHTT_06612!B17),",0",",0") -> 286206,17|2,0,0 | C17: =CONCATENATE(286299,",",ROW(PLCTTHDMGUTCKHTT_06612!C17),"|",COLUMN(PLCTTHDMGUTCKHTT_06612!C17),",0",",0") -> 286299,17|3,0,0 | D17: =CONCATENATE(286242,",",ROW(PLCTTHDMGUTCKHTT_06612!D17),"|",COLUMN(PLCTTHDMGUTCKHTT_06612!D17),",0",",0") -> 286242,17|4,0,0 | E17: =CONCATENATE(286265,",",ROW(PLCTTHDMGUTCKHTT_06612!E17),"|",COLUMN(PLCTTHDMGUTCKHTT_06612!E17),",0",",0") -> 286265,17|5,0,0
A18: =CONCATENATE(286190,",",ROW(PLCTTHDMGUTCKHTT_06612!A18),"|",COLUMN(PLCTTHDMGUTCKHTT_06612!A18),",0",",0") -> 286190,18|1,0,0 | B18: =CONCATENATE(286199,",",ROW(PLCTTHDMGUTCKHTT_06612!B18),"|",COLUMN(PLCTTHDMGUTCKHTT_06612!B18),",0",",0") -> 286199,18|2,0,0 | C18: =CONCATENATE(286300,",",ROW(PLCTTHDMGUTCKHTT_06612!C18),"|",COLUMN(PLCTTHDMGUTCKHTT_06612!C18),",0",",0") -> 286300,18|3,0,0 | D18: =CONCATENATE(286243,",",ROW(PLCTTHDMGUTCKHTT_06612!D18),"|",COLUMN(PLCTTHDMGUTCKHTT_06612!D18),",0",",0") -> 286243,18|4,0,0 | E18: =CONCATENATE(286266,",",ROW(PLCTTHDMGUTCKHTT_06612!E18),"|",COLUMN(PLCTTHDMGUTCKHTT_06612!E18),",0",",0") -> 286266,18|5,0,0
A19: =CONCATENATE(302877,",",ROW(PLCTTHDMGUTCKHTT_06612!A19),"|",COLUMN(PLCTTHDMGUTCKHTT_06612!A19),",0",",0") -> 302877,19|1,0,0 | B19: =CONCATENATE(302882,",",ROW(PLCTTHDMGUTCKHTT_06612!B19),"|",COLUMN(PLCTTHDMGUTCKHTT_06612!B19),",0",",0") -> 302882,19|2,0,0 | C19: =CONCATENATE(302891,",",ROW(PLCTTHDMGUTCKHTT_06612!C19),"|",COLUMN(PLCTTHDMGUTCKHTT_06612!C19),",0",",0") -> 302891,19|3,0,0 | D19: =CONCATENATE(302896,",",ROW(PLCTTHDMGUTCKHTT_06612!D19),"|",COLUMN(PLCTTHDMGUTCKHTT_06612!D19),",0",",0") -> 302896,19|4,0,0 | E19: =CONCATENATE(302901,",",ROW(PLCTTHDMGUTCKHTT_06612!E19),"|",COLUMN(PLCTTHDMGUTCKHTT_06612!E19),",0",",0") -> 302901,19|5,0,0
A20: =CONCATENATE(286191,",",ROW(PLCTTHDMGUTCKHTT_06612!A20),"|",COLUMN(PLCTTHDMGUTCKHTT_06612!A20),",0",",0") -> 286191,20|1,0,0 | B20: =CONCATENATE(286339,",",ROW(PLCTTHDMGUTCKHTT_06612!B20),"|",COLUMN(PLCTTHDMGUTCKHTT_06612!B20),",0",",0") -> 286339,20|2,0,0 | C20: =CONCATENATE(286301,",",ROW(PLCTTHDMGUTCKHTT_06612!C20),"|",COLUMN(PLCTTHDMGUTCKHTT_06612!C20),",0",",0") -> 286301,20|3,0,0 | D20: =CONCATENATE(286244,",",ROW(PLCTTHDMGUTCKHTT_06612!D20),"|",COLUMN(PLCTTHDMGUTCKHTT_06612!D20),",0",",0") -> 286244,20|4,0,0 | E20: =CONCATENATE(286267,",",ROW(PLCTTHDMGUTCKHTT_06612!E20),"|",COLUMN(PLCTTHDMGUTCKHTT_06612!E20),",0",",0") -> 286267,20|5,0,0
A21: =CONCATENATE(286192,",",ROW(PLCTTHDMGUTCKHTT_06612!A21),"|",COLUMN(PLCTTHDMGUTCKHTT_06612!A21),",0",",0") -> 286192,21|1,0,0 | B21: =CONCATENATE(286200,",",ROW(PLCTTHDMGUTCKHTT_06612!B21),"|",COLUMN(PLCTTHDMGUTCKHTT_06612!B21),",0",",0") -> 286200,21|2,0,0 | C21: =CONCATENATE(286302,",",ROW(PLCTTHDMGUTCKHTT_06612!C21),"|",COLUMN(PLCTTHDMGUTCKHTT_06612!C21),",0",",0") -> 286302,21|3,0,0 | D21: =CONCATENATE(286245,",",ROW(PLCTTHDMGUTCKHTT_06612!D21),"|",COLUMN(PLCTTHDMGUTCKHTT_06612!D21),",0",",0") -> 286245,21|4,0,0 | E21: =CONCATENATE(286268,",",ROW(PLCTTHDMGUTCKHTT_06612!E21),"|",COLUMN(PLCTTHDMGUTCKHTT_06612!E21),",0",",0") -> 286268,21|5,0,0
A22: =CONCATENATE(286193,",",ROW(PLCTTHDMGUTCKHTT_06612!A22),"|",COLUMN(PLCTTHDMGUTCKHTT_06612!A22),",0",",0") -> 286193,22|1,0,0 | B22: =CONCATENATE(286207,",",ROW(PLCTTHDMGUTCKHTT_06612!B22),"|",COLUMN(PLCTTHDMGUTCKHTT_06612!B22),",0",",0") -> 286207,22|2,0,0 | C22: =CONCATENATE(286303,",",ROW(PLCTTHDMGUTCKHTT_06612!C22),"|",COLUMN(PLCTTHDMGUTCKHTT_06612!C22),",0",",0") -> 286303,22|3,0,0 | D22: =CONCATENATE(286316,",",ROW(PLCTTHDMGUTCKHTT_06612!D22),"|",COLUMN(PLCTTHDMGUTCKHTT_06612!D22),",0",",0") -> 286316,22|4,0,0 | E22: =CONCATENATE(286269,",",ROW(PLCTTHDMGUTCKHTT_06612!E22),"|",COLUMN(PLCTTHDMGUTCKHTT_06612!E22),",0",",0") -> 286269,22|5,0,0
A23: =CONCATENATE(286194,",",ROW(PLCTTHDMGUTCKHTT_06612!A23),"|",COLUMN(PLCTTHDMGUTCKHTT_06612!A23),",0",",0") -> 286194,23|1,0,0 | B23: =CONCATENATE(286201,",",ROW(PLCTTHDMGUTCKHTT_06612!B23),"|",COLUMN(PLCTTHDMGUTCKHTT_06612!B23),",0",",0") -> 286201,23|2,0,0 | C23: =CONCATENATE(286304,",",ROW(PLCTTHDMGUTCKHTT_06612!C23),"|",COLUMN(PLCTTHDMGUTCKHTT_06612!C23),",0",",0") -> 286304,23|3,0,0 | D23: =CONCATENATE(286317,",",ROW(PLCTTHDMGUTCKHTT_06612!D23),"|",COLUMN(PLCTTHDMGUTCKHTT_06612!D23),",0",",0") -> 286317,23|4,0,0 | E23: =CONCATENATE(286270,",",ROW(PLCTTHDMGUTCKHTT_06612!E23),"|",COLUMN(PLCTTHDMGUTCKHTT_06612!E23),",0",",0") -> 286270,23|5,0,0
A24: =CONCATENATE(286249,",",ROW(PLCTTHDMGUTCKHTT_06612!A24),"|",COLUMN(PLCTTHDMGUTCKHTT_06612!A24),",0",",0") -> 286249,24|1,0,0 | B24: =CONCATENATE(286340,",",ROW(PLCTTHDMGUTCKHTT_06612!B24),"|",COLUMN(PLCTTHDMGUTCKHTT_06612!B24),",0",",0") -> 286340,24|2,0,0 | C24: =CONCATENATE(286305,",",ROW(PLCTTHDMGUTCKHTT_06612!C24),"|",COLUMN(PLCTTHDMGUTCKHTT_06612!C24),",0",",0") -> 286305,24|3,0,0 | D24: =CONCATENATE(286318,",",ROW(PLCTTHDMGUTCKHTT_06612!D24),"|",COLUMN(PLCTTHDMGUTCKHTT_06612!D24),",0",",0") -> 286318,24|4,0,0 | E24: =CONCATENATE(286271,",",ROW(PLCTTHDMGUTCKHTT_06612!E24),"|",COLUMN(PLCTTHDMGUTCKHTT_06612!E24),",0",",0") -> 286271,24|5,0,0
A25: =CONCATENATE(286169,",",ROW(PLCTTHDMGUTCKHTT_06612!A25),"|",COLUMN(PLCTTHDMGUTCKHTT_06612!A25),",0",",0") -> 286169,25|1,0,0 | B25: =CONCATENATE(286202,",",ROW(PLCTTHDMGUTCKHTT_06612!B25),"|",COLUMN(PLCTTHDMGUTCKHTT_06612!B25),",0",",0") -> 286202,25|2,0,0 | C25: =CONCATENATE(286306,",",ROW(PLCTTHDMGUTCKHTT_06612!C25),"|",COLUMN(PLCTTHDMGUTCKHTT_06612!C25),",0",",0") -> 286306,25|3,0,0 | D25: =CONCATENATE(286319,",",ROW(PLCTTHDMGUTCKHTT_06612!D25),"|",COLUMN(PLCTTHDMGUTCKHTT_06612!D25),",0",",0") -> 286319,25|4,0,0 | E25: =CONCATENATE(286272,",",ROW(PLCTTHDMGUTCKHTT_06612!E25),"|",COLUMN(PLCTTHDMGUTCKHTT_06612!E25),",0",",0") -> 286272,25|5,0,0
A26: =CONCATENATE(286212,",",ROW(PLCTTHDMGUTCKHTT_06612!A26),"|",COLUMN(PLCTTHDMGUTCKHTT_06612!A26),",0",",0") -> 286212,26|1,0,0 | B26: =CONCATENATE(286218,",",ROW(PLCTTHDMGUTCKHTT_06612!B26),"|",COLUMN(PLCTTHDMGUTCKHTT_06612!B26),",0",",0") -> 286218,26|2,0,0 | C26: =CONCATENATE(286307,",",ROW(PLCTTHDMGUTCKHTT_06612!C26),"|",COLUMN(PLCTTHDMGUTCKHTT_06612!C26),",0",",0") -> 286307,26|3,0,0 | D26: =CONCATENATE(286320,",",ROW(PLCTTHDMGUTCKHTT_06612!D26),"|",COLUMN(PLCTTHDMGUTCKHTT_06612!D26),",0",",0") -> 286320,26|4,0,0 | E26: =CONCATENATE(286273,",",ROW(PLCTTHDMGUTCKHTT_06612!E26),"|",COLUMN(PLCTTHDMGUTCKHTT_06612!E26),",0",",0") -> 286273,26|5,0,0
A27: =CONCATENATE(286253,",",ROW(PLCTTHDMGUTCKHTT_06612!A27),"|",COLUMN(PLCTTHDMGUTCKHTT_06612!A27),",0",",0") -> 286253,27|1,0,0 | B27: =CONCATENATE(286208,",",ROW(PLCTTHDMGUTCKHTT_06612!B27),"|",COLUMN(PLCTTHDMGUTCKHTT_06612!B27),",0",",0") -> 286208,27|2,0,0 | C27: =CONCATENATE(286308,",",ROW(PLCTTHDMGUTCKHTT_06612!C27),"|",COLUMN(PLCTTHDMGUTCKHTT_06612!C27),",0",",0") -> 286308,27|3,0,0 | D27: =CONCATENATE(286321,",",ROW(PLCTTHDMGUTCKHTT_06612!D27),"|",COLUMN(PLCTTHDMGUTCKHTT_06612!D27),",0",",0") -> 286321,27|4,0,0 | E27: =CONCATENATE(286274,",",ROW(PLCTTHDMGUTCKHTT_06612!E27),"|",COLUMN(PLCTTHDMGUTCKHTT_06612!E27),",0",",0") -> 286274,27|5,0,0
A28: =CONCATENATE(286195,",",ROW(PLCTTHDMGUTCKHTT_06612!A28),"|",COLUMN(PLCTTHDMGUTCKHTT_06612!A28),",0",",0") -> 286195,28|1,0,0 | B28: =CONCATENATE(286174,",",ROW(PLCTTHDMGUTCKHTT_06612!B28),"|",COLUMN(PLCTTHDMGUTCKHTT_06612!B28),",0",",0") -> 286174,28|2,0,0 | C28: =CONCATENATE(286309,",",ROW(PLCTTHDMGUTCKHTT_06612!C28),"|",COLUMN(PLCTTHDMGUTCKHTT_06612!C28),",0",",0") -> 286309,28|3,0,0 | D28: =CONCATENATE(286322,",",ROW(PLCTTHDMGUTCKHTT_06612!D28),"|",COLUMN(PLCTTHDMGUTCKHTT_06612!D28),",0",",0") -> 286322,28|4,0,0 | E28: =CONCATENATE(286275,",",ROW(PLCTTHDMGUTCKHTT_06612!E28),"|",COLUMN(PLCTTHDMGUTCKHTT_06612!E28),",0",",0") -> 286275,28|5,0,0
A29: =CONCATENATE(286214,",",ROW(PLCTTHDMGUTCKHTT_06612!A29),"|",COLUMN(PLCTTHDMGUTCKHTT_06612!A29),",0",",0") -> 286214,29|1,0,0 | B29: =CONCATENATE(286175,",",ROW(PLCTTHDMGUTCKHTT_06612!B29),"|",COLUMN(PLCTTHDMGUTCKHTT_06612!B29),",0",",0") -> 286175,29|2,0,0 | C29: =CONCATENATE(286310,",",ROW(PLCTTHDMGUTCKHTT_06612!C29),"|",COLUMN(PLCTTHDMGUTCKHTT_06612!C29),",0",",0") -> 286310,29|3,0,0 | D29: =CONCATENATE(286323,",",ROW(PLCTTHDMGUTCKHTT_06612!D29),"|",COLUMN(PLCTTHDMGUTCKHTT_06612!D29),",0",",0") -> 286323,29|4,0,0 | E29: =CONCATENATE(286276,",",ROW(PLCTTHDMGUTCKHTT_06612!E29),"|",COLUMN(PLCTTHDMGUTCKHTT_06612!E29),",0",",0") -> 286276,29|5,0,0
A30: =CONCATENATE(286215,",",ROW(PLCTTHDMGUTCKHTT_06612!A30),"|",COLUMN(PLCTTHDMGUTCKHTT_06612!A30),",0",",0") -> 286215,30|1,0,0 | B30: =CONCATENATE(286176,",",ROW(PLCTTHDMGUTCKHTT_06612!B30),"|",COLUMN(PLCTTHDMGUTCKHTT_06612!B30),",0",",0") -> 286176,30|2,0,0 | C30: =CONCATENATE(286311,",",ROW(PLCTTHDMGUTCKHTT_06612!C30),"|",COLUMN(PLCTTHDMGUTCKHTT_06612!C30),",0",",0") -> 286311,30|3,0,0 | D30: =CONCATENATE(286324,",",ROW(PLCTTHDMGUTCKHTT_06612!D30),"|",COLUMN(PLCTTHDMGUTCKHTT_06612!D30),",0",",0") -> 286324,30|4,0,0 | E30: =CONCATENATE(286313,",",ROW(PLCTTHDMGUTCKHTT_06612!E30),"|",COLUMN(PLCTTHDMGUTCKHTT_06612!E30),",0",",0") -> 286313,30|5,0,0
A31: =CONCATENATE(286185,",",ROW(PLCTTHDMGUTCKHTT_06612!A31),"|",COLUMN(PLCTTHDMGUTCKHTT_06612!A31),",0",",0") -> 286185,31|1,0,0 | B31: =CONCATENATE(286213,",",ROW(PLCTTHDMGUTCKHTT_06612!B31),"|",COLUMN(PLCTTHDMGUTCKHTT_06612!B31),",0",",0") -> 286213,31|2,0,0 | C31: =CONCATENATE(286312,",",ROW(PLCTTHDMGUTCKHTT_06612!C31),"|",COLUMN(PLCTTHDMGUTCKHTT_06612!C31),",0",",0") -> 286312,31|3,0,0 | D31: =CONCATENATE(286325,",",ROW(PLCTTHDMGUTCKHTT_06612!D31),"|",COLUMN(PLCTTHDMGUTCKHTT_06612!D31),",0",",0") -> 286325,31|4,0,0 | E31: =CONCATENATE(286277,",",ROW(PLCTTHDMGUTCKHTT_06612!E31),"|",COLUMN(PLCTTHDMGUTCKHTT_06612!E31),",0",",0") -> 286277,31|5,0,0
A32: =CONCATENATE(286196,",",ROW(PLCTTHDMGUTCKHTT_06612!A32),"|",COLUMN(PLCTTHDMGUTCKHTT_06612!A32),",0",",0") -> 286196,32|1,0,0 | B32: =CONCATENATE(286177,",",ROW(PLCTTHDMGUTCKHTT_06612!B32),"|",COLUMN(PLCTTHDMGUTCKHTT_06612!B32),",0",",0") -> 286177,32|2,0,0 | C32: =CONCATENATE(286314,",",ROW(PLCTTHDMGUTCKHTT_06612!C32),"|",COLUMN(PLCTTHDMGUTCKHTT_06612!C32),",0",",0") -> 286314,32|3,0,0 | D32: =CONCATENATE(286326,",",ROW(PLCTTHDMGUTCKHTT_06612!D32),"|",COLUMN(PLCTTHDMGUTCKHTT_06612!D32),",0",",0") -> 286326,32|4,0,0 | E32: =CONCATENATE(286278,",",ROW(PLCTTHDMGUTCKHTT_06612!E32),"|",COLUMN(PLCTTHDMGUTCKHTT_06612!E32),",0",",0") -> 286278,32|5,0,0
A33: =CONCATENATE(286170,",",ROW(PLCTTHDMGUTCKHTT_06612!A33),"|",COLUMN(PLCTTHDMGUTCKHTT_06612!A33),",0",",0") -> 286170,33|1,0,0 | B33: =CONCATENATE(286178,",",ROW(PLCTTHDMGUTCKHTT_06612!B33),"|",COLUMN(PLCTTHDMGUTCKHTT_06612!B33),",0",",0") -> 286178,33|2,0,0 | C33: =CONCATENATE(286315,",",ROW(PLCTTHDMGUTCKHTT_06612!C33),"|",COLUMN(PLCTTHDMGUTCKHTT_06612!C33),",0",",0") -> 286315,33|3,0,0 | D33: =CONCATENATE(286327,",",ROW(PLCTTHDMGUTCKHTT_06612!D33),"|",COLUMN(PLCTTHDMGUTCKHTT_06612!D33),",0",",0") -> 286327,33|4,0,0 | E33: =CONCATENATE(286279,",",ROW(PLCTTHDMGUTCKHTT_06612!E33),"|",COLUMN(PLCTTHDMGUTCKHTT_06612!E33),",0",",0") -> 286279,33|5,0,0
A34: =CONCATENATE(286172,",",ROW(PLCTTHDMGUTCKHTT_06612!A34),"|",COLUMN(PLCTTHDMGUTCKHTT_06612!A34),",0",",0") -> 286172,34|1,0,0 | B34: =CONCATENATE(286179,",",ROW(PLCTTHDMGUTCKHTT_06612!B34),"|",COLUMN(PLCTTHDMGUTCKHTT_06612!B34),",0",",0") -> 286179,34|2,0,0 | C34: =CONCATENATE(286223,",",ROW(PLCTTHDMGUTCKHTT_06612!C34),"|",COLUMN(PLCTTHDMGUTCKHTT_06612!C34),",0",",0") -> 286223,34|3,0,0 | D34: =CONCATENATE(286328,",",ROW(PLCTTHDMGUTCKHTT_06612!D34),"|",COLUMN(PLCTTHDMGUTCKHTT_06612!D34),",0",",0") -> 286328,34|4,0,0 | E34: =CONCATENATE(286280,",",ROW(PLCTTHDMGUTCKHTT_06612!E34),"|",COLUMN(PLCTTHDMGUTCKHTT_06612!E34),",0",",0") -> 286280,34|5,0,0
A35: =CONCATENATE(286171,",",ROW(PLCTTHDMGUTCKHTT_06612!A35),"|",COLUMN(PLCTTHDMGUTCKHTT_06612!A35),",0",",0") -> 286171,35|1,0,0 | B35: =CONCATENATE(286219,",",ROW(PLCTTHDMGUTCKHTT_06612!B35),"|",COLUMN(PLCTTHDMGUTCKHTT_06612!B35),",0",",0") -> 286219,35|2,0,0 | C35: =CONCATENATE(286224,",",ROW(PLCTTHDMGUTCKHTT_06612!C35),"|",COLUMN(PLCTTHDMGUTCKHTT_06612!C35),",0",",0") -> 286224,35|3,0,0 | D35: =CONCATENATE(286329,",",ROW(PLCTTHDMGUTCKHTT_06612!D35),"|",COLUMN(PLCTTHDMGUTCKHTT_06612!D35),",0",",0") -> 286329,35|4,0,0 | E35: =CONCATENATE(286281,",",ROW(PLCTTHDMGUTCKHTT_06612!E35),"|",COLUMN(PLCTTHDMGUTCKHTT_06612!E35),",0",",0") -> 286281,35|5,0,0
A36: =CONCATENATE(286197,",",ROW(PLCTTHDMGUTCKHTT_06612!A36),"|",COLUMN(PLCTTHDMGUTCKHTT_06612!A36),",0",",0") -> 286197,36|1,0,0 | B36: =CONCATENATE(286220,",",ROW(PLCTTHDMGUTCKHTT_06612!B36),"|",COLUMN(PLCTTHDMGUTCKHTT_06612!B36),",0",",0") -> 286220,36|2,0,0 | C36: =CONCATENATE(286225,",",ROW(PLCTTHDMGUTCKHTT_06612!C36),"|",COLUMN(PLCTTHDMGUTCKHTT_06612!C36),",0",",0") -> 286225,36|3,0,0 | D36: =CONCATENATE(286330,",",ROW(PLCTTHDMGUTCKHTT_06612!D36),"|",COLUMN(PLCTTHDMGUTCKHTT_06612!D36),",0",",0") -> 286330,36|4,0,0 | E36: =CONCATENATE(286282,",",ROW(PLCTTHDMGUTCKHTT_06612!E36),"|",COLUMN(PLCTTHDMGUTCKHTT_06612!E36),",0",",0") -> 286282,36|5,0,0
A37: =CONCATENATE(286216,",",ROW(PLCTTHDMGUTCKHTT_06612!A37),"|",COLUMN(PLCTTHDMGUTCKHTT_06612!A37),",0",",0") -> 286216,37|1,0,0 | B37: =CONCATENATE(286246,",",ROW(PLCTTHDMGUTCKHTT_06612!B37),"|",COLUMN(PLCTTHDMGUTCKHTT_06612!B37),",0",",0") -> 286246,37|2,0,0 | C37: =CONCATENATE(286226,",",ROW(PLCTTHDMGUTCKHTT_06612!C37),"|",COLUMN(PLCTTHDMGUTCKHTT_06612!C37),",0",",0") -> 286226,37|3,0,0 | D37: =CONCATENATE(286331,",",ROW(PLCTTHDMGUTCKHTT_06612!D37),"|",COLUMN(PLCTTHDMGUTCKHTT_06612!D37),",0",",0") -> 286331,37|4,0,0 | E37: =CONCATENATE(286283,",",ROW(PLCTTHDMGUTCKHTT_06612!E37),"|",COLUMN(PLCTTHDMGUTCKHTT_06612!E37),",0",",0") -> 286283,37|5,0,0
A38: =CONCATENATE(286217,",",ROW(PLCTTHDMGUTCKHTT_06612!A38),"|",COLUMN(PLCTTHDMGUTCKHTT_06612!A38),",0",",0") -> 286217,38|1,0,0 | B38: =CONCATENATE(286180,",",ROW(PLCTTHDMGUTCKHTT_06612!B38),"|",COLUMN(PLCTTHDMGUTCKHTT_06612!B38),",0",",0") -> 286180,38|2,0,0 | C38: =CONCATENATE(286227,",",ROW(PLCTTHDMGUTCKHTT_06612!C38),"|",COLUMN(PLCTTHDMGUTCKHTT_06612!C38),",0",",0") -> 286227,38|3,0,0 | D38: =CONCATENATE(286332,",",ROW(PLCTTHDMGUTCKHTT_06612!D38),"|",COLUMN(PLCTTHDMGUTCKHTT_06612!D38),",0",",0") -> 286332,38|4,0,0 | E38: =CONCATENATE(286284,",",ROW(PLCTTHDMGUTCKHTT_06612!E38),"|",COLUMN(PLCTTHDMGUTCKHTT_06612!E38),",0",",0") -> 286284,38|5,0,0
A39: =CONCATENATE(286336,",",ROW(PLCTTHDMGUTCKHTT_06612!A39),"|",COLUMN(PLCTTHDMGUTCKHTT_06612!A39),",0",",0") -> 286336,39|1,0,0 | B39: =CONCATENATE(286209,",",ROW(PLCTTHDMGUTCKHTT_06612!B39),"|",COLUMN(PLCTTHDMGUTCKHTT_06612!B39),",0",",0") -> 286209,39|2,0,0 | C39: =CONCATENATE(286228,",",ROW(PLCTTHDMGUTCKHTT_06612!C39),"|",COLUMN(PLCTTHDMGUTCKHTT_06612!C39),",0",",0") -> 286228,39|3,0,0 | D39: =CONCATENATE(286333,",",ROW(PLCTTHDMGUTCKHTT_06612!D39),"|",COLUMN(PLCTTHDMGUTCKHTT_06612!D39),",0",",0") -> 286333,39|4,0,0 | E39: =CONCATENATE(286285,",",ROW(PLCTTHDMGUTCKHTT_06612!E39),"|",COLUMN(PLCTTHDMGUTCKHTT_06612!E39),",0",",0") -> 286285,39|5,0,0

Sheet BCLCTTRGT_06613
A1: BÁO CÁO LƯU CHUYỂN TIỀN TỆ RIÊNG
A2: (Theo phương pháp gián tiếp)
A3: Đơn vị tính: Đồng Việt Nam
A4: Chỉ tiêu | B4: Mã số | C4: Thuyết minh | D4: Năm nay | E4: Năm trước
A5: A | B5: B | C5: C | D5: 1 | E5: 2
A6: I. Lưu chuyển tiền từ hoạt động kinh doanh
A7: 1. Lợi nhuận trước Thuế Thu nhập doanh nghiệp | B7: 1
A8: 2. Điều chỉnh cho các khoản: | B8: 2
A9: - Khấu hao TSCĐ | B9: 3
A10: - Các khoản dự phòng | B10: 4
A11: (- Lãi) hoặc (+ lỗ) chênh lệch tỷ giá hối đoái chưa thực hiện. | B11: 5
A12: - Chi phí lãi vay | B12: 6
A13: - Lãi, lỗ từ hoạt động đầu tư | B13: 7
A14: - Dự thu tiền lãi | B14: 8
A15: - Các khoản điều chỉnh khác | B15: 9
A16: 3. Tăng các chi phí phi tiền tệ | B16: 10
A17: - Lỗ đánh giá lại giá trị các tài sản tài chính ghi nhận thông qua lãi/lỗ FVTPL | B17: 11
A18: - Lỗ suy giảm giá trị Các khoản đầu tư nắm giữ đến ngày đáo hạn (HTM) | B18: 12
... A51: Lưu chuyển tiền thuần từ hoạt động kinh doanh | B51: 60
A52: II. Lưu chuyển tiền từ hoạt động đầu tư
A53: 1. Tiền chi để mua sắm, xây dựng TSCĐ, BĐSĐT và các tài sản khác | B53: 61
A54: 2. Tiền thu từ thanh lý, nhượng bán TSCĐ, BĐSĐT và các tài sản khác | B54: 62
A55: 3. Tiền chi đầu tư vốn vào công ty con, công ty liên doanh, liên kết và đầu tư khác | B55: 63
A56: 4. Tiền thu hồi các khoản đầu tư vào công ty con, công ty liên doanh, liên kết và đầu tư khác | B56: 64
A57: 5. Tiền thu về cổ tức và lợi nhuận được chia từ các khoản đầu tư tài chính dài hạn | B57: 65
A58: Lưu chuyển tiền thuần từ hoạt động đầu tư | B58: 70
A59: III. Lưu chuyển tiền từ hoạt động tài chính
A60: 1.Tiền thu từ phát hành cổ phiếu, nhận vốn góp của chủ sở hữu | B60: 71
A61: 2. Tiền chi trả vốn góp cho chủ sở hữu, mua lại cổ phiếu phát hành | B61: 72
A62: 3. Tiền vay gốc | B62: 73
A63: 3.1. Tiền vay Quỹ Hỗ trợ thanh toán | B63: 73.1
A64: 3.2. Tiền vay khác | B64: 73.2
A65: 4. Tiền chi trả nợ gốc vay | B65: 74
A66: 4.1. Tiền chi trả gốc vay Quỹ Hỗ trợ thanh toán | B66: 74.1
A67: 4.2. Tiền chi trả nợ gốc vay tài sản tài chính | B67: 74.2
A68: 4.3. Tiền chi trả gốc vay khác | B68: 74.3
A69: 5. Tiền chi trả nợ gốc thuê tài chính | B69: 75
A70: 6. Cổ tức, lợi nhuận đã trả cho chủ sở hữu | B70: 76
A71: Lưu chuyển tiền thuần từ hoạt động tài chính | B71: 80
... A80: - Ảnh hưởng của thay đổi tỷ giá hối đoái quy đổi ngoại tệ | B80: 104

Sheet 6049_hidden
