Workbook

Sheet Trang bìa
B8: Kính gửi: Ủy ban Chứng khoán Nhà nước | C8: Kính gửi: Ủy ban Chứng khoán Nhà nước
B10: BÁO CÁO TÀI CHÍNH RIÊNG LẺ
B12: Thông tư số 334/2016/TT-BTC ngày 27/12/2016 của Bộ Tài chính
B13: STT | C13: Nội dung | D13: Mã sheet
B14: 1 | C14: BÁO CÁO TÌNH HÌNH TÀI CHÍNH RIÊNG | D14: BCTCR_06608
B15: 2 | C15: CÁC CHỈ TIÊU NGOÀI BÁO CÁO TÌNH HÌNH TÀI CHÍNH RIÊNG | D15: CCTTCR_06609
B16: 3 | C16: BÁO CÁO KẾT QUẢ HOẠT ĐỘNG RIÊNG | D16: BCKQHDR_06610
B17: 4 | C17: BÁO CÁO LƯU CHUYỂN TIỀN TỆ RIÊNG | D17: BCLCTTRTT_06611
B18: 5 | C18: PHẦN LƯU CHUYỂN TIỀN TỆ HOẠT ĐỘNG MÔI GIỚI, ỦY THÁC CỦA KHÁCH HÀNG | D18: PLCTTHDMGUTCKHTT_06612
B19: 6 | C19: BÁO CÁO LƯU CHUYỂN TIỀN TỆ RIÊNG | D19: BCLCTTRGT_06613
B20: 7 | C20: PHẦN LƯU CHUYỂN TIỀN TỆ HOẠT ĐỘNG MÔI GIỚI, ỦY THÁC CỦA KHÁCH HÀNG | D20: PLCTTHDMGUTCKHGT_06614
B21: 8 | C21: BÁO CÁO TÌNH HÌNH BIẾN ĐỘNG VỐN CHỦ SỞ HỮU | D21: BCTHBDVCSH_06615
B23: Ghi chú
B24: Không đổi tên sheet Những chỉ tiêu không có số liệu có thể không phải trình bày nhưng không được đánh lại “Mã chỉ tiêu”. Không được xóa cột trên sheet
D26: Lập, ngày 16 tháng 04 năm 2026
B27: Người lập biểu | C27: Kế toán trưởng | D27: Giám đốc
B28: (Ký, họ tên) | C28: (Ký, họ tên) | D28: (Ký, họ tên, đóng dấu)

Sheet Setting
A1: 3491

Sheet BCTCR_06608
A1: BÁO CÁO TÌNH HÌNH TÀI CHÍNH RIÊNG
A2: Tại ngày 31 tháng 03 năm 2026
A3: Đơn vị tính: Đồng Việt Nam
A4: Chỉ tiêu | B4: Mã số | C4: Thuyết minh | D4: Số cuối năm | E4: Số đầu năm
A5: A | B5: B | C5: C | D5: 1 | E5: 2
A6: TÀI SẢN
A7: A. TÀI SẢN NGẮN HẠN (100 = 110 + 130) | B7: 100 | D7: 2024578375841 | E7: 2298087722425
A8: I. Tài sản tài chính | B8: 110 | D8: 2021476460458 | E8: 2296016292341
A9: 1.Tiền và các khoản tương đương tiền | B9: 111 | D9: 77122788022 | E9: 138223648674
A10: 1.1. Tiền | B10: 111.1 | D10: 77122788022 | E10: 138223648674
A11: 1.2. Các khoản tương đương tiền | B11: 111.2
A12: 2. Các tài sản tài chính ghi nhận thông qua lãi/lỗ (FVTPL) | B12: 112 | D12: 1334826549320 | E12: 914319864860
A13: 3. Các khoản đầu tư nắm giữ đến ngày đáo hạn (HTM) | B13: 113
A14: 4. Các khoản cho vay | B14: 114 | D14: 84399330532 | E14: 92390058256
A15: 5. Tài sản tài chính sẵn sàng để bán (AFS) | B15: 115 | D15: 30310000000 | E15: 30310000000
A16: 6. Dự phòng suy giảm giá trị các tài sản tài chính và tài sản thế chấp | B16: 116 | D16: -26145575047 | E16: -25460285612
A17: 7. Các khoản phải thu | B17: 117 | D17: 518870022775 | E17: 1144200622703
A18: 7.1. Phải thu bán các tài sản tài chính | B18: 117.1 | D18: 518870022775 | E18: 1144200622703
A19: 7.2. Phải thu và dự thu cổ tức, tiền lãi các tài sản tài chính | B19: 117.2
A20: 7.2.1. Phải thu cổ tức, tiền lãi đến ngày nhận | B20: 117.3
A21: 7.2.2. Dự thu cổ tức, tiền lãi chưa đến ngày nhận | B21: 117.4
A22: 8. Trả trước cho người bán | B22: 118 | D22: 2689000000 | E22: 2689000000
A23: 9. Phải thu các dịch vụ CTCK cung cấp | B23: 119 | D23: 1986027536 | E23: 1975704277
A24: 10. Phải thu nội bộ | B24: 120
A25: 11. Phải thu về lỗi giao dịch chứng khoán | B25: 121
A26: 12. Các khoản phải thu khác | B26: 122 | D26: 1731317320 | E26: 1680679183
A27: 13. Dự phòng suy giảm giá trị các khoản phải thu (*) | B27: 129 | D27: -4313000000 | E27: -4313000000
A28: II. Tài sản ngắn hạn khác | B28: 130 | D28: 3101915383 | E28: 2071430084
A29: 1. Tạm ứng | B29: 131 | D29: 973976486 | E29: 20103478
A30: 2. Vật tư văn phòng, công cụ, dụng cụ | B30: 132
A31: 3. Chi phí trả trước ngắn hạn | B31: 133 | D31: 1527986810 | E31: 1451374519
A32: 4. Cầm cố, thế chấp, ký quỹ, ký cược ngắn hạn | B32: 134
A33: 5. Thuế giá trị gia tăng được khấu trừ | B33: 135
A34: 6. Thuế và các khoản khác phải thu Nhà nước | B34: 136 | D34: 599952087 | E34: 599952087
A35: 7. Tài sản ngắn hạn khác | B35: 137
A36: 8. Giao dịch mua bán lại trái phiếu Chính phủ | B36: 138
A37: 9. Dự phòng suy giảm giá trị tài sản ngắn hạn khác | B37: 139
A38: B. TÀI SẢN DÀI HẠN (200 = 210 + 220 + 230 + 240 + 250 - 260) | B38: 200 | D38: 80081119041 | E38: 49460780740
A39: I. Tài sản tài chính dài hạn | B39: 210
A40: 1. Các khoản phải thu dài hạn | B40: 211
A41: 2. Các khoản đầu tư | B41: 212
A42: 2.1.Các khoản đầu tư nắm giữ đến ngày đáo hạn | B42: 212.1
A43: 2.2. Đầu tư vào công ty con | B43: 212.2
A44: 2.3. Đầu tư vào công ty liên doanh, liên kết | B44: 212.3
A45: 2.4. Đầu tư dài hạn khác | B45: 212.4
A46: 3. Dự phòng suy giảm tài sản tài chính dài hạn | B46: 213
A47: II. Tài sản cố định | B47: 220 | D47: 19234679101 | E47: 22204398044
A48: 1. Tài sản cố định hữu hình | B48: 221 | D48: 13010865253 | E48: 15475885635
A49: - Nguyên giá | B49: 222 | D49: 39793908991 | E49: 41828931671
A50: - Giá trị hao mòn luỹ kế (*) | B50: 223a | D50: -26783043738 | E50: -26353046036
A51: - Đánh giá TSCĐHH theo giá trị hợp lý | B51: 223b
A52: 2. Tài sản cố định thuê tài chính | B52: 224
A53: - Nguyên giá | B53: 225
A54: - Giá trị hao mòn luỹ kế (*) | B54: 226a
A55: - Đánh giá TSCĐTTC theo giá trị hợp lý | B55: 226b
A56: 3. Tài sản cố định vô hình | B56: 227 | D56: 6223813848 | E56: 6728512409
A57: - Nguyên giá | B57: 228 | D57: 25385008497 | E57: 25385008497
A58: - Giá trị hao mòn luỹ kế (*) | B58: 229a | D58: -19161194649 | E58: -18656496088
A59: - Đánh giá TSCĐVH theo giá trị hợp lý | B59: 229b
A60: III. Bất động sản đầu tư | B60: 230
A61: - Nguyên giá | B61: 231
A62: - Giá trị hao mòn luỹ kế (*) | B62: 232a
A63: - Đánh giá BĐSĐT theo giá trị hợp lý | B63: 232b
A64: IV.Chi phí xây dựng cơ bản dở dang | B64: 240
A65: V. Tài sản dài hạn khác | B65: 250 | D65: 60846439940 | E65: 27256382696
A66: 1. Cầm cố, thế chấp, ký quỹ, ký cược dài hạn | B66: 251 | D66: 2545039400 | E66: 2545039400
A67: 2. Chi phí trả trước dài hạn | B67: 252 | D67: 3646211635 | E67: 3847240756
A68: 3. Tài sản thuế thu nhập hoãn lại | B68: 253 | D68: 34655188905 | E68: 0
A69: 4. Tiền nộp Quỹ Hỗ trợ thanh toán | B69: 254 | D69: 20000000000 | E69: 20864102540
A70: 5. Tài sản dài hạn khác | B70: 255
A71: VI. Dự phòng suy giảm giá trị tài sản dài hạn | B71: 260
A72: TỔNG CỘNG TÀI SẢN
A73: (270 = 100 + 200) | B73: 270 | D73: 2104659494882 | E73: 2347548503165
A74: C. NỢ PHẢI TRẢ (300 = 310 + 340) | B74: 300 | D74: 283354074399 | E74: 368757033120
A75: I. Nợ phải trả ngắn hạn | B75: 310 | D75: 283354074399 | E75: 364155122113
A76: 1. Vay và nợ thuê tài chính ngắn hạn | B76: 311 | D76: 264154698500 | E76: 310305633500
A77: 1.1. Vay ngắn hạn | B77: 312 | D77: 264154698500 | E77: 310305633500
A78: 1.2. Nợ thuê tài chính ngắn hạn | B78: 313
A79: 2. Vay tài sản tài chính ngắn hạn | B79: 314
A80: 3. Trái phiếu chuyển đổi ngắn hạn - Cấu phần nợ | B80: 315
A81: 4. Trái phiếu phát hành ngắn hạn | B81: 316
A82: 5. Vay Quỹ Hỗ trợ thanh toán | B82: 317
A83: 6. Phải trả hoạt động giao dịch chứng khoán | B83: 318 | D83: 217876130 | E83: 264199776
A84: 7. Phải trả về lỗi giao dịch các tài sản tài chính | B84: 319
A85: 8. Phải trả người bán ngắn hạn | B85: 320 | D85: 1127138240 | E85: 29715693552
A86: 9. Người mua trả tiền trước ngắn hạn | B86: 321 | D86: 941996000 | E86: 957900000
A87: 10. Thuế và các khoản phải nộp Nhà nước | B87: 322 | D87: 1038882482 | E87: 1076842851
A88: 11. Phải trả người lao động | B88: 323 | D88: 326282727 | E88: 0
A89: 12.Các khoản trích nộp phúc lợi nhân viên | B89: 324 | D89: 437566823 | E89: 432422323
A90: 13. Chi phí phải trả ngắn hạn | B90: 325 | D90: 6632636063 | E90: 12393562713
A91: 14. Phải trả nội bộ ngắn hạn | B91: 326
A92: 15. Doanh thu chưa thực hiện ngắn hạn | B92: 327
A93: 16. Nhận ký quỹ, ký cược ngắn hạn | B93: 328
A94: 17.Các khoản phải trả, phải nộp khác ngắn hạn | B94: 329 | D94: 1327603235 | E94: 1363619222
A95: 18. Dự phòng phải trả ngắn hạn | B95: 330
A96: 19. Quỹ khen thưởng, phúc lợi | B96: 331 | D96: 7149394199 | E96: 7645248176
A97: 20. Giao dịch mua bán lại trái phiếu Chính phủ | B97: 332
A98: II. Nợ phải trả dài hạn | B98: 340 | D98: 0 | E98: 4601911007
A99: 1. Vay và nợ thuê tài chính dài hạn | B99: 341
A100: 1.1.Vay dài hạn | B100: 342
...

Sheet 7713_hidden
A5: =CONCATENATE(618860,",",ROW(BCTCR_06608!A5),"|",COLUMN(BCTCR_06608!A5),",0",",0") -> 618860,5|1,0,0 | B5: =CONCATENATE(619032,",",ROW(BCTCR_06608!B5),"|",COLUMN(BCTCR_06608!B5),",0",",0") -> 619032,5|2,0,0 | C5: =CONCATENATE(618914,",",ROW(BCTCR_06608!C5),"|",COLUMN(BCTCR_06608!C5),",0",",0") -> 618914,5|3,0,0 | D5: =CONCATENATE(619368,",",ROW(BCTCR_06608!D5),"|",COLUMN(BCTCR_06608!D5),",0",",0") -> 619368,5|4,0,0 | E5: =CONCATENATE(618915,",",ROW(BCTCR_06608!E5),"|",COLUMN(BCTCR_06608!E5),",0",",0") -> 618915,5|5,0,0
A6: =CONCATENATE(619287,",",ROW(BCTCR_06608!A6),"|",COLUMN(BCTCR_06608!A6),",0",",0") -> 619287,6|1,0,0 | C6: =CONCATENATE(619397,",",ROW(BCTCR_06608!C6),"|",COLUMN(BCTCR_06608!C6),",0",",0") -> 619397,6|3,0,0 | D6: =CONCATENATE(619044,",",ROW(BCTCR_06608!D6),"|",COLUMN(BCTCR_06608!D6),",0",",0") -> 619044,6|4,0,0 | E6: =CONCATENATE(619455,",",ROW(BCTCR_06608!E6),"|",COLUMN(BCTCR_06608!E6),",0",",0") -> 619455,6|5,0,0
A7: =CONCATENATE(619128,",",ROW(BCTCR_06608!A7),"|",COLUMN(BCTCR_06608!A7),",0",",0") -> 619128,7|1,0,0 | B7: =CONCATENATE(619411,",",ROW(BCTCR_06608!B7),"|",COLUMN(BCTCR_06608!B7),",0",",0") -> 619411,7|2,0,0 | C7: =CONCATENATE(619347,",",ROW(BCTCR_06608!C7),"|",COLUMN(BCTCR_06608!C7),",0",",0") -> 619347,7|3,0,0 | D7: =CONCATENATE(619480,",",ROW(BCTCR_06608!D7),"|",COLUMN(BCTCR_06608!D7),",0",",0") -> 619480,7|4,0,0 | E7: =CONCATENATE(619150,",",ROW(BCTCR_06608!E7),"|",COLUMN(BCTCR_06608!E7),",0",",0") -> 619150,7|5,0,0
A8: =CONCATENATE(619210,",",ROW(BCTCR_06608!A8),"|",COLUMN(BCTCR_06608!A8),",0",",0") -> 619210,8|1,0,0 | B8: =CONCATENATE(619026,",",ROW(BCTCR_06608!B8),"|",COLUMN(BCTCR_06608!B8),",0",",0") -> 619026,8|2,0,0 | C8: =CONCATENATE(619046,",",ROW(BCTCR_06608!C8),"|",COLUMN(BCTCR_06608!C8),",0",",0") -> 619046,8|3,0,0 | D8: =CONCATENATE(619456,",",ROW(BCTCR_06608!D8),"|",COLUMN(BCTCR_06608!D8),",0",",0") -> 619456,8|4,0,0 | E8: =CONCATENATE(618926,",",ROW(BCTCR_06608!E8),"|",COLUMN(BCTCR_06608!E8),",0",",0") -> 618926,8|5,0,0
A9: =CONCATENATE(619129,",",ROW(BCTCR_06608!A9),"|",COLUMN(BCTCR_06608!A9),",0",",0") -> 619129,9|1,0,0 | B9: =CONCATENATE(619412,",",ROW(BCTCR_06608!B9),"|",COLUMN(BCTCR_06608!B9),",0",",0") -> 619412,9|2,0,0 | C9: =CONCATENATE(619358,",",ROW(BCTCR_06608!C9),"|",COLUMN(BCTCR_06608!C9),",0",",0") -> 619358,9|3,0,0 | D9: =CONCATENATE(619452,",",ROW(BCTCR_06608!D9),"|",COLUMN(BCTCR_06608!D9),",0",",0") -> 619452,9|4,0,0 | E9: =CONCATENATE(619160,",",ROW(BCTCR_06608!E9),"|",COLUMN(BCTCR_06608!E9),",0",",0") -> 619160,9|5,0,0
A10: =CONCATENATE(619211,",",ROW(BCTCR_06608!A10),"|",COLUMN(BCTCR_06608!A10),",0",",0") -> 619211,10|1,0,0 | B10: =CONCATENATE(618954,",",ROW(BCTCR_06608!B10),"|",COLUMN(BCTCR_06608!B10),",0",",0") -> 618954,10|2,0,0 | C10: =CONCATENATE(619047,",",ROW(BCTCR_06608!C10),"|",COLUMN(BCTCR_06608!C10),",0",",0") -> 619047,10|3,0,0 | D10: =CONCATENATE(619457,",",ROW(BCTCR_06608!D10),"|",COLUMN(BCTCR_06608!D10),",0",",0") -> 619457,10|4,0,0 | E10: =CONCATENATE(618916,",",ROW(BCTCR_06608!E10),"|",COLUMN(BCTCR_06608!E10),",0",",0") -> 618916,10|5,0,0
A11: =CONCATENATE(619189,",",ROW(BCTCR_06608!A11),"|",COLUMN(BCTCR_06608!A11),",0",",0") -> 619189,11|1,0,0 | B11: =CONCATENATE(619015,",",ROW(BCTCR_06608!B11),"|",COLUMN(BCTCR_06608!B11),",0",",0") -> 619015,11|2,0,0 | C11: =CONCATENATE(619314,",",ROW(BCTCR_06608!C11),"|",COLUMN(BCTCR_06608!C11),",0",",0") -> 619314,11|3,0,0 | D11: =CONCATENATE(619497,",",ROW(BCTCR_06608!D11),"|",COLUMN(BCTCR_06608!D11),",0",",0") -> 619497,11|4,0,0 | E11: =CONCATENATE(619285,",",ROW(BCTCR_06608!E11),"|",COLUMN(BCTCR_06608!E11),",0",",0") -> 619285,11|5,0,0
A12: =CONCATENATE(619212,",",ROW(BCTCR_06608!A12),"|",COLUMN(BCTCR_06608!A12),",0",",0") -> 619212,12|1,0,0 | B12: =CONCATENATE(619244,",",ROW(BCTCR_06608!B12),"|",COLUMN(BCTCR_06608!B12),",0",",0") -> 619244,12|2,0,0 | C12: =CONCATENATE(619048,",",ROW(BCTCR_06608!C12),"|",COLUMN(BCTCR_06608!C12),",0",",0") -> 619048,12|3,0,0 | D12: =CONCATENATE(619458,",",ROW(BCTCR_06608!D12),"|",COLUMN(BCTCR_06608!D12),",0",",0") -> 619458,12|4,0,0 | E12: =CONCATENATE(618917,",",ROW(BCTCR_06608!E12),"|",COLUMN(BCTCR_06608!E12),",0",",0") -> 618917,12|5,0,0
A13: =CONCATENATE(619130,",",ROW(BCTCR_06608!A13),"|",COLUMN(BCTCR_06608!A13),",0",",0") -> 619130,13|1,0,0 | B13: =CONCATENATE(619413,",",ROW(BCTCR_06608!B13),"|",COLUMN(BCTCR_06608!B13),",0",",0") -> 619413,13|2,0,0 | C13: =CONCATENATE(619359,",",ROW(BCTCR_06608!C13),"|",COLUMN(BCTCR_06608!C13),",0",",0") -> 619359,13|3,0,0 | D13: =CONCATENATE(619045,",",ROW(BCTCR_06608!D13),"|",COLUMN(BCTCR_06608!D13),",0",",0") -> 619045,13|4,0,0 | E13: =CONCATENATE(619227,",",ROW(BCTCR_06608!E13),"|",COLUMN(BCTCR_06608!E13),",0",",0") -> 619227,13|5,0,0
A14: =CONCATENATE(619131,",",ROW(BCTCR_06608!A14),"|",COLUMN(BCTCR_06608!A14),",0",",0") -> 619131,14|1,0,0 | B14: =CONCATENATE(619118,",",ROW(BCTCR_06608!B14),"|",COLUMN(BCTCR_06608!B14),",0",",0") -> 619118,14|2,0,0 | C14: =CONCATENATE(619360,",",ROW(BCTCR_06608!C14),"|",COLUMN(BCTCR_06608!C14),",0",",0") -> 619360,14|3,0,0 | D14: =CONCATENATE(618974,",",ROW(BCTCR_06608!D14),"|",COLUMN(BCTCR_06608!D14),",0",",0") -> 618974,14|4,0,0 | E14: =CONCATENATE(619228,",",ROW(BCTCR_06608!E14),"|",COLUMN(BCTCR_06608!E14),",0",",0") -> 619228,14|5,0,0
A15: =CONCATENATE(619213,",",ROW(BCTCR_06608!A15),"|",COLUMN(BCTCR_06608!A15),",0",",0") -> 619213,15|1,0,0 | B15: =CONCATENATE(619016,",",ROW(BCTCR_06608!B15),"|",COLUMN(BCTCR_06608!B15),",0",",0") -> 619016,15|2,0,0 | C15: =CONCATENATE(619049,",",ROW(BCTCR_06608!C15),"|",COLUMN(BCTCR_06608!C15),",0",",0") -> 619049,15|3,0,0 | D15: =CONCATENATE(619459,",",ROW(BCTCR_06608!D15),"|",COLUMN(BCTCR_06608!D15),",0",",0") -> 619459,15|4,0,0 | E15: =CONCATENATE(618918,",",ROW(BCTCR_06608!E15),"|",COLUMN(BCTCR_06608!E15),",0",",0") -> 618918,15|5,0,0
A16: =CONCATENATE(619132,",",ROW(BCTCR_06608!A16),"|",COLUMN(BCTCR_06608!A16),",0",",0") -> 619132,16|1,0,0 | B16: =CONCATENATE(618955,",",ROW(BCTCR_06608!B16),"|",COLUMN(BCTCR_06608!B16),",0",",0") -> 618955,16|2,0,0 | C16: =CONCATENATE(619361,",",ROW(BCTCR_06608!C16),"|",COLUMN(BCTCR_06608!C16),",0",",0") -> 619361,16|3,0,0 | D16: =CONCATENATE(618975,",",ROW(BCTCR_06608!D16),"|",COLUMN(BCTCR_06608!D16),",0",",0") -> 618975,16|4,0,0 | E16: =CONCATENATE(619161,",",ROW(BCTCR_06608!E16),"|",COLUMN(BCTCR_06608!E16),",0",",0") -> 619161,16|5,0,0
A17: =CONCATENATE(619214,",",ROW(BCTCR_06608!A17),"|",COLUMN(BCTCR_06608!A17),",0",",0") -> 619214,17|1,0,0 | B17: =CONCATENATE(619119,",",ROW(BCTCR_06608!B17),"|",COLUMN(BCTCR_06608!B17),",0",",0") -> 619119,17|2,0,0 | C17: =CONCATENATE(619050,",",ROW(BCTCR_06608!C17),"|",COLUMN(BCTCR_06608!C17),",0",",0") -> 619050,17|3,0,0 | D17: =CONCATENATE(619460,",",ROW(BCTCR_06608!D17),"|",COLUMN(BCTCR_06608!D17),",0",",0") -> 619460,17|4,0,0 | E17: =CONCATENATE(618920,",",ROW(BCTCR_06608!E17),"|",COLUMN(BCTCR_06608!E17),",0",",0") -> 618920,17|5,0,0
A18: =CONCATENATE(619215,",",ROW(BCTCR_06608!A18),"|",COLUMN(BCTCR_06608!A18),",0",",0") -> 619215,18|1,0,0 | B18: =CONCATENATE(618956,",",ROW(BCTCR_06608!B18),"|",COLUMN(BCTCR_06608!B18),",0",",0") -> 618956,18|2,0,0 | C18: =CONCATENATE(619051,",",ROW(BCTCR_06608!C18),"|",COLUMN(BCTCR_06608!C18),",0",",0") -> 619051,18|3,0,0 | D18: =CONCATENATE(619461,",",ROW(BCTCR_06608!D18),"|",COLUMN(BCTCR_06608!D18),",0",",0") -> 619461,18|4,0,0 | E18: =CONCATENATE(618921,",",ROW(BCTCR_06608!E18),"|",COLUMN(BCTCR_06608!E18),",0",",0") -> 618921,18|5,0,0
A19: =CONCATENATE(618861,",",ROW(BCTCR_06608!A19),"|",COLUMN(BCTCR_06608!A19),",0",",0") -> 618861,19|1,0,0 | B19: =CONCATENATE(618967,",",ROW(BCTCR_06608!B19),"|",COLUMN(BCTCR_06608!B19),",0",",0") -> 618967,19|2,0,0 | C19: =CONCATENATE(619362,",",ROW(BCTCR_06608!C19),"|",COLUMN(BCTCR_06608!C19),",0",",0") -> 619362,19|3,0,0 | D19: =CONCATENATE(618976,",",ROW(BCTCR_06608!D19),"|",COLUMN(BCTCR_06608!D19),",0",",0") -> 618976,19|4,0,0 | E19: =CONCATENATE(619162,",",ROW(BCTCR_06608!E19),"|",COLUMN(BCTCR_06608!E19),",0",",0") -> 619162,19|5,0,0
A20: =CONCATENATE(619133,",",ROW(BCTCR_06608!A20),"|",COLUMN(BCTCR_06608!A20),",0",",0") -> 619133,20|1,0,0 | B20: =CONCATENATE(619017,",",ROW(BCTCR_06608!B20),"|",COLUMN(BCTCR_06608!B20),",0",",0") -> 619017,20|2,0,0 | C20: =CONCATENATE(619315,",",ROW(BCTCR_06608!C20),"|",COLUMN(BCTCR_06608!C20),",0",",0") -> 619315,20|3,0,0 | D20: =CONCATENATE(619498,",",ROW(BCTCR_06608!D20),"|",COLUMN(BCTCR_06608!D20),",0",",0") -> 619498,20|4,0,0 | E20: =CONCATENATE(619377,",",ROW(BCTCR_06608!E20),"|",COLUMN(BCTCR_06608!E20),",0",",0") -> 619377,20|5,0,0
A21: =CONCATENATE(619190,",",ROW(BCTCR_06608!A21),"|",COLUMN(BCTCR_06608!A21),",0",",0") -> 619190,21|1,0,0 | B21: =CONCATENATE(619414,",",ROW(BCTCR_06608!B21),"|",COLUMN(BCTCR_06608!B21),",0",",0") -> 619414,21|2,0,0 | C21: =CONCATENATE(619363,",",ROW(BCTCR_06608!C21),"|",COLUMN(BCTCR_06608!C21),",0",",0") -> 619363,21|3,0,0 | D21: =CONCATENATE(618977,",",ROW(BCTCR_06608!D21),"|",COLUMN(BCTCR_06608!D21),",0",",0") -> 618977,21|4,0,0 | E21: =CONCATENATE(619163,",",ROW(BCTCR_06608!E21),"|",COLUMN(BCTCR_06608!E21),",0",",0") -> 619163,21|5,0,0
A22: =CONCATENATE(618864,",",ROW(BCTCR_06608!A22),"|",COLUMN(BCTCR_06608!A22),",0",",0") -> 618864,22|1,0,0 | B22: =CONCATENATE(619274,",",ROW(BCTCR_06608!B22),"|",COLUMN(BCTCR_06608!B22),",0",",0") -> 619274,22|2,0,0 | C22: =CONCATENATE(619364,",",ROW(BCTCR_06608!C22),"|",COLUMN(BCTCR_06608!C22),",0",",0") -> 619364,22|3,0,0 | D22: =CONCATENATE(618978,",",ROW(BCTCR_06608!D22),"|",COLUMN(BCTCR_06608!D22),",0",",0") -> 618978,22|4,0,0 | E22: =CONCATENATE(619164,",",ROW(BCTCR_06608!E22),"|",COLUMN(BCTCR_06608!E22),",0",",0") -> 619164,22|5,0,0
A23: =CONCATENATE(619216,",",ROW(BCTCR_06608!A23),"|",COLUMN(BCTCR_06608!A23),",0",",0") -> 619216,23|1,0,0 | B23: =CONCATENATE(619018,",",ROW(BCTCR_06608!B23),"|",COLUMN(BCTCR_06608!B23),",0",",0") -> 619018,23|2,0,0 | C23: =CONCATENATE(619351,",",ROW(BCTCR_06608!C23),"|",COLUMN(BCTCR_06608!C23),",0",",0") -> 619351,23|3,0,0 | D23: =CONCATENATE(619462,",",ROW(BCTCR_06608!D23),"|",COLUMN(BCTCR_06608!D23),",0",",0") -> 619462,23|4,0,0 | E23: =CONCATENATE(618922,",",ROW(BCTCR_06608!E23),"|",COLUMN(BCTCR_06608!E23),",0",",0") -> 618922,23|5,0,0
A24: =CONCATENATE(619191,",",ROW(BCTCR_06608!A24),"|",COLUMN(BCTCR_06608!A24),",0",",0") -> 619191,24|1,0,0 | B24: =CONCATENATE(619275,",",ROW(BCTCR_06608!B24),"|",COLUMN(BCTCR_06608!B24),",0",",0") -> 619275,24|2,0,0 | C24: =CONCATENATE(619365,",",ROW(BCTCR_06608!C24),"|",COLUMN(BCTCR_06608!C24),",0",",0") -> 619365,24|3,0,0 | D24: =CONCATENATE(618979,",",ROW(BCTCR_06608!D24),"|",COLUMN(BCTCR_06608!D24),",0",",0") -> 618979,24|4,0,0 | E24: =CONCATENATE(619165,",",ROW(BCTCR_06608!E24),"|",COLUMN(BCTCR_06608!E24),",0",",0") -> 619165,24|5,0,0
A25: =CONCATENATE(619217,",",ROW(BCTCR_06608!A25),"|",COLUMN(BCTCR_06608!A25),",0",",0") -> 619217,25|1,0,0 | B25: =CONCATENATE(619276,",",ROW(BCTCR_06608!B25),"|",COLUMN(BCTCR_06608!B25),",0",",0") -> 619276,25|2,0,0 | C25: =CONCATENATE(619052,",",ROW(BCTCR_06608!C25),"|",COLUMN(BCTCR_06608!C25),",0",",0") -> 619052,25|3,0,0 | D25: =CONCATENATE(619463,",",ROW(BCTCR_06608!D25),"|",COLUMN(BCTCR_06608!D25),",0",",0") -> 619463,25|4,0,0 | E25: =CONCATENATE(618923,",",ROW(BCTCR_06608!E25),"|",COLUMN(BCTCR_06608!E25),",0",",0") -> 618923,25|5,0,0
A26: =CONCATENATE(619134,",",ROW(BCTCR_06608!A26),"|",COLUMN(BCTCR_06608!A26),",0",",0") -> 619134,26|1,0,0 | B26: =CONCATENATE(619120,",",ROW(BCTCR_06608!B26),"|",COLUMN(BCTCR_06608!B26),",0",",0") -> 619120,26|2,0,0 | C26: =CONCATENATE(619366,",",ROW(BCTCR_06608!C26),"|",COLUMN(BCTCR_06608!C26),",0",",0") -> 619366,26|3,0,0 | D26: =CONCATENATE(618980,",",ROW(BCTCR_06608!D26),"|",COLUMN(BCTCR_06608!D26),",0",",0") -> 618980,26|4,0,0 | E26: =CONCATENATE(619166,",",ROW(BCTCR_06608!E26),"|",COLUMN(BCTCR_06608!E26),",0",",0") -> 619166,26|5,0,0
A27: =CONCATENATE(618865,",",ROW(BCTCR_06608!A27),"|",COLUMN(BCTCR_06608!A27),",0",",0") -> 618865,27|1,0,0 | B27: =CONCATENATE(619121,",",ROW(BCTCR_06608!B27),"|",COLUMN(BCTCR_06608!B27),",0",",0") -> 619121,27|2,0,0 | C27: =CONCATENATE(619367,",",ROW(BCTCR_06608!C27),"|",COLUMN(BCTCR_06608!C27),",0",",0") -> 619367,27|3,0,0 | D27: =CONCATENATE(618981,",",ROW(BCTCR_06608!D27),"|",COLUMN(BCTCR_06608!D27),",0",",0") -> 618981,27|4,0,0 | E27: =CONCATENATE(619167,",",ROW(BCTCR_06608!E27),"|",COLUMN(BCTCR_06608!E27),",0",",0") -> 619167,27|5,0,0
A28: =CONCATENATE(618866,",",ROW(BCTCR_06608!A28),"|",COLUMN(BCTCR_06608!A28),",0",",0") -> 618866,28|1,0,0 | B28: =CONCATENATE(618919,",",ROW(BCTCR_06608!B28),"|",COLUMN(BCTCR_06608!B28),",0",",0") -> 618919,28|2,0,0 | C28: =CONCATENATE(619316,",",ROW(BCTCR_06608!C28),"|",COLUMN(BCTCR_06608!C28),",0",",0") -> 619316,28|3,0,0 | D28: =CONCATENATE(619499,",",ROW(BCTCR_06608!D28),"|",COLUMN(BCTCR_06608!D28),",0",",0") -> 619499,28|4,0,0 | E28: =CONCATENATE(619378,",",ROW(BCTCR_06608!E28),"|",COLUMN(BCTCR_06608!E28),",0",",0") -> 619378,28|5,0,0
A29: =CONCATENATE(619192,",",ROW(BCTCR_06608!A29),"|",COLUMN(BCTCR_06608!A29),",0",",0") -> 619192,29|1,0,0 | B29: =CONCATENATE(618968,",",ROW(BCTCR_06608!B29),"|",COLUMN(BCTCR_06608!B29),",0",",0") -> 618968,29|2,0,0 | C29: =CONCATENATE(619035,",",ROW(BCTCR_06608!C29),"|",COLUMN(BCTCR_06608!C29),",0",",0") -> 619035,29|3,0,0 | D29: =CONCATENATE(618982,",",ROW(BCTCR_06608!D29),"|",COLUMN(BCTCR_06608!D29),",0",",0") -> 618982,29|4,0,0 | E29: =CONCATENATE(619168,",",ROW(BCTCR_06608!E29),"|",COLUMN(BCTCR_06608!E29),",0",",0") -> 619168,29|5,0,0
A30: =CONCATENATE(619193,",",ROW(BCTCR_06608!A30),"|",COLUMN(BCTCR_06608!A30),",0",",0") -> 619193,30|1,0,0 | B30: =CONCATENATE(619415,",",ROW(BCTCR_06608!B30),"|",COLUMN(BCTCR_06608!B30),",0",",0") -> 619415,30|2,0,0 | C30: =CONCATENATE(619065,",",ROW(BCTCR_06608!C30),"|",COLUMN(BCTCR_06608!C30),",0",",0") -> 619065,30|3,0,0 | D30: =CONCATENATE(618983,",",ROW(BCTCR_06608!D30),"|",COLUMN(BCTCR_06608!D30),",0",",0") -> 618983,30|4,0,0 | E30: =CONCATENATE(619169,",",ROW(BCTCR_06608!E30),"|",COLUMN(BCTCR_06608!E30),",0",",0") -> 619169,30|5,0,0
A31: =CONCATENATE(619278,",",ROW(BCTCR_06608!A31),"|",COLUMN(BCTCR_06608!A31),",0",",0") -> 619278,31|1,0,0 | B31: =CONCATENATE(619019,",",ROW(BCTCR_06608!B31),"|",COLUMN(BCTCR_06608!B31),",0",",0") -> 619019,31|2,0,0 | C31: =CONCATENATE(619317,",",ROW(BCTCR_06608!C31),"|",COLUMN(BCTCR_06608!C31),",0",",0") -> 619317,31|3,0,0 | D31: =CONCATENATE(619500,",",ROW(BCTCR_06608!D31),"|",COLUMN(BCTCR_06608!D31),",0",",0") -> 619500,31|4,0,0 | E31: =CONCATENATE(619379,",",ROW(BCTCR_06608!E31),"|",COLUMN(BCTCR_06608!E31),",0",",0") -> 619379,31|5,0,0
A32: =CONCATENATE(619014,",",ROW(BCTCR_06608!A32),"|",COLUMN(BCTCR_06608!A32),",0",",0") -> 619014,32|1,0,0 | B32: =CONCATENATE(619122,",",ROW(BCTCR_06608!B32),"|",COLUMN(BCTCR_06608!B32),",0",",0") -> 619122,32|2,0,0 | C32: =CONCATENATE(619313,",",ROW(BCTCR_06608!C32),"|",COLUMN(BCTCR_06608!C32),",0",",0") -> 619313,32|3,0,0 | D32: =CONCATENATE(619496,",",ROW(BCTCR_06608!D32),"|",COLUMN(BCTCR_06608!D32),",0",",0") -> 619496,32|4,0,0 | E32: =CONCATENATE(619284,",",ROW(BCTCR_06608!E32),"|",COLUMN(BCTCR_06608!E32),",0",",0") -> 619284,32|5,0,0
A33: =CONCATENATE(619194,",",ROW(BCTCR_06608!A33),"|",COLUMN(BCTCR_06608!A33),",0",",0") -> 619194,33|1,0,0 | B33: =CONCATENATE(619416,",",ROW(BCTCR_06608!B33),"|",COLUMN(BCTCR_06608!B33),",0",",0") -> 619416,33|2,0,0 | C33: =CONCATENATE(619066,",",ROW(BCTCR_06608!C33),"|",COLUMN(BCTCR_06608!C33),",0",",0") -> 619066,33|3,0,0 | D33: =CONCATENATE(618984,",",ROW(BCTCR_06608!D33),"|",COLUMN(BCTCR_06608!D33),",0",",0") -> 618984,33|4,0,0 | E33: =CONCATENATE(619170,",",ROW(BCTCR_06608!E33),"|",COLUMN(BCTCR_06608!E33),",0",",0") -> 619170,33|5,0,0
A34: =CONCATENATE(619135,",",ROW(BCTCR_06608!A34),"|",COLUMN(BCTCR_06608!A34),",0",",0") -> 619135,34|1,0,0 | B34: =CONCATENATE(619277,",",ROW(BCTCR_06608!B34),"|",COLUMN(BCTCR_06608!B34),",0",",0") -> 619277,34|2,0,0 | C34: =CONCATENATE(619067,",",ROW(BCTCR_06608!C34),"|",COLUMN(BCTCR_06608!C34),",0",",0") -> 619067,34|3,0,0 | D34: =CONCATENATE(618985,",",ROW(BCTCR_06608!D34),"|",COLUMN(BCTCR_06608!D34),",0",",0") -> 618985,34|4,0,0 | E34: =CONCATENATE(619171,",",ROW(BCTCR_06608!E34),"|",COLUMN(BCTCR_06608!E34),",0",",0") -> 619171,34|5,0,0
A35: =CONCATENATE(619195,",",ROW(BCTCR_06608!A35),"|",COLUMN(BCTCR_06608!A35),",0",",0") -> 619195,35|1,0,0 | B35: =CONCATENATE(619417,",",ROW(BCTCR_06608!B35),"|",COLUMN(BCTCR_06608!B35),",0",",0") -> 619417,35|2,0,0 | C35: =CONCATENATE(619068,",",ROW(BCTCR_06608!C35),"|",COLUMN(BCTCR_06608!C35),",0",",0") -> 619068,35|3,0,0 | D35: =CONCATENATE(618986,",",ROW(BCTCR_06608!D35),"|",COLUMN(BCTCR_06608!D35),",0",",0") -> 618986,35|4,0,0 | E35: =CONCATENATE(619172,",",ROW(BCTCR_06608!E35),"|",COLUMN(BCTCR_06608!E35),",0",",0") -> 619172,35|5,0,0
A36: =CONCATENATE(619136,",",ROW(BCTCR_06608!A36),"|",COLUMN(BCTCR_06608!A36),",0",",0") -> 619136,36|1,0,0 | B36: =CONCATENATE(618969,",",ROW(BCTCR_06608!B36),"|",COLUMN(BCTCR_06608!B36),",0",",0") -> 618969,36|2,0,0 | C36: =CONCATENATE(619069,",",ROW(BCTCR_06608!C36),"|",COLUMN(BCTCR_06608!C36),",0",",0") -> 619069,36|3,0,0 | D36: =CONCATENATE(618987,",",ROW(BCTCR_06608!D36),"|",COLUMN(BCTCR_06608!D36),",0",",0") -> 618987,36|4,0,0 | E36: =CONCATENATE(619173,",",ROW(BCTCR_06608!E36),"|",COLUMN(BCTCR_06608!E36),",0",",0") -> 619173,36|5,0,0
A37: =CONCATENATE(619279,",",ROW(BCTCR_06608!A37),"|",COLUMN(BCTCR_06608!A37),",0",",0") -> 619279,37|1,0,0 | B37: =CONCATENATE(619020,",",ROW(BCTCR_06608!B37),"|",COLUMN(BCTCR_06608!B37),",0",",0") -> 619020,37|2,0,0 | C37: =CONCATENATE(619319,",",ROW(BCTCR_06608!C37),"|",COLUMN(BCTCR_06608!C37),",0",",0") -> 619319,37|3,0,0 | D37: =CONCATENATE(619477,",",ROW(BCTCR_06608!D37),"|",COLUMN(BCTCR_06608!D37),",0",",0") -> 619477,37|4,0,0 | E37: =CONCATENATE(619380,",",ROW(BCTCR_06608!E37),"|",COLUMN(BCTCR_06608!E37),",0",",0") -> 619380,37|5,0,0
A38: =CONCATENATE(619218,",",ROW(BCTCR_06608!A38),"|",COLUMN(BCTCR_06608!A38),",0",",0") -> 619218,38|1,0,0 | B38: =CONCATENATE(618970,",",ROW(BCTCR_06608!B38),"|",COLUMN(BCTCR_06608!B38),",0",",0") -> 618970,38|2,0,0 | C38: =CONCATENATE(619053,",",ROW(BCTCR_06608!C38),"|",COLUMN(BCTCR_06608!C38),",0",",0") -> 619053,38|3,0,0 | D38: =CONCATENATE(618943,",",ROW(BCTCR_06608!D38),"|",COLUMN(BCTCR_06608!D38),",0",",0") -> 618943,38|4,0,0 | E38: =CONCATENATE(618924,",",ROW(BCTCR_06608!E38),"|",COLUMN(BCTCR_06608!E38),",0",",0") -> 618924,38|5,0,0
A39: =CONCATENATE(619137,",",ROW(BCTCR_06608!A39),"|",COLUMN(BCTCR_06608!A39),",0",",0") -> 619137,39|1,0,0 | B39: =CONCATENATE(618971,",",ROW(BCTCR_06608!B39),"|",COLUMN(BCTCR_06608!B39),",0",",0") -> 618971,39|2,0,0 | C39: =CONCATENATE(619238,",",ROW(BCTCR_06608!C39),"|",COLUMN(BCTCR_06608!C39),",0",",0") -> 619238,39|3,0,0 | D39: =CONCATENATE(618988,",",ROW(BCTCR_06608!D39),"|",COLUMN(BCTCR_06608!D39),",0",",0") -> 618988,39|4,0,0 | E39: =CONCATENATE(619174,",",ROW(BCTCR_06608!E39),"|",COLUMN(BCTCR_06608!E39),",0",",0") -> 619174,39|5,0,0
A40: =CONCATENATE(619286,",",ROW(BCTCR_06608!A40),"|",COLUMN(BCTCR_06608!A40),",0",",0") -> 619286,40|1,0,0 | B40: =CONCATENATE(619021,",",ROW(BCTCR_06608!B40),"|",COLUMN(BCTCR_06608!B40),",0",",0") -> 619021,40|2,0,0 | C40: =CONCATENATE(619320,",",ROW(BCTCR_06608!C40),"|",COLUMN(BCTCR_06608!C40),",0",",0") -> 619320,40|3,0,0 | D40: =CONCATENATE(619485,",",ROW(BCTCR_06608!D40),"|",COLUMN(BCTCR_06608!D40),",0",",0") -> 619485,40|4,0,0 | E40: =CONCATENATE(619381,",",ROW(BCTCR_06608!E40),"|",COLUMN(BCTCR_06608!E40),",0",",0") -> 619381,40|5,0,0
A41: =CONCATENATE(619138,",",ROW(BCTCR_06608!A41),"|",COLUMN(BCTCR_06608!A41),",0",",0") -> 619138,41|1,0,0 | B41: =CONCATENATE(619027,",",ROW(BCTCR_06608!B41),"|",COLUMN(BCTCR_06608!B41),",0",",0") -> 619027,41|2,0,0 | C41: =CONCATENATE(619070,",",ROW(BCTCR_06608!C41),"|",COLUMN(BCTCR_06608!C41),",0",",0") -> 619070,41|3,0,0 | D41: =CONCATENATE(618989,",",ROW(BCTCR_06608!D41),"|",COLUMN(BCTCR_06608!D41),",0",",0") -> 618989,41|4,0,0 | E41: =CONCATENATE(619175,",",ROW(BCTCR_06608!E41),"|",COLUMN(BCTCR_06608!E41),",0",",0") -> 619175,41|5,0,0
A42: =CONCATENATE(619280,",",ROW(BCTCR_06608!A42),"|",COLUMN(BCTCR_06608!A42),",0",",0") -> 619280,42|1,0,0 | B42: =CONCATENATE(619446,",",ROW(BCTCR_06608!B42),"|",COLUMN(BCTCR_06608!B42),",0",",0") -> 619446,42|2,0,0 | C42: =CONCATENATE(619348,",",ROW(BCTCR_06608!C42),"|",COLUMN(BCTCR_06608!C42),",0",",0") -> 619348,42|3,0,0 | D42: =CONCATENATE(619481,",",ROW(BCTCR_06608!D42),"|",COLUMN(BCTCR_06608!D42),",0",",0") -> 619481,42|4,0,0 | E42: =CONCATENATE(619151,",",ROW(BCTCR_06608!E42),"|",COLUMN(BCTCR_06608!E42),",0",",0") -> 619151,42|5,0,0
A43: =CONCATENATE(619196,",",ROW(BCTCR_06608!A43),"|",COLUMN(BCTCR_06608!A43),",0",",0") -> 619196,43|1,0,0 | B43: =CONCATENATE(619447,",",ROW(BCTCR_06608!B43),"|",COLUMN(BCTCR_06608!B43),",0",",0") -> 619447,43|2,0,0 | C43: =CONCATENATE(619071,",",ROW(BCTCR_06608!C43),"|",COLUMN(BCTCR_06608!C43),",0",",0") -> 619071,43|3,0,0 | D43: =CONCATENATE(618990,",",ROW(BCTCR_06608!D43),"|",COLUMN(BCTCR_06608!D43),",0",",0") -> 618990,43|4,0,0 | E43: =CONCATENATE(619176,",",ROW(BCTCR_06608!E43),"|",COLUMN(BCTCR_06608!E43),",0",",0") -> 619176,43|5,0,0
A44: =CONCATENATE(619219,",",ROW(BCTCR_06608!A44),"|",COLUMN(BCTCR_06608!A44),",0",",0") -> 619219,44|1,0,0 | B44: =CONCATENATE(619251,",",ROW(BCTCR_06608!B44),"|",COLUMN(BCTCR_06608!B44),",0",",0") -> 619251,44|2,0,0 | C44: =CONCATENATE(619054,",",ROW(BCTCR_06608!C44),"|",COLUMN(BCTCR_06608!C44),",0",",0") -> 619054,44|3,0,0 | D44: =CONCATENATE(618944,",",ROW(BCTCR_06608!D44),"|",COLUMN(BCTCR_06608!D44),",0",",0") -> 618944,44|4,0,0 | E44: =CONCATENATE(618925,",",ROW(BCTCR_06608!E44),"|",COLUMN(BCTCR_06608!E44),",0",",0") -> 618925,44|5,0,0
A45: =CONCATENATE(618973,",",ROW(BCTCR_06608!A45),"|",COLUMN(BCTCR_06608!A45),",0",",0") -> 618973,45|1,0,0 | B45: =CONCATENATE(619418,",",ROW(BCTCR_06608!B45),"|",COLUMN(BCTCR_06608!B45),",0",",0") -> 619418,45|2,0,0 | C45: =CONCATENATE(619349,",",ROW(BCTCR_06608!C45),"|",COLUMN(BCTCR_06608!C45),",0",",0") -> 619349,45|3,0,0 | D45: =CONCATENATE(619482,",",ROW(BCTCR_06608!D45),"|",COLUMN(BCTCR_06608!D45),",0",",0") -> 619482,45|4,0,0 | E45: =CONCATENATE(619152,",",ROW(BCTCR_06608!E45),"|",COLUMN(BCTCR_06608!E45),",0",",0") -> 619152,45|5,0,0
A46: =CONCATENATE(619267,",",ROW(BCTCR_06608!A46),"|",COLUMN(BCTCR_06608!A46),",0",",0") -> 619267,46|1,0,0 | B46: =CONCATENATE(619123,",",ROW(BCTCR_06608!B46),"|",COLUMN(BCTCR_06608!B46),",0",",0") -> 619123,46|2,0,0 | C46: =CONCATENATE(619350,",",ROW(BCTCR_06608!C46),"|",COLUMN(BCTCR_06608!C46),",0",",0") -> 619350,46|3,0,0 | D46: =CONCATENATE(619483,",",ROW(BCTCR_06608!D46),"|",COLUMN(BCTCR_06608!D46),",0",",0") -> 619483,46|4,0,0 | E46: =CONCATENATE(619153,",",ROW(BCTCR_06608!E46),"|",COLUMN(BCTCR_06608!E46),",0",",0") -> 619153,46|5,0,0
A47: =CONCATENATE(619268,",",ROW(BCTCR_06608!A47),"|",COLUMN(BCTCR_06608!A47),",0",",0") -> 619268,47|1,0,0 | B47: =CONCATENATE(619503,",",ROW(BCTCR_06608!B47),"|",COLUMN(BCTCR_06608!B47),",0",",0") -> 619503,47|2,0,0 | C47: =CONCATENATE(619352,",",ROW(BCTCR_06608!C47),"|",COLUMN(BCTCR_06608!C47),",0",",0") -> 619352,47|3,0,0 | D47: =CONCATENATE(619484,",",ROW(BCTCR_06608!D47),"|",COLUMN(BCTCR_06608!D47),",0",",0") -> 619484,47|4,0,0 | E47: =CONCATENATE(619154,",",ROW(BCTCR_06608!E47),"|",COLUMN(BCTCR_06608!E47),",0",",0") -> 619154,47|5,0,0
A48: =CONCATENATE(619139,",",ROW(BCTCR_06608!A48),"|",COLUMN(BCTCR_06608!A48),",0",",0") -> 619139,48|1,0,0 | B48: =CONCATENATE(618935,",",ROW(BCTCR_06608!B48),"|",COLUMN(BCTCR_06608!B48),",0",",0") -> 618935,48|2,0,0 | C48: =CONCATENATE(619072,",",ROW(BCTCR_06608!C48),"|",COLUMN(BCTCR_06608!C48),",0",",0") -> 619072,48|3,0,0 | D48: =CONCATENATE(618991,",",ROW(BCTCR_06608!D48),"|",COLUMN(BCTCR_06608!D48),",0",",0") -> 618991,48|4,0,0 | E48: =CONCATENATE(619177,",",ROW(BCTCR_06608!E48),"|",COLUMN(BCTCR_06608!E48),",0",",0") -> 619177,48|5,0,0
A49: =CONCATENATE(619229,",",ROW(BCTCR_06608!A49),"|",COLUMN(BCTCR_06608!A49),",0",",0") -> 619229,49|1,0,0 | B49: =CONCATENATE(619504,",",ROW(BCTCR_06608!B49),"|",COLUMN(BCTCR_06608!B49),",0",",0") -> 619504,49|2,0,0 | C49: =CONCATENATE(619073,",",ROW(BCTCR_06608!C49),"|",COLUMN(BCTCR_06608!C49),",0",",0") -> 619073,49|3,0,0 | D49: =CONCATENATE(618992,",",ROW(BCTCR_06608!D49),"|",COLUMN(BCTCR_06608!D49),",0",",0") -> 618992,49|4,0,0 | E49: =CONCATENATE(619178,",",ROW(BCTCR_06608!E49),"|",COLUMN(BCTCR_06608!E49),",0",",0") -> 619178,49|5,0,0
A50: =CONCATENATE(619197,",",ROW(BCTCR_06608!A50),"|",COLUMN(BCTCR_06608!A50),",0",",0") -> 619197,50|1,0,0 | B50: =CONCATENATE(619505,",",ROW(BCTCR_06608!B50),"|",COLUMN(BCTCR_06608!B50),",0",",0") -> 619505,50|2,0,0 | C50: =CONCATENATE(619074,",",ROW(BCTCR_06608!C50),"|",COLUMN(BCTCR_06608!C50),",0",",0") -> 619074,50|3,0,0 | D50: =CONCATENATE(618993,",",ROW(BCTCR_06608!D50),"|",COLUMN(BCTCR_06608!D50),",0",",0") -> 618993,50|4,0,0 | E50: =CONCATENATE(619179,",",ROW(BCTCR_06608!E50),"|",COLUMN(BCTCR_06608!E50),",0",",0") -> 619179,50|5,0,0
A51: =CONCATENATE(619198,",",ROW(BCTCR_06608!A51),"|",COLUMN(BCTCR_06608!A51),",0",",0") -> 619198,51|1,0,0 | B51: =CONCATENATE(619506,",",ROW(BCTCR_06608!B51),"|",COLUMN(BCTCR_06608!B51),",0",",0") -> 619506,51|2,0,0 | C51: =CONCATENATE(619075,",",ROW(BCTCR_06608!C51),"|",COLUMN(BCTCR_06608!C51),",0",",0") -> 619075,51|3,0,0 | D51: =CONCATENATE(618994,",",ROW(BCTCR_06608!D51),"|",COLUMN(BCTCR_06608!D51),",0",",0") -> 618994,51|4,0,0 | E51: =CONCATENATE(619180,",",ROW(BCTCR_06608!E51),"|",COLUMN(BCTCR_06608!E51),",0",",0") -> 619180,51|5,0,0
A52: =CONCATENATE(619220,",",ROW(BCTCR_06608!A52),"|",COLUMN(BCTCR_06608!A52),",0",",0") -> 619220,52|1,0,0 | B52: =CONCATENATE(619507,",",ROW(BCTCR_06608!B52),"|",COLUMN(BCTCR_06608!B52),",0",",0") -> 619507,52|2,0,0 | C52: =CONCATENATE(619055,",",ROW(BCTCR_06608!C52),"|",COLUMN(BCTCR_06608!C52),",0",",0") -> 619055,52|3,0,0 | D52: =CONCATENATE(618945,",",ROW(BCTCR_06608!D52),"|",COLUMN(BCTCR_06608!D52),",0",",0") -> 618945,52|4,0,0 | E52: =CONCATENATE(618862,",",ROW(BCTCR_06608!E52),"|",COLUMN(BCTCR_06608!E52),",0",",0") -> 618862,52|5,0,0
A53: =CONCATENATE(619221,",",ROW(BCTCR_06608!A53),"|",COLUMN(BCTCR_06608!A53),",0",",0") -> 619221,53|1,0,0 | B53: =CONCATENATE(619022,",",ROW(BCTCR_06608!B53),"|",COLUMN(BCTCR_06608!B53),",0",",0") -> 619022,53|2,0,0 | C53: =CONCATENATE(619056,",",ROW(BCTCR_06608!C53),"|",COLUMN(BCTCR_06608!C53),",0",",0") -> 619056,53|3,0,0 | D53: =CONCATENATE(618946,",",ROW(BCTCR_06608!D53),"|",COLUMN(BCTCR_06608!D53),",0",",0") -> 618946,53|4,0,0 | E53: =CONCATENATE(618863,",",ROW(BCTCR_06608!E53),"|",COLUMN(BCTCR_06608!E53),",0",",0") -> 618863,53|5,0,0
A54: =CONCATENATE(619248,",",ROW(BCTCR_06608!A54),"|",COLUMN(BCTCR_06608!A54),",0",",0") -> 619248,54|1,0,0 | B54: =CONCATENATE(618845,",",ROW(BCTCR_06608!B54),"|",COLUMN(BCTCR_06608!B54),",0",",0") -> 618845,54|2,0,0 | C54: =CONCATENATE(619076,",",ROW(BCTCR_06608!C54),"|",COLUMN(BCTCR_06608!C54),",0",",0") -> 619076,54|3,0,0 | D54: =CONCATENATE(618995,",",ROW(BCTCR_06608!D54),"|",COLUMN(BCTCR_06608!D54),",0",",0") -> 618995,54|4,0,0 | E54: =CONCATENATE(619181,",",ROW(BCTCR_06608!E54),"|",COLUMN(BCTCR_06608!E54),",0",",0") -> 619181,54|5,0,0
A55: =CONCATENATE(619222,",",ROW(BCTCR_06608!A55),"|",COLUMN(BCTCR_06608!A55),",0",",0") -> 619222,55|1,0,0 | B55: =CONCATENATE(619419,",",ROW(BCTCR_06608!B55),"|",COLUMN(BCTCR_06608!B55),",0",",0") -> 619419,55|2,0,0 | C55: =CONCATENATE(619057,",",ROW(BCTCR_06608!C55),"|",COLUMN(BCTCR_06608!C55),",0",",0") -> 619057,55|3,0,0 | D55: =CONCATENATE(618947,",",ROW(BCTCR_06608!D55),"|",COLUMN(BCTCR_06608!D55),",0",",0") -> 618947,55|4,0,0 | E55: =CONCATENATE(619464,",",ROW(BCTCR_06608!E55),"|",COLUMN(BCTCR_06608!E55),",0",",0") -> 619464,55|5,0,0
A56: =CONCATENATE(619223,",",ROW(BCTCR_06608!A56),"|",COLUMN(BCTCR_06608!A56),",0",",0") -> 619223,56|1,0,0 | B56: =CONCATENATE(619473,",",ROW(BCTCR_06608!B56),"|",COLUMN(BCTCR_06608!B56),",0",",0") -> 619473,56|2,0,0 | C56: =CONCATENATE(619058,",",ROW(BCTCR_06608!C56),"|",COLUMN(BCTCR_06608!C56),",0",",0") -> 619058,56|3,0,0 | D56: =CONCATENATE(618948,",",ROW(BCTCR_06608!D56),"|",COLUMN(BCTCR_06608!D56),",0",",0") -> 618948,56|4,0,0 | E56: =CONCATENATE(619465,",",ROW(BCTCR_06608!E56),"|",COLUMN(BCTCR_06608!E56),",0",",0") -> 619465,56|5,0,0
A57: =CONCATENATE(619224,",",ROW(BCTCR_06608!A57),"|",COLUMN(BCTCR_06608!A57),",0",",0") -> 619224,57|1,0,0 | B57: =CONCATENATE(618846,",",ROW(BCTCR_06608!B57),"|",COLUMN(BCTCR_06608!B57),",0",",0") -> 618846,57|2,0,0 | C57: =CONCATENATE(619059,",",ROW(BCTCR_06608!C57),"|",COLUMN(BCTCR_06608!C57),",0",",0") -> 619059,57|3,0,0 | D57: =CONCATENATE(618949,",",ROW(BCTCR_06608!D57),"|",COLUMN(BCTCR_06608!D57),",0",",0") -> 618949,57|4,0,0 | E57: =CONCATENATE(619466,",",ROW(BCTCR_06608!E57),"|",COLUMN(BCTCR_06608!E57),",0",",0") -> 619466,57|5,0,0
A58: =CONCATENATE(619493,",",ROW(BCTCR_06608!A58),"|",COLUMN(BCTCR_06608!A58),",0",",0") -> 619493,58|1,0,0 | B58: =CONCATENATE(619420,",",ROW(BCTCR_06608!B58),"|",COLUMN(BCTCR_06608!B58),",0",",0") -> 619420,58|2,0,0 | C58: =CONCATENATE(619077,",",ROW(BCTCR_06608!C58),"|",COLUMN(BCTCR_06608!C58),",0",",0") -> 619077,58|3,0,0 | D58: =CONCATENATE(618996,",",ROW(BCTCR_06608!D58),"|",COLUMN(BCTCR_06608!D58),",0",",0") -> 618996,58|4,0,0 | E58: =CONCATENATE(619182,",",ROW(BCTCR_06608!E58),"|",COLUMN(BCTCR_06608!E58),",0",",0") -> 619182,58|5,0,0
A59: =CONCATENATE(619230,",",ROW(BCTCR_06608!A59),"|",COLUMN(BCTCR_06608!A59),",0",",0") -> 619230,59|1,0,0 | B59: =CONCATENATE(618880,",",ROW(BCTCR_06608!B59),"|",COLUMN(BCTCR_06608!B59),",0",",0") -> 618880,59|2,0,0 | C59: =CONCATENATE(619078,",",ROW(BCTCR_06608!C59),"|",COLUMN(BCTCR_06608!C59),",0",",0") -> 619078,59|3,0,0 | D59: =CONCATENATE(618997,",",ROW(BCTCR_06608!D59),"|",COLUMN(BCTCR_06608!D59),",0",",0") -> 618997,59|4,0,0 | E59: =CONCATENATE(619183,",",ROW(BCTCR_06608!E59),"|",COLUMN(BCTCR_06608!E59),",0",",0") -> 619183,59|5,0,0
A60: =CONCATENATE(619269,",",ROW(BCTCR_06608!A60),"|",COLUMN(BCTCR_06608!A60),",0",",0") -> 619269,60|1,0,0 | B60: =CONCATENATE(618881,",",ROW(BCTCR_06608!B60),"|",COLUMN(BCTCR_06608!B60),",0",",0") -> 618881,60|2,0,0 | C60: =CONCATENATE(619353,",",ROW(BCTCR_06608!C60),"|",COLUMN(BCTCR_06608!C60),",0",",0") -> 619353,60|3,0,0 | D60: =CONCATENATE(619298,",",ROW(BCTCR_06608!D60),"|",COLUMN(BCTCR_06608!D60),",0",",0") -> 619298,60|4,0,0 | E60: =CONCATENATE(619155,",",ROW(BCTCR_06608!E60),"|",COLUMN(BCTCR_06608!E60),",0",",0") -> 619155,60|5,0,0
A61: =CONCATENATE(619225,",",ROW(BCTCR_06608!A61),"|",COLUMN(BCTCR_06608!A61),",0",",0") -> 619225,61|1,0,0 | B61: =CONCATENATE(619421,",",ROW(BCTCR_06608!B61),"|",COLUMN(BCTCR_06608!B61),",0",",0") -> 619421,61|2,0,0 | C61: =CONCATENATE(619060,",",ROW(BCTCR_06608!C61),"|",COLUMN(BCTCR_06608!C61),",0",",0") -> 619060,61|3,0,0 | D61: =CONCATENATE(618950,",",ROW(BCTCR_06608!D61),"|",COLUMN(BCTCR_06608!D61),",0",",0") -> 618950,61|4,0,0 | E61: =CONCATENATE(619467,",",ROW(BCTCR_06608!E61),"|",COLUMN(BCTCR_06608!E61),",0",",0") -> 619467,61|5,0,0
A62: =CONCATENATE(619199,",",ROW(BCTCR_06608!A62),"|",COLUMN(BCTCR_06608!A62),",0",",0") -> 619199,62|1,0,0 | B62: =CONCATENATE(618882,",",ROW(BCTCR_06608!B62),"|",COLUMN(BCTCR_06608!B62),",0",",0") -> 618882,62|2,0,0 | C62: =CONCATENATE(619079,",",ROW(BCTCR_06608!C62),"|",COLUMN(BCTCR_06608!C62),",0",",0") -> 619079,62|3,0,0 | D62: =CONCATENATE(618998,",",ROW(BCTCR_06608!D62),"|",COLUMN(BCTCR_06608!D62),",0",",0") -> 618998,62|4,0,0 | E62: =CONCATENATE(619184,",",ROW(BCTCR_06608!E62),"|",COLUMN(BCTCR_06608!E62),",0",",0") -> 619184,62|5,0,0
A63: =CONCATENATE(619270,",",ROW(BCTCR_06608!A63),"|",COLUMN(BCTCR_06608!A63),",0",",0") -> 619270,63|1,0,0 | B63: =CONCATENATE(619422,",",ROW(BCTCR_06608!B63),"|",COLUMN(BCTCR_06608!B63),",0",",0") -> 619422,63|2,0,0 | C63: =CONCATENATE(619354,",",ROW(BCTCR_06608!C63),"|",COLUMN(BCTCR_06608!C63),",0",",0") -> 619354,63|3,0,0 | D63: =CONCATENATE(619299,",",ROW(BCTCR_06608!D63),"|",COLUMN(BCTCR_06608!D63),",0",",0") -> 619299,63|4,0,0 | E63: =CONCATENATE(619156,",",ROW(BCTCR_06608!E63),"|",COLUMN(BCTCR_06608!E63),",0",",0") -> 619156,63|5,0,0
A64: =CONCATENATE(619226,",",ROW(BCTCR_06608!A64),"|",COLUMN(BCTCR_06608!A64),",0",",0") -> 619226,64|1,0,0 | B64: =CONCATENATE(619023,",",ROW(BCTCR_06608!B64),"|",COLUMN(BCTCR_06608!B64),",0",",0") -> 619023,64|2,0,0 | C64: =CONCATENATE(619061,",",ROW(BCTCR_06608!C64),"|",COLUMN(BCTCR_06608!C64),",0",",0") -> 619061,64|3,0,0 | D64: =CONCATENATE(618951,",",ROW(BCTCR_06608!D64),"|",COLUMN(BCTCR_06608!D64),",0",",0") -> 618951,64|4,0,0 | E64: =CONCATENATE(619468,",",ROW(BCTCR_06608!E64),"|",COLUMN(BCTCR_06608!E64),",0",",0") -> 619468,64|5,0,0
A65: =CONCATENATE(619271,",",ROW(BCTCR_06608!A65),"|",COLUMN(BCTCR_06608!A65),",0",",0") -> 619271,65|1,0,0 | B65: =CONCATENATE(619474,",",ROW(BCTCR_06608!B65),"|",COLUMN(BCTCR_06608!B65),",0",",0") -> 619474,65|2,0,0 | C65: =CONCATENATE(619355,",",ROW(BCTCR_06608!C65),"|",COLUMN(BCTCR_06608!C65),",0",",0") -> 619355,65|3,0,0 | D65: =CONCATENATE(619300,",",ROW(BCTCR_06608!D65),"|",COLUMN(BCTCR_06608!D65),",0",",0") -> 619300,65|4,0,0 | E65: =CONCATENATE(619157,",",ROW(BCTCR_06608!E65),"|",COLUMN(BCTCR_06608!E65),",0",",0") -> 619157,65|5,0,0
A66: =CONCATENATE(619117,",",ROW(BCTCR_06608!A66),"|",COLUMN(BCTCR_06608!A66),",0",",0") -> 619117,66|1,0,0 | B66: =CONCATENATE(618883,",",ROW(BCTCR_06608!B66),"|",COLUMN(BCTCR_06608!B66),",0",",0") -> 618883,66|2,0,0 | C66: =CONCATENATE(619062,",",ROW(BCTCR_06608!C66),"|",COLUMN(BCTCR_06608!C66),",0",",0") -> 619062,66|3,0,0 | D66: =CONCATENATE(618952,",",ROW(BCTCR_06608!D66),"|",COLUMN(BCTCR_06608!D66),",0",",0") -> 618952,66|4,0,0 | E66: =CONCATENATE(619469,",",ROW(BCTCR_06608!E66),"|",COLUMN(BCTCR_06608!E66),",0",",0") -> 619469,66|5,0,0
A67: =CONCATENATE(619205,",",ROW(BCTCR_06608!A67),"|",COLUMN(BCTCR_06608!A67),",0",",0") -> 619205,67|1,0,0 | B67: =CONCATENATE(619423,",",ROW(BCTCR_06608!B67),"|",COLUMN(BCTCR_06608!B67),",0",",0") -> 619423,67|2,0,0 | C67: =CONCATENATE(619080,",",ROW(BCTCR_06608!C67),"|",COLUMN(BCTCR_06608!C67),",0",",0") -> 619080,67|3,0,0 | D67: =CONCATENATE(618999,",",ROW(BCTCR_06608!D67),"|",COLUMN(BCTCR_06608!D67),",0",",0") -> 618999,67|4,0,0 | E67: =CONCATENATE(619185,",",ROW(BCTCR_06608!E67),"|",COLUMN(BCTCR_06608!E67),",0",",0") -> 619185,67|5,0,0
A68: =CONCATENATE(619240,",",ROW(BCTCR_06608!A68),"|",COLUMN(BCTCR_06608!A68),",0",",0") -> 619240,68|1,0,0 | B68: =CONCATENATE(618884,",",ROW(BCTCR_06608!B68),"|",COLUMN(BCTCR_06608!B68),",0",",0") -> 618884,68|2,0,0 | C68: =CONCATENATE(619081,",",ROW(BCTCR_06608!C68),"|",COLUMN(BCTCR_06608!C68),",0",",0") -> 619081,68|3,0,0 | D68: =CONCATENATE(619000,",",ROW(BCTCR_06608!D68),"|",COLUMN(BCTCR_06608!D68),",0",",0") -> 619000,68|4,0,0 | E68: =CONCATENATE(619186,",",ROW(BCTCR_06608!E68),"|",COLUMN(BCTCR_06608!E68),",0",",0") -> 619186,68|5,0,0
A69: =CONCATENATE(619206,",",ROW(BCTCR_06608!A69),"|",COLUMN(BCTCR_06608!A69),",0",",0") -> 619206,69|1,0,0 | B69: =CONCATENATE(618885,",",ROW(BCTCR_06608!B69),"|",COLUMN(BCTCR_06608!B69),",0",",0") -> 618885,69|2,0,0 | C69: =CONCATENATE(619082,",",ROW(BCTCR_06608!C69),"|",COLUMN(BCTCR_06608!C69),",0",",0") -> 619082,69|3,0,0 | D69: =CONCATENATE(619001,",",ROW(BCTCR_06608!D69),"|",COLUMN(BCTCR_06608!D69),",0",",0") -> 619001,69|4,0,0 | E69: =CONCATENATE(619187,",",ROW(BCTCR_06608!E69),"|",COLUMN(BCTCR_06608!E69),",0",",0") -> 619187,69|5,0,0
A70: =CONCATENATE(619231,",",ROW(BCTCR_06608!A70),"|",COLUMN(BCTCR_06608!A70),",0",",0") -> 619231,70|1,0,0 | B70: =CONCATENATE(619475,",",ROW(BCTCR_06608!B70),"|",COLUMN(BCTCR_06608!B70),",0",",0") -> 619475,70|2,0,0 | C70: =CONCATENATE(619083,",",ROW(BCTCR_06608!C70),"|",COLUMN(BCTCR_06608!C70),",0",",0") -> 619083,70|3,0,0 | D70: =CONCATENATE(619002,",",ROW(BCTCR_06608!D70),"|",COLUMN(BCTCR_06608!D70),",0",",0") -> 619002,70|4,0,0 | E70: =CONCATENATE(619188,",",ROW(BCTCR_06608!E70),"|",COLUMN(BCTCR_06608!E70),",0",",0") -> 619188,70|5,0,0
A71: =CONCATENATE(619272,",",ROW(BCTCR_06608!A71),"|",COLUMN(BCTCR_06608!A71),",0",",0") -> 619272,71|1,0,0 | B71: =CONCATENATE(618886,",",ROW(BCTCR_06608!B71),"|",COLUMN(BCTCR_06608!B71),",0",",0") -> 618886,71|2,0,0 | C71: =CONCATENATE(619356,",",ROW(BCTCR_06608!C71),"|",COLUMN(BCTCR_06608!C71),",0",",0") -> 619356,71|3,0,0 | D71: =CONCATENATE(619301,",",ROW(BCTCR_06608!D71),"|",COLUMN(BCTCR_06608!D71),",0",",0") -> 619301,71|4,0,0 | E71: =CONCATENATE(619158,",",ROW(BCTCR_06608!E71),"|",COLUMN(BCTCR_06608!E71),",0",",0") -> 619158,71|5,0,0
A72: =CONCATENATE(619033,",",ROW(BCTCR_06608!A72),"|",COLUMN(BCTCR_06608!A72),",0",",0") -> 619033,72|1,0,0 | B72: =CONCATENATE(619263,",",ROW(BCTCR_06608!B72),"|",COLUMN(BCTCR_06608!B72),",0",",0") -> 619263,72|2,0,0 | C72: =CONCATENATE(619201,",",ROW(BCTCR_06608!C72),"|",COLUMN(BCTCR_06608!C72),",0",",0") -> 619201,72|3,0,0 | D72: =CONCATENATE(619264,",",ROW(BCTCR_06608!D72),"|",COLUMN(BCTCR_06608!D72),",0",",0") -> 619264,72|4,0,0 | E72: =CONCATENATE(619265,",",ROW(BCTCR_06608!E72),"|",COLUMN(BCTCR_06608!E72),",0",",0") -> 619265,72|5,0,0
A73: =CONCATENATE(619207,",",ROW(BCTCR_06608!A73),"|",COLUMN(BCTCR_06608!A73),",0",",0") -> 619207,73|1,0,0 | B73: =CONCATENATE(619424,",",ROW(BCTCR_06608!B73),"|",COLUMN(BCTCR_06608!B73),",0",",0") -> 619424,73|2,0,0 | C73: =CONCATENATE(619084,",",ROW(BCTCR_06608!C73),"|",COLUMN(BCTCR_06608!C73),",0",",0") -> 619084,73|3,0,0 | D73: =CONCATENATE(619003,",",ROW(BCTCR_06608!D73),"|",COLUMN(BCTCR_06608!D73),",0",",0") -> 619003,73|4,0,0 | E73: =CONCATENATE(618936,",",ROW(BCTCR_06608!E73),"|",COLUMN(BCTCR_06608!E73),",0",",0") -> 618936,73|5,0,0
A74: =CONCATENATE(619208,",",ROW(BCTCR_06608!A74),"|",COLUMN(BCTCR_06608!A74),",0",",0") -> 619208,74|1,0,0 | B74: =CONCATENATE(619425,",",ROW(BCTCR_06608!B74),"|",COLUMN(BCTCR_06608!B74),",0",",0") -> 619425,74|2,0,0 | C74: =CONCATENATE(619085,",",ROW(BCTCR_06608!C74),"|",COLUMN(BCTCR_06608!C74),",0",",0") -> 619085,74|3,0,0 | D74: =CONCATENATE(619004,",",ROW(BCTCR_06608!D74),"|",COLUMN(BCTCR_06608!D74),",0",",0") -> 619004,74|4,0,0 | E74: =CONCATENATE(618937,",",ROW(BCTCR_06608!E74),"|",COLUMN(BCTCR_06608!E74),",0",",0") -> 618937,74|5,0,0
A75: =CONCATENATE(619241,",",ROW(BCTCR_06608!A75),"|",COLUMN(BCTCR_06608!A75),",0",",0") -> 619241,75|1,0,0 | B75: =CONCATENATE(618887,",",ROW(BCTCR_06608!B75),"|",COLUMN(BCTCR_06608!B75),",0",",0") -> 618887,75|2,0,0 | C75: =CONCATENATE(619086,",",ROW(BCTCR_06608!C75),"|",COLUMN(BCTCR_06608!C75),",0",",0") -> 619086,75|3,0,0 | D75: =CONCATENATE(619036,",",ROW(BCTCR_06608!D75),"|",COLUMN(BCTCR_06608!D75),",0",",0") -> 619036,75|4,0,0 | E75: =CONCATENATE(618938,",",ROW(BCTCR_06608!E75),"|",COLUMN(BCTCR_06608!E75),",0",",0") -> 618938,75|5,0,0
A76: =CONCATENATE(619273,",",ROW(BCTCR_06608!A76),"|",COLUMN(BCTCR_06608!A76),",0",",0") -> 619273,76|1,0,0 | B76: =CONCATENATE(619426,",",ROW(BCTCR_06608!B76),"|",COLUMN(BCTCR_06608!B76),",0",",0") -> 619426,76|2,0,0 | C76: =CONCATENATE(619357,",",ROW(BCTCR_06608!C76),"|",COLUMN(BCTCR_06608!C76),",0",",0") -> 619357,76|3,0,0 | D76: =CONCATENATE(619451,",",ROW(BCTCR_06608!D76),"|",COLUMN(BCTCR_06608!D76),",0",",0") -> 619451,76|4,0,0 | E76: =CONCATENATE(619159,",",ROW(BCTCR_06608!E76),"|",COLUMN(BCTCR_06608!E76),",0",",0") -> 619159,76|5,0,0
A77: =CONCATENATE(619242,",",ROW(BCTCR_06608!A77),"|",COLUMN(BCTCR_06608!A77),",0",",0") -> 619242,77|1,0,0 | B77: =CONCATENATE(618888,",",ROW(BCTCR_06608!B77),"|",COLUMN(BCTCR_06608!B77),",0",",0") -> 618888,77|2,0,0 | C77: =CONCATENATE(619087,",",ROW(BCTCR_06608!C77),"|",COLUMN(BCTCR_06608!C77),",0",",0") -> 619087,77|3,0,0 | D77: =CONCATENATE(619037,",",ROW(BCTCR_06608!D77),"|",COLUMN(BCTCR_06608!D77),",0",",0") -> 619037,77|4,0,0 | E77: =CONCATENATE(618939,",",ROW(BCTCR_06608!E77),"|",COLUMN(BCTCR_06608!E77),",0",",0") -> 618939,77|5,0,0
A78: =CONCATENATE(619235,",",ROW(BCTCR_06608!A78),"|",COLUMN(BCTCR_06608!A78),",0",",0") -> 619235,78|1,0,0 | B78: =CONCATENATE(619427,",",ROW(BCTCR_06608!B78),"|",COLUMN(BCTCR_06608!B78),",0",",0") -> 619427,78|2,0,0 | C78: =CONCATENATE(619088,",",ROW(BCTCR_06608!C78),"|",COLUMN(BCTCR_06608!C78),",0",",0") -> 619088,78|3,0,0 | D78: =CONCATENATE(619038,",",ROW(BCTCR_06608!D78),"|",COLUMN(BCTCR_06608!D78),",0",",0") -> 619038,78|4,0,0 | E78: =CONCATENATE(618940,",",ROW(BCTCR_06608!E78),"|",COLUMN(BCTCR_06608!E78),",0",",0") -> 618940,78|5,0,0
A79: =CONCATENATE(618867,",",ROW(BCTCR_06608!A79),"|",COLUMN(BCTCR_06608!A79),",0",",0") -> 618867,79|1,0,0 | B79: =CONCATENATE(619428,",",ROW(BCTCR_06608!B79),"|",COLUMN(BCTCR_06608!B79),",0",",0") -> 619428,79|2,0,0 | C79: =CONCATENATE(619089,",",ROW(BCTCR_06608!C79),"|",COLUMN(BCTCR_06608!C79),",0",",0") -> 619089,79|3,0,0 | D79: =CONCATENATE(619039,",",ROW(BCTCR_06608!D79),"|",COLUMN(BCTCR_06608!D79),",0",",0") -> 619039,79|4,0,0 | E79: =CONCATENATE(618941,",",ROW(BCTCR_06608!E79),"|",COLUMN(BCTCR_06608!E79),",0",",0") -> 618941,79|5,0,0
A80: =CONCATENATE(618894,",",ROW(BCTCR_06608!A80),"|",COLUMN(BCTCR_06608!A80),",0",",0") -> 618894,80|1,0,0 | B80: =CONCATENATE(619124,",",ROW(BCTCR_06608!B80),"|",COLUMN(BCTCR_06608!B80),",0",",0") -> 619124,80|2,0,0 | C80: =CONCATENATE(619370,",",ROW(BCTCR_06608!C80),"|",COLUMN(BCTCR_06608!C80),",0",",0") -> 619370,80|3,0,0 | D80: =CONCATENATE(619371,",",ROW(BCTCR_06608!D80),"|",COLUMN(BCTCR_06608!D80),",0",",0") -> 619371,80|4,0,0 | E80: =CONCATENATE(619147,",",ROW(BCTCR_06608!E80),"|",COLUMN(BCTCR_06608!E80),",0",",0") -> 619147,80|5,0,0
A81: =CONCATENATE(618895,",",ROW(BCTCR_06608!A81),"|",COLUMN(BCTCR_06608!A81),",0",",0") -> 618895,81|1,0,0 | B81: =CONCATENATE(619429,",",ROW(BCTCR_06608!B81),"|",COLUMN(BCTCR_06608!B81),",0",",0") -> 619429,81|2,0,0 | C81: =CONCATENATE(619345,",",ROW(BCTCR_06608!C81),"|",COLUMN(BCTCR_06608!C81),",0",",0") -> 619345,81|3,0,0 | D81: =CONCATENATE(619478,",",ROW(BCTCR_06608!D81),"|",COLUMN(BCTCR_06608!D81),",0",",0") -> 619478,81|4,0,0 | E81: =CONCATENATE(619148,",",ROW(BCTCR_06608!E81),"|",COLUMN(BCTCR_06608!E81),",0",",0") -> 619148,81|5,0,0
A82: =CONCATENATE(618896,",",ROW(BCTCR_06608!A82),"|",COLUMN(BCTCR_06608!A82),",0",",0") -> 618896,82|1,0,0 | B82: =CONCATENATE(619125,",",ROW(BCTCR_06608!B82),"|",COLUMN(BCTCR_06608!B82),",0",",0") -> 619125,82|2,0,0 | C82: =CONCATENATE(619346,",",ROW(BCTCR_06608!C82),"|",COLUMN(BCTCR_06608!C82),",0",",0") -> 619346,82|3,0,0 | D82: =CONCATENATE(619479,",",ROW(BCTCR_06608!D82),"|",COLUMN(BCTCR_06608!D82),",0",",0") -> 619479,82|4,0,0 | E82: =CONCATENATE(619149,",",ROW(BCTCR_06608!E82),"|",COLUMN(BCTCR_06608!E82),",0",",0") -> 619149,82|5,0,0
A83: =CONCATENATE(618897,",",ROW(BCTCR_06608!A83),"|",COLUMN(BCTCR_06608!A83),",0",",0") -> 618897,83|1,0,0 | B83: =CONCATENATE(618889,",",ROW(BCTCR_06608!B83),"|",COLUMN(BCTCR_06608!B83),",0",",0") -> 618889,83|2,0,0 | C83: =CONCATENATE(619090,",",ROW(BCTCR_06608!C83),"|",COLUMN(BCTCR_06608!C83),",0",",0") -> 619090,83|3,0,0 | D83: =CONCATENATE(619040,",",ROW(BCTCR_06608!D83),"|",COLUMN(BCTCR_06608!D83),",0",",0") -> 619040,83|4,0,0 | E83: =CONCATENATE(619252,",",ROW(BCTCR_06608!E83),"|",COLUMN(BCTCR_06608!E83),",0",",0") -> 619252,83|5,0,0
A84: =CONCATENATE(619249,",",ROW(BCTCR_06608!A84),"|",COLUMN(BCTCR_06608!A84),",0",",0") -> 619249,84|1,0,0 | B84: =CONCATENATE(618890,",",ROW(BCTCR_06608!B84),"|",COLUMN(BCTCR_06608!B84),",0",",0") -> 618890,84|2,0,0 | C84: =CONCATENATE(619091,",",ROW(BCTCR_06608!C84),"|",COLUMN(BCTCR_06608!C84),",0",",0") -> 619091,84|3,0,0 | D84: =CONCATENATE(619041,",",ROW(BCTCR_06608!D84),"|",COLUMN(BCTCR_06608!D84),",0",",0") -> 619041,84|4,0,0 | E84: =CONCATENATE(619253,",",ROW(BCTCR_06608!E84),"|",COLUMN(BCTCR_06608!E84),",0",",0") -> 619253,84|5,0,0
A85: =CONCATENATE(619250,",",ROW(BCTCR_06608!A85),"|",COLUMN(BCTCR_06608!A85),",0",",0") -> 619250,85|1,0,0 | B85: =CONCATENATE(618891,",",ROW(BCTCR_06608!B85),"|",COLUMN(BCTCR_06608!B85),",0",",0") -> 618891,85|2,0,0 | C85: =CONCATENATE(619092,",",ROW(BCTCR_06608!C85),"|",COLUMN(BCTCR_06608!C85),",0",",0") -> 619092,85|3,0,0 | D85: =CONCATENATE(619140,",",ROW(BCTCR_06608!D85),"|",COLUMN(BCTCR_06608!D85),",0",",0") -> 619140,85|4,0,0 | E85: =CONCATENATE(619254,",",ROW(BCTCR_06608!E85),"|",COLUMN(BCTCR_06608!E85),",0",",0") -> 619254,85|5,0,0
A86: =CONCATENATE(619304,",",ROW(BCTCR_06608!A86),"|",COLUMN(BCTCR_06608!A86),",0",",0") -> 619304,86|1,0,0 | B86: =CONCATENATE(619430,",",ROW(BCTCR_06608!B86),"|",COLUMN(BCTCR_06608!B86),",0",",0") -> 619430,86|2,0,0 | C86: =CONCATENATE(619093,",",ROW(BCTCR_06608!C86),"|",COLUMN(BCTCR_06608!C86),",0",",0") -> 619093,86|3,0,0 | D86: =CONCATENATE(618868,",",ROW(BCTCR_06608!D86),"|",COLUMN(BCTCR_06608!D86),",0",",0") -> 618868,86|4,0,0 | E86: =CONCATENATE(619255,",",ROW(BCTCR_06608!E86),"|",COLUMN(BCTCR_06608!E86),",0",",0") -> 619255,86|5,0,0
A87: =CONCATENATE(619302,",",ROW(BCTCR_06608!A87),"|",COLUMN(BCTCR_06608!A87),",0",",0") -> 619302,87|1,0,0 | B87: =CONCATENATE(618892,",",ROW(BCTCR_06608!B87),"|",COLUMN(BCTCR_06608!B87),",0",",0") -> 618892,87|2,0,0 | C87: =CONCATENATE(619094,",",ROW(BCTCR_06608!C87),"|",COLUMN(BCTCR_06608!C87),",0",",0") -> 619094,87|3,0,0 | D87: =CONCATENATE(618869,",",ROW(BCTCR_06608!D87),"|",COLUMN(BCTCR_06608!D87),",0",",0") -> 618869,87|4,0,0 | E87: =CONCATENATE(619256,",",ROW(BCTCR_06608!E87),"|",COLUMN(BCTCR_06608!E87),",0",",0") -> 619256,87|5,0,0
A88: =CONCATENATE(619303,",",ROW(BCTCR_06608!A88),"|",COLUMN(BCTCR_06608!A88),",0",",0") -> 619303,88|1,0,0 | B88: =CONCATENATE(618893,",",ROW(BCTCR_06608!B88),"|",COLUMN(BCTCR_06608!B88),",0",",0") -> 618893,88|2,0,0 | C88: =CONCATENATE(619095,",",ROW(BCTCR_06608!C88),"|",COLUMN(BCTCR_06608!C88),",0",",0") -> 619095,88|3,0,0 | D88: =CONCATENATE(618870,",",ROW(BCTCR_06608!D88),"|",COLUMN(BCTCR_06608!D88),",0",",0") -> 618870,88|4,0,0 | E88: =CONCATENATE(619257,",",ROW(BCTCR_06608!E88),"|",COLUMN(BCTCR_06608!E88),",0",",0") -> 619257,88|5,0,0
A89: =CONCATENATE(619305,",",ROW(BCTCR_06608!A89),"|",COLUMN(BCTCR_06608!A89),",0",",0") -> 619305,89|1,0,0 | B89: =CONCATENATE(618898,",",ROW(BCTCR_06608!B89),"|",COLUMN(BCTCR_06608!B89),",0",",0") -> 618898,89|2,0,0 | C89: =CONCATENATE(619239,",",ROW(BCTCR_06608!C89),"|",COLUMN(BCTCR_06608!C89),",0",",0") -> 619239,89|3,0,0 | D89: =CONCATENATE(618871,",",ROW(BCTCR_06608!D89),"|",COLUMN(BCTCR_06608!D89),",0",",0") -> 618871,89|4,0,0 | E89: =CONCATENATE(619258,",",ROW(BCTCR_06608!E89),"|",COLUMN(BCTCR_06608!E89),",0",",0") -> 619258,89|5,0,0
A90: =CONCATENATE(619306,",",ROW(BCTCR_06608!A90),"|",COLUMN(BCTCR_06608!A90),",0",",0") -> 619306,90|1,0,0 | B90: =CONCATENATE(618899,",",ROW(BCTCR_06608!B90),"|",COLUMN(BCTCR_06608!B90),",0",",0") -> 618899,90|2,0,0 | C90: =CONCATENATE(618851,",",ROW(BCTCR_06608!C90),"|",COLUMN(BCTCR_06608!C90),",0",",0") -> 618851,90|3,0,0 | D90: =CONCATENATE(618872,",",ROW(BCTCR_06608!D90),"|",COLUMN(BCTCR_06608!D90),",0",",0") -> 618872,90|4,0,0 | E90: =CONCATENATE(619288,",",ROW(BCTCR_06608!E90),"|",COLUMN(BCTCR_06608!E90),",0",",0") -> 619288,90|5,0,0
A91: =CONCATENATE(619307,",",ROW(BCTCR_06608!A91),"|",COLUMN(BCTCR_06608!A91),",0",",0") -> 619307,91|1,0,0 | B91: =CONCATENATE(619431,",",ROW(BCTCR_06608!B91),"|",COLUMN(BCTCR_06608!B91),",0",",0") -> 619431,91|2,0,0 | C91: =CONCATENATE(618852,",",ROW(BCTCR_06608!C91),"|",COLUMN(BCTCR_06608!C91),",0",",0") -> 618852,91|3,0,0 | D91: =CONCATENATE(618873,",",ROW(BCTCR_06608!D91),"|",COLUMN(BCTCR_06608!D91),",0",",0") -> 618873,91|4,0,0 | E91: =CONCATENATE(619289,",",ROW(BCTCR_06608!E91),"|",COLUMN(BCTCR_06608!E91),",0",",0") -> 619289,91|5,0,0
A92: =CONCATENATE(619028,",",ROW(BCTCR_06608!A92),"|",COLUMN(BCTCR_06608!A92),",0",",0") -> 619028,92|1,0,0 | B92: =CONCATENATE(618900,",",ROW(BCTCR_06608!B92),"|",COLUMN(BCTCR_06608!B92),",0",",0") -> 618900,92|2,0,0 | C92: =CONCATENATE(619063,",",ROW(BCTCR_06608!C92),"|",COLUMN(BCTCR_06608!C92),",0",",0") -> 619063,92|3,0,0 | D92: =CONCATENATE(618953,",",ROW(BCTCR_06608!D92),"|",COLUMN(BCTCR_06608!D92),",0",",0") -> 618953,92|4,0,0 | E92: =CONCATENATE(619470,",",ROW(BCTCR_06608!E92),"|",COLUMN(BCTCR_06608!E92),",0",",0") -> 619470,92|5,0,0
A93: =CONCATENATE(619029,",",ROW(BCTCR_06608!A93),"|",COLUMN(BCTCR_06608!A93),",0",",0") -> 619029,93|1,0,0 | B93: =CONCATENATE(619024,",",ROW(BCTCR_06608!B93),"|",COLUMN(BCTCR_06608!B93),",0",",0") -> 619024,93|2,0,0 | C93: =CONCATENATE(619064,",",ROW(BCTCR_06608!C93),"|",COLUMN(BCTCR_06608!C93),",0",",0") -> 619064,93|3,0,0 | D93: =CONCATENATE(618958,",",ROW(BCTCR_06608!D93),"|",COLUMN(BCTCR_06608!D93),",0",",0") -> 618958,93|4,0,0 | E93: =CONCATENATE(619471,",",ROW(BCTCR_06608!E93),"|",COLUMN(BCTCR_06608!E93),",0",",0") -> 619471,93|5,0,0
A94: =CONCATENATE(619243,",",ROW(BCTCR_06608!A94),"|",COLUMN(BCTCR_06608!A94),",0",",0") -> 619243,94|1,0,0 | B94: =CONCATENATE(618901,",",ROW(BCTCR_06608!B94),"|",COLUMN(BCTCR_06608!B94),",0",",0") -> 618901,94|2,0,0 | C94: =CONCATENATE(618853,",",ROW(BCTCR_06608!C94),"|",COLUMN(BCTCR_06608!C94),",0",",0") -> 618853,94|3,0,0 | D94: =CONCATENATE(618874,",",ROW(BCTCR_06608!D94),"|",COLUMN(BCTCR_06608!D94),",0",",0") -> 618874,94|4,0,0 | E94: =CONCATENATE(619290,",",ROW(BCTCR_06608!E94),"|",COLUMN(BCTCR_06608!E94),",0",",0") -> 619290,94|5,0,0
A95: =CONCATENATE(619308,",",ROW(BCTCR_06608!A95),"|",COLUMN(BCTCR_06608!A95),",0",",0") -> 619308,95|1,0,0 | B95: =CONCATENATE(619025,",",ROW(BCTCR_06608!B95),"|",COLUMN(BCTCR_06608!B95),",0",",0") -> 619025,95|2,0,0 | C95: =CONCATENATE(619321,",",ROW(BCTCR_06608!C95),"|",COLUMN(BCTCR_06608!C95),",0",",0") -> 619321,95|3,0,0 | D95: =CONCATENATE(619486,",",ROW(BCTCR_06608!D95),"|",COLUMN(BCTCR_06608!D95),",0",",0") -> 619486,95|4,0,0 | E95: =CONCATENATE(619382,",",ROW(BCTCR_06608!E95),"|",COLUMN(BCTCR_06608!E95),",0",",0") -> 619382,95|5,0,0
A96: =CONCATENATE(619030,",",ROW(BCTCR_06608!A96),"|",COLUMN(BCTCR_06608!A96),",0",",0") -> 619030,96|1,0,0 | B96: =CONCATENATE(619432,",",ROW(BCTCR_06608!B96),"|",COLUMN(BCTCR_06608!B96),",0",",0") -> 619432,96|2,0,0 | C96: =CONCATENATE(619096,",",ROW(BCTCR_06608!C96),"|",COLUMN(BCTCR_06608!C96),",0",",0") -> 619096,96|3,0,0 | D96: =CONCATENATE(618959,",",ROW(BCTCR_06608!D96),"|",COLUMN(BCTCR_06608!D96),",0",",0") -> 618959,96|4,0,0 | E96: =CONCATENATE(619472,",",ROW(BCTCR_06608!E96),"|",COLUMN(BCTCR_06608!E96),",0",",0") -> 619472,96|5,0,0
A97: =CONCATENATE(619309,",",ROW(BCTCR_06608!A97),"|",COLUMN(BCTCR_06608!A97),",0",",0") -> 619309,97|1,0,0 | B97: =CONCATENATE(619501,",",ROW(BCTCR_06608!B97),"|",COLUMN(BCTCR_06608!B97),",0",",0") -> 619501,97|2,0,0 | C97: =CONCATENATE(619322,",",ROW(BCTCR_06608!C97),"|",COLUMN(BCTCR_06608!C97),",0",",0") -> 619322,97|3,0,0 | D97: =CONCATENATE(619487,",",ROW(BCTCR_06608!D97),"|",COLUMN(BCTCR_06608!D97),",0",",0") -> 619487,97|4,0,0 | E97: =CONCATENATE(619383,",",ROW(BCTCR_06608!E97),"|",COLUMN(BCTCR_06608!E97),",0",",0") -> 619383,97|5,0,0
A98: =CONCATENATE(619398,",",ROW(BCTCR_06608!A98),"|",COLUMN(BCTCR_06608!A98),",0",",0") -> 619398,98|1,0,0 | B98: =CONCATENATE(619433,",",ROW(BCTCR_06608!B98),"|",COLUMN(BCTCR_06608!B98),",0",",0") -> 619433,98|2,0,0 | C98: =CONCATENATE(618854,",",ROW(BCTCR_06608!C98),"|",COLUMN(BCTCR_06608!C98),",0",",0") -> 618854,98|3,0,0 | D98: =CONCATENATE(618875,",",ROW(BCTCR_06608!D98),"|",COLUMN(BCTCR_06608!D98),",0",",0") -> 618875,98|4,0,0 | E98: =CONCATENATE(619291,",",ROW(BCTCR_06608!E98),"|",COLUMN(BCTCR_06608!E98),",0",",0") -> 619291,98|5,0,0
A99: =CONCATENATE(619399,",",ROW(BCTCR_06608!A99),"|",COLUMN(BCTCR_06608!A99),",0",",0") -> 619399,99|1,0,0 | B99: =CONCATENATE(619126,",",ROW(BCTCR_06608!B99),"|",COLUMN(BCTCR_06608!B99),",0",",0") -> 619126,99|2,0,0 | C99: =CONCATENATE(618855,",",ROW(BCTCR_06608!C99),"|",COLUMN(BCTCR_06608!C99),",0",",0") -> 618855,99|3,0,0 | D99: =CONCATENATE(618876,",",ROW(BCTCR_06608!D99),"|",COLUMN(BCTCR_06608!D99),",0",",0") -> 618876,99|4,0,0 | E99: =CONCATENATE(619292,",",ROW(BCTCR_06608!E99),"|",COLUMN(BCTCR_06608!E99),",0",",0") -> 619292,99|5,0,0
A100: =CONCATENATE(619245,",",ROW(BCTCR_06608!A100),"|",COLUMN(BCTCR_06608!A100),",0",",0") -> 619245,100|1,0,0 | B100: =CONCATENATE(618902,",",ROW(BCTCR_06608!B100),"|",COLUMN(BCTCR_06608!B100),",0",",0") -> 618902,100|2,0,0 | C100: =CONCATENATE(618856,",",ROW(BCTCR_06608!C100),"|",COLUMN(BCTCR_06608!C100),",0",",0") -> 618856,100|3,0,0 | D100: =CONCATENATE(618877,",",ROW(BCTCR_06608!D100),"|",COLUMN(BCTCR_06608!D100),",0",",0") -> 618877,100|4,0,0 | E100: =CONCATENATE(619293,",",ROW(BCTCR_06608!E100),"|",COLUMN(BCTCR_06608!E100),",0",",0") -> 619293,100|5,0,0
A101: =CONCATENATE(619310,",",ROW(BCTCR_06608!A101),"|",COLUMN(BCTCR_06608!A101),",0",",0") -> 619310,101|1,0,0 | B101: =CONCATENATE(618904,",",ROW(BCTCR_06608!B101),"|",COLUMN(BCTCR_06608!B101),",0",",0") -> 618904,101|2,0,0 | C101: =CONCATENATE(619396,",",ROW(BCTCR_06608!C101),"|",COLUMN(BCTCR_06608!C101),",0",",0") -> 619396,101|3,0,0 | D101: =CONCATENATE(619043,",",ROW(BCTCR_06608!D101),"|",COLUMN(BCTCR_06608!D101),",0",",0") -> 619043,101|4,0,0 | E101: =CONCATENATE(619454,",",ROW(BCTCR_06608!E101),"|",COLUMN(BCTCR_06608!E101),",0",",0") -> 619454,101|5,0,0
A102: =CONCATENATE(619311,",",ROW(BCTCR_06608!A102),"|",COLUMN(BCTCR_06608!A102),",0",",0") -> 619311,102|1,0,0 | B102: =CONCATENATE(619502,",",ROW(BCTCR_06608!B102),"|",COLUMN(BCTCR_06608!B102),",0",",0") -> 619502,102|2,0,0 | C102: =CONCATENATE(619323,",",ROW(BCTCR_06608!C102),"|",COLUMN(BCTCR_06608!C102),",0",",0") -> 619323,102|3,0,0 | D102: =CONCATENATE(619097,",",ROW(BCTCR_06608!D102),"|",COLUMN(BCTCR_06608!D102),",0",",0") -> 619097,102|4,0,0 | E102: =CONCATENATE(619384,",",ROW(BCTCR_06608!E102),"|",COLUMN(BCTCR_06608!E102),",0",",0") -> 619384,102|5,0,0
A103: =CONCATENATE(619031,",",ROW(BCTCR_06608!A103),"|",COLUMN(BCTCR_06608!A103),",0",",0") -> 619031,103|1,0,0 | B103: =CONCATENATE(619434,",",ROW(BCTCR_06608!B103),"|",COLUMN(BCTCR_06608!B103),",0",",0") -> 619434,103|2,0,0 | C103: =CONCATENATE(619005,",",ROW(BCTCR_06608!C103),"|",COLUMN(BCTCR_06608!C103),",0",",0") -> 619005,103|3,0,0 | D103: =CONCATENATE(618960,",",ROW(BCTCR_06608!D103),"|",COLUMN(BCTCR_06608!D103),",0",",0") -> 618960,103|4,0,0 | E103: =CONCATENATE(618847,",",ROW(BCTCR_06608!E103),"|",COLUMN(BCTCR_06608!E103),",0",",0") -> 618847,103|5,0,0
A104: =CONCATENATE(619400,",",ROW(BCTCR_06608!A104),"|",COLUMN(BCTCR_06608!A104),",0",",0") -> 619400,104|1,0,0 | B104: =CONCATENATE(618905,",",ROW(BCTCR_06608!B104),"|",COLUMN(BCTCR_06608!B104),",0",",0") -> 618905,104|2,0,0 | C104: =CONCATENATE(618857,",",ROW(BCTCR_06608!C104),"|",COLUMN(BCTCR_06608!C104),",0",",0") -> 618857,104|3,0,0 | D104: =CONCATENATE(618878,",",ROW(BCTCR_06608!D104),"|",COLUMN(BCTCR_06608!D104),",0",",0") -> 618878,104|4,0,0 | E104: =CONCATENATE(619294,",",ROW(BCTCR_06608!E104),"|",COLUMN(BCTCR_06608!E104),",0",",0") -> 619294,104|5,0,0
...

Sheet CCTTCR_06609
A1: CÁC CHỈ TIÊU NGOÀI BÁO CÁO TÌNH HÌNH TÀI CHÍNH RIÊNG
A2: Chỉ tiêu | B2: Mã số | C2: Thuyết minh | D2: Số cuối năm | E2: Số đầu năm
A3: A | B3: B | C3: C | D3: 1 | E3: 2
A4: A.TÀI SẢN CỦA CTCK VÀ TÀI SẢN QUẢN LÝ THEO CAM KẾT
A5: 1. Tài sản cố định thuê ngoài | B5: 1
A6: 2. Chứng chỉ có giá nhận giữ hộ | B6: 2
A7: 3. Tài sản nhận thế chấp | B7: 3
A8: 4. Nợ khó đòi đã xử lý | B8: 4
A9: 5. Ngoại tệ các loại | B9: 5
A10: 6. Cổ phiếu đang lưu hành | B10: 6 | D10: 164800618 | E10: 164800618
A11: 7. Cổ phiếu quỹ | B11: 7
A12: 8. Tài sản tài chính niêm yết/đăng ký giao dịch tại VSD của CTCK | B12: 8 | D12: 817202450000 | E12: 336650450000
A13: 9. Tài sản tài chính đã lưu ký tại VSD và chưa giao dịch của CTCK | B13: 9 | D13: 2110000 | E13: 2990000
A14: 10. Tài sản tài chính chờ về của CTCK | B14: 10 | D14: 0 | E14: 20000000000
A15: 11. Tài sản tài chính sửa lỗi giao dịch của CTCK | B15: 11
A16: 12. Tài sản tài chính chưa lưu ký tại VSD của CTCK | B16: 12 | D16: 236381150000 | E16: 236380270000
A17: 13.Tài sản tài chính được hưởng quyền của CTCK | B17: 13 | D17: 0 | E17: 380000000
A18: B. TÀI SẢN VÀ CÁC KHOẢN PHẢI TRẢ VỀ TÀI SẢN QUẢN LÝ CAM KẾT VỚI KHÁCH HÀNG
A19: 1.Tài sản tài chính niêm yết/đăng ký giao dịch tại VSD của Nhà đầu tư | B19: 21 | D19: 2938821820000 | E19: 3409299590000
A20: a.Tài sản tài chính giao dịch tự do chuyển nhượng | B20: 21.1 | D20: 2378743320000 | E20: 2381714690000
A21: b.Tài sản tài chính hạn chế chuyển nhượng | B21: 21.2 | D21: 20000000 | E21: 20000000
A22: c.Tài sản tài chính giao dịch cầm cố | B22: 21.3 | D22: 485553300000 | E22: 933453300000
A23: d.Tài sản tài chính phong tỏa, tạm giữ | B23: 21.4 | D23: 73012600000 | E23: 73012600000
A24: e.Tài sản tài chính chờ thanh toán | B24: 21.5 | D24: 1492600000 | E24: 21099000000
A25: f. Tài sản tài chính chờ cho vay | B25: 21.6
A26: 2. Tài sản tài chính đã lưu ký tại VSD và chưa giao dịch của Nhà đầu tư | B26: 22 | D26: 47864340000 | E26: 59220950000
A27: a.Tài sản tài chính đã lưu ký tại VSD và chưa giao dịch, tự do chuyển nhượng | B27: 22.1 | D27: 47714340000 | E27: 59070950000
A28: b.Tài sản tài chính đã lưu ký tại VSD và chưa giao dịch, hạn chế chuyển nhượng | B28: 22.2
A29: c.Tài sản tài chính đã lưu ký tại VSD và chưa giao dịch, cầm cố | B29: 22.3
A30: d.Tài sản tài chính đã lưu ký tại VSD và chưa giao dịch, phong tỏa, tạm giữ | B30: 22.4 | D30: 150000000 | E30: 150000000
A31: 3. Tài sản tài chính chờ về của Nhà đầu tư | B31: 23 | D31: 4239900000 | E31: 3584990000
A32: 4. Tài sản tài chính sửa lỗi giao dịch của Nhà đầu tư | B32: 024.a
A33: 5.Tài sản tài chính chưa lưu ký tại VSD của Nhà đầu tư | B33: 024.b
A34: 6.Tài sản tài chính được hưởng quyền của Nhà đầu tư | B34: 25
A35: 7. Tiền gửi của khách hàng | B35: 26 | D35: 61782827019 | E35: 47448284830
A36: 7.1. Tiền gửi của Nhà đầu tư về giao dịch chứng khoán theo phương thức CTCK quản lý | B36: 27 | D36: 52140120469 | E36: 38006071730
A37: 7.2.Tiền gửi tổng hợp giao dịch chứng khoán cho khách hàng | B37: 28
A38: 7.3. Tiền gửi bù trừ và thanh toán giao dịch chứng khoán | B38: 29 | D38: 9641706550 | E38: 9441213100
A39: a. Tiền gửi bù trừ và thanh toán giao dịch chứng khoán Nhà đầu tư trong nước | B39: 29.1 | D39: 9641706550 | E39: 9441213100
A40: b. Tiền gửi bù trừ và thanh toán giao dịch chứng khoán Nhà đầu tư nước ngoài | B40: 29.2
A41: 7.4. Tiền gửi của Tổ chức phát hành chứng khoán | B41: 30 | D41: 1000000 | E41: 1000000
A42: 8. Phải trả Nhà đầu tư về tiền gửi giao dịch chứng khoán theo phương thức CTCK quản lý | B42: 31 | D42: 61781827019 | E42: 47447284830
A43: 8.1. Phải trả Nhà đầu tư trong nước về tiền gửi giao dịch chứng khoán theo phương thức CTCK quản lý | B43: 31.1 | D43: 61654117145 | E43: 47306526881
A44: 8.2. Phải trả Nhà đầu tư nước ngoài về tiền gửi giao dịch chứng khoán theo phương thức CTCK quản lý | B44: 31.2 | D44: 127709874 | E44: 140757949
A45: 9. Phải trả Tổ chức phát hành chứng khoán | B45: 32
A46: 10. Phải thu của khách hàng về lỗi giao dịch các tài sản tài chính | B46: 33
A47: 11. Phải trả của khách hàng về lỗi giao dịch các tài sản tài chính | B47: 34
A48: 12. Phải trả cổ tức, gốc và lãi trái phiếu | B48: 35 | D48: 1000000 | E48: 1000000

Sheet 7709_hidden
A3: =CONCATENATE(617881,",",ROW(CCTTCR_06609!A3),"|",COLUMN(CCTTCR_06609!A3),",0",",0") -> 617881,3|1,0,0 | B3: =CONCATENATE(617814,",",ROW(CCTTCR_06609!B3),"|",COLUMN(CCTTCR_06609!B3),",0",",0") -> 617814,3|2,0,0 | C3: =CONCATENATE(617863,",",ROW(CCTTCR_06609!C3),"|",COLUMN(CCTTCR_06609!C3),",0",",0") -> 617863,3|3,0,0 | D3: =CONCATENATE(617868,",",ROW(CCTTCR_06609!D3),"|",COLUMN(CCTTCR_06609!D3),",0",",0") -> 617868,3|4,0,0 | E3: =CONCATENATE(617869,",",ROW(CCTTCR_06609!E3),"|",COLUMN(CCTTCR_06609!E3),",0",",0") -> 617869,3|5,0,0
A4: =CONCATENATE(617885,",",ROW(CCTTCR_06609!A4),"|",COLUMN(CCTTCR_06609!A4),",0",",0") -> 617885,4|1,0,0 | C4: =CONCATENATE(617777,",",ROW(CCTTCR_06609!C4),"|",COLUMN(CCTTCR_06609!C4),",0",",0") -> 617777,4|3,0,0 | D4: =CONCATENATE(617980,",",ROW(CCTTCR_06609!D4),"|",COLUMN(CCTTCR_06609!D4),",0",",0") -> 617980,4|4,0,0 | E4: =CONCATENATE(617917,",",ROW(CCTTCR_06609!E4),"|",COLUMN(CCTTCR_06609!E4),",0",",0") -> 617917,4|5,0,0
A5: =CONCATENATE(617822,",",ROW(CCTTCR_06609!A5),"|",COLUMN(CCTTCR_06609!A5),",0",",0") -> 617822,5|1,0,0 | B5: =CONCATENATE(617963,",",ROW(CCTTCR_06609!B5),"|",COLUMN(CCTTCR_06609!B5),",0",",0") -> 617963,5|2,0,0 | C5: =CONCATENATE(617950,",",ROW(CCTTCR_06609!C5),"|",COLUMN(CCTTCR_06609!C5),",0",",0") -> 617950,5|3,0,0 | D5: =CONCATENATE(617896,",",ROW(CCTTCR_06609!D5),"|",COLUMN(CCTTCR_06609!D5),",0",",0") -> 617896,5|4,0,0 | E5: =CONCATENATE(617990,",",ROW(CCTTCR_06609!E5),"|",COLUMN(CCTTCR_06609!E5),",0",",0") -> 617990,5|5,0,0
A6: =CONCATENATE(617903,",",ROW(CCTTCR_06609!A6),"|",COLUMN(CCTTCR_06609!A6),",0",",0") -> 617903,6|1,0,0 | B6: =CONCATENATE(617816,",",ROW(CCTTCR_06609!B6),"|",COLUMN(CCTTCR_06609!B6),",0",",0") -> 617816,6|2,0,0 | C6: =CONCATENATE(617784,",",ROW(CCTTCR_06609!C6),"|",COLUMN(CCTTCR_06609!C6),",0",",0") -> 617784,6|3,0,0 | D6: =CONCATENATE(617996,",",ROW(CCTTCR_06609!D6),"|",COLUMN(CCTTCR_06609!D6),",0",",0") -> 617996,6|4,0,0 | E6: =CONCATENATE(617921,",",ROW(CCTTCR_06609!E6),"|",COLUMN(CCTTCR_06609!E6),",0",",0") -> 617921,6|5,0,0
A7: =CONCATENATE(617815,",",ROW(CCTTCR_06609!A7),"|",COLUMN(CCTTCR_06609!A7),",0",",0") -> 617815,7|1,0,0 | B7: =CONCATENATE(617964,",",ROW(CCTTCR_06609!B7),"|",COLUMN(CCTTCR_06609!B7),",0",",0") -> 617964,7|2,0,0 | C7: =CONCATENATE(617951,",",ROW(CCTTCR_06609!C7),"|",COLUMN(CCTTCR_06609!C7),",0",",0") -> 617951,7|3,0,0 | D7: =CONCATENATE(617897,",",ROW(CCTTCR_06609!D7),"|",COLUMN(CCTTCR_06609!D7),",0",",0") -> 617897,7|4,0,0 | E7: =CONCATENATE(617991,",",ROW(CCTTCR_06609!E7),"|",COLUMN(CCTTCR_06609!E7),",0",",0") -> 617991,7|5,0,0
A8: =CONCATENATE(617904,",",ROW(CCTTCR_06609!A8),"|",COLUMN(CCTTCR_06609!A8),",0",",0") -> 617904,8|1,0,0 | B8: =CONCATENATE(617965,",",ROW(CCTTCR_06609!B8),"|",COLUMN(CCTTCR_06609!B8),",0",",0") -> 617965,8|2,0,0 | C8: =CONCATENATE(617952,",",ROW(CCTTCR_06609!C8),"|",COLUMN(CCTTCR_06609!C8),",0",",0") -> 617952,8|3,0,0 | D8: =CONCATENATE(617898,",",ROW(CCTTCR_06609!D8),"|",COLUMN(CCTTCR_06609!D8),",0",",0") -> 617898,8|4,0,0 | E8: =CONCATENATE(617992,",",ROW(CCTTCR_06609!E8),"|",COLUMN(CCTTCR_06609!E8),",0",",0") -> 617992,8|5,0,0
A9: =CONCATENATE(617933,",",ROW(CCTTCR_06609!A9),"|",COLUMN(CCTTCR_06609!A9),",0",",0") -> 617933,9|1,0,0 | B9: =CONCATENATE(617856,",",ROW(CCTTCR_06609!B9),"|",COLUMN(CCTTCR_06609!B9),",0",",0") -> 617856,9|2,0,0 | C9: =CONCATENATE(617785,",",ROW(CCTTCR_06609!C9),"|",COLUMN(CCTTCR_06609!C9),",0",",0") -> 617785,9|3,0,0 | D9: =CONCATENATE(617997,",",ROW(CCTTCR_06609!D9),"|",COLUMN(CCTTCR_06609!D9),",0",",0") -> 617997,9|4,0,0 | E9: =CONCATENATE(617922,",",ROW(CCTTCR_06609!E9),"|",COLUMN(CCTTCR_06609!E9),",0",",0") -> 617922,9|5,0,0
A10: =CONCATENATE(617886,",",ROW(CCTTCR_06609!A10),"|",COLUMN(CCTTCR_06609!A10),",0",",0") -> 617886,10|1,0,0 | B10: =CONCATENATE(617968,",",ROW(CCTTCR_06609!B10),"|",COLUMN(CCTTCR_06609!B10),",0",",0") -> 617968,10|2,0,0 | C10: =CONCATENATE(617778,",",ROW(CCTTCR_06609!C10),"|",COLUMN(CCTTCR_06609!C10),",0",",0") -> 617778,10|3,0,0 | D10: =CONCATENATE(617993,",",ROW(CCTTCR_06609!D10),"|",COLUMN(CCTTCR_06609!D10),",0",",0") -> 617993,10|4,0,0 | E10: =CONCATENATE(617918,",",ROW(CCTTCR_06609!E10),"|",COLUMN(CCTTCR_06609!E10),",0",",0") -> 617918,10|5,0,0
A11: =CONCATENATE(617866,",",ROW(CCTTCR_06609!A11),"|",COLUMN(CCTTCR_06609!A11),",0",",0") -> 617866,11|1,0,0 | B11: =CONCATENATE(617969,",",ROW(CCTTCR_06609!B11),"|",COLUMN(CCTTCR_06609!B11),",0",",0") -> 617969,11|2,0,0 | C11: =CONCATENATE(617786,",",ROW(CCTTCR_06609!C11),"|",COLUMN(CCTTCR_06609!C11),",0",",0") -> 617786,11|3,0,0 | D11: =CONCATENATE(617837,",",ROW(CCTTCR_06609!D11),"|",COLUMN(CCTTCR_06609!D11),",0",",0") -> 617837,11|4,0,0 | E11: =CONCATENATE(617855,",",ROW(CCTTCR_06609!E11),"|",COLUMN(CCTTCR_06609!E11),",0",",0") -> 617855,11|5,0,0
A12: =CONCATENATE(617823,",",ROW(CCTTCR_06609!A12),"|",COLUMN(CCTTCR_06609!A12),",0",",0") -> 617823,12|1,0,0 | B12: =CONCATENATE(617857,",",ROW(CCTTCR_06609!B12),"|",COLUMN(CCTTCR_06609!B12),",0",",0") -> 617857,12|2,0,0 | C12: =CONCATENATE(617787,",",ROW(CCTTCR_06609!C12),"|",COLUMN(CCTTCR_06609!C12),",0",",0") -> 617787,12|3,0,0 | D12: =CONCATENATE(617838,",",ROW(CCTTCR_06609!D12),"|",COLUMN(CCTTCR_06609!D12),",0",",0") -> 617838,12|4,0,0 | E12: =CONCATENATE(617923,",",ROW(CCTTCR_06609!E12),"|",COLUMN(CCTTCR_06609!E12),",0",",0") -> 617923,12|5,0,0
A13: =CONCATENATE(617870,",",ROW(CCTTCR_06609!A13),"|",COLUMN(CCTTCR_06609!A13),",0",",0") -> 617870,13|1,0,0 | B13: =CONCATENATE(617828,",",ROW(CCTTCR_06609!B13),"|",COLUMN(CCTTCR_06609!B13),",0",",0") -> 617828,13|2,0,0 | C13: =CONCATENATE(617788,",",ROW(CCTTCR_06609!C13),"|",COLUMN(CCTTCR_06609!C13),",0",",0") -> 617788,13|3,0,0 | D13: =CONCATENATE(617839,",",ROW(CCTTCR_06609!D13),"|",COLUMN(CCTTCR_06609!D13),",0",",0") -> 617839,13|4,0,0 | E13: =CONCATENATE(617924,",",ROW(CCTTCR_06609!E13),"|",COLUMN(CCTTCR_06609!E13),",0",",0") -> 617924,13|5,0,0
A14: =CONCATENATE(617934,",",ROW(CCTTCR_06609!A14),"|",COLUMN(CCTTCR_06609!A14),",0",",0") -> 617934,14|1,0,0 | B14: =CONCATENATE(617966,",",ROW(CCTTCR_06609!B14),"|",COLUMN(CCTTCR_06609!B14),",0",",0") -> 617966,14|2,0,0 | C14: =CONCATENATE(617953,",",ROW(CCTTCR_06609!C14),"|",COLUMN(CCTTCR_06609!C14),",0",",0") -> 617953,14|3,0,0 | D14: =CONCATENATE(617899,",",ROW(CCTTCR_06609!D14),"|",COLUMN(CCTTCR_06609!D14),",0",",0") -> 617899,14|4,0,0 | E14: =CONCATENATE(617905,",",ROW(CCTTCR_06609!E14),"|",COLUMN(CCTTCR_06609!E14),",0",",0") -> 617905,14|5,0,0
A15: =CONCATENATE(617887,",",ROW(CCTTCR_06609!A15),"|",COLUMN(CCTTCR_06609!A15),",0",",0") -> 617887,15|1,0,0 | B15: =CONCATENATE(617807,",",ROW(CCTTCR_06609!B15),"|",COLUMN(CCTTCR_06609!B15),",0",",0") -> 617807,15|2,0,0 | C15: =CONCATENATE(617779,",",ROW(CCTTCR_06609!C15),"|",COLUMN(CCTTCR_06609!C15),",0",",0") -> 617779,15|3,0,0 | D15: =CONCATENATE(617994,",",ROW(CCTTCR_06609!D15),"|",COLUMN(CCTTCR_06609!D15),",0",",0") -> 617994,15|4,0,0 | E15: =CONCATENATE(617919,",",ROW(CCTTCR_06609!E15),"|",COLUMN(CCTTCR_06609!E15),",0",",0") -> 617919,15|5,0,0
A16: =CONCATENATE(617824,",",ROW(CCTTCR_06609!A16),"|",COLUMN(CCTTCR_06609!A16),",0",",0") -> 617824,16|1,0,0 | B16: =CONCATENATE(617858,",",ROW(CCTTCR_06609!B16),"|",COLUMN(CCTTCR_06609!B16),",0",",0") -> 617858,16|2,0,0 | C16: =CONCATENATE(617789,",",ROW(CCTTCR_06609!C16),"|",COLUMN(CCTTCR_06609!C16),",0",",0") -> 617789,16|3,0,0 | D16: =CONCATENATE(617840,",",ROW(CCTTCR_06609!D16),"|",COLUMN(CCTTCR_06609!D16),",0",",0") -> 617840,16|4,0,0 | E16: =CONCATENATE(617925,",",ROW(CCTTCR_06609!E16),"|",COLUMN(CCTTCR_06609!E16),",0",",0") -> 617925,16|5,0,0
A17: =CONCATENATE(617882,",",ROW(CCTTCR_06609!A17),"|",COLUMN(CCTTCR_06609!A17),",0",",0") -> 617882,17|1,0,0 | B17: =CONCATENATE(617859,",",ROW(CCTTCR_06609!B17),"|",COLUMN(CCTTCR_06609!B17),",0",",0") -> 617859,17|2,0,0 | C17: =CONCATENATE(617790,",",ROW(CCTTCR_06609!C17),"|",COLUMN(CCTTCR_06609!C17),",0",",0") -> 617790,17|3,0,0 | D17: =CONCATENATE(617841,",",ROW(CCTTCR_06609!D17),"|",COLUMN(CCTTCR_06609!D17),",0",",0") -> 617841,17|4,0,0 | E17: =CONCATENATE(617926,",",ROW(CCTTCR_06609!E17),"|",COLUMN(CCTTCR_06609!E17),",0",",0") -> 617926,17|5,0,0
A18: =CONCATENATE(617888,",",ROW(CCTTCR_06609!A18),"|",COLUMN(CCTTCR_06609!A18),",0",",0") -> 617888,18|1,0,0 | C18: =CONCATENATE(617780,",",ROW(CCTTCR_06609!C18),"|",COLUMN(CCTTCR_06609!C18),",0",",0") -> 617780,18|3,0,0 | D18: =CONCATENATE(617995,",",ROW(CCTTCR_06609!D18),"|",COLUMN(CCTTCR_06609!D18),",0",",0") -> 617995,18|4,0,0 | E18: =CONCATENATE(617920,",",ROW(CCTTCR_06609!E18),"|",COLUMN(CCTTCR_06609!E18),",0",",0") -> 617920,18|5,0,0
A19: =CONCATENATE(617825,",",ROW(CCTTCR_06609!A19),"|",COLUMN(CCTTCR_06609!A19),",0",",0") -> 617825,19|1,0,0 | B19: =CONCATENATE(617967,",",ROW(CCTTCR_06609!B19),"|",COLUMN(CCTTCR_06609!B19),",0",",0") -> 617967,19|2,0,0 | C19: =CONCATENATE(617954,",",ROW(CCTTCR_06609!C19),"|",COLUMN(CCTTCR_06609!C19),",0",",0") -> 617954,19|3,0,0 | D19: =CONCATENATE(617956,",",ROW(CCTTCR_06609!D19),"|",COLUMN(CCTTCR_06609!D19),",0",",0") -> 617956,19|4,0,0 | E19: =CONCATENATE(617906,",",ROW(CCTTCR_06609!E19),"|",COLUMN(CCTTCR_06609!E19),",0",",0") -> 617906,19|5,0,0
A20: =CONCATENATE(617883,",",ROW(CCTTCR_06609!A20),"|",COLUMN(CCTTCR_06609!A20),",0",",0") -> 617883,20|1,0,0 | B20: =CONCATENATE(617829,",",ROW(CCTTCR_06609!B20),"|",COLUMN(CCTTCR_06609!B20),",0",",0") -> 617829,20|2,0,0 | C20: =CONCATENATE(617791,",",ROW(CCTTCR_06609!C20),"|",COLUMN(CCTTCR_06609!C20),",0",",0") -> 617791,20|3,0,0 | D20: =CONCATENATE(617842,",",ROW(CCTTCR_06609!D20),"|",COLUMN(CCTTCR_06609!D20),",0",",0") -> 617842,20|4,0,0 | E20: =CONCATENATE(617927,",",ROW(CCTTCR_06609!E20),"|",COLUMN(CCTTCR_06609!E20),",0",",0") -> 617927,20|5,0,0
A21: =CONCATENATE(617935,",",ROW(CCTTCR_06609!A21),"|",COLUMN(CCTTCR_06609!A21),",0",",0") -> 617935,21|1,0,0 | B21: =CONCATENATE(617871,",",ROW(CCTTCR_06609!B21),"|",COLUMN(CCTTCR_06609!B21),",0",",0") -> 617871,21|2,0,0 | C21: =CONCATENATE(617955,",",ROW(CCTTCR_06609!C21),"|",COLUMN(CCTTCR_06609!C21),",0",",0") -> 617955,21|3,0,0 | D21: =CONCATENATE(617970,",",ROW(CCTTCR_06609!D21),"|",COLUMN(CCTTCR_06609!D21),",0",",0") -> 617970,21|4,0,0 | E21: =CONCATENATE(617907,",",ROW(CCTTCR_06609!E21),"|",COLUMN(CCTTCR_06609!E21),",0",",0") -> 617907,21|5,0,0
A22: =CONCATENATE(617884,",",ROW(CCTTCR_06609!A22),"|",COLUMN(CCTTCR_06609!A22),",0",",0") -> 617884,22|1,0,0 | B22: =CONCATENATE(617872,",",ROW(CCTTCR_06609!B22),"|",COLUMN(CCTTCR_06609!B22),",0",",0") -> 617872,22|2,0,0 | C22: =CONCATENATE(617770,",",ROW(CCTTCR_06609!C22),"|",COLUMN(CCTTCR_06609!C22),",0",",0") -> 617770,22|3,0,0 | D22: =CONCATENATE(617971,",",ROW(CCTTCR_06609!D22),"|",COLUMN(CCTTCR_06609!D22),",0",",0") -> 617971,22|4,0,0 | E22: =CONCATENATE(617908,",",ROW(CCTTCR_06609!E22),"|",COLUMN(CCTTCR_06609!E22),",0",",0") -> 617908,22|5,0,0
A23: =CONCATENATE(617867,",",ROW(CCTTCR_06609!A23),"|",COLUMN(CCTTCR_06609!A23),",0",",0") -> 617867,23|1,0,0 | B23: =CONCATENATE(617860,",",ROW(CCTTCR_06609!B23),"|",COLUMN(CCTTCR_06609!B23),",0",",0") -> 617860,23|2,0,0 | C23: =CONCATENATE(617792,",",ROW(CCTTCR_06609!C23),"|",COLUMN(CCTTCR_06609!C23),",0",",0") -> 617792,23|3,0,0 | D23: =CONCATENATE(617843,",",ROW(CCTTCR_06609!D23),"|",COLUMN(CCTTCR_06609!D23),",0",",0") -> 617843,23|4,0,0 | E23: =CONCATENATE(617928,",",ROW(CCTTCR_06609!E23),"|",COLUMN(CCTTCR_06609!E23),",0",",0") -> 617928,23|5,0,0
A24: =CONCATENATE(617864,",",ROW(CCTTCR_06609!A24),"|",COLUMN(CCTTCR_06609!A24),",0",",0") -> 617864,24|1,0,0 | B24: =CONCATENATE(617873,",",ROW(CCTTCR_06609!B24),"|",COLUMN(CCTTCR_06609!B24),",0",",0") -> 617873,24|2,0,0 | C24: =CONCATENATE(617771,",",ROW(CCTTCR_06609!C24),"|",COLUMN(CCTTCR_06609!C24),",0",",0") -> 617771,24|3,0,0 | D24: =CONCATENATE(617972,",",ROW(CCTTCR_06609!D24),"|",COLUMN(CCTTCR_06609!D24),",0",",0") -> 617972,24|4,0,0 | E24: =CONCATENATE(617909,",",ROW(CCTTCR_06609!E24),"|",COLUMN(CCTTCR_06609!E24),",0",",0") -> 617909,24|5,0,0
A25: =CONCATENATE(617900,",",ROW(CCTTCR_06609!A25),"|",COLUMN(CCTTCR_06609!A25),",0",",0") -> 617900,25|1,0,0 | B25: =CONCATENATE(617874,",",ROW(CCTTCR_06609!B25),"|",COLUMN(CCTTCR_06609!B25),",0",",0") -> 617874,25|2,0,0 | C25: =CONCATENATE(617772,",",ROW(CCTTCR_06609!C25),"|",COLUMN(CCTTCR_06609!C25),",0",",0") -> 617772,25|3,0,0 | D25: =CONCATENATE(617973,",",ROW(CCTTCR_06609!D25),"|",COLUMN(CCTTCR_06609!D25),",0",",0") -> 617973,25|4,0,0 | E25: =CONCATENATE(617910,",",ROW(CCTTCR_06609!E25),"|",COLUMN(CCTTCR_06609!E25),",0",",0") -> 617910,25|5,0,0
A26: =CONCATENATE(617901,",",ROW(CCTTCR_06609!A26),"|",COLUMN(CCTTCR_06609!A26),",0",",0") -> 617901,26|1,0,0 | B26: =CONCATENATE(617830,",",ROW(CCTTCR_06609!B26),"|",COLUMN(CCTTCR_06609!B26),",0",",0") -> 617830,26|2,0,0 | C26: =CONCATENATE(617793,",",ROW(CCTTCR_06609!C26),"|",COLUMN(CCTTCR_06609!C26),",0",",0") -> 617793,26|3,0,0 | D26: =CONCATENATE(617844,",",ROW(CCTTCR_06609!D26),"|",COLUMN(CCTTCR_06609!D26),",0",",0") -> 617844,26|4,0,0 | E26: =CONCATENATE(617929,",",ROW(CCTTCR_06609!E26),"|",COLUMN(CCTTCR_06609!E26),",0",",0") -> 617929,26|5,0,0
A27: =CONCATENATE(617902,",",ROW(CCTTCR_06609!A27),"|",COLUMN(CCTTCR_06609!A27),",0",",0") -> 617902,27|1,0,0 | B27: =CONCATENATE(617831,",",ROW(CCTTCR_06609!B27),"|",COLUMN(CCTTCR_06609!B27),",0",",0") -> 617831,27|2,0,0 | C27: =CONCATENATE(617794,",",ROW(CCTTCR_06609!C27),"|",COLUMN(CCTTCR_06609!C27),",0",",0") -> 617794,27|3,0,0 | D27: =CONCATENATE(617845,",",ROW(CCTTCR_06609!D27),"|",COLUMN(CCTTCR_06609!D27),",0",",0") -> 617845,27|4,0,0 | E27: =CONCATENATE(617930,",",ROW(CCTTCR_06609!E27),"|",COLUMN(CCTTCR_06609!E27),",0",",0") -> 617930,27|5,0,0
A28: =CONCATENATE(617826,",",ROW(CCTTCR_06609!A28),"|",COLUMN(CCTTCR_06609!A28),",0",",0") -> 617826,28|1,0,0 | B28: =CONCATENATE(617875,",",ROW(CCTTCR_06609!B28),"|",COLUMN(CCTTCR_06609!B28),",0",",0") -> 617875,28|2,0,0 | C28: =CONCATENATE(617773,",",ROW(CCTTCR_06609!C28),"|",COLUMN(CCTTCR_06609!C28),",0",",0") -> 617773,28|3,0,0 | D28: =CONCATENATE(617974,",",ROW(CCTTCR_06609!D28),"|",COLUMN(CCTTCR_06609!D28),",0",",0") -> 617974,28|4,0,0 | E28: =CONCATENATE(617911,",",ROW(CCTTCR_06609!E28),"|",COLUMN(CCTTCR_06609!E28),",0",",0") -> 617911,28|5,0,0
A29: =CONCATENATE(617834,",",ROW(CCTTCR_06609!A29),"|",COLUMN(CCTTCR_06609!A29),",0",",0") -> 617834,29|1,0,0 | B29: =CONCATENATE(617808,",",ROW(CCTTCR_06609!B29),"|",COLUMN(CCTTCR_06609!B29),",0",",0") -> 617808,29|2,0,0 | C29: =CONCATENATE(617795,",",ROW(CCTTCR_06609!C29),"|",COLUMN(CCTTCR_06609!C29),",0",",0") -> 617795,29|3,0,0 | D29: =CONCATENATE(617846,",",ROW(CCTTCR_06609!D29),"|",COLUMN(CCTTCR_06609!D29),",0",",0") -> 617846,29|4,0,0 | E29: =CONCATENATE(617931,",",ROW(CCTTCR_06609!E29),"|",COLUMN(CCTTCR_06609!E29),",0",",0") -> 617931,29|5,0,0
A30: =CONCATENATE(617835,",",ROW(CCTTCR_06609!A30),"|",COLUMN(CCTTCR_06609!A30),",0",",0") -> 617835,30|1,0,0 | B30: =CONCATENATE(617809,",",ROW(CCTTCR_06609!B30),"|",COLUMN(CCTTCR_06609!B30),",0",",0") -> 617809,30|2,0,0 | C30: =CONCATENATE(617796,",",ROW(CCTTCR_06609!C30),"|",COLUMN(CCTTCR_06609!C30),",0",",0") -> 617796,30|3,0,0 | D30: =CONCATENATE(617847,",",ROW(CCTTCR_06609!D30),"|",COLUMN(CCTTCR_06609!D30),",0",",0") -> 617847,30|4,0,0 | E30: =CONCATENATE(617932,",",ROW(CCTTCR_06609!E30),"|",COLUMN(CCTTCR_06609!E30),",0",",0") -> 617932,30|5,0,0
A31: =CONCATENATE(617836,",",ROW(CCTTCR_06609!A31),"|",COLUMN(CCTTCR_06609!A31),",0",",0") -> 617836,31|1,0,0 | B31: =CONCATENATE(617876,",",ROW(CCTTCR_06609!B31),"|",COLUMN(CCTTCR_06609!B31),",0",",0") -> 617876,31|2,0,0 | C31: =CONCATENATE(617774,",",ROW(CCTTCR_06609!C31),"|",COLUMN(CCTTCR_06609!C31),",0",",0") -> 617774,31|3,0,0 | D31: =CONCATENATE(617975,",",ROW(CCTTCR_06609!D31),"|",COLUMN(CCTTCR_06609!D31),",0",",0") -> 617975,31|4,0,0 | E31: =CONCATENATE(617912,",",ROW(CCTTCR_06609!E31),"|",COLUMN(CCTTCR_06609!E31),",0",",0") -> 617912,31|5,0,0
A32: =CONCATENATE(617936,",",ROW(CCTTCR_06609!A32),"|",COLUMN(CCTTCR_06609!A32),",0",",0") -> 617936,32|1,0,0 | B32: =CONCATENATE(617832,",",ROW(CCTTCR_06609!B32),"|",COLUMN(CCTTCR_06609!B32),",0",",0") -> 617832,32|2,0,0 | C32: =CONCATENATE(617797,",",ROW(CCTTCR_06609!C32),"|",COLUMN(CCTTCR_06609!C32),",0",",0") -> 617797,32|3,0,0 | D32: =CONCATENATE(617848,",",ROW(CCTTCR_06609!D32),"|",COLUMN(CCTTCR_06609!D32),",0",",0") -> 617848,32|4,0,0 | E32: =CONCATENATE(617800,",",ROW(CCTTCR_06609!E32),"|",COLUMN(CCTTCR_06609!E32),",0",",0") -> 617800,32|5,0,0
A33: =CONCATENATE(617937,",",ROW(CCTTCR_06609!A33),"|",COLUMN(CCTTCR_06609!A33),",0",",0") -> 617937,33|1,0,0 | B33: =CONCATENATE(617877,",",ROW(CCTTCR_06609!B33),"|",COLUMN(CCTTCR_06609!B33),",0",",0") -> 617877,33|2,0,0 | C33: =CONCATENATE(617981,",",ROW(CCTTCR_06609!C33),"|",COLUMN(CCTTCR_06609!C33),",0",",0") -> 617981,33|3,0,0 | D33: =CONCATENATE(617976,",",ROW(CCTTCR_06609!D33),"|",COLUMN(CCTTCR_06609!D33),",0",",0") -> 617976,33|4,0,0 | E33: =CONCATENATE(617913,",",ROW(CCTTCR_06609!E33),"|",COLUMN(CCTTCR_06609!E33),",0",",0") -> 617913,33|5,0,0
A34: =CONCATENATE(617938,",",ROW(CCTTCR_06609!A34),"|",COLUMN(CCTTCR_06609!A34),",0",",0") -> 617938,34|1,0,0 | B34: =CONCATENATE(617817,",",ROW(CCTTCR_06609!B34),"|",COLUMN(CCTTCR_06609!B34),",0",",0") -> 617817,34|2,0,0 | C34: =CONCATENATE(617798,",",ROW(CCTTCR_06609!C34),"|",COLUMN(CCTTCR_06609!C34),",0",",0") -> 617798,34|3,0,0 | D34: =CONCATENATE(617849,",",ROW(CCTTCR_06609!D34),"|",COLUMN(CCTTCR_06609!D34),",0",",0") -> 617849,34|4,0,0 | E34: =CONCATENATE(617801,",",ROW(CCTTCR_06609!E34),"|",COLUMN(CCTTCR_06609!E34),",0",",0") -> 617801,34|5,0,0
A35: =CONCATENATE(617939,",",ROW(CCTTCR_06609!A35),"|",COLUMN(CCTTCR_06609!A35),",0",",0") -> 617939,35|1,0,0 | B35: =CONCATENATE(617878,",",ROW(CCTTCR_06609!B35),"|",COLUMN(CCTTCR_06609!B35),",0",",0") -> 617878,35|2,0,0 | C35: =CONCATENATE(617982,",",ROW(CCTTCR_06609!C35),"|",COLUMN(CCTTCR_06609!C35),",0",",0") -> 617982,35|3,0,0 | D35: =CONCATENATE(617977,",",ROW(CCTTCR_06609!D35),"|",COLUMN(CCTTCR_06609!D35),",0",",0") -> 617977,35|4,0,0 | E35: =CONCATENATE(617914,",",ROW(CCTTCR_06609!E35),"|",COLUMN(CCTTCR_06609!E35),",0",",0") -> 617914,35|5,0,0
A36: =CONCATENATE(617940,",",ROW(CCTTCR_06609!A36),"|",COLUMN(CCTTCR_06609!A36),",0",",0") -> 617940,36|1,0,0 | B36: =CONCATENATE(617818,",",ROW(CCTTCR_06609!B36),"|",COLUMN(CCTTCR_06609!B36),",0",",0") -> 617818,36|2,0,0 | C36: =CONCATENATE(617799,",",ROW(CCTTCR_06609!C36),"|",COLUMN(CCTTCR_06609!C36),",0",",0") -> 617799,36|3,0,0 | D36: =CONCATENATE(617850,",",ROW(CCTTCR_06609!D36),"|",COLUMN(CCTTCR_06609!D36),",0",",0") -> 617850,36|4,0,0 | E36: =CONCATENATE(617802,",",ROW(CCTTCR_06609!E36),"|",COLUMN(CCTTCR_06609!E36),",0",",0") -> 617802,36|5,0,0
A37: =CONCATENATE(617941,",",ROW(CCTTCR_06609!A37),"|",COLUMN(CCTTCR_06609!A37),",0",",0") -> 617941,37|1,0,0 | B37: =CONCATENATE(617819,",",ROW(CCTTCR_06609!B37),"|",COLUMN(CCTTCR_06609!B37),",0",",0") -> 617819,37|2,0,0 | C37: =CONCATENATE(617781,",",ROW(CCTTCR_06609!C37),"|",COLUMN(CCTTCR_06609!C37),",0",",0") -> 617781,37|3,0,0 | D37: =CONCATENATE(617851,",",ROW(CCTTCR_06609!D37),"|",COLUMN(CCTTCR_06609!D37),",0",",0") -> 617851,37|4,0,0 | E37: =CONCATENATE(617803,",",ROW(CCTTCR_06609!E37),"|",COLUMN(CCTTCR_06609!E37),",0",",0") -> 617803,37|5,0,0
A38: =CONCATENATE(617806,",",ROW(CCTTCR_06609!A38),"|",COLUMN(CCTTCR_06609!A38),",0",",0") -> 617806,38|1,0,0 | B38: =CONCATENATE(617833,",",ROW(CCTTCR_06609!B38),"|",COLUMN(CCTTCR_06609!B38),",0",",0") -> 617833,38|2,0,0 | C38: =CONCATENATE(617943,",",ROW(CCTTCR_06609!C38),"|",COLUMN(CCTTCR_06609!C38),",0",",0") -> 617943,38|3,0,0 | D38: =CONCATENATE(617889,",",ROW(CCTTCR_06609!D38),"|",COLUMN(CCTTCR_06609!D38),",0",",0") -> 617889,38|4,0,0 | E38: =CONCATENATE(617983,",",ROW(CCTTCR_06609!E38),"|",COLUMN(CCTTCR_06609!E38),",0",",0") -> 617983,38|5,0,0
A39: =CONCATENATE(617854,",",ROW(CCTTCR_06609!A39),"|",COLUMN(CCTTCR_06609!A39),",0",",0") -> 617854,39|1,0,0 | B39: =CONCATENATE(617865,",",ROW(CCTTCR_06609!B39),"|",COLUMN(CCTTCR_06609!B39),",0",",0") -> 617865,39|2,0,0 | C39: =CONCATENATE(617782,",",ROW(CCTTCR_06609!C39),"|",COLUMN(CCTTCR_06609!C39),",0",",0") -> 617782,39|3,0,0 | D39: =CONCATENATE(617852,",",ROW(CCTTCR_06609!D39),"|",COLUMN(CCTTCR_06609!D39),",0",",0") -> 617852,39|4,0,0 | E39: =CONCATENATE(617804,",",ROW(CCTTCR_06609!E39),"|",COLUMN(CCTTCR_06609!E39),",0",",0") -> 617804,39|5,0,0
A40: =CONCATENATE(617957,",",ROW(CCTTCR_06609!A40),"|",COLUMN(CCTTCR_06609!A40),",0",",0") -> 617957,40|1,0,0 | B40: =CONCATENATE(617810,",",ROW(CCTTCR_06609!B40),"|",COLUMN(CCTTCR_06609!B40),",0",",0") -> 617810,40|2,0,0 | C40: =CONCATENATE(617944,",",ROW(CCTTCR_06609!C40),"|",COLUMN(CCTTCR_06609!C40),",0",",0") -> 617944,40|3,0,0 | D40: =CONCATENATE(617890,",",ROW(CCTTCR_06609!D40),"|",COLUMN(CCTTCR_06609!D40),",0",",0") -> 617890,40|4,0,0 | E40: =CONCATENATE(617984,",",ROW(CCTTCR_06609!E40),"|",COLUMN(CCTTCR_06609!E40),",0",",0") -> 617984,40|5,0,0
A41: =CONCATENATE(617958,",",ROW(CCTTCR_06609!A41),"|",COLUMN(CCTTCR_06609!A41),",0",",0") -> 617958,41|1,0,0 | B41: =CONCATENATE(617812,",",ROW(CCTTCR_06609!B41),"|",COLUMN(CCTTCR_06609!B41),",0",",0") -> 617812,41|2,0,0 | C41: =CONCATENATE(617945,",",ROW(CCTTCR_06609!C41),"|",COLUMN(CCTTCR_06609!C41),",0",",0") -> 617945,41|3,0,0 | D41: =CONCATENATE(617891,",",ROW(CCTTCR_06609!D41),"|",COLUMN(CCTTCR_06609!D41),",0",",0") -> 617891,41|4,0,0 | E41: =CONCATENATE(617985,",",ROW(CCTTCR_06609!E41),"|",COLUMN(CCTTCR_06609!E41),",0",",0") -> 617985,41|5,0,0
A42: =CONCATENATE(617827,",",ROW(CCTTCR_06609!A42),"|",COLUMN(CCTTCR_06609!A42),",0",",0") -> 617827,42|1,0,0 | B42: =CONCATENATE(617879,",",ROW(CCTTCR_06609!B42),"|",COLUMN(CCTTCR_06609!B42),",0",",0") -> 617879,42|2,0,0 | C42: =CONCATENATE(617775,",",ROW(CCTTCR_06609!C42),"|",COLUMN(CCTTCR_06609!C42),",0",",0") -> 617775,42|3,0,0 | D42: =CONCATENATE(617978,",",ROW(CCTTCR_06609!D42),"|",COLUMN(CCTTCR_06609!D42),",0",",0") -> 617978,42|4,0,0 | E42: =CONCATENATE(617915,",",ROW(CCTTCR_06609!E42),"|",COLUMN(CCTTCR_06609!E42),",0",",0") -> 617915,42|5,0,0
A43: =CONCATENATE(617959,",",ROW(CCTTCR_06609!A43),"|",COLUMN(CCTTCR_06609!A43),",0",",0") -> 617959,43|1,0,0 | B43: =CONCATENATE(617813,",",ROW(CCTTCR_06609!B43),"|",COLUMN(CCTTCR_06609!B43),",0",",0") -> 617813,43|2,0,0 | C43: =CONCATENATE(617946,",",ROW(CCTTCR_06609!C43),"|",COLUMN(CCTTCR_06609!C43),",0",",0") -> 617946,43|3,0,0 | D43: =CONCATENATE(617892,",",ROW(CCTTCR_06609!D43),"|",COLUMN(CCTTCR_06609!D43),",0",",0") -> 617892,43|4,0,0 | E43: =CONCATENATE(617986,",",ROW(CCTTCR_06609!E43),"|",COLUMN(CCTTCR_06609!E43),",0",",0") -> 617986,43|5,0,0
A44: =CONCATENATE(617960,",",ROW(CCTTCR_06609!A44),"|",COLUMN(CCTTCR_06609!A44),",0",",0") -> 617960,44|1,0,0 | B44: =CONCATENATE(617820,",",ROW(CCTTCR_06609!B44),"|",COLUMN(CCTTCR_06609!B44),",0",",0") -> 617820,44|2,0,0 | C44: =CONCATENATE(617947,",",ROW(CCTTCR_06609!C44),"|",COLUMN(CCTTCR_06609!C44),",0",",0") -> 617947,44|3,0,0 | D44: =CONCATENATE(617893,",",ROW(CCTTCR_06609!D44),"|",COLUMN(CCTTCR_06609!D44),",0",",0") -> 617893,44|4,0,0 | E44: =CONCATENATE(617987,",",ROW(CCTTCR_06609!E44),"|",COLUMN(CCTTCR_06609!E44),",0",",0") -> 617987,44|5,0,0
A45: =CONCATENATE(617942,",",ROW(CCTTCR_06609!A45),"|",COLUMN(CCTTCR_06609!A45),",0",",0") -> 617942,45|1,0,0 | B45: =CONCATENATE(617821,",",ROW(CCTTCR_06609!B45),"|",COLUMN(CCTTCR_06609!B45),",0",",0") -> 617821,45|2,0,0 | C45: =CONCATENATE(617783,",",ROW(CCTTCR_06609!C45),"|",COLUMN(CCTTCR_06609!C45),",0",",0") -> 617783,45|3,0,0 | D45: =CONCATENATE(617853,",",ROW(CCTTCR_06609!D45),"|",COLUMN(CCTTCR_06609!D45),",0",",0") -> 617853,45|4,0,0 | E45: =CONCATENATE(617805,",",ROW(CCTTCR_06609!E45),"|",COLUMN(CCTTCR_06609!E45),",0",",0") -> 617805,45|5,0,0
A46: =CONCATENATE(617961,",",ROW(CCTTCR_06609!A46),"|",COLUMN(CCTTCR_06609!A46),",0",",0") -> 617961,46|1,0,0 | B46: =CONCATENATE(617861,",",ROW(CCTTCR_06609!B46),"|",COLUMN(CCTTCR_06609!B46),",0",",0") -> 617861,46|2,0,0 | C46: =CONCATENATE(617948,",",ROW(CCTTCR_06609!C46),"|",COLUMN(CCTTCR_06609!C46),",0",",0") -> 617948,46|3,0,0 | D46: =CONCATENATE(617894,",",ROW(CCTTCR_06609!D46),"|",COLUMN(CCTTCR_06609!D46),",0",",0") -> 617894,46|4,0,0 | E46: =CONCATENATE(617988,",",ROW(CCTTCR_06609!E46),"|",COLUMN(CCTTCR_06609!E46),",0",",0") -> 617988,46|5,0,0
A47: =CONCATENATE(617811,",",ROW(CCTTCR_06609!A47),"|",COLUMN(CCTTCR_06609!A47),",0",",0") -> 617811,47|1,0,0 | B47: =CONCATENATE(617880,",",ROW(CCTTCR_06609!B47),"|",COLUMN(CCTTCR_06609!B47),",0",",0") -> 617880,47|2,0,0 | C47: =CONCATENATE(617776,",",ROW(CCTTCR_06609!C47),"|",COLUMN(CCTTCR_06609!C47),",0",",0") -> 617776,47|3,0,0 | D47: =CONCATENATE(617979,",",ROW(CCTTCR_06609!D47),"|",COLUMN(CCTTCR_06609!D47),",0",",0") -> 617979,47|4,0,0 | E47: =CONCATENATE(617916,",",ROW(CCTTCR_06609!E47),"|",COLUMN(CCTTCR_06609!E47),",0",",0") -> 617916,47|5,0,0
A48: =CONCATENATE(617962,",",ROW(CCTTCR_06609!A48),"|",COLUMN(CCTTCR_06609!A48),",0",",0") -> 617962,48|1,0,0 | B48: =CONCATENATE(617862,",",ROW(CCTTCR_06609!B48),"|",COLUMN(CCTTCR_06609!B48),",0",",0") -> 617862,48|2,0,0 | C48: =CONCATENATE(617949,",",ROW(CCTTCR_06609!C48),"|",COLUMN(CCTTCR_06609!C48),",0",",0") -> 617949,48|3,0,0 | D48: =CONCATENATE(617895,",",ROW(CCTTCR_06609!D48),"|",COLUMN(CCTTCR_06609!D48),",0",",0") -> 617895,48|4,0,0 | E48: =CONCATENATE(617989,",",ROW(CCTTCR_06609!E48),"|",COLUMN(CCTTCR_06609!E48),",0",",0") -> 617989,48|5,0,0

Sheet BCKQHDR_06610
A1: BÁO CÁO KẾT QUẢ HOẠT ĐỘNG RIÊNG
A2: Quý 1/Năm 2026
A3: Đơn vị tính: Đồng Việt Nam
A4: CHỈ TIÊU | B4: Mã số | C4: Thuyết minh | D4: Năm nay | E4: Năm trước
A5: A | B5: B | C5: C | D5: 1 | E5: 2
A6: I. DOANH THU HOẠT ĐỘNG
A7: 1.1. Lãi từ các tài sản tài chính ghi nhận thông qua lãi/lỗ (FVTPL) | B7: 1 | D7: 2451244872 | E7: 75053832395
A8: a. Lãi bán các tài sản tài chính FVTPL | B8: 1.1 | D8: 2006845636 | E8: 918158042
A9: b. Chênh lệch tăng về đánh giá lại các TSTC FVTPL | B9: 1.2 | D9: 424399236 | E9: 71012550453
A10: c. Cổ tức, tiền lãi phát sinh từ tài sản tài chính FVTPL | B10: 1.3 | D10: 20000000 | E10: 3123123900
A11: 1.2. Lãi từ các khoản đầu tư nắm giữ đến ngày đáo hạn (HTM) | B11: 2
A12: 1.3. Lãi từ các khoản cho vay và phải thu | B12: 3 | D12: 2797257450 | E12: 6515462730
A13: 1.4. Lãi từ tài sản tài chính sẵn sàng để bán (AFS) | B13: 4
A14: 1.5. Lãi từ các công cụ phái sinh phòng ngừa rủi ro | B14: 5
A15: 1.6. Doanh thu nghiệp vụ môi giới chứng khoán | B15: 6 | D15: 2172730442 | E15: 3804485235
A16: 1.7. Doanh thu nghiệp vụ bảo lãnh, đại lý phát hành chứng khoán | B16: 7
A17: 1.8. Doanh thu nghiệp vụ tư vấn đầu tư chứng khoán | B17: 8
A18: 1.9. Doanh thu nghiệp vụ lưu ký chứng khoán | B18: 9 | D18: 306035649 | E18: 425602638
A19: 1.10. Doanh thu hoạt động tư vấn tài chính | B19: 10 | D19: 416958182 | E19: 1175454545
A20: 1.11. Thu nhập hoạt động khác | B20: 11 | D20: 9832000 | E20: 9272000
A21: Cộng doanh thu hoạt động (20 = 01 đến 11) | B21: 20 | D21: 8154058595 | E21: 86984109543
A22: II. CHI PHÍ HOẠT ĐỘNG
A23: 2.1. Lỗ các tài sản tài chính ghi nhận thông qua lãi/lỗ (FVTPL) | B23: 21 | D23: 182316116150 | E23: 37309666065
A24: a. Lỗ bán các tài sản tài chính FVTPL | B24: 21.1 | D24: 0 | E24: 3739474329
A25: b. Chênh lệch giảm đánh giá lại các TSTC FVTPL | B25: 21.2 | D25: 182316116150 | E25: 33570191736
A26: c. Chi phí giao dịch mua các tài sản tài chính FVTPL | B26: 21.3
A27: 2.2. Lỗ các khoản đầu tư nắm giữ đến ngày đáo hạn (HTM) | B27: 22
A28: 2.3. Lỗ và ghi nhận chênh lệch đánh giá theo giá trị hợp lý tài sản tài chính sẵn sàng để bán (AFS) khi phân loại lại | B28: 23
A29: 2.4. Chi phí dự phòng tài sản tài chính, xử lý tổn thất các khoản phải thu khó đòi và lỗ suy giảm tài sản tài chính và chi phí đi vay của các khoản cho vay | B29: 24 | D29: 685289435 | E29: 14786247711
A30: 2.5. Lỗ từ các tài sản tài chính phái sinh phòng ngừa rủi ro | B30: 25
A31: 2.6. Chi phí hoạt động tự doanh | B31: 26 | D31: 214338299 | E31: 141359267
A32: 2.7. Chi phí nghiệp vụ môi giới chứng khoán | B32: 27 | D32: 3072927295 | E32: 4901192683
A33: 2.8. Chi phí nghiệp vụ bảo lãnh, đại lý phát hành chứng khoán | B33: 28
A34: 2.9. Chi phí nghiệp vụ tư vấn đầu tư chứng khoán | B34: 29
A35: 2.10. Chi phí nghiệp vụ lưu ký chứng khoán | B35: 30 | D35: 483942057 | E35: 452232655
A36: 2.11. Chi phí hoạt động tư vấn tài chính | B36: 31 | D36: 604032394 | E36: 914158849
A37: 2.12. Chi phí các dịch vụ khác | B37: 32 | D37: 1094445024 | E37: 1315030634
A38: Cộng chi phí hoạt động (40 = 21 đến 32) | B38: 40 | D38: 188471090654 | E38: 59819887864
A39: III. DOANH THU HOẠT ĐỘNG TÀI CHÍNH
A40: 3.1. Chênh lệch lãi tỷ giá hối đoái đã và chưa thực hiện | B40: 41
A41: 3.2. Doanh thu, dự thu cổ tức, lãi tiền gửi ngân hàng không cố định | B41: 42 | D41: 80940869 | E41: 1302401237
A42: 3.3. Lãi bán, thanh lý các khoản đầu tư vào công ty con, liên kết, liên doanh | B42: 43
A43: 3.4. Doanh thu khác về đầu tư | B43: 44 | D43: 0 | E43: 8557614776
A44: Cộng doanh thu hoạt động tài chính (50 = 41 đến 44) | B44: 50 | D44: 80940869 | E44: 9860016013
A45: IV. CHI PHÍ TÀI CHÍNH
A46: 4.1. Chênh lệch lỗ tỷ giá hối đoái đã và chưa thực hiện | B46: 51
A47: 4.2. Chi phí lãi vay | B47: 52 | D47: 6677652485 | E47: 9058190700
A48: 4.3. Lỗ bán, thanh lý các khoản đầu tư vào công ty con, liên kết, liên doanh | B48: 60
A49: 4.4. Chi phí dự phòng suy giảm giá trị các khoản đầu tư tài chính dài hạn | B49: 54
A50: 4.5. Chi phí tài chính khác | B50: 55
A51: Cộng chi phí tài chính (60 = 51 đến 55) | B51: 60 | D51: 6677652485 | E51: 9058190700
A52: V. CHI PHÍ BÁN HÀNG | B52: 61
A53: VI. CHI PHÍ QUẢN LÝ CÔNG TY CHỨNG KHOÁN | B53: 62 | D53: 9502445580 | E53: 9978279758
A54: VII. KẾT QUẢ HOẠT ĐỘNG (70= 20+50-40 -60-61-62) | B54: 70 | D54: -196416189255 | E54: 17987767234
A55: VIII. THU NHẬP KHÁC VÀ CHI PHÍ KHÁC
A56: 8.1. Thu nhập khác | B56: 71 | D56: 0 | E56: 52309091
A57: 8.2. Chi phí khác | B57: 72 | D57: 326960219 | E57: 177500000
A58: Cộng kết quả hoạt động khác (80= 71-72) | B58: 80 | D58: -326960219 | E58: -125190909
A59: IX. TỔNG LỢI NHUẬN KẾ TOÁN TRƯỚC THUẾ (90=70 + 80) | B59: 90 | D59: -196743149474 | E59: 17862576325
A60: 9.1. Lợi nhuận đã thực hiện | B60: 91 | D60: -14851432560 | E60: -19579782392
A61: 9.2. Lợi nhuận chưa thực hiện | B61: 92 | D61: -181891716914 | E61: 37442358717
A62: X. CHI PHÍ THUẾ TNDN | B62: 100 | D62: -39257099913 | E62: 7.4884717e+09
A63: 10.1.Chi phí thuế TNDN hiện hành | B63: 100.1
A64: 10.2.Chi phí thuế TNDN hoãn lại | B64: 100.2 | D64: -39257099913 | E64: 7488471743
A65: XI. LỢI NHUẬN KẾ TOÁN SAU THUẾ TNDN (200 = 90 - 100) | B65: 200 | D65: -157486049561 | E65: 10374104582
A66: XII. THU NHẬP (LỖ) TOÀN DIỆN KHÁC SAU THUẾ TNDN | B66: 300
A67: 12.1.Lãi/(Lỗ) từ đánh giá lại các tài sản tài chính sẵn sàng để bán | B67: 301
A68: 12.2. Lãi/(lỗ) chênh lệch tỷ giá của hoạt động tại nước ngoài | B68: 302
A69: 12.3. Lãi, lỗ đánh giá lại tài sản cố định theo mô hình giá trị hợp lý | B69: 303
A70: 12.4. Lãi, lỗ toàn diện khác | B70: 304
A71: Tổng thu nhập toàn diện | B71: 400
A72: XIII. THU NHẬP THUẦN TRÊN CỔ PHIẾU PHỔ THÔNG | B72: 500
A73: 13.1.Lãi cơ bản trên cổ phiếu (Đồng/1 cổ phiếu) | B73: 501
A74: 13.2.Thu nhập pha loãng trên cổ phiếu (Đồng/1 cổ phiếu) | B74: 502

Sheet 7706_hidden
A5: =CONCATENATE(617267,",",ROW(BCKQHDR_06610!A5),"|",COLUMN(BCKQHDR_06610!A5),",0",",0") -> 617267,5|1,0,0 | B5: =CONCATENATE(617114,",",ROW(BCKQHDR_06610!B5),"|",COLUMN(BCKQHDR_06610!B5),",0",",0") -> 617114,5|2,0,0 | C5: =CONCATENATE(617245,",",ROW(BCKQHDR_06610!C5),"|",COLUMN(BCKQHDR_06610!C5),",0",",0") -> 617245,5|3,0,0 | D5: =CONCATENATE(617115,",",ROW(BCKQHDR_06610!D5),"|",COLUMN(BCKQHDR_06610!D5),",0",",0") -> 617115,5|4,0,0 | E5: =CONCATENATE(617246,",",ROW(BCKQHDR_06610!E5),"|",COLUMN(BCKQHDR_06610!E5),",0",",0") -> 617246,5|5,0,0
A6: =CONCATENATE(617387,",",ROW(BCKQHDR_06610!A6),"|",COLUMN(BCKQHDR_06610!A6),",0",",0") -> 617387,6|1,0,0 | B6: =CONCATENATE(617251,",",ROW(BCKQHDR_06610!B6),"|",COLUMN(BCKQHDR_06610!B6),",0",",0") -> 617251,6|2,0,0 | C6: =CONCATENATE(617191,",",ROW(BCKQHDR_06610!C6),"|",COLUMN(BCKQHDR_06610!C6),",0",",0") -> 617191,6|3,0,0 | D6: =CONCATENATE(617077,",",ROW(BCKQHDR_06610!D6),"|",COLUMN(BCKQHDR_06610!D6),",0",",0") -> 617077,6|4,0,0 | E6: =CONCATENATE(617178,",",ROW(BCKQHDR_06610!E6),"|",COLUMN(BCKQHDR_06610!E6),",0",",0") -> 617178,6|5,0,0
A7: =CONCATENATE(617247,",",ROW(BCKQHDR_06610!A7),"|",COLUMN(BCKQHDR_06610!A7),",0",",0") -> 617247,7|1,0,0 | B7: =CONCATENATE(617172,",",ROW(BCKQHDR_06610!B7),"|",COLUMN(BCKQHDR_06610!B7),",0",",0") -> 617172,7|2,0,0 | C7: =CONCATENATE(617131,",",ROW(BCKQHDR_06610!C7),"|",COLUMN(BCKQHDR_06610!C7),",0",",0") -> 617131,7|3,0,0 | D7: =CONCATENATE(617313,",",ROW(BCKQHDR_06610!D7),"|",COLUMN(BCKQHDR_06610!D7),",0",",0") -> 617313,7|4,0,0 | E7: =CONCATENATE(617287,",",ROW(BCKQHDR_06610!E7),"|",COLUMN(BCKQHDR_06610!E7),",0",",0") -> 617287,7|5,0,0
A8: =CONCATENATE(617165,",",ROW(BCKQHDR_06610!A8),"|",COLUMN(BCKQHDR_06610!A8),",0",",0") -> 617165,8|1,0,0 | B8: =CONCATENATE(617173,",",ROW(BCKQHDR_06610!B8),"|",COLUMN(BCKQHDR_06610!B8),",0",",0") -> 617173,8|2,0,0 | C8: =CONCATENATE(617232,",",ROW(BCKQHDR_06610!C8),"|",COLUMN(BCKQHDR_06610!C8),",0",",0") -> 617232,8|3,0,0 | D8: =CONCATENATE(617314,",",ROW(BCKQHDR_06610!D8),"|",COLUMN(BCKQHDR_06610!D8),",0",",0") -> 617314,8|4,0,0 | E8: =CONCATENATE(617288,",",ROW(BCKQHDR_06610!E8),"|",COLUMN(BCKQHDR_06610!E8),",0",",0") -> 617288,8|5,0,0
A9: =CONCATENATE(617388,",",ROW(BCKQHDR_06610!A9),"|",COLUMN(BCKQHDR_06610!A9),",0",",0") -> 617388,9|1,0,0 | B9: =CONCATENATE(617337,",",ROW(BCKQHDR_06610!B9),"|",COLUMN(BCKQHDR_06610!B9),",0",",0") -> 617337,9|2,0,0 | C9: =CONCATENATE(617233,",",ROW(BCKQHDR_06610!C9),"|",COLUMN(BCKQHDR_06610!C9),",0",",0") -> 617233,9|3,0,0 | D9: =CONCATENATE(617315,",",ROW(BCKQHDR_06610!D9),"|",COLUMN(BCKQHDR_06610!D9),",0",",0") -> 617315,9|4,0,0 | E9: =CONCATENATE(617289,",",ROW(BCKQHDR_06610!E9),"|",COLUMN(BCKQHDR_06610!E9),",0",",0") -> 617289,9|5,0,0
A10: =CONCATENATE(617268,",",ROW(BCKQHDR_06610!A10),"|",COLUMN(BCKQHDR_06610!A10),",0",",0") -> 617268,10|1,0,0 | B10: =CONCATENATE(617354,",",ROW(BCKQHDR_06610!B10),"|",COLUMN(BCKQHDR_06610!B10),",0",",0") -> 617354,10|2,0,0 | C10: =CONCATENATE(617272,",",ROW(BCKQHDR_06610!C10),"|",COLUMN(BCKQHDR_06610!C10),",0",",0") -> 617272,10|3,0,0 | D10: =CONCATENATE(617316,",",ROW(BCKQHDR_06610!D10),"|",COLUMN(BCKQHDR_06610!D10),",0",",0") -> 617316,10|4,0,0 | E10: =CONCATENATE(617290,",",ROW(BCKQHDR_06610!E10),"|",COLUMN(BCKQHDR_06610!E10),",0",",0") -> 617290,10|5,0,0
A11: =CONCATENATE(617166,",",ROW(BCKQHDR_06610!A11),"|",COLUMN(BCKQHDR_06610!A11),",0",",0") -> 617166,11|1,0,0 | B11: =CONCATENATE(617349,",",ROW(BCKQHDR_06610!B11),"|",COLUMN(BCKQHDR_06610!B11),",0",",0") -> 617349,11|2,0,0 | C11: =CONCATENATE(617075,",",ROW(BCKQHDR_06610!C11),"|",COLUMN(BCKQHDR_06610!C11),",0",",0") -> 617075,11|3,0,0 | D11: =CONCATENATE(617317,",",ROW(BCKQHDR_06610!D11),"|",COLUMN(BCKQHDR_06610!D11),",0",",0") -> 617317,11|4,0,0 | E11: =CONCATENATE(617291,",",ROW(BCKQHDR_06610!E11),"|",COLUMN(BCKQHDR_06610!E11),",0",",0") -> 617291,11|5,0,0
A12: =CONCATENATE(617228,",",ROW(BCKQHDR_06610!A12),"|",COLUMN(BCKQHDR_06610!A12),",0",",0") -> 617228,12|1,0,0 | B12: =CONCATENATE(617174,",",ROW(BCKQHDR_06610!B12),"|",COLUMN(BCKQHDR_06610!B12),",0",",0") -> 617174,12|2,0,0 | C12: =CONCATENATE(617080,",",ROW(BCKQHDR_06610!C12),"|",COLUMN(BCKQHDR_06610!C12),",0",",0") -> 617080,12|3,0,0 | D12: =CONCATENATE(617318,",",ROW(BCKQHDR_06610!D12),"|",COLUMN(BCKQHDR_06610!D12),",0",",0") -> 617318,12|4,0,0 | E12: =CONCATENATE(617292,",",ROW(BCKQHDR_06610!E12),"|",COLUMN(BCKQHDR_06610!E12),",0",",0") -> 617292,12|5,0,0
A13: =CONCATENATE(617248,",",ROW(BCKQHDR_06610!A13),"|",COLUMN(BCKQHDR_06610!A13),",0",",0") -> 617248,13|1,0,0 | B13: =CONCATENATE(617175,",",ROW(BCKQHDR_06610!B13),"|",COLUMN(BCKQHDR_06610!B13),",0",",0") -> 617175,13|2,0,0 | C13: =CONCATENATE(617081,",",ROW(BCKQHDR_06610!C13),"|",COLUMN(BCKQHDR_06610!C13),",0",",0") -> 617081,13|3,0,0 | D13: =CONCATENATE(617319,",",ROW(BCKQHDR_06610!D13),"|",COLUMN(BCKQHDR_06610!D13),",0",",0") -> 617319,13|4,0,0 | E13: =CONCATENATE(617293,",",ROW(BCKQHDR_06610!E13),"|",COLUMN(BCKQHDR_06610!E13),",0",",0") -> 617293,13|5,0,0
A14: =CONCATENATE(617249,",",ROW(BCKQHDR_06610!A14),"|",COLUMN(BCKQHDR_06610!A14),",0",",0") -> 617249,14|1,0,0 | B14: =CONCATENATE(617355,",",ROW(BCKQHDR_06610!B14),"|",COLUMN(BCKQHDR_06610!B14),",0",",0") -> 617355,14|2,0,0 | C14: =CONCATENATE(617082,",",ROW(BCKQHDR_06610!C14),"|",COLUMN(BCKQHDR_06610!C14),",0",",0") -> 617082,14|3,0,0 | D14: =CONCATENATE(617124,",",ROW(BCKQHDR_06610!D14),"|",COLUMN(BCKQHDR_06610!D14),",0",",0") -> 617124,14|4,0,0 | E14: =CONCATENATE(617294,",",ROW(BCKQHDR_06610!E14),"|",COLUMN(BCKQHDR_06610!E14),",0",",0") -> 617294,14|5,0,0
A15: =CONCATENATE(617389,",",ROW(BCKQHDR_06610!A15),"|",COLUMN(BCKQHDR_06610!A15),",0",",0") -> 617389,15|1,0,0 | B15: =CONCATENATE(617252,",",ROW(BCKQHDR_06610!B15),"|",COLUMN(BCKQHDR_06610!B15),",0",",0") -> 617252,15|2,0,0 | C15: =CONCATENATE(617083,",",ROW(BCKQHDR_06610!C15),"|",COLUMN(BCKQHDR_06610!C15),",0",",0") -> 617083,15|3,0,0 | D15: =CONCATENATE(617125,",",ROW(BCKQHDR_06610!D15),"|",COLUMN(BCKQHDR_06610!D15),",0",",0") -> 617125,15|4,0,0 | E15: =CONCATENATE(617295,",",ROW(BCKQHDR_06610!E15),"|",COLUMN(BCKQHDR_06610!E15),",0",",0") -> 617295,15|5,0,0
A16: =CONCATENATE(617162,",",ROW(BCKQHDR_06610!A16),"|",COLUMN(BCKQHDR_06610!A16),",0",",0") -> 617162,16|1,0,0 | B16: =CONCATENATE(617338,",",ROW(BCKQHDR_06610!B16),"|",COLUMN(BCKQHDR_06610!B16),",0",",0") -> 617338,16|2,0,0 | C16: =CONCATENATE(617084,",",ROW(BCKQHDR_06610!C16),"|",COLUMN(BCKQHDR_06610!C16),",0",",0") -> 617084,16|3,0,0 | D16: =CONCATENATE(617126,",",ROW(BCKQHDR_06610!D16),"|",COLUMN(BCKQHDR_06610!D16),",0",",0") -> 617126,16|4,0,0 | E16: =CONCATENATE(617296,",",ROW(BCKQHDR_06610!E16),"|",COLUMN(BCKQHDR_06610!E16),",0",",0") -> 617296,16|5,0,0
A17: =CONCATENATE(617390,",",ROW(BCKQHDR_06610!A17),"|",COLUMN(BCKQHDR_06610!A17),",0",",0") -> 617390,17|1,0,0 | B17: =CONCATENATE(617253,",",ROW(BCKQHDR_06610!B17),"|",COLUMN(BCKQHDR_06610!B17),",0",",0") -> 617253,17|2,0,0 | C17: =CONCATENATE(617085,",",ROW(BCKQHDR_06610!C17),"|",COLUMN(BCKQHDR_06610!C17),",0",",0") -> 617085,17|3,0,0 | D17: =CONCATENATE(617127,",",ROW(BCKQHDR_06610!D17),"|",COLUMN(BCKQHDR_06610!D17),",0",",0") -> 617127,17|4,0,0 | E17: =CONCATENATE(617053,",",ROW(BCKQHDR_06610!E17),"|",COLUMN(BCKQHDR_06610!E17),",0",",0") -> 617053,17|5,0,0
A18: =CONCATENATE(617116,",",ROW(BCKQHDR_06610!A18),"|",COLUMN(BCKQHDR_06610!A18),",0",",0") -> 617116,18|1,0,0 | B18: =CONCATENATE(617254,",",ROW(BCKQHDR_06610!B18),"|",COLUMN(BCKQHDR_06610!B18),",0",",0") -> 617254,18|2,0,0 | C18: =CONCATENATE(617086,",",ROW(BCKQHDR_06610!C18),"|",COLUMN(BCKQHDR_06610!C18),",0",",0") -> 617086,18|3,0,0 | D18: =CONCATENATE(617128,",",ROW(BCKQHDR_06610!D18),"|",COLUMN(BCKQHDR_06610!D18),",0",",0") -> 617128,18|4,0,0 | E18: =CONCATENATE(617054,",",ROW(BCKQHDR_06610!E18),"|",COLUMN(BCKQHDR_06610!E18),",0",",0") -> 617054,18|5,0,0
A19: =CONCATENATE(617117,",",ROW(BCKQHDR_06610!A19),"|",COLUMN(BCKQHDR_06610!A19),",0",",0") -> 617117,19|1,0,0 | B19: =CONCATENATE(617350,",",ROW(BCKQHDR_06610!B19),"|",COLUMN(BCKQHDR_06610!B19),",0",",0") -> 617350,19|2,0,0 | C19: =CONCATENATE(617087,",",ROW(BCKQHDR_06610!C19),"|",COLUMN(BCKQHDR_06610!C19),",0",",0") -> 617087,19|3,0,0 | D19: =CONCATENATE(617320,",",ROW(BCKQHDR_06610!D19),"|",COLUMN(BCKQHDR_06610!D19),",0",",0") -> 617320,19|4,0,0 | E19: =CONCATENATE(617055,",",ROW(BCKQHDR_06610!E19),"|",COLUMN(BCKQHDR_06610!E19),",0",",0") -> 617055,19|5,0,0
A20: =CONCATENATE(617167,",",ROW(BCKQHDR_06610!A20),"|",COLUMN(BCKQHDR_06610!A20),",0",",0") -> 617167,20|1,0,0 | B20: =CONCATENATE(617214,",",ROW(BCKQHDR_06610!B20),"|",COLUMN(BCKQHDR_06610!B20),",0",",0") -> 617214,20|2,0,0 | C20: =CONCATENATE(617137,",",ROW(BCKQHDR_06610!C20),"|",COLUMN(BCKQHDR_06610!C20),",0",",0") -> 617137,20|3,0,0 | D20: =CONCATENATE(617321,",",ROW(BCKQHDR_06610!D20),"|",COLUMN(BCKQHDR_06610!D20),",0",",0") -> 617321,20|4,0,0 | E20: =CONCATENATE(617056,",",ROW(BCKQHDR_06610!E20),"|",COLUMN(BCKQHDR_06610!E20),",0",",0") -> 617056,20|5,0,0
A21: =CONCATENATE(617200,",",ROW(BCKQHDR_06610!A21),"|",COLUMN(BCKQHDR_06610!A21),",0",",0") -> 617200,21|1,0,0 | B21: =CONCATENATE(617351,",",ROW(BCKQHDR_06610!B21),"|",COLUMN(BCKQHDR_06610!B21),",0",",0") -> 617351,21|2,0,0 | C21: =CONCATENATE(617138,",",ROW(BCKQHDR_06610!C21),"|",COLUMN(BCKQHDR_06610!C21),",0",",0") -> 617138,21|3,0,0 | D21: =CONCATENATE(617322,",",ROW(BCKQHDR_06610!D21),"|",COLUMN(BCKQHDR_06610!D21),",0",",0") -> 617322,21|4,0,0 | E21: =CONCATENATE(617057,",",ROW(BCKQHDR_06610!E21),"|",COLUMN(BCKQHDR_06610!E21),",0",",0") -> 617057,21|5,0,0
A22: =CONCATENATE(617118,",",ROW(BCKQHDR_06610!A22),"|",COLUMN(BCKQHDR_06610!A22),",0",",0") -> 617118,22|1,0,0 | C22: =CONCATENATE(617139,",",ROW(BCKQHDR_06610!C22),"|",COLUMN(BCKQHDR_06610!C22),",0",",0") -> 617139,22|3,0,0 | D22: =CONCATENATE(617323,",",ROW(BCKQHDR_06610!D22),"|",COLUMN(BCKQHDR_06610!D22),",0",",0") -> 617323,22|4,0,0 | E22: =CONCATENATE(617058,",",ROW(BCKQHDR_06610!E22),"|",COLUMN(BCKQHDR_06610!E22),",0",",0") -> 617058,22|5,0,0
A23: =CONCATENATE(617119,",",ROW(BCKQHDR_06610!A23),"|",COLUMN(BCKQHDR_06610!A23),",0",",0") -> 617119,23|1,0,0 | B23: =CONCATENATE(617215,",",ROW(BCKQHDR_06610!B23),"|",COLUMN(BCKQHDR_06610!B23),",0",",0") -> 617215,23|2,0,0 | C23: =CONCATENATE(617140,",",ROW(BCKQHDR_06610!C23),"|",COLUMN(BCKQHDR_06610!C23),",0",",0") -> 617140,23|3,0,0 | D23: =CONCATENATE(617324,",",ROW(BCKQHDR_06610!D23),"|",COLUMN(BCKQHDR_06610!D23),",0",",0") -> 617324,23|4,0,0 | E23: =CONCATENATE(617059,",",ROW(BCKQHDR_06610!E23),"|",COLUMN(BCKQHDR_06610!E23),",0",",0") -> 617059,23|5,0,0
A24: =CONCATENATE(617201,",",ROW(BCKQHDR_06610!A24),"|",COLUMN(BCKQHDR_06610!A24),",0",",0") -> 617201,24|1,0,0 | B24: =CONCATENATE(617216,",",ROW(BCKQHDR_06610!B24),"|",COLUMN(BCKQHDR_06610!B24),",0",",0") -> 617216,24|2,0,0 | C24: =CONCATENATE(617141,",",ROW(BCKQHDR_06610!C24),"|",COLUMN(BCKQHDR_06610!C24),",0",",0") -> 617141,24|3,0,0 | D24: =CONCATENATE(617325,",",ROW(BCKQHDR_06610!D24),"|",COLUMN(BCKQHDR_06610!D24),",0",",0") -> 617325,24|4,0,0 | E24: =CONCATENATE(617060,",",ROW(BCKQHDR_06610!E24),"|",COLUMN(BCKQHDR_06610!E24),",0",",0") -> 617060,24|5,0,0
A25: =CONCATENATE(617330,",",ROW(BCKQHDR_06610!A25),"|",COLUMN(BCKQHDR_06610!A25),",0",",0") -> 617330,25|1,0,0 | B25: =CONCATENATE(617255,",",ROW(BCKQHDR_06610!B25),"|",COLUMN(BCKQHDR_06610!B25),",0",",0") -> 617255,25|2,0,0 | C25: =CONCATENATE(617142,",",ROW(BCKQHDR_06610!C25),"|",COLUMN(BCKQHDR_06610!C25),",0",",0") -> 617142,25|3,0,0 | D25: =CONCATENATE(617326,",",ROW(BCKQHDR_06610!D25),"|",COLUMN(BCKQHDR_06610!D25),",0",",0") -> 617326,25|4,0,0 | E25: =CONCATENATE(617061,",",ROW(BCKQHDR_06610!E25),"|",COLUMN(BCKQHDR_06610!E25),",0",",0") -> 617061,25|5,0,0
A26: =CONCATENATE(617168,",",ROW(BCKQHDR_06610!A26),"|",COLUMN(BCKQHDR_06610!A26),",0",",0") -> 617168,26|1,0,0 | B26: =CONCATENATE(617256,",",ROW(BCKQHDR_06610!B26),"|",COLUMN(BCKQHDR_06610!B26),",0",",0") -> 617256,26|2,0,0 | C26: =CONCATENATE(617143,",",ROW(BCKQHDR_06610!C26),"|",COLUMN(BCKQHDR_06610!C26),",0",",0") -> 617143,26|3,0,0 | D26: =CONCATENATE(617327,",",ROW(BCKQHDR_06610!D26),"|",COLUMN(BCKQHDR_06610!D26),",0",",0") -> 617327,26|4,0,0 | E26: =CONCATENATE(617062,",",ROW(BCKQHDR_06610!E26),"|",COLUMN(BCKQHDR_06610!E26),",0",",0") -> 617062,26|5,0,0
A27: =CONCATENATE(617212,",",ROW(BCKQHDR_06610!A27),"|",COLUMN(BCKQHDR_06610!A27),",0",",0") -> 617212,27|1,0,0 | B27: =CONCATENATE(617257,",",ROW(BCKQHDR_06610!B27),"|",COLUMN(BCKQHDR_06610!B27),",0",",0") -> 617257,27|2,0,0 | C27: =CONCATENATE(617144,",",ROW(BCKQHDR_06610!C27),"|",COLUMN(BCKQHDR_06610!C27),",0",",0") -> 617144,27|3,0,0 | D27: =CONCATENATE(617328,",",ROW(BCKQHDR_06610!D27),"|",COLUMN(BCKQHDR_06610!D27),",0",",0") -> 617328,27|4,0,0 | E27: =CONCATENATE(617063,",",ROW(BCKQHDR_06610!E27),"|",COLUMN(BCKQHDR_06610!E27),",0",",0") -> 617063,27|5,0,0
A28: =CONCATENATE(617169,",",ROW(BCKQHDR_06610!A28),"|",COLUMN(BCKQHDR_06610!A28),",0",",0") -> 617169,28|1,0,0 | B28: =CONCATENATE(617352,",",ROW(BCKQHDR_06610!B28),"|",COLUMN(BCKQHDR_06610!B28),",0",",0") -> 617352,28|2,0,0 | C28: =CONCATENATE(617145,",",ROW(BCKQHDR_06610!C28),"|",COLUMN(BCKQHDR_06610!C28),",0",",0") -> 617145,28|3,0,0 | D28: =CONCATENATE(617089,",",ROW(BCKQHDR_06610!D28),"|",COLUMN(BCKQHDR_06610!D28),",0",",0") -> 617089,28|4,0,0 | E28: =CONCATENATE(617064,",",ROW(BCKQHDR_06610!E28),"|",COLUMN(BCKQHDR_06610!E28),",0",",0") -> 617064,28|5,0,0
A29: =CONCATENATE(617269,",",ROW(BCKQHDR_06610!A29),"|",COLUMN(BCKQHDR_06610!A29),",0",",0") -> 617269,29|1,0,0 | B29: =CONCATENATE(617229,",",ROW(BCKQHDR_06610!B29),"|",COLUMN(BCKQHDR_06610!B29),",0",",0") -> 617229,29|2,0,0 | C29: =CONCATENATE(617146,",",ROW(BCKQHDR_06610!C29),"|",COLUMN(BCKQHDR_06610!C29),",0",",0") -> 617146,29|3,0,0 | D29: =CONCATENATE(617090,",",ROW(BCKQHDR_06610!D29),"|",COLUMN(BCKQHDR_06610!D29),",0",",0") -> 617090,29|4,0,0 | E29: =CONCATENATE(617065,",",ROW(BCKQHDR_06610!E29),"|",COLUMN(BCKQHDR_06610!E29),",0",",0") -> 617065,29|5,0,0
A30: =CONCATENATE(617225,",",ROW(BCKQHDR_06610!A30),"|",COLUMN(BCKQHDR_06610!A30),",0",",0") -> 617225,30|1,0,0 | B30: =CONCATENATE(617230,",",ROW(BCKQHDR_06610!B30),"|",COLUMN(BCKQHDR_06610!B30),",0",",0") -> 617230,30|2,0,0 | C30: =CONCATENATE(617147,",",ROW(BCKQHDR_06610!C30),"|",COLUMN(BCKQHDR_06610!C30),",0",",0") -> 617147,30|3,0,0 | D30: =CONCATENATE(617091,",",ROW(BCKQHDR_06610!D30),"|",COLUMN(BCKQHDR_06610!D30),",0",",0") -> 617091,30|4,0,0 | E30: =CONCATENATE(617067,",",ROW(BCKQHDR_06610!E30),"|",COLUMN(BCKQHDR_06610!E30),",0",",0") -> 617067,30|5,0,0
A31: =CONCATENATE(617226,",",ROW(BCKQHDR_06610!A31),"|",COLUMN(BCKQHDR_06610!A31),",0",",0") -> 617226,31|1,0,0 | B31: =CONCATENATE(617339,",",ROW(BCKQHDR_06610!B31),"|",COLUMN(BCKQHDR_06610!B31),",0",",0") -> 617339,31|2,0,0 | C31: =CONCATENATE(617148,",",ROW(BCKQHDR_06610!C31),"|",COLUMN(BCKQHDR_06610!C31),",0",",0") -> 617148,31|3,0,0 | D31: =CONCATENATE(617092,",",ROW(BCKQHDR_06610!D31),"|",COLUMN(BCKQHDR_06610!D31),",0",",0") -> 617092,31|4,0,0 | E31: =CONCATENATE(617068,",",ROW(BCKQHDR_06610!E31),"|",COLUMN(BCKQHDR_06610!E31),",0",",0") -> 617068,31|5,0,0
A32: =CONCATENATE(617213,",",ROW(BCKQHDR_06610!A32),"|",COLUMN(BCKQHDR_06610!A32),",0",",0") -> 617213,32|1,0,0 | B32: =CONCATENATE(617217,",",ROW(BCKQHDR_06610!B32),"|",COLUMN(BCKQHDR_06610!B32),",0",",0") -> 617217,32|2,0,0 | C32: =CONCATENATE(617149,",",ROW(BCKQHDR_06610!C32),"|",COLUMN(BCKQHDR_06610!C32),",0",",0") -> 617149,32|3,0,0 | D32: =CONCATENATE(617093,",",ROW(BCKQHDR_06610!D32),"|",COLUMN(BCKQHDR_06610!D32),",0",",0") -> 617093,32|4,0,0 | E32: =CONCATENATE(617069,",",ROW(BCKQHDR_06610!E32),"|",COLUMN(BCKQHDR_06610!E32),",0",",0") -> 617069,32|5,0,0
A33: =CONCATENATE(617331,",",ROW(BCKQHDR_06610!A33),"|",COLUMN(BCKQHDR_06610!A33),",0",",0") -> 617331,33|1,0,0 | B33: =CONCATENATE(617258,",",ROW(BCKQHDR_06610!B33),"|",COLUMN(BCKQHDR_06610!B33),",0",",0") -> 617258,33|2,0,0 | C33: =CONCATENATE(617150,",",ROW(BCKQHDR_06610!C33),"|",COLUMN(BCKQHDR_06610!C33),",0",",0") -> 617150,33|3,0,0 | D33: =CONCATENATE(617094,",",ROW(BCKQHDR_06610!D33),"|",COLUMN(BCKQHDR_06610!D33),",0",",0") -> 617094,33|4,0,0 | E33: =CONCATENATE(617070,",",ROW(BCKQHDR_06610!E33),"|",COLUMN(BCKQHDR_06610!E33),",0",",0") -> 617070,33|5,0,0
A34: =CONCATENATE(617120,",",ROW(BCKQHDR_06610!A34),"|",COLUMN(BCKQHDR_06610!A34),",0",",0") -> 617120,34|1,0,0 | B34: =CONCATENATE(617259,",",ROW(BCKQHDR_06610!B34),"|",COLUMN(BCKQHDR_06610!B34),",0",",0") -> 617259,34|2,0,0 | C34: =CONCATENATE(617151,",",ROW(BCKQHDR_06610!C34),"|",COLUMN(BCKQHDR_06610!C34),",0",",0") -> 617151,34|3,0,0 | D34: =CONCATENATE(617095,",",ROW(BCKQHDR_06610!D34),"|",COLUMN(BCKQHDR_06610!D34),",0",",0") -> 617095,34|4,0,0 | E34: =CONCATENATE(617071,",",ROW(BCKQHDR_06610!E34),"|",COLUMN(BCKQHDR_06610!E34),",0",",0") -> 617071,34|5,0,0
A35: =CONCATENATE(617270,",",ROW(BCKQHDR_06610!A35),"|",COLUMN(BCKQHDR_06610!A35),",0",",0") -> 617270,35|1,0,0 | B35: =CONCATENATE(617356,",",ROW(BCKQHDR_06610!B35),"|",COLUMN(BCKQHDR_06610!B35),",0",",0") -> 617356,35|2,0,0 | C35: =CONCATENATE(617152,",",ROW(BCKQHDR_06610!C35),"|",COLUMN(BCKQHDR_06610!C35),",0",",0") -> 617152,35|3,0,0 | D35: =CONCATENATE(617096,",",ROW(BCKQHDR_06610!D35),"|",COLUMN(BCKQHDR_06610!D35),",0",",0") -> 617096,35|4,0,0 | E35: =CONCATENATE(617072,",",ROW(BCKQHDR_06610!E35),"|",COLUMN(BCKQHDR_06610!E35),",0",",0") -> 617072,35|5,0,0
A36: =CONCATENATE(617271,",",ROW(BCKQHDR_06610!A36),"|",COLUMN(BCKQHDR_06610!A36),",0",",0") -> 617271,36|1,0,0 | B36: =CONCATENATE(617260,",",ROW(BCKQHDR_06610!B36),"|",COLUMN(BCKQHDR_06610!B36),",0",",0") -> 617260,36|2,0,0 | C36: =CONCATENATE(617153,",",ROW(BCKQHDR_06610!C36),"|",COLUMN(BCKQHDR_06610!C36),",0",",0") -> 617153,36|3,0,0 | D36: =CONCATENATE(617097,",",ROW(BCKQHDR_06610!D36),"|",COLUMN(BCKQHDR_06610!D36),",0",",0") -> 617097,36|4,0,0 | E36: =CONCATENATE(617073,",",ROW(BCKQHDR_06610!E36),"|",COLUMN(BCKQHDR_06610!E36),",0",",0") -> 617073,36|5,0,0
A37: =CONCATENATE(617170,",",ROW(BCKQHDR_06610!A37),"|",COLUMN(BCKQHDR_06610!A37),",0",",0") -> 617170,37|1,0,0 | B37: =CONCATENATE(617261,",",ROW(BCKQHDR_06610!B37),"|",COLUMN(BCKQHDR_06610!B37),",0",",0") -> 617261,37|2,0,0 | C37: =CONCATENATE(617391,",",ROW(BCKQHDR_06610!C37),"|",COLUMN(BCKQHDR_06610!C37),",0",",0") -> 617391,37|3,0,0 | D37: =CONCATENATE(617098,",",ROW(BCKQHDR_06610!D37),"|",COLUMN(BCKQHDR_06610!D37),",0",",0") -> 617098,37|4,0,0 | E37: =CONCATENATE(617074,",",ROW(BCKQHDR_06610!E37),"|",COLUMN(BCKQHDR_06610!E37),",0",",0") -> 617074,37|5,0,0
A38: =CONCATENATE(617132,",",ROW(BCKQHDR_06610!A38),"|",COLUMN(BCKQHDR_06610!A38),",0",",0") -> 617132,38|1,0,0 | B38: =CONCATENATE(617357,",",ROW(BCKQHDR_06610!B38),"|",COLUMN(BCKQHDR_06610!B38),",0",",0") -> 617357,38|2,0,0 | C38: =CONCATENATE(617202,",",ROW(BCKQHDR_06610!C38),"|",COLUMN(BCKQHDR_06610!C38),",0",",0") -> 617202,38|3,0,0 | D38: =CONCATENATE(617099,",",ROW(BCKQHDR_06610!D38),"|",COLUMN(BCKQHDR_06610!D38),",0",",0") -> 617099,38|4,0,0 | E38: =CONCATENATE(617392,",",ROW(BCKQHDR_06610!E38),"|",COLUMN(BCKQHDR_06610!E38),",0",",0") -> 617392,38|5,0,0
A39: =CONCATENATE(617346,",",ROW(BCKQHDR_06610!A39),"|",COLUMN(BCKQHDR_06610!A39),",0",",0") -> 617346,39|1,0,0 | C39: =CONCATENATE(617203,",",ROW(BCKQHDR_06610!C39),"|",COLUMN(BCKQHDR_06610!C39),",0",",0") -> 617203,39|3,0,0 | D39: =CONCATENATE(617100,",",ROW(BCKQHDR_06610!D39),"|",COLUMN(BCKQHDR_06610!D39),",0",",0") -> 617100,39|4,0,0 | E39: =CONCATENATE(617393,",",ROW(BCKQHDR_06610!E39),"|",COLUMN(BCKQHDR_06610!E39),",0",",0") -> 617393,39|5,0,0
A40: =CONCATENATE(617133,",",ROW(BCKQHDR_06610!A40),"|",COLUMN(BCKQHDR_06610!A40),",0",",0") -> 617133,40|1,0,0 | B40: =CONCATENATE(617358,",",ROW(BCKQHDR_06610!B40),"|",COLUMN(BCKQHDR_06610!B40),",0",",0") -> 617358,40|2,0,0 | C40: =CONCATENATE(617204,",",ROW(BCKQHDR_06610!C40),"|",COLUMN(BCKQHDR_06610!C40),",0",",0") -> 617204,40|3,0,0 | D40: =CONCATENATE(617101,",",ROW(BCKQHDR_06610!D40),"|",COLUMN(BCKQHDR_06610!D40),",0",",0") -> 617101,40|4,0,0 | E40: =CONCATENATE(617394,",",ROW(BCKQHDR_06610!E40),"|",COLUMN(BCKQHDR_06610!E40),",0",",0") -> 617394,40|5,0,0
A41: =CONCATENATE(617134,",",ROW(BCKQHDR_06610!A41),"|",COLUMN(BCKQHDR_06610!A41),",0",",0") -> 617134,41|1,0,0 | B41: =CONCATENATE(617340,",",ROW(BCKQHDR_06610!B41),"|",COLUMN(BCKQHDR_06610!B41),",0",",0") -> 617340,41|2,0,0 | C41: =CONCATENATE(617205,",",ROW(BCKQHDR_06610!C41),"|",COLUMN(BCKQHDR_06610!C41),",0",",0") -> 617205,41|3,0,0 | D41: =CONCATENATE(617102,",",ROW(BCKQHDR_06610!D41),"|",COLUMN(BCKQHDR_06610!D41),",0",",0") -> 617102,41|4,0,0 | E41: =CONCATENATE(617395,",",ROW(BCKQHDR_06610!E41),"|",COLUMN(BCKQHDR_06610!E41),",0",",0") -> 617395,41|5,0,0
A42: =CONCATENATE(617347,",",ROW(BCKQHDR_06610!A42),"|",COLUMN(BCKQHDR_06610!A42),",0",",0") -> 617347,42|1,0,0 | B42: =CONCATENATE(617231,",",ROW(BCKQHDR_06610!B42),"|",COLUMN(BCKQHDR_06610!B42),",0",",0") -> 617231,42|2,0,0 | C42: =CONCATENATE(617206,",",ROW(BCKQHDR_06610!C42),"|",COLUMN(BCKQHDR_06610!C42),",0",",0") -> 617206,42|3,0,0 | D42: =CONCATENATE(617103,",",ROW(BCKQHDR_06610!D42),"|",COLUMN(BCKQHDR_06610!D42),",0",",0") -> 617103,42|4,0,0 | E42: =CONCATENATE(617396,",",ROW(BCKQHDR_06610!E42),"|",COLUMN(BCKQHDR_06610!E42),",0",",0") -> 617396,42|5,0,0
A43: =CONCATENATE(617234,",",ROW(BCKQHDR_06610!A43),"|",COLUMN(BCKQHDR_06610!A43),",0",",0") -> 617234,43|1,0,0 | B43: =CONCATENATE(617218,",",ROW(BCKQHDR_06610!B43),"|",COLUMN(BCKQHDR_06610!B43),",0",",0") -> 617218,43|2,0,0 | C43: =CONCATENATE(617207,",",ROW(BCKQHDR_06610!C43),"|",COLUMN(BCKQHDR_06610!C43),",0",",0") -> 617207,43|3,0,0 | D43: =CONCATENATE(617104,",",ROW(BCKQHDR_06610!D43),"|",COLUMN(BCKQHDR_06610!D43),",0",",0") -> 617104,43|4,0,0 | E43: =CONCATENATE(617397,",",ROW(BCKQHDR_06610!E43),"|",COLUMN(BCKQHDR_06610!E43),",0",",0") -> 617397,43|5,0,0
A44: =CONCATENATE(617135,",",ROW(BCKQHDR_06610!A44),"|",COLUMN(BCKQHDR_06610!A44),",0",",0") -> 617135,44|1,0,0 | B44: =CONCATENATE(617359,",",ROW(BCKQHDR_06610!B44),"|",COLUMN(BCKQHDR_06610!B44),",0",",0") -> 617359,44|2,0,0 | C44: =CONCATENATE(617208,",",ROW(BCKQHDR_06610!C44),"|",COLUMN(BCKQHDR_06610!C44),",0",",0") -> 617208,44|3,0,0 | D44: =CONCATENATE(617105,",",ROW(BCKQHDR_06610!D44),"|",COLUMN(BCKQHDR_06610!D44),",0",",0") -> 617105,44|4,0,0 | E44: =CONCATENATE(617238,",",ROW(BCKQHDR_06610!E44),"|",COLUMN(BCKQHDR_06610!E44),",0",",0") -> 617238,44|5,0,0
A45: =CONCATENATE(617235,",",ROW(BCKQHDR_06610!A45),"|",COLUMN(BCKQHDR_06610!A45),",0",",0") -> 617235,45|1,0,0 | C45: =CONCATENATE(617209,",",ROW(BCKQHDR_06610!C45),"|",COLUMN(BCKQHDR_06610!C45),",0",",0") -> 617209,45|3,0,0 | D45: =CONCATENATE(617106,",",ROW(BCKQHDR_06610!D45),"|",COLUMN(BCKQHDR_06610!D45),",0",",0") -> 617106,45|4,0,0 | E45: =CONCATENATE(617273,",",ROW(BCKQHDR_06610!E45),"|",COLUMN(BCKQHDR_06610!E45),",0",",0") -> 617273,45|5,0,0
A46: =CONCATENATE(617398,",",ROW(BCKQHDR_06610!A46),"|",COLUMN(BCKQHDR_06610!A46),",0",",0") -> 617398,46|1,0,0 | B46: =CONCATENATE(617219,",",ROW(BCKQHDR_06610!B46),"|",COLUMN(BCKQHDR_06610!B46),",0",",0") -> 617219,46|2,0,0 | C46: =CONCATENATE(617210,",",ROW(BCKQHDR_06610!C46),"|",COLUMN(BCKQHDR_06610!C46),",0",",0") -> 617210,46|3,0,0 | D46: =CONCATENATE(617107,",",ROW(BCKQHDR_06610!D46),"|",COLUMN(BCKQHDR_06610!D46),",0",",0") -> 617107,46|4,0,0 | E46: =CONCATENATE(617176,",",ROW(BCKQHDR_06610!E46),"|",COLUMN(BCKQHDR_06610!E46),",0",",0") -> 617176,46|5,0,0
A47: =CONCATENATE(617108,",",ROW(BCKQHDR_06610!A47),"|",COLUMN(BCKQHDR_06610!A47),",0",",0") -> 617108,47|1,0,0 | B47: =CONCATENATE(617360,",",ROW(BCKQHDR_06610!B47),"|",COLUMN(BCKQHDR_06610!B47),",0",",0") -> 617360,47|2,0,0 | C47: =CONCATENATE(617211,",",ROW(BCKQHDR_06610!C47),"|",COLUMN(BCKQHDR_06610!C47),",0",",0") -> 617211,47|3,0,0 | D47: =CONCATENATE(617076,",",ROW(BCKQHDR_06610!D47),"|",COLUMN(BCKQHDR_06610!D47),",0",",0") -> 617076,47|4,0,0 | E47: =CONCATENATE(617177,",",ROW(BCKQHDR_06610!E47),"|",COLUMN(BCKQHDR_06610!E47),",0",",0") -> 617177,47|5,0,0
A48: =CONCATENATE(617332,",",ROW(BCKQHDR_06610!A48),"|",COLUMN(BCKQHDR_06610!A48),",0",",0") -> 617332,48|1,0,0 | B48: =CONCATENATE(617361,",",ROW(BCKQHDR_06610!B48),"|",COLUMN(BCKQHDR_06610!B48),",0",",0") -> 617361,48|2,0,0 | C48: =CONCATENATE(617078,",",ROW(BCKQHDR_06610!C48),"|",COLUMN(BCKQHDR_06610!C48),",0",",0") -> 617078,48|3,0,0 | D48: =CONCATENATE(617179,",",ROW(BCKQHDR_06610!D48),"|",COLUMN(BCKQHDR_06610!D48),",0",",0") -> 617179,48|4,0,0 | E48: =CONCATENATE(617192,",",ROW(BCKQHDR_06610!E48),"|",COLUMN(BCKQHDR_06610!E48),",0",",0") -> 617192,48|5,0,0
A49: =CONCATENATE(617236,",",ROW(BCKQHDR_06610!A49),"|",COLUMN(BCKQHDR_06610!A49),",0",",0") -> 617236,49|1,0,0 | B49: =CONCATENATE(617343,",",ROW(BCKQHDR_06610!B49),"|",COLUMN(BCKQHDR_06610!B49),",0",",0") -> 617343,49|2,0,0 | C49: =CONCATENATE(617079,",",ROW(BCKQHDR_06610!C49),"|",COLUMN(BCKQHDR_06610!C49),",0",",0") -> 617079,49|3,0,0 | D49: =CONCATENATE(617180,",",ROW(BCKQHDR_06610!D49),"|",COLUMN(BCKQHDR_06610!D49),",0",",0") -> 617180,49|4,0,0 | E49: =CONCATENATE(617193,",",ROW(BCKQHDR_06610!E49),"|",COLUMN(BCKQHDR_06610!E49),",0",",0") -> 617193,49|5,0,0
A50: =CONCATENATE(617109,",",ROW(BCKQHDR_06610!A50),"|",COLUMN(BCKQHDR_06610!A50),",0",",0") -> 617109,50|1,0,0 | B50: =CONCATENATE(617341,",",ROW(BCKQHDR_06610!B50),"|",COLUMN(BCKQHDR_06610!B50),",0",",0") -> 617341,50|2,0,0 | C50: =CONCATENATE(617274,",",ROW(BCKQHDR_06610!C50),"|",COLUMN(BCKQHDR_06610!C50),",0",",0") -> 617274,50|3,0,0 | D50: =CONCATENATE(617181,",",ROW(BCKQHDR_06610!D50),"|",COLUMN(BCKQHDR_06610!D50),",0",",0") -> 617181,50|4,0,0 | E50: =CONCATENATE(617194,",",ROW(BCKQHDR_06610!E50),"|",COLUMN(BCKQHDR_06610!E50),",0",",0") -> 617194,50|5,0,0
A51: =CONCATENATE(617333,",",ROW(BCKQHDR_06610!A51),"|",COLUMN(BCKQHDR_06610!A51),",0",",0") -> 617333,51|1,0,0 | B51: =CONCATENATE(617342,",",ROW(BCKQHDR_06610!B51),"|",COLUMN(BCKQHDR_06610!B51),",0",",0") -> 617342,51|2,0,0 | C51: =CONCATENATE(617363,",",ROW(BCKQHDR_06610!C51),"|",COLUMN(BCKQHDR_06610!C51),",0",",0") -> 617363,51|3,0,0 | D51: =CONCATENATE(617182,",",ROW(BCKQHDR_06610!D51),"|",COLUMN(BCKQHDR_06610!D51),",0",",0") -> 617182,51|4,0,0 | E51: =CONCATENATE(617195,",",ROW(BCKQHDR_06610!E51),"|",COLUMN(BCKQHDR_06610!E51),",0",",0") -> 617195,51|5,0,0
A52: =CONCATENATE(617110,",",ROW(BCKQHDR_06610!A52),"|",COLUMN(BCKQHDR_06610!A52),",0",",0") -> 617110,52|1,0,0 | B52: =CONCATENATE(617262,",",ROW(BCKQHDR_06610!B52),"|",COLUMN(BCKQHDR_06610!B52),",0",",0") -> 617262,52|2,0,0 | C52: =CONCATENATE(617364,",",ROW(BCKQHDR_06610!C52),"|",COLUMN(BCKQHDR_06610!C52),",0",",0") -> 617364,52|3,0,0 | D52: =CONCATENATE(617183,",",ROW(BCKQHDR_06610!D52),"|",COLUMN(BCKQHDR_06610!D52),",0",",0") -> 617183,52|4,0,0 | E52: =CONCATENATE(617223,",",ROW(BCKQHDR_06610!E52),"|",COLUMN(BCKQHDR_06610!E52),",0",",0") -> 617223,52|5,0,0
A53: =CONCATENATE(617158,",",ROW(BCKQHDR_06610!A53),"|",COLUMN(BCKQHDR_06610!A53),",0",",0") -> 617158,53|1,0,0 | B53: =CONCATENATE(617220,",",ROW(BCKQHDR_06610!B53),"|",COLUMN(BCKQHDR_06610!B53),",0",",0") -> 617220,53|2,0,0 | C53: =CONCATENATE(617365,",",ROW(BCKQHDR_06610!C53),"|",COLUMN(BCKQHDR_06610!C53),",0",",0") -> 617365,53|3,0,0 | D53: =CONCATENATE(617184,",",ROW(BCKQHDR_06610!D53),"|",COLUMN(BCKQHDR_06610!D53),",0",",0") -> 617184,53|4,0,0 | E53: =CONCATENATE(617196,",",ROW(BCKQHDR_06610!E53),"|",COLUMN(BCKQHDR_06610!E53),",0",",0") -> 617196,53|5,0,0
A54: =CONCATENATE(617187,",",ROW(BCKQHDR_06610!A54),"|",COLUMN(BCKQHDR_06610!A54),",0",",0") -> 617187,54|1,0,0 | B54: =CONCATENATE(617154,",",ROW(BCKQHDR_06610!B54),"|",COLUMN(BCKQHDR_06610!B54),",0",",0") -> 617154,54|2,0,0 | C54: =CONCATENATE(617366,",",ROW(BCKQHDR_06610!C54),"|",COLUMN(BCKQHDR_06610!C54),",0",",0") -> 617366,54|3,0,0 | D54: =CONCATENATE(617185,",",ROW(BCKQHDR_06610!D54),"|",COLUMN(BCKQHDR_06610!D54),",0",",0") -> 617185,54|4,0,0 | E54: =CONCATENATE(617197,",",ROW(BCKQHDR_06610!E54),"|",COLUMN(BCKQHDR_06610!E54),",0",",0") -> 617197,54|5,0,0
A55: =CONCATENATE(617159,",",ROW(BCKQHDR_06610!A55),"|",COLUMN(BCKQHDR_06610!A55),",0",",0") -> 617159,55|1,0,0 | C55: =CONCATENATE(617367,",",ROW(BCKQHDR_06610!C55),"|",COLUMN(BCKQHDR_06610!C55),",0",",0") -> 617367,55|3,0,0 | D55: =CONCATENATE(617186,",",ROW(BCKQHDR_06610!D55),"|",COLUMN(BCKQHDR_06610!D55),",0",",0") -> 617186,55|4,0,0 | E55: =CONCATENATE(617198,",",ROW(BCKQHDR_06610!E55),"|",COLUMN(BCKQHDR_06610!E55),",0",",0") -> 617198,55|5,0,0
A56: =CONCATENATE(617136,",",ROW(BCKQHDR_06610!A56),"|",COLUMN(BCKQHDR_06610!A56),",0",",0") -> 617136,56|1,0,0 | B56: =CONCATENATE(617155,",",ROW(BCKQHDR_06610!B56),"|",COLUMN(BCKQHDR_06610!B56),",0",",0") -> 617155,56|2,0,0 | C56: =CONCATENATE(617368,",",ROW(BCKQHDR_06610!C56),"|",COLUMN(BCKQHDR_06610!C56),",0",",0") -> 617368,56|3,0,0 | D56: =CONCATENATE(617188,",",ROW(BCKQHDR_06610!D56),"|",COLUMN(BCKQHDR_06610!D56),",0",",0") -> 617188,56|4,0,0 | E56: =CONCATENATE(617199,",",ROW(BCKQHDR_06610!E56),"|",COLUMN(BCKQHDR_06610!E56),",0",",0") -> 617199,56|5,0,0
A57: =CONCATENATE(617160,",",ROW(BCKQHDR_06610!A57),"|",COLUMN(BCKQHDR_06610!A57),",0",",0") -> 617160,57|1,0,0 | B57: =CONCATENATE(617362,",",ROW(BCKQHDR_06610!B57),"|",COLUMN(BCKQHDR_06610!B57),",0",",0") -> 617362,57|2,0,0 | C57: =CONCATENATE(617369,",",ROW(BCKQHDR_06610!C57),"|",COLUMN(BCKQHDR_06610!C57),",0",",0") -> 617369,57|3,0,0 | D57: =CONCATENATE(617189,",",ROW(BCKQHDR_06610!D57),"|",COLUMN(BCKQHDR_06610!D57),",0",",0") -> 617189,57|4,0,0 | E57: =CONCATENATE(617275,",",ROW(BCKQHDR_06610!E57),"|",COLUMN(BCKQHDR_06610!E57),",0",",0") -> 617275,57|5,0,0
A58: =CONCATENATE(617088,",",ROW(BCKQHDR_06610!A58),"|",COLUMN(BCKQHDR_06610!A58),",0",",0") -> 617088,58|1,0,0 | B58: =CONCATENATE(617240,",",ROW(BCKQHDR_06610!B58),"|",COLUMN(BCKQHDR_06610!B58),",0",",0") -> 617240,58|2,0,0 | C58: =CONCATENATE(617370,",",ROW(BCKQHDR_06610!C58),"|",COLUMN(BCKQHDR_06610!C58),",0",",0") -> 617370,58|3,0,0 | D58: =CONCATENATE(617190,",",ROW(BCKQHDR_06610!D58),"|",COLUMN(BCKQHDR_06610!D58),",0",",0") -> 617190,58|4,0,0 | E58: =CONCATENATE(617276,",",ROW(BCKQHDR_06610!E58),"|",COLUMN(BCKQHDR_06610!E58),",0",",0") -> 617276,58|5,0,0
A59: =CONCATENATE(617329,",",ROW(BCKQHDR_06610!A59),"|",COLUMN(BCKQHDR_06610!A59),",0",",0") -> 617329,59|1,0,0 | B59: =CONCATENATE(617241,",",ROW(BCKQHDR_06610!B59),"|",COLUMN(BCKQHDR_06610!B59),",0",",0") -> 617241,59|2,0,0 | C59: =CONCATENATE(617371,",",ROW(BCKQHDR_06610!C59),"|",COLUMN(BCKQHDR_06610!C59),",0",",0") -> 617371,59|3,0,0 | D59: =CONCATENATE(617297,",",ROW(BCKQHDR_06610!D59),"|",COLUMN(BCKQHDR_06610!D59),",0",",0") -> 617297,59|4,0,0 | E59: =CONCATENATE(617277,",",ROW(BCKQHDR_06610!E59),"|",COLUMN(BCKQHDR_06610!E59),",0",",0") -> 617277,59|5,0,0
A60: =CONCATENATE(617374,",",ROW(BCKQHDR_06610!A60),"|",COLUMN(BCKQHDR_06610!A60),",0",",0") -> 617374,60|1,0,0 | B60: =CONCATENATE(617263,",",ROW(BCKQHDR_06610!B60),"|",COLUMN(BCKQHDR_06610!B60),",0",",0") -> 617263,60|2,0,0 | C60: =CONCATENATE(617372,",",ROW(BCKQHDR_06610!C60),"|",COLUMN(BCKQHDR_06610!C60),",0",",0") -> 617372,60|3,0,0 | D60: =CONCATENATE(617298,",",ROW(BCKQHDR_06610!D60),"|",COLUMN(BCKQHDR_06610!D60),",0",",0") -> 617298,60|4,0,0 | E60: =CONCATENATE(617278,",",ROW(BCKQHDR_06610!E60),"|",COLUMN(BCKQHDR_06610!E60),",0",",0") -> 617278,60|5,0,0
A61: =CONCATENATE(617334,",",ROW(BCKQHDR_06610!A61),"|",COLUMN(BCKQHDR_06610!A61),",0",",0") -> 617334,61|1,0,0 | B61: =CONCATENATE(617344,",",ROW(BCKQHDR_06610!B61),"|",COLUMN(BCKQHDR_06610!B61),",0",",0") -> 617344,61|2,0,0 | C61: =CONCATENATE(617373,",",ROW(BCKQHDR_06610!C61),"|",COLUMN(BCKQHDR_06610!C61),",0",",0") -> 617373,61|3,0,0 | D61: =CONCATENATE(617301,",",ROW(BCKQHDR_06610!D61),"|",COLUMN(BCKQHDR_06610!D61),",0",",0") -> 617301,61|4,0,0 | E61: =CONCATENATE(617279,",",ROW(BCKQHDR_06610!E61),"|",COLUMN(BCKQHDR_06610!E61),",0",",0") -> 617279,61|5,0,0
A62: =CONCATENATE(617353,",",ROW(BCKQHDR_06610!A62),"|",COLUMN(BCKQHDR_06610!A62),",0",",0") -> 617353,62|1,0,0 | B62: =CONCATENATE(617221,",",ROW(BCKQHDR_06610!B62),"|",COLUMN(BCKQHDR_06610!B62),",0",",0") -> 617221,62|2,0,0 | C62: =CONCATENATE(617375,",",ROW(BCKQHDR_06610!C62),"|",COLUMN(BCKQHDR_06610!C62),",0",",0") -> 617375,62|3,0,0 | D62: =CONCATENATE(617302,",",ROW(BCKQHDR_06610!D62),"|",COLUMN(BCKQHDR_06610!D62),",0",",0") -> 617302,62|4,0,0 | E62: =CONCATENATE(617280,",",ROW(BCKQHDR_06610!E62),"|",COLUMN(BCKQHDR_06610!E62),",0",",0") -> 617280,62|5,0,0
A63: =CONCATENATE(617111,",",ROW(BCKQHDR_06610!A63),"|",COLUMN(BCKQHDR_06610!A63),",0",",0") -> 617111,63|1,0,0 | B63: =CONCATENATE(617264,",",ROW(BCKQHDR_06610!B63),"|",COLUMN(BCKQHDR_06610!B63),",0",",0") -> 617264,63|2,0,0 | C63: =CONCATENATE(617376,",",ROW(BCKQHDR_06610!C63),"|",COLUMN(BCKQHDR_06610!C63),",0",",0") -> 617376,63|3,0,0 | D63: =CONCATENATE(617299,",",ROW(BCKQHDR_06610!D63),"|",COLUMN(BCKQHDR_06610!D63),",0",",0") -> 617299,63|4,0,0 | E63: =CONCATENATE(617121,",",ROW(BCKQHDR_06610!E63),"|",COLUMN(BCKQHDR_06610!E63),",0",",0") -> 617121,63|5,0,0
A64: =CONCATENATE(617161,",",ROW(BCKQHDR_06610!A64),"|",COLUMN(BCKQHDR_06610!A64),",0",",0") -> 617161,64|1,0,0 | B64: =CONCATENATE(617156,",",ROW(BCKQHDR_06610!B64),"|",COLUMN(BCKQHDR_06610!B64),",0",",0") -> 617156,64|2,0,0 | C64: =CONCATENATE(617377,",",ROW(BCKQHDR_06610!C64),"|",COLUMN(BCKQHDR_06610!C64),",0",",0") -> 617377,64|3,0,0 | D64: =CONCATENATE(617300,",",ROW(BCKQHDR_06610!D64),"|",COLUMN(BCKQHDR_06610!D64),",0",",0") -> 617300,64|4,0,0 | E64: =CONCATENATE(617122,",",ROW(BCKQHDR_06610!E64),"|",COLUMN(BCKQHDR_06610!E64),",0",",0") -> 617122,64|5,0,0
A65: =CONCATENATE(617163,",",ROW(BCKQHDR_06610!A65),"|",COLUMN(BCKQHDR_06610!A65),",0",",0") -> 617163,65|1,0,0 | B65: =CONCATENATE(617222,",",ROW(BCKQHDR_06610!B65),"|",COLUMN(BCKQHDR_06610!B65),",0",",0") -> 617222,65|2,0,0 | C65: =CONCATENATE(617378,",",ROW(BCKQHDR_06610!C65),"|",COLUMN(BCKQHDR_06610!C65),",0",",0") -> 617378,65|3,0,0 | D65: =CONCATENATE(617305,",",ROW(BCKQHDR_06610!D65),"|",COLUMN(BCKQHDR_06610!D65),",0",",0") -> 617305,65|4,0,0 | E65: =CONCATENATE(617123,",",ROW(BCKQHDR_06610!E65),"|",COLUMN(BCKQHDR_06610!E65),",0",",0") -> 617123,65|5,0,0
A66: =CONCATENATE(617112,",",ROW(BCKQHDR_06610!A66),"|",COLUMN(BCKQHDR_06610!A66),",0",",0") -> 617112,66|1,0,0 | B66: =CONCATENATE(617242,",",ROW(BCKQHDR_06610!B66),"|",COLUMN(BCKQHDR_06610!B66),",0",",0") -> 617242,66|2,0,0 | C66: =CONCATENATE(617379,",",ROW(BCKQHDR_06610!C66),"|",COLUMN(BCKQHDR_06610!C66),",0",",0") -> 617379,66|3,0,0 | D66: =CONCATENATE(617303,",",ROW(BCKQHDR_06610!D66),"|",COLUMN(BCKQHDR_06610!D66),",0",",0") -> 617303,66|4,0,0 | E66: =CONCATENATE(617239,",",ROW(BCKQHDR_06610!E66),"|",COLUMN(BCKQHDR_06610!E66),",0",",0") -> 617239,66|5,0,0
A67: =CONCATENATE(617164,",",ROW(BCKQHDR_06610!A67),"|",COLUMN(BCKQHDR_06610!A67),",0",",0") -> 617164,67|1,0,0 | B67: =CONCATENATE(617265,",",ROW(BCKQHDR_06610!B67),"|",COLUMN(BCKQHDR_06610!B67),",0",",0") -> 617265,67|2,0,0 | C67: =CONCATENATE(617380,",",ROW(BCKQHDR_06610!C67),"|",COLUMN(BCKQHDR_06610!C67),",0",",0") -> 617380,67|3,0,0 | D67: =CONCATENATE(617304,",",ROW(BCKQHDR_06610!D67),"|",COLUMN(BCKQHDR_06610!D67),",0",",0") -> 617304,67|4,0,0 | E67: =CONCATENATE(617157,",",ROW(BCKQHDR_06610!E67),"|",COLUMN(BCKQHDR_06610!E67),",0",",0") -> 617157,67|5,0,0
A68: =CONCATENATE(617227,",",ROW(BCKQHDR_06610!A68),"|",COLUMN(BCKQHDR_06610!A68),",0",",0") -> 617227,68|1,0,0 | B68: =CONCATENATE(617345,",",ROW(BCKQHDR_06610!B68),"|",COLUMN(BCKQHDR_06610!B68),",0",",0") -> 617345,68|2,0,0 | C68: =CONCATENATE(617381,",",ROW(BCKQHDR_06610!C68),"|",COLUMN(BCKQHDR_06610!C68),",0",",0") -> 617381,68|3,0,0 | D68: =CONCATENATE(617306,",",ROW(BCKQHDR_06610!D68),"|",COLUMN(BCKQHDR_06610!D68),",0",",0") -> 617306,68|4,0,0 | E68: =CONCATENATE(617066,",",ROW(BCKQHDR_06610!E68),"|",COLUMN(BCKQHDR_06610!E68),",0",",0") -> 617066,68|5,0,0
A69: =CONCATENATE(617335,",",ROW(BCKQHDR_06610!A69),"|",COLUMN(BCKQHDR_06610!A69),",0",",0") -> 617335,69|1,0,0 | B69: =CONCATENATE(617224,",",ROW(BCKQHDR_06610!B69),"|",COLUMN(BCKQHDR_06610!B69),",0",",0") -> 617224,69|2,0,0 | C69: =CONCATENATE(617382,",",ROW(BCKQHDR_06610!C69),"|",COLUMN(BCKQHDR_06610!C69),",0",",0") -> 617382,69|3,0,0 | D69: =CONCATENATE(617307,",",ROW(BCKQHDR_06610!D69),"|",COLUMN(BCKQHDR_06610!D69),",0",",0") -> 617307,69|4,0,0 | E69: =CONCATENATE(617281,",",ROW(BCKQHDR_06610!E69),"|",COLUMN(BCKQHDR_06610!E69),",0",",0") -> 617281,69|5,0,0
A70: =CONCATENATE(617113,",",ROW(BCKQHDR_06610!A70),"|",COLUMN(BCKQHDR_06610!A70),",0",",0") -> 617113,70|1,0,0 | B70: =CONCATENATE(617386,",",ROW(BCKQHDR_06610!B70),"|",COLUMN(BCKQHDR_06610!B70),",0",",0") -> 617386,70|2,0,0 | C70: =CONCATENATE(617383,",",ROW(BCKQHDR_06610!C70),"|",COLUMN(BCKQHDR_06610!C70),",0",",0") -> 617383,70|3,0,0 | D70: =CONCATENATE(617308,",",ROW(BCKQHDR_06610!D70),"|",COLUMN(BCKQHDR_06610!D70),",0",",0") -> 617308,70|4,0,0 | E70: =CONCATENATE(617282,",",ROW(BCKQHDR_06610!E70),"|",COLUMN(BCKQHDR_06610!E70),",0",",0") -> 617282,70|5,0,0
A71: =CONCATENATE(617171,",",ROW(BCKQHDR_06610!A71),"|",COLUMN(BCKQHDR_06610!A71),",0",",0") -> 617171,71|1,0,0 | B71: =CONCATENATE(617243,",",ROW(BCKQHDR_06610!B71),"|",COLUMN(BCKQHDR_06610!B71),",0",",0") -> 617243,71|2,0,0 | C71: =CONCATENATE(617384,",",ROW(BCKQHDR_06610!C71),"|",COLUMN(BCKQHDR_06610!C71),",0",",0") -> 617384,71|3,0,0 | D71: =CONCATENATE(617309,",",ROW(BCKQHDR_06610!D71),"|",COLUMN(BCKQHDR_06610!D71),",0",",0") -> 617309,71|4,0,0 | E71: =CONCATENATE(617283,",",ROW(BCKQHDR_06610!E71),"|",COLUMN(BCKQHDR_06610!E71),",0",",0") -> 617283,71|5,0,0
A72: =CONCATENATE(617336,",",ROW(BCKQHDR_06610!A72),"|",COLUMN(BCKQHDR_06610!A72),",0",",0") -> 617336,72|1,0,0 | B72: =CONCATENATE(617266,",",ROW(BCKQHDR_06610!B72),"|",COLUMN(BCKQHDR_06610!B72),",0",",0") -> 617266,72|2,0,0 | C72: =CONCATENATE(617385,",",ROW(BCKQHDR_06610!C72),"|",COLUMN(BCKQHDR_06610!C72),",0",",0") -> 617385,72|3,0,0 | D72: =CONCATENATE(617310,",",ROW(BCKQHDR_06610!D72),"|",COLUMN(BCKQHDR_06610!D72),",0",",0") -> 617310,72|4,0,0 | E72: =CONCATENATE(617284,",",ROW(BCKQHDR_06610!E72),"|",COLUMN(BCKQHDR_06610!E72),",0",",0") -> 617284,72|5,0,0
A73: =CONCATENATE(617348,",",ROW(BCKQHDR_06610!A73),"|",COLUMN(BCKQHDR_06610!A73),",0",",0") -> 617348,73|1,0,0 | B73: =CONCATENATE(617244,",",ROW(BCKQHDR_06610!B73),"|",COLUMN(BCKQHDR_06610!B73),",0",",0") -> 617244,73|2,0,0 | C73: =CONCATENATE(617129,",",ROW(BCKQHDR_06610!C73),"|",COLUMN(BCKQHDR_06610!C73),",0",",0") -> 617129,73|3,0,0 | D73: =CONCATENATE(617311,",",ROW(BCKQHDR_06610!D73),"|",COLUMN(BCKQHDR_06610!D73),",0",",0") -> 617311,73|4,0,0 | E73: =CONCATENATE(617285,",",ROW(BCKQHDR_06610!E73),"|",COLUMN(BCKQHDR_06610!E73),",0",",0") -> 617285,73|5,0,0
A74: =CONCATENATE(617250,",",ROW(BCKQHDR_06610!A74),"|",COLUMN(BCKQHDR_06610!A74),",0",",0") -> 617250,74|1,0,0 | B74: =CONCATENATE(617237,",",ROW(BCKQHDR_06610!B74),"|",COLUMN(BCKQHDR_06610!B74),",0",",0") -> 617237,74|2,0,0 | C74: =CONCATENATE(617130,",",ROW(BCKQHDR_06610!C74),"|",COLUMN(BCKQHDR_06610!C74),",0",",0") -> 617130,74|3,0,0 | D74: =CONCATENATE(617312,",",ROW(BCKQHDR_06610!D74),"|",COLUMN(BCKQHDR_06610!D74),",0",",0") -> 617312,74|4,0,0 | E74: =CONCATENATE(617286,",",ROW(BCKQHDR_06610!E74),"|",COLUMN(BCKQHDR_06610!E74),",0",",0") -> 617286,74|5,0,0

Sheet BCLCTTRTT_06611
A1: BÁO CÁO LƯU CHUYỂN TIỀN TỆ RIÊNG
A2: (Theo phương pháp trực tiếp)
A3: Đơn vị tính: Đồng Việt Nam
A4: CHỈ TIÊU | B4: Mã số | C4: Thuyết minh | D4: Năm nay | E4: Năm trước
A5: A | B5: B | C5: C | D5: 1 | E5: 2
A6: I. Lưu chuyển tiền từ hoạt động kinh doanh
A7: 1.Tiền đã chi mua các tài sản tài chính | B7: 1
A8: 2.Tiền đã thu từ bán các tài sản tài chính | B8: 2
A9: 3. Tiền chi nộp Quỹ Hỗ trợ thanh toán | B9: 3
A10: 4. Cổ tức đã nhận | B10: 4
A11: 5. Tiền lãi đã thu | B11: 5
A12: 6. Tiền chi trả lãi vay cho hoạt động của CTCK | B12: 6
A13: 7. Tiền chi trả Tổ chức cung cấp dịch vụ cho CTCK | B13: 7
A14: 8. Tiền chi trả cho người lao động | B14: 8
A15: 9. Tiền chi nộp thuế liên quan đến hoạt động CTCK | B15: 9
A16: 10.Tiền chi thanh toán các chi phí cho hoạt động mua, bán các tài sản tài chính | B16: 10
A17: 11. Tiền thu khác từ hoạt động kinh doanh | B17: 11
A18: 12. Tiền chi khác cho hoạt động kinh doanh | B18: 12
A19: Lưu chuyển tiền thuần từ hoạt động kinh doanh | B19: 20
A20: II. Lưu chuyển tiền từ hoạt động đầu tư
A21: 1.Tiền chi để mua sắm, xây dựng TSCĐ, BĐSĐT và các tài sản khác | B21: 21
A22: 2.Tiền thu từ thanh lý, nhượng bán TSCĐ, BĐSĐT và các tài sản khác | B22: 22
A23: 3.Tiền chi đầu tư góp vốn vào công ty con, công ty liên doanh, liên kết và đầu tư khác | B23: 23
A24: 4.Tiền thu hồi đầu tư góp vốn vào công ty con, công ty liên doanh, liên kết và đầu tư khác | B24: 24
A25: 5.Tiền thu về cổ tức và lợi nhuận được chia từ các khoản đầu tư tài chính dài hạn | B25: 25
A26: Lưu chuyển tiền thuần từ hoạt động đầu tư | B26: 30
A27: III. Lưu chuyển tiền từ hoạt động tài chính
A28: 1.Tiền thu từ phát hành cổ phiếu, nhận vốn góp của chủ sở hữu | B28: 31
A29: 2.Tiền chi trả vốn góp cho các chủ sở hữu, mua lại cổ phiếu đã phát hành | B29: 32
A30: 3.Tiền vay gốc | B30: 33
A31: 3.1. Tiền vay Quỹ Hỗ trợ thanh toán | B31: 33.1
A32: 3.2. Tiền vay khác | B32: 33.2
A33: 4. Tiền chi trả nợ gốc vay | B33: 34
A34: 4.1. Tiền chi trả gốc vay Quỹ Hỗ trợ thanh toán | B34: 34.1
A35: 4.2. Tiền chi trả gốc vay tài sản tài chính | B35: 34.2
A36: 4.3. Tiền chi trả gốc vay khác | B36: 34.3
A37: 5.Tiền chi trả nợ gốc thuê tài chính | B37: 35
A38: 6. Cổ tức, lợi nhuận đã trả cho chủ sở hữu | B38: 36
A39: Lưu chuyển tiền thuần từ hoạt động tài chính | B39: 40
... A48: Ảnh hưởng của thay đổi tỷ giá hối đoái quy đổi ngoại tệ | B48: 73

Sheet 7710_hidden
A5: =CONCATENATE(618133,",",ROW(BCLCTTRTT_06611!A5),"|",COLUMN(BCLCTTRTT_06611!A5),",0",",0") -> 618133,5|1,0,0 | B5: =CONCATENATE(618126,",",ROW(BCLCTTRTT_06611!B5),"|",COLUMN(BCLCTTRTT_06611!B5),",0",",0") -> 618126,5|2,0,0 | C5: =CONCATENATE(618178,",",ROW(BCLCTTRTT_06611!C5),"|",COLUMN(BCLCTTRTT_06611!C5),",0",",0") -> 618178,5|3,0,0 | D5: =CONCATENATE(618127,",",ROW(BCLCTTRTT_06611!D5),"|",COLUMN(BCLCTTRTT_06611!D5),",0",",0") -> 618127,5|4,0,0 | E5: =CONCATENATE(618164,",",ROW(BCLCTTRTT_06611!E5),"|",COLUMN(BCLCTTRTT_06611!E5),",0",",0") -> 618164,5|5,0,0
A6: =CONCATENATE(618128,",",ROW(BCLCTTRTT_06611!A6),"|",COLUMN(BCLCTTRTT_06611!A6),",0",",0") -> 618128,6|1,0,0 | C6: =CONCATENATE(618064,",",ROW(BCLCTTRTT_06611!C6),"|",COLUMN(BCLCTTRTT_06611!C6),",0",",0") -> 618064,6|3,0,0 | D6: =CONCATENATE(618206,",",ROW(BCLCTTRTT_06611!D6),"|",COLUMN(BCLCTTRTT_06611!D6),",0",",0") -> 618206,6|4,0,0 | E6: =CONCATENATE(618002,",",ROW(BCLCTTRTT_06611!E6),"|",COLUMN(BCLCTTRTT_06611!E6),",0",",0") -> 618002,6|5,0,0
A7: =CONCATENATE(618017,",",ROW(BCLCTTRTT_06611!A7),"|",COLUMN(BCLCTTRTT_06611!A7),",0",",0") -> 618017,7|1,0,0 | B7: =CONCATENATE(618031,",",ROW(BCLCTTRTT_06611!B7),"|",COLUMN(BCLCTTRTT_06611!B7),",0",",0") -> 618031,7|2,0,0 | C7: =CONCATENATE(618168,",",ROW(BCLCTTRTT_06611!C7),"|",COLUMN(BCLCTTRTT_06611!C7),",0",",0") -> 618168,7|3,0,0 | D7: =CONCATENATE(618138,",",ROW(BCLCTTRTT_06611!D7),"|",COLUMN(BCLCTTRTT_06611!D7),",0",",0") -> 618138,7|4,0,0 | E7: =CONCATENATE(618083,",",ROW(BCLCTTRTT_06611!E7),"|",COLUMN(BCLCTTRTT_06611!E7),",0",",0") -> 618083,7|5,0,0
A8: =CONCATENATE(618166,",",ROW(BCLCTTRTT_06611!A8),"|",COLUMN(BCLCTTRTT_06611!A8),",0",",0") -> 618166,8|1,0,0 | B8: =CONCATENATE(618032,",",ROW(BCLCTTRTT_06611!B8),"|",COLUMN(BCLCTTRTT_06611!B8),",0",",0") -> 618032,8|2,0,0 | C8: =CONCATENATE(618049,",",ROW(BCLCTTRTT_06611!C8),"|",COLUMN(BCLCTTRTT_06611!C8),",0",",0") -> 618049,8|3,0,0 | D8: =CONCATENATE(618191,",",ROW(BCLCTTRTT_06611!D8),"|",COLUMN(BCLCTTRTT_06611!D8),",0",",0") -> 618191,8|4,0,0 | E8: =CONCATENATE(618108,",",ROW(BCLCTTRTT_06611!E8),"|",COLUMN(BCLCTTRTT_06611!E8),",0",",0") -> 618108,8|5,0,0
A9: =CONCATENATE(618179,",",ROW(BCLCTTRTT_06611!A9),"|",COLUMN(BCLCTTRTT_06611!A9),",0",",0") -> 618179,9|1,0,0 | B9: =CONCATENATE(618033,",",ROW(BCLCTTRTT_06611!B9),"|",COLUMN(BCLCTTRTT_06611!B9),",0",",0") -> 618033,9|2,0,0 | C9: =CONCATENATE(618050,",",ROW(BCLCTTRTT_06611!C9),"|",COLUMN(BCLCTTRTT_06611!C9),",0",",0") -> 618050,9|3,0,0 | D9: =CONCATENATE(618192,",",ROW(BCLCTTRTT_06611!D9),"|",COLUMN(BCLCTTRTT_06611!D9),",0",",0") -> 618192,9|4,0,0 | E9: =CONCATENATE(618109,",",ROW(BCLCTTRTT_06611!E9),"|",COLUMN(BCLCTTRTT_06611!E9),",0",",0") -> 618109,9|5,0,0
A10: =CONCATENATE(618129,",",ROW(BCLCTTRTT_06611!A10),"|",COLUMN(BCLCTTRTT_06611!A10),",0",",0") -> 618129,10|1,0,0 | B10: =CONCATENATE(618034,",",ROW(BCLCTTRTT_06611!B10),"|",COLUMN(BCLCTTRTT_06611!B10),",0",",0") -> 618034,10|2,0,0 | C10: =CONCATENATE(618051,",",ROW(BCLCTTRTT_06611!C10),"|",COLUMN(BCLCTTRTT_06611!C10),",0",",0") -> 618051,10|3,0,0 | D10: =CONCATENATE(618193,",",ROW(BCLCTTRTT_06611!D10),"|",COLUMN(BCLCTTRTT_06611!D10),",0",",0") -> 618193,10|4,0,0 | E10: =CONCATENATE(618110,",",ROW(BCLCTTRTT_06611!E10),"|",COLUMN(BCLCTTRTT_06611!E10),",0",",0") -> 618110,10|5,0,0
A11: =CONCATENATE(618180,",",ROW(BCLCTTRTT_06611!A11),"|",COLUMN(BCLCTTRTT_06611!A11),",0",",0") -> 618180,11|1,0,0 | B11: =CONCATENATE(618035,",",ROW(BCLCTTRTT_06611!B11),"|",COLUMN(BCLCTTRTT_06611!B11),",0",",0") -> 618035,11|2,0,0 | C11: =CONCATENATE(618052,",",ROW(BCLCTTRTT_06611!C11),"|",COLUMN(BCLCTTRTT_06611!C11),",0",",0") -> 618052,11|3,0,0 | D11: =CONCATENATE(618194,",",ROW(BCLCTTRTT_06611!D11),"|",COLUMN(BCLCTTRTT_06611!D11),",0",",0") -> 618194,11|4,0,0 | E11: =CONCATENATE(618111,",",ROW(BCLCTTRTT_06611!E11),"|",COLUMN(BCLCTTRTT_06611!E11),",0",",0") -> 618111,11|5,0,0
A12: =CONCATENATE(618181,",",ROW(BCLCTTRTT_06611!A12),"|",COLUMN(BCLCTTRTT_06611!A12),",0",",0") -> 618181,12|1,0,0 | B12: =CONCATENATE(618036,",",ROW(BCLCTTRTT_06611!B12),"|",COLUMN(BCLCTTRTT_06611!B12),",0",",0") -> 618036,12|2,0,0 | C12: =CONCATENATE(618053,",",ROW(BCLCTTRTT_06611!C12),"|",COLUMN(BCLCTTRTT_06611!C12),",0",",0") -> 618053,12|3,0,0 | D12: =CONCATENATE(618195,",",ROW(BCLCTTRTT_06611!D12),"|",COLUMN(BCLCTTRTT_06611!D12),",0",",0") -> 618195,12|4,0,0 | E12: =CONCATENATE(618112,",",ROW(BCLCTTRTT_06611!E12),"|",COLUMN(BCLCTTRTT_06611!E12),",0",",0") -> 618112,12|5,0,0
A13: =CONCATENATE(618174,",",ROW(BCLCTTRTT_06611!A13),"|",COLUMN(BCLCTTRTT_06611!A13),",0",",0") -> 618174,13|1,0,0 | B13: =CONCATENATE(618093,",",ROW(BCLCTTRTT_06611!B13),"|",COLUMN(BCLCTTRTT_06611!B13),",0",",0") -> 618093,13|2,0,0 | C13: =CONCATENATE(618067,",",ROW(BCLCTTRTT_06611!C13),"|",COLUMN(BCLCTTRTT_06611!C13),",0",",0") -> 618067,13|3,0,0 | D13: =CONCATENATE(618209,",",ROW(BCLCTTRTT_06611!D13),"|",COLUMN(BCLCTTRTT_06611!D13),",0",",0") -> 618209,13|4,0,0 | E13: =CONCATENATE(618005,",",ROW(BCLCTTRTT_06611!E13),"|",COLUMN(BCLCTTRTT_06611!E13),",0",",0") -> 618005,13|5,0,0
A14: =CONCATENATE(618162,",",ROW(BCLCTTRTT_06611!A14),"|",COLUMN(BCLCTTRTT_06611!A14),",0",",0") -> 618162,14|1,0,0 | B14: =CONCATENATE(618086,",",ROW(BCLCTTRTT_06611!B14),"|",COLUMN(BCLCTTRTT_06611!B14),",0",",0") -> 618086,14|2,0,0 | C14: =CONCATENATE(618065,",",ROW(BCLCTTRTT_06611!C14),"|",COLUMN(BCLCTTRTT_06611!C14),",0",",0") -> 618065,14|3,0,0 | D14: =CONCATENATE(618207,",",ROW(BCLCTTRTT_06611!D14),"|",COLUMN(BCLCTTRTT_06611!D14),",0",",0") -> 618207,14|4,0,0 | E14: =CONCATENATE(618003,",",ROW(BCLCTTRTT_06611!E14),"|",COLUMN(BCLCTTRTT_06611!E14),",0",",0") -> 618003,14|5,0,0
A15: =CONCATENATE(618183,",",ROW(BCLCTTRTT_06611!A15),"|",COLUMN(BCLCTTRTT_06611!A15),",0",",0") -> 618183,15|1,0,0 | B15: =CONCATENATE(618087,",",ROW(BCLCTTRTT_06611!B15),"|",COLUMN(BCLCTTRTT_06611!B15),",0",",0") -> 618087,15|2,0,0 | C15: =CONCATENATE(618075,",",ROW(BCLCTTRTT_06611!C15),"|",COLUMN(BCLCTTRTT_06611!C15),",0",",0") -> 618075,15|3,0,0 | D15: =CONCATENATE(618078,",",ROW(BCLCTTRTT_06611!D15),"|",COLUMN(BCLCTTRTT_06611!D15),",0",",0") -> 618078,15|4,0,0 | E15: =CONCATENATE(618013,",",ROW(BCLCTTRTT_06611!E15),"|",COLUMN(BCLCTTRTT_06611!E15),",0",",0") -> 618013,15|5,0,0
A16: =CONCATENATE(618018,",",ROW(BCLCTTRTT_06611!A16),"|",COLUMN(BCLCTTRTT_06611!A16),",0",",0") -> 618018,16|1,0,0 | B16: =CONCATENATE(618088,",",ROW(BCLCTTRTT_06611!B16),"|",COLUMN(BCLCTTRTT_06611!B16),",0",",0") -> 618088,16|2,0,0 | C16: =CONCATENATE(618169,",",ROW(BCLCTTRTT_06611!C16),"|",COLUMN(BCLCTTRTT_06611!C16),",0",",0") -> 618169,16|3,0,0 | D16: =CONCATENATE(618139,",",ROW(BCLCTTRTT_06611!D16),"|",COLUMN(BCLCTTRTT_06611!D16),",0",",0") -> 618139,16|4,0,0 | E16: =CONCATENATE(618084,",",ROW(BCLCTTRTT_06611!E16),"|",COLUMN(BCLCTTRTT_06611!E16),",0",",0") -> 618084,16|5,0,0
A17: =CONCATENATE(618182,",",ROW(BCLCTTRTT_06611!A17),"|",COLUMN(BCLCTTRTT_06611!A17),",0",",0") -> 618182,17|1,0,0 | B17: =CONCATENATE(618089,",",ROW(BCLCTTRTT_06611!B17),"|",COLUMN(BCLCTTRTT_06611!B17),",0",",0") -> 618089,17|2,0,0 | C17: =CONCATENATE(618074,",",ROW(BCLCTTRTT_06611!C17),"|",COLUMN(BCLCTTRTT_06611!C17),",0",",0") -> 618074,17|3,0,0 | D17: =CONCATENATE(618077,",",ROW(BCLCTTRTT_06611!D17),"|",COLUMN(BCLCTTRTT_06611!D17),",0",",0") -> 618077,17|4,0,0 | E17: =CONCATENATE(618012,",",ROW(BCLCTTRTT_06611!E17),"|",COLUMN(BCLCTTRTT_06611!E17),",0",",0") -> 618012,17|5,0,0
A18: =CONCATENATE(618019,",",ROW(BCLCTTRTT_06611!A18),"|",COLUMN(BCLCTTRTT_06611!A18),",0",",0") -> 618019,18|1,0,0 | B18: =CONCATENATE(618025,",",ROW(BCLCTTRTT_06611!B18),"|",COLUMN(BCLCTTRTT_06611!B18),",0",",0") -> 618025,18|2,0,0 | C18: =CONCATENATE(618079,",",ROW(BCLCTTRTT_06611!C18),"|",COLUMN(BCLCTTRTT_06611!C18),",0",",0") -> 618079,18|3,0,0 | D18: =CONCATENATE(618140,",",ROW(BCLCTTRTT_06611!D18),"|",COLUMN(BCLCTTRTT_06611!D18),",0",",0") -> 618140,18|4,0,0 | E18: =CONCATENATE(618098,",",ROW(BCLCTTRTT_06611!E18),"|",COLUMN(BCLCTTRTT_06611!E18),",0",",0") -> 618098,18|5,0,0
A19: =CONCATENATE(618020,",",ROW(BCLCTTRTT_06611!A19),"|",COLUMN(BCLCTTRTT_06611!A19),",0",",0") -> 618020,19|1,0,0 | B19: =CONCATENATE(618094,",",ROW(BCLCTTRTT_06611!B19),"|",COLUMN(BCLCTTRTT_06611!B19),",0",",0") -> 618094,19|2,0,0 | C19: =CONCATENATE(618170,",",ROW(BCLCTTRTT_06611!C19),"|",COLUMN(BCLCTTRTT_06611!C19),",0",",0") -> 618170,19|3,0,0 | D19: =CONCATENATE(618141,",",ROW(BCLCTTRTT_06611!D19),"|",COLUMN(BCLCTTRTT_06611!D19),",0",",0") -> 618141,19|4,0,0 | E19: =CONCATENATE(618099,",",ROW(BCLCTTRTT_06611!E19),"|",COLUMN(BCLCTTRTT_06611!E19),",0",",0") -> 618099,19|5,0,0
A20: =CONCATENATE(618184,",",ROW(BCLCTTRTT_06611!A20),"|",COLUMN(BCLCTTRTT_06611!A20),",0",",0") -> 618184,20|1,0,0 | C20: =CONCATENATE(618135,",",ROW(BCLCTTRTT_06611!C20),"|",COLUMN(BCLCTTRTT_06611!C20),",0",",0") -> 618135,20|3,0,0 | D20: =CONCATENATE(618080,",",ROW(BCLCTTRTT_06611!D20),"|",COLUMN(BCLCTTRTT_06611!D20),",0",",0") -> 618080,20|4,0,0 | E20: =CONCATENATE(618014,",",ROW(BCLCTTRTT_06611!E20),"|",COLUMN(BCLCTTRTT_06611!E20),",0",",0") -> 618014,20|5,0,0
A21: =CONCATENATE(618042,",",ROW(BCLCTTRTT_06611!A21),"|",COLUMN(BCLCTTRTT_06611!A21),",0",",0") -> 618042,21|1,0,0 | B21: =CONCATENATE(618155,",",ROW(BCLCTTRTT_06611!B21),"|",COLUMN(BCLCTTRTT_06611!B21),",0",",0") -> 618155,21|2,0,0 | C21: =CONCATENATE(618059,",",ROW(BCLCTTRTT_06611!C21),"|",COLUMN(BCLCTTRTT_06611!C21),",0",",0") -> 618059,21|3,0,0 | D21: =CONCATENATE(618201,",",ROW(BCLCTTRTT_06611!D21),"|",COLUMN(BCLCTTRTT_06611!D21),",0",",0") -> 618201,21|4,0,0 | E21: =CONCATENATE(618161,",",ROW(BCLCTTRTT_06611!E21),"|",COLUMN(BCLCTTRTT_06611!E21),",0",",0") -> 618161,21|5,0,0
A22: =CONCATENATE(618043,",",ROW(BCLCTTRTT_06611!A22),"|",COLUMN(BCLCTTRTT_06611!A22),",0",",0") -> 618043,22|1,0,0 | B22: =CONCATENATE(618156,",",ROW(BCLCTTRTT_06611!B22),"|",COLUMN(BCLCTTRTT_06611!B22),",0",",0") -> 618156,22|2,0,0 | C22: =CONCATENATE(618068,",",ROW(BCLCTTRTT_06611!C22),"|",COLUMN(BCLCTTRTT_06611!C22),",0",",0") -> 618068,22|3,0,0 | D22: =CONCATENATE(618210,",",ROW(BCLCTTRTT_06611!D22),"|",COLUMN(BCLCTTRTT_06611!D22),",0",",0") -> 618210,22|4,0,0 | E22: =CONCATENATE(618006,",",ROW(BCLCTTRTT_06611!E22),"|",COLUMN(BCLCTTRTT_06611!E22),",0",",0") -> 618006,22|5,0,0
A23: =CONCATENATE(618131,",",ROW(BCLCTTRTT_06611!A23),"|",COLUMN(BCLCTTRTT_06611!A23),",0",",0") -> 618131,23|1,0,0 | B23: =CONCATENATE(618132,",",ROW(BCLCTTRTT_06611!B23),"|",COLUMN(BCLCTTRTT_06611!B23),",0",",0") -> 618132,23|2,0,0 | C23: =CONCATENATE(618137,",",ROW(BCLCTTRTT_06611!C23),"|",COLUMN(BCLCTTRTT_06611!C23),",0",",0") -> 618137,23|3,0,0 | D23: =CONCATENATE(618082,",",ROW(BCLCTTRTT_06611!D23),"|",COLUMN(BCLCTTRTT_06611!D23),",0",",0") -> 618082,23|4,0,0 | E23: =CONCATENATE(618016,",",ROW(BCLCTTRTT_06611!E23),"|",COLUMN(BCLCTTRTT_06611!E23),",0",",0") -> 618016,23|5,0,0
A24: =CONCATENATE(618134,",",ROW(BCLCTTRTT_06611!A24),"|",COLUMN(BCLCTTRTT_06611!A24),",0",",0") -> 618134,24|1,0,0 | B24: =CONCATENATE(618167,",",ROW(BCLCTTRTT_06611!B24),"|",COLUMN(BCLCTTRTT_06611!B24),",0",",0") -> 618167,24|2,0,0 | C24: =CONCATENATE(618136,",",ROW(BCLCTTRTT_06611!C24),"|",COLUMN(BCLCTTRTT_06611!C24),",0",",0") -> 618136,24|3,0,0 | D24: =CONCATENATE(618081,",",ROW(BCLCTTRTT_06611!D24),"|",COLUMN(BCLCTTRTT_06611!D24),",0",",0") -> 618081,24|4,0,0 | E24: =CONCATENATE(618015,",",ROW(BCLCTTRTT_06611!E24),"|",COLUMN(BCLCTTRTT_06611!E24),",0",",0") -> 618015,24|5,0,0
A25: =CONCATENATE(618185,",",ROW(BCLCTTRTT_06611!A25),"|",COLUMN(BCLCTTRTT_06611!A25),",0",",0") -> 618185,25|1,0,0 | B25: =CONCATENATE(618157,",",ROW(BCLCTTRTT_06611!B25),"|",COLUMN(BCLCTTRTT_06611!B25),",0",",0") -> 618157,25|2,0,0 | C25: =CONCATENATE(618072,",",ROW(BCLCTTRTT_06611!C25),"|",COLUMN(BCLCTTRTT_06611!C25),",0",",0") -> 618072,25|3,0,0 | D25: =CONCATENATE(618214,",",ROW(BCLCTTRTT_06611!D25),"|",COLUMN(BCLCTTRTT_06611!D25),",0",",0") -> 618214,25|4,0,0 | E25: =CONCATENATE(618010,",",ROW(BCLCTTRTT_06611!E25),"|",COLUMN(BCLCTTRTT_06611!E25),",0",",0") -> 618010,25|5,0,0
A26: =CONCATENATE(618117,",",ROW(BCLCTTRTT_06611!A26),"|",COLUMN(BCLCTTRTT_06611!A26),",0",",0") -> 618117,26|1,0,0 | B26: =CONCATENATE(618026,",",ROW(BCLCTTRTT_06611!B26),"|",COLUMN(BCLCTTRTT_06611!B26),",0",",0") -> 618026,26|2,0,0 | C26: =CONCATENATE(618044,",",ROW(BCLCTTRTT_06611!C26),"|",COLUMN(BCLCTTRTT_06611!C26),",0",",0") -> 618044,26|3,0,0 | D26: =CONCATENATE(618146,",",ROW(BCLCTTRTT_06611!D26),"|",COLUMN(BCLCTTRTT_06611!D26),",0",",0") -> 618146,26|4,0,0 | E26: =CONCATENATE(618103,",",ROW(BCLCTTRTT_06611!E26),"|",COLUMN(BCLCTTRTT_06611!E26),",0",",0") -> 618103,26|5,0,0
A27: =CONCATENATE(618130,",",ROW(BCLCTTRTT_06611!A27),"|",COLUMN(BCLCTTRTT_06611!A27),",0",",0") -> 618130,27|1,0,0 | C27: =CONCATENATE(618045,",",ROW(BCLCTTRTT_06611!C27),"|",COLUMN(BCLCTTRTT_06611!C27),",0",",0") -> 618045,27|3,0,0 | D27: =CONCATENATE(618147,",",ROW(BCLCTTRTT_06611!D27),"|",COLUMN(BCLCTTRTT_06611!D27),",0",",0") -> 618147,27|4,0,0 | E27: =CONCATENATE(618104,",",ROW(BCLCTTRTT_06611!E27),"|",COLUMN(BCLCTTRTT_06611!E27),",0",",0") -> 618104,27|5,0,0
A28: =CONCATENATE(618021,",",ROW(BCLCTTRTT_06611!A28),"|",COLUMN(BCLCTTRTT_06611!A28),",0",",0") -> 618021,28|1,0,0 | B28: =CONCATENATE(618027,",",ROW(BCLCTTRTT_06611!B28),"|",COLUMN(BCLCTTRTT_06611!B28),",0",",0") -> 618027,28|2,0,0 | C28: =CONCATENATE(618171,",",ROW(BCLCTTRTT_06611!C28),"|",COLUMN(BCLCTTRTT_06611!C28),",0",",0") -> 618171,28|3,0,0 | D28: =CONCATENATE(618142,",",ROW(BCLCTTRTT_06611!D28),"|",COLUMN(BCLCTTRTT_06611!D28),",0",",0") -> 618142,28|4,0,0 | E28: =CONCATENATE(618100,",",ROW(BCLCTTRTT_06611!E28),"|",COLUMN(BCLCTTRTT_06611!E28),",0",",0") -> 618100,28|5,0,0
A29: =CONCATENATE(618149,",",ROW(BCLCTTRTT_06611!A29),"|",COLUMN(BCLCTTRTT_06611!A29),",0",",0") -> 618149,29|1,0,0 | B29: =CONCATENATE(618095,",",ROW(BCLCTTRTT_06611!B29),"|",COLUMN(BCLCTTRTT_06611!B29),",0",",0") -> 618095,29|2,0,0 | C29: =CONCATENATE(618069,",",ROW(BCLCTTRTT_06611!C29),"|",COLUMN(BCLCTTRTT_06611!C29),",0",",0") -> 618069,29|3,0,0 | D29: =CONCATENATE(618211,",",ROW(BCLCTTRTT_06611!D29),"|",COLUMN(BCLCTTRTT_06611!D29),",0",",0") -> 618211,29|4,0,0 | E29: =CONCATENATE(618007,",",ROW(BCLCTTRTT_06611!E29),"|",COLUMN(BCLCTTRTT_06611!E29),",0",",0") -> 618007,29|5,0,0
A30: =CONCATENATE(618022,",",ROW(BCLCTTRTT_06611!A30),"|",COLUMN(BCLCTTRTT_06611!A30),",0",",0") -> 618022,30|1,0,0 | B30: =CONCATENATE(618090,",",ROW(BCLCTTRTT_06611!B30),"|",COLUMN(BCLCTTRTT_06611!B30),",0",",0") -> 618090,30|2,0,0 | C30: =CONCATENATE(618172,",",ROW(BCLCTTRTT_06611!C30),"|",COLUMN(BCLCTTRTT_06611!C30),",0",",0") -> 618172,30|3,0,0 | D30: =CONCATENATE(618143,",",ROW(BCLCTTRTT_06611!D30),"|",COLUMN(BCLCTTRTT_06611!D30),",0",",0") -> 618143,30|4,0,0 | E30: =CONCATENATE(618165,",",ROW(BCLCTTRTT_06611!E30),"|",COLUMN(BCLCTTRTT_06611!E30),",0",",0") -> 618165,30|5,0,0
A31: =CONCATENATE(618150,",",ROW(BCLCTTRTT_06611!A31),"|",COLUMN(BCLCTTRTT_06611!A31),",0",",0") -> 618150,31|1,0,0 | B31: =CONCATENATE(618037,",",ROW(BCLCTTRTT_06611!B31),"|",COLUMN(BCLCTTRTT_06611!B31),",0",",0") -> 618037,31|2,0,0 | C31: =CONCATENATE(618054,",",ROW(BCLCTTRTT_06611!C31),"|",COLUMN(BCLCTTRTT_06611!C31),",0",",0") -> 618054,31|3,0,0 | D31: =CONCATENATE(618196,",",ROW(BCLCTTRTT_06611!D31),"|",COLUMN(BCLCTTRTT_06611!D31),",0",",0") -> 618196,31|4,0,0 | E31: =CONCATENATE(618113,",",ROW(BCLCTTRTT_06611!E31),"|",COLUMN(BCLCTTRTT_06611!E31),",0",",0") -> 618113,31|5,0,0
A32: =CONCATENATE(618118,",",ROW(BCLCTTRTT_06611!A32),"|",COLUMN(BCLCTTRTT_06611!A32),",0",",0") -> 618118,32|1,0,0 | B32: =CONCATENATE(618096,",",ROW(BCLCTTRTT_06611!B32),"|",COLUMN(BCLCTTRTT_06611!B32),",0",",0") -> 618096,32|2,0,0 | C32: =CONCATENATE(618060,",",ROW(BCLCTTRTT_06611!C32),"|",COLUMN(BCLCTTRTT_06611!C32),",0",",0") -> 618060,32|3,0,0 | D32: =CONCATENATE(618202,",",ROW(BCLCTTRTT_06611!D32),"|",COLUMN(BCLCTTRTT_06611!D32),",0",",0") -> 618202,32|4,0,0 | E32: =CONCATENATE(617998,",",ROW(BCLCTTRTT_06611!E32),"|",COLUMN(BCLCTTRTT_06611!E32),",0",",0") -> 617998,32|5,0,0
A33: =CONCATENATE(618023,",",ROW(BCLCTTRTT_06611!A33),"|",COLUMN(BCLCTTRTT_06611!A33),",0",",0") -> 618023,33|1,0,0 | B33: =CONCATENATE(618158,",",ROW(BCLCTTRTT_06611!B33),"|",COLUMN(BCLCTTRTT_06611!B33),",0",",0") -> 618158,33|2,0,0 | C33: =CONCATENATE(618173,",",ROW(BCLCTTRTT_06611!C33),"|",COLUMN(BCLCTTRTT_06611!C33),",0",",0") -> 618173,33|3,0,0 | D33: =CONCATENATE(618144,",",ROW(BCLCTTRTT_06611!D33),"|",COLUMN(BCLCTTRTT_06611!D33),",0",",0") -> 618144,33|4,0,0 | E33: =CONCATENATE(618101,",",ROW(BCLCTTRTT_06611!E33),"|",COLUMN(BCLCTTRTT_06611!E33),",0",",0") -> 618101,33|5,0,0
A34: =CONCATENATE(618124,",",ROW(BCLCTTRTT_06611!A34),"|",COLUMN(BCLCTTRTT_06611!A34),",0",",0") -> 618124,34|1,0,0 | B34: =CONCATENATE(618038,",",ROW(BCLCTTRTT_06611!B34),"|",COLUMN(BCLCTTRTT_06611!B34),",0",",0") -> 618038,34|2,0,0 | C34: =CONCATENATE(618055,",",ROW(BCLCTTRTT_06611!C34),"|",COLUMN(BCLCTTRTT_06611!C34),",0",",0") -> 618055,34|3,0,0 | D34: =CONCATENATE(618197,",",ROW(BCLCTTRTT_06611!D34),"|",COLUMN(BCLCTTRTT_06611!D34),",0",",0") -> 618197,34|4,0,0 | E34: =CONCATENATE(618114,",",ROW(BCLCTTRTT_06611!E34),"|",COLUMN(BCLCTTRTT_06611!E34),",0",",0") -> 618114,34|5,0,0
A35: =CONCATENATE(618151,",",ROW(BCLCTTRTT_06611!A35),"|",COLUMN(BCLCTTRTT_06611!A35),",0",",0") -> 618151,35|1,0,0 | B35: =CONCATENATE(618028,",",ROW(BCLCTTRTT_06611!B35),"|",COLUMN(BCLCTTRTT_06611!B35),",0",",0") -> 618028,35|2,0,0 | C35: =CONCATENATE(618046,",",ROW(BCLCTTRTT_06611!C35),"|",COLUMN(BCLCTTRTT_06611!C35),",0",",0") -> 618046,35|3,0,0 | D35: =CONCATENATE(618148,",",ROW(BCLCTTRTT_06611!D35),"|",COLUMN(BCLCTTRTT_06611!D35),",0",",0") -> 618148,35|4,0,0 | E35: =CONCATENATE(618105,",",ROW(BCLCTTRTT_06611!E35),"|",COLUMN(BCLCTTRTT_06611!E35),",0",",0") -> 618105,35|5,0,0
A36: =CONCATENATE(618152,",",ROW(BCLCTTRTT_06611!A36),"|",COLUMN(BCLCTTRTT_06611!A36),",0",",0") -> 618152,36|1,0,0 | B36: =CONCATENATE(618097,",",ROW(BCLCTTRTT_06611!B36),"|",COLUMN(BCLCTTRTT_06611!B36),",0",",0") -> 618097,36|2,0,0 | C36: =CONCATENATE(618070,",",ROW(BCLCTTRTT_06611!C36),"|",COLUMN(BCLCTTRTT_06611!C36),",0",",0") -> 618070,36|3,0,0 | D36: =CONCATENATE(618212,",",ROW(BCLCTTRTT_06611!D36),"|",COLUMN(BCLCTTRTT_06611!D36),",0",",0") -> 618212,36|4,0,0 | E36: =CONCATENATE(618008,",",ROW(BCLCTTRTT_06611!E36),"|",COLUMN(BCLCTTRTT_06611!E36),",0",",0") -> 618008,36|5,0,0
A37: =CONCATENATE(618153,",",ROW(BCLCTTRTT_06611!A37),"|",COLUMN(BCLCTTRTT_06611!A37),",0",",0") -> 618153,37|1,0,0 | B37: =CONCATENATE(618039,",",ROW(BCLCTTRTT_06611!B37),"|",COLUMN(BCLCTTRTT_06611!B37),",0",",0") -> 618039,37|2,0,0 | C37: =CONCATENATE(618056,",",ROW(BCLCTTRTT_06611!C37),"|",COLUMN(BCLCTTRTT_06611!C37),",0",",0") -> 618056,37|3,0,0 | D37: =CONCATENATE(618198,",",ROW(BCLCTTRTT_06611!D37),"|",COLUMN(BCLCTTRTT_06611!D37),",0",",0") -> 618198,37|4,0,0 | E37: =CONCATENATE(618115,",",ROW(BCLCTTRTT_06611!E37),"|",COLUMN(BCLCTTRTT_06611!E37),",0",",0") -> 618115,37|5,0,0
A38: =CONCATENATE(618125,",",ROW(BCLCTTRTT_06611!A38),"|",COLUMN(BCLCTTRTT_06611!A38),",0",",0") -> 618125,38|1,0,0 | B38: =CONCATENATE(618029,",",ROW(BCLCTTRTT_06611!B38),"|",COLUMN(BCLCTTRTT_06611!B38),",0",",0") -> 618029,38|2,0,0 | C38: =CONCATENATE(618047,",",ROW(BCLCTTRTT_06611!C38),"|",COLUMN(BCLCTTRTT_06611!C38),",0",",0") -> 618047,38|3,0,0 | D38: =CONCATENATE(618189,",",ROW(BCLCTTRTT_06611!D38),"|",COLUMN(BCLCTTRTT_06611!D38),",0",",0") -> 618189,38|4,0,0 | E38: =CONCATENATE(618106,",",ROW(BCLCTTRTT_06611!E38),"|",COLUMN(BCLCTTRTT_06611!E38),",0",",0") -> 618106,38|5,0,0
A39: =CONCATENATE(618163,",",ROW(BCLCTTRTT_06611!A39),"|",COLUMN(BCLCTTRTT_06611!A39),",0",",0") -> 618163,39|1,0,0 | B39: =CONCATENATE(618186,",",ROW(BCLCTTRTT_06611!B39),"|",COLUMN(BCLCTTRTT_06611!B39),",0",",0") -> 618186,39|2,0,0 | C39: =CONCATENATE(618066,",",ROW(BCLCTTRTT_06611!C39),"|",COLUMN(BCLCTTRTT_06611!C39),",0",",0") -> 618066,39|3,0,0 | D39: =CONCATENATE(618208,",",ROW(BCLCTTRTT_06611!D39),"|",COLUMN(BCLCTTRTT_06611!D39),",0",",0") -> 618208,39|4,0,0 | E39: =CONCATENATE(618004,",",ROW(BCLCTTRTT_06611!E39),"|",COLUMN(BCLCTTRTT_06611!E39),",0",",0") -> 618004,39|5,0,0
A40: =CONCATENATE(618119,",",ROW(BCLCTTRTT_06611!A40),"|",COLUMN(BCLCTTRTT_06611!A40),",0",",0") -> 618119,40|1,0,0 | B40: =CONCATENATE(618040,",",ROW(BCLCTTRTT_06611!B40),"|",COLUMN(BCLCTTRTT_06611!B40),",0",",0") -> 618040,40|2,0,0 | C40: =CONCATENATE(618057,",",ROW(BCLCTTRTT_06611!C40),"|",COLUMN(BCLCTTRTT_06611!C40),",0",",0") -> 618057,40|3,0,0 | D40: =CONCATENATE(618199,",",ROW(BCLCTTRTT_06611!D40),"|",COLUMN(BCLCTTRTT_06611!D40),",0",",0") -> 618199,40|4,0,0 | E40: =CONCATENATE(618116,",",ROW(BCLCTTRTT_06611!E40),"|",COLUMN(BCLCTTRTT_06611!E40),",0",",0") -> 618116,40|5,0,0
A41: =CONCATENATE(618120,",",ROW(BCLCTTRTT_06611!A41),"|",COLUMN(BCLCTTRTT_06611!A41),",0",",0") -> 618120,41|1,0,0 | B41: =CONCATENATE(618030,",",ROW(BCLCTTRTT_06611!B41),"|",COLUMN(BCLCTTRTT_06611!B41),",0",",0") -> 618030,41|2,0,0 | C41: =CONCATENATE(618048,",",ROW(BCLCTTRTT_06611!C41),"|",COLUMN(BCLCTTRTT_06611!C41),",0",",0") -> 618048,41|3,0,0 | D41: =CONCATENATE(618190,",",ROW(BCLCTTRTT_06611!D41),"|",COLUMN(BCLCTTRTT_06611!D41),",0",",0") -> 618190,41|4,0,0 | E41: =CONCATENATE(618107,",",ROW(BCLCTTRTT_06611!E41),"|",COLUMN(BCLCTTRTT_06611!E41),",0",",0") -> 618107,41|5,0,0
A42: =CONCATENATE(618188,",",ROW(BCLCTTRTT_06611!A42),"|",COLUMN(BCLCTTRTT_06611!A42),",0",",0") -> 618188,42|1,0,0 | B42: =CONCATENATE(618041,",",ROW(BCLCTTRTT_06611!B42),"|",COLUMN(BCLCTTRTT_06611!B42),",0",",0") -> 618041,42|2,0,0 | C42: =CONCATENATE(618058,",",ROW(BCLCTTRTT_06611!C42),"|",COLUMN(BCLCTTRTT_06611!C42),",0",",0") -> 618058,42|3,0,0 | D42: =CONCATENATE(618200,",",ROW(BCLCTTRTT_06611!D42),"|",COLUMN(BCLCTTRTT_06611!D42),",0",",0") -> 618200,42|4,0,0 | E42: =CONCATENATE(618154,",",ROW(BCLCTTRTT_06611!E42),"|",COLUMN(BCLCTTRTT_06611!E42),",0",",0") -> 618154,42|5,0,0
A43: =CONCATENATE(618121,",",ROW(BCLCTTRTT_06611!A43),"|",COLUMN(BCLCTTRTT_06611!A43),",0",",0") -> 618121,43|1,0,0 | B43: =CONCATENATE(618159,",",ROW(BCLCTTRTT_06611!B43),"|",COLUMN(BCLCTTRTT_06611!B43),",0",",0") -> 618159,43|2,0,0 | C43: =CONCATENATE(618061,",",ROW(BCLCTTRTT_06611!C43),"|",COLUMN(BCLCTTRTT_06611!C43),",0",",0") -> 618061,43|3,0,0 | D43: =CONCATENATE(618203,",",ROW(BCLCTTRTT_06611!D43),"|",COLUMN(BCLCTTRTT_06611!D43),",0",",0") -> 618203,43|4,0,0 | E43: =CONCATENATE(617999,",",ROW(BCLCTTRTT_06611!E43),"|",COLUMN(BCLCTTRTT_06611!E43),",0",",0") -> 617999,43|5,0,0
A44: =CONCATENATE(618024,",",ROW(BCLCTTRTT_06611!A44),"|",COLUMN(BCLCTTRTT_06611!A44),",0",",0") -> 618024,44|1,0,0 | B44: =CONCATENATE(618091,",",ROW(BCLCTTRTT_06611!B44),"|",COLUMN(BCLCTTRTT_06611!B44),",0",",0") -> 618091,44|2,0,0 | C44: =CONCATENATE(618175,",",ROW(BCLCTTRTT_06611!C44),"|",COLUMN(BCLCTTRTT_06611!C44),",0",",0") -> 618175,44|3,0,0 | D44: =CONCATENATE(618145,",",ROW(BCLCTTRTT_06611!D44),"|",COLUMN(BCLCTTRTT_06611!D44),",0",",0") -> 618145,44|4,0,0 | E44: =CONCATENATE(618102,",",ROW(BCLCTTRTT_06611!E44),"|",COLUMN(BCLCTTRTT_06611!E44),",0",",0") -> 618102,44|5,0,0
A45: =CONCATENATE(618187,",",ROW(BCLCTTRTT_06611!A45),"|",COLUMN(BCLCTTRTT_06611!A45),",0",",0") -> 618187,45|1,0,0 | B45: =CONCATENATE(618160,",",ROW(BCLCTTRTT_06611!B45),"|",COLUMN(BCLCTTRTT_06611!B45),",0",",0") -> 618160,45|2,0,0 | C45: =CONCATENATE(618071,",",ROW(BCLCTTRTT_06611!C45),"|",COLUMN(BCLCTTRTT_06611!C45),",0",",0") -> 618071,45|3,0,0 | D45: =CONCATENATE(618213,",",ROW(BCLCTTRTT_06611!D45),"|",COLUMN(BCLCTTRTT_06611!D45),",0",",0") -> 618213,45|4,0,0 | E45: =CONCATENATE(618009,",",ROW(BCLCTTRTT_06611!E45),"|",COLUMN(BCLCTTRTT_06611!E45),",0",",0") -> 618009,45|5,0,0
A46: =CONCATENATE(618122,",",ROW(BCLCTTRTT_06611!A46),"|",COLUMN(BCLCTTRTT_06611!A46),",0",",0") -> 618122,46|1,0,0 | B46: =CONCATENATE(618092,",",ROW(BCLCTTRTT_06611!B46),"|",COLUMN(BCLCTTRTT_06611!B46),",0",",0") -> 618092,46|2,0,0 | C46: =CONCATENATE(618062,",",ROW(BCLCTTRTT_06611!C46),"|",COLUMN(BCLCTTRTT_06611!C46),",0",",0") -> 618062,46|3,0,0 | D46: =CONCATENATE(618204,",",ROW(BCLCTTRTT_06611!D46),"|",COLUMN(BCLCTTRTT_06611!D46),",0",",0") -> 618204,46|4,0,0 | E46: =CONCATENATE(618000,",",ROW(BCLCTTRTT_06611!E46),"|",COLUMN(BCLCTTRTT_06611!E46),",0",",0") -> 618000,46|5,0,0
A47: =CONCATENATE(618123,",",ROW(BCLCTTRTT_06611!A47),"|",COLUMN(BCLCTTRTT_06611!A47),",0",",0") -> 618123,47|1,0,0 | B47: =CONCATENATE(618176,",",ROW(BCLCTTRTT_06611!B47),"|",COLUMN(BCLCTTRTT_06611!B47),",0",",0") -> 618176,47|2,0,0 | C47: =CONCATENATE(618063,",",ROW(BCLCTTRTT_06611!C47),"|",COLUMN(BCLCTTRTT_06611!C47),",0",",0") -> 618063,47|3,0,0 | D47: =CONCATENATE(618205,",",ROW(BCLCTTRTT_06611!D47),"|",COLUMN(BCLCTTRTT_06611!D47),",0",",0") -> 618205,47|4,0,0 | E47: =CONCATENATE(618001,",",ROW(BCLCTTRTT_06611!E47),"|",COLUMN(BCLCTTRTT_06611!E47),",0",",0") -> 618001,47|5,0,0
A48: =CONCATENATE(618085,",",ROW(BCLCTTRTT_06611!A48),"|",COLUMN(BCLCTTRTT_06611!A48),",0",",0") -> 618085,48|1,0,0 | B48: =CONCATENATE(618177,",",ROW(BCLCTTRTT_06611!B48),"|",COLUMN(BCLCTTRTT_06611!B48),",0",",0") -> 618177,48|2,0,0 | C48: =CONCATENATE(618073,",",ROW(BCLCTTRTT_06611!C48),"|",COLUMN(BCLCTTRTT_06611!C48),",0",",0") -> 618073,48|3,0,0 | D48: =CONCATENATE(618076,",",ROW(BCLCTTRTT_06611!D48),"|",COLUMN(BCLCTTRTT_06611!D48),",0",",0") -> 618076,48|4,0,0 | E48: =CONCATENATE(618011,",",ROW(BCLCTTRTT_06611!E48),"|",COLUMN(BCLCTTRTT_06611!E48),",0",",0") -> 618011,48|5,0,0

Sheet PLCTTHDMGUTCKHTT_06612
A1: PHẦN LƯU CHUYỂN TIỀN TỆ HOẠT ĐỘNG MÔI GIỚI, ỦY THÁC CỦA KHÁCH HÀNG
A2: Theo phương pháp trực tiếp
A3: Chỉ tiêu | B3: Mã số | C3: Thuyết minh | D3: Năm nay | E3: Năm trước
A4: A | B4: B | C4: C | D4: 1
A5: I. Lưu chuyển tiền hoạt động môi giới, ủy thác của khách hàng
A6: 1. Tiền thu bán chứng khoán môi giới cho khách hàng | B6: 1
A7: 2. Tiền chi mua chứng khoán môi giới cho khách hàng | B7: 2
A8: 3. Tiền thu bán chứng khoán ủy thác của khách hàng | B8: 3
A9: 4.Tiền chi mua chứng khoán ủy thác của khách hàng | B9: 4
A10: 5. Thu vay Quỹ Hỗ trợ thanh toán | B10: 5
A11: 6. Chi trả vay Quỹ Hỗ trợ thanh toán | B11: 6
A12: 7. Nhận tiền gửi để thanh toán giao dịch chứng khoán của khách hàng | B12: 7
A13: 8. Nhận tiền gửi của Nhà đầu tư cho hoạt động ủy thác đầu tư của khách hàng | B13: 8
A14: 9. Chi trả phí lưu ký chứng khoán của khách hàng | B14: 9
A15: 10. Thu lỗi giao dịch chứng khoán | B15: 10
A16: 11. Chi lỗi giao dịch chứng khoán | B16: 11
A17: 12. Tiền thu của Tổ chức phát hành chứng khoán | B17: 12
... A39: Ảnh hưởng của thay đổi tỷ giá hối đoái quy đổi ngoại tệ | B39: 47

Sheet 7707_hidden
A4: =CONCATENATE(617535,",",ROW(PLCTTHDMGUTCKHTT_06612!A4),"|",COLUMN(PLCTTHDMGUTCKHTT_06612!A4),",0",",0") -> 617535,4|1,0,0 | B4: =CONCATENATE(617459,",",ROW(PLCTTHDMGUTCKHTT_06612!B4),"|",COLUMN(PLCTTHDMGUTCKHTT_06612!B4),",0",",0") -> 617459,4|2,0,0 | C4: =CONCATENATE(617426,",",ROW(PLCTTHDMGUTCKHTT_06612!C4),"|",COLUMN(PLCTTHDMGUTCKHTT_06612!C4),",0",",0") -> 617426,4|3,0,0 | D4: =CONCATENATE(617552,",",ROW(PLCTTHDMGUTCKHTT_06612!D4),"|",COLUMN(PLCTTHDMGUTCKHTT_06612!D4),",0",",0") -> 617552,4|4,0,0 | E4: =CONCATENATE(617569,",",ROW(PLCTTHDMGUTCKHTT_06612!E4),"|",COLUMN(PLCTTHDMGUTCKHTT_06612!E4),",0",",0") -> 617569,4|5,0,0
A5: =CONCATENATE(617499,",",ROW(PLCTTHDMGUTCKHTT_06612!A5),"|",COLUMN(PLCTTHDMGUTCKHTT_06612!A5),",0",",0") -> 617499,5|1,0,0 | C5: =CONCATENATE(617406,",",ROW(PLCTTHDMGUTCKHTT_06612!C5),"|",COLUMN(PLCTTHDMGUTCKHTT_06612!C5),",0",",0") -> 617406,5|3,0,0 | D5: =CONCATENATE(617543,",",ROW(PLCTTHDMGUTCKHTT_06612!D5),"|",COLUMN(PLCTTHDMGUTCKHTT_06612!D5),",0",",0") -> 617543,5|4,0,0 | E5: =CONCATENATE(617568,",",ROW(PLCTTHDMGUTCKHTT_06612!E5),"|",COLUMN(PLCTTHDMGUTCKHTT_06612!E5),",0",",0") -> 617568,5|5,0,0
A6: =CONCATENATE(617553,",",ROW(PLCTTHDMGUTCKHTT_06612!A6),"|",COLUMN(PLCTTHDMGUTCKHTT_06612!A6),",0",",0") -> 617553,6|1,0,0 | B6: =CONCATENATE(617447,",",ROW(PLCTTHDMGUTCKHTT_06612!B6),"|",COLUMN(PLCTTHDMGUTCKHTT_06612!B6),",0",",0") -> 617447,6|2,0,0 | C6: =CONCATENATE(617571,",",ROW(PLCTTHDMGUTCKHTT_06612!C6),"|",COLUMN(PLCTTHDMGUTCKHTT_06612!C6),",0",",0") -> 617571,6|3,0,0 | D6: =CONCATENATE(617408,",",ROW(PLCTTHDMGUTCKHTT_06612!D6),"|",COLUMN(PLCTTHDMGUTCKHTT_06612!D6),",0",",0") -> 617408,6|4,0,0 | E6: =CONCATENATE(617502,",",ROW(PLCTTHDMGUTCKHTT_06612!E6),"|",COLUMN(PLCTTHDMGUTCKHTT_06612!E6),",0",",0") -> 617502,6|5,0,0
A7: =CONCATENATE(617428,",",ROW(PLCTTHDMGUTCKHTT_06612!A7),"|",COLUMN(PLCTTHDMGUTCKHTT_06612!A7),",0",",0") -> 617428,7|1,0,0 | B7: =CONCATENATE(617439,",",ROW(PLCTTHDMGUTCKHTT_06612!B7),"|",COLUMN(PLCTTHDMGUTCKHTT_06612!B7),",0",",0") -> 617439,7|2,0,0 | C7: =CONCATENATE(617570,",",ROW(PLCTTHDMGUTCKHTT_06612!C7),"|",COLUMN(PLCTTHDMGUTCKHTT_06612!C7),",0",",0") -> 617570,7|3,0,0 | D7: =CONCATENATE(617409,",",ROW(PLCTTHDMGUTCKHTT_06612!D7),"|",COLUMN(PLCTTHDMGUTCKHTT_06612!D7),",0",",0") -> 617409,7|4,0,0 | E7: =CONCATENATE(617503,",",ROW(PLCTTHDMGUTCKHTT_06612!E7),"|",COLUMN(PLCTTHDMGUTCKHTT_06612!E7),",0",",0") -> 617503,7|5,0,0
A8: =CONCATENATE(617424,",",ROW(PLCTTHDMGUTCKHTT_06612!A8),"|",COLUMN(PLCTTHDMGUTCKHTT_06612!A8),",0",",0") -> 617424,8|1,0,0 | B8: =CONCATENATE(617444,",",ROW(PLCTTHDMGUTCKHTT_06612!B8),"|",COLUMN(PLCTTHDMGUTCKHTT_06612!B8),",0",",0") -> 617444,8|2,0,0 | C8: =CONCATENATE(617572,",",ROW(PLCTTHDMGUTCKHTT_06612!C8),"|",COLUMN(PLCTTHDMGUTCKHTT_06612!C8),",0",",0") -> 617572,8|3,0,0 | D8: =CONCATENATE(617410,",",ROW(PLCTTHDMGUTCKHTT_06612!D8),"|",COLUMN(PLCTTHDMGUTCKHTT_06612!D8),",0",",0") -> 617410,8|4,0,0 | E8: =CONCATENATE(617504,",",ROW(PLCTTHDMGUTCKHTT_06612!E8),"|",COLUMN(PLCTTHDMGUTCKHTT_06612!E8),",0",",0") -> 617504,8|5,0,0
A9: =CONCATENATE(617425,",",ROW(PLCTTHDMGUTCKHTT_06612!A9),"|",COLUMN(PLCTTHDMGUTCKHTT_06612!A9),",0",",0") -> 617425,9|1,0,0 | B9: =CONCATENATE(617440,",",ROW(PLCTTHDMGUTCKHTT_06612!B9),"|",COLUMN(PLCTTHDMGUTCKHTT_06612!B9),",0",",0") -> 617440,9|2,0,0 | C9: =CONCATENATE(617573,",",ROW(PLCTTHDMGUTCKHTT_06612!C9),"|",COLUMN(PLCTTHDMGUTCKHTT_06612!C9),",0",",0") -> 617573,9|3,0,0 | D9: =CONCATENATE(617411,",",ROW(PLCTTHDMGUTCKHTT_06612!D9),"|",COLUMN(PLCTTHDMGUTCKHTT_06612!D9),",0",",0") -> 617411,9|4,0,0 | E9: =CONCATENATE(617505,",",ROW(PLCTTHDMGUTCKHTT_06612!E9),"|",COLUMN(PLCTTHDMGUTCKHTT_06612!E9),",0",",0") -> 617505,9|5,0,0
A10: =CONCATENATE(617554,",",ROW(PLCTTHDMGUTCKHTT_06612!A10),"|",COLUMN(PLCTTHDMGUTCKHTT_06612!A10),",0",",0") -> 617554,10|1,0,0 | B10: =CONCATENATE(617547,",",ROW(PLCTTHDMGUTCKHTT_06612!B10),"|",COLUMN(PLCTTHDMGUTCKHTT_06612!B10),",0",",0") -> 617547,10|2,0,0 | C10: =CONCATENATE(617574,",",ROW(PLCTTHDMGUTCKHTT_06612!C10),"|",COLUMN(PLCTTHDMGUTCKHTT_06612!C10),",0",",0") -> 617574,10|3,0,0 | D10: =CONCATENATE(617412,",",ROW(PLCTTHDMGUTCKHTT_06612!D10),"|",COLUMN(PLCTTHDMGUTCKHTT_06612!D10),",0",",0") -> 617412,10|4,0,0 | E10: =CONCATENATE(617506,",",ROW(PLCTTHDMGUTCKHTT_06612!E10),"|",COLUMN(PLCTTHDMGUTCKHTT_06612!E10),",0",",0") -> 617506,10|5,0,0
A11: =CONCATENATE(617460,",",ROW(PLCTTHDMGUTCKHTT_06612!A11),"|",COLUMN(PLCTTHDMGUTCKHTT_06612!A11),",0",",0") -> 617460,11|1,0,0 | B11: =CONCATENATE(617551,",",ROW(PLCTTHDMGUTCKHTT_06612!B11),"|",COLUMN(PLCTTHDMGUTCKHTT_06612!B11),",0",",0") -> 617551,11|2,0,0 | C11: =CONCATENATE(617465,",",ROW(PLCTTHDMGUTCKHTT_06612!C11),"|",COLUMN(PLCTTHDMGUTCKHTT_06612!C11),",0",",0") -> 617465,11|3,0,0 | D11: =CONCATENATE(617413,",",ROW(PLCTTHDMGUTCKHTT_06612!D11),"|",COLUMN(PLCTTHDMGUTCKHTT_06612!D11),",0",",0") -> 617413,11|4,0,0 | E11: =CONCATENATE(617507,",",ROW(PLCTTHDMGUTCKHTT_06612!E11),"|",COLUMN(PLCTTHDMGUTCKHTT_06612!E11),",0",",0") -> 617507,11|5,0,0
A12: =CONCATENATE(617500,",",ROW(PLCTTHDMGUTCKHTT_06612!A12),"|",COLUMN(PLCTTHDMGUTCKHTT_06612!A12),",0",",0") -> 617500,12|1,0,0 | B12: =CONCATENATE(617575,",",ROW(PLCTTHDMGUTCKHTT_06612!B12),"|",COLUMN(PLCTTHDMGUTCKHTT_06612!B12),",0",",0") -> 617575,12|2,0,0 | C12: =CONCATENATE(617466,",",ROW(PLCTTHDMGUTCKHTT_06612!C12),"|",COLUMN(PLCTTHDMGUTCKHTT_06612!C12),",0",",0") -> 617466,12|3,0,0 | D12: =CONCATENATE(617414,",",ROW(PLCTTHDMGUTCKHTT_06612!D12),"|",COLUMN(PLCTTHDMGUTCKHTT_06612!D12),",0",",0") -> 617414,12|4,0,0 | E12: =CONCATENATE(617508,",",ROW(PLCTTHDMGUTCKHTT_06612!E12),"|",COLUMN(PLCTTHDMGUTCKHTT_06612!E12),",0",",0") -> 617508,12|5,0,0
A13: =CONCATENATE(617530,",",ROW(PLCTTHDMGUTCKHTT_06612!A13),"|",COLUMN(PLCTTHDMGUTCKHTT_06612!A13),",0",",0") -> 617530,13|1,0,0 | B13: =CONCATENATE(617452,",",ROW(PLCTTHDMGUTCKHTT_06612!B13),"|",COLUMN(PLCTTHDMGUTCKHTT_06612!B13),",0",",0") -> 617452,13|2,0,0 | C13: =CONCATENATE(617467,",",ROW(PLCTTHDMGUTCKHTT_06612!C13),"|",COLUMN(PLCTTHDMGUTCKHTT_06612!C13),",0",",0") -> 617467,13|3,0,0 | D13: =CONCATENATE(617415,",",ROW(PLCTTHDMGUTCKHTT_06612!D13),"|",COLUMN(PLCTTHDMGUTCKHTT_06612!D13),",0",",0") -> 617415,13|4,0,0 | E13: =CONCATENATE(617509,",",ROW(PLCTTHDMGUTCKHTT_06612!E13),"|",COLUMN(PLCTTHDMGUTCKHTT_06612!E13),",0",",0") -> 617509,13|5,0,0
A14: =CONCATENATE(617531,",",ROW(PLCTTHDMGUTCKHTT_06612!A14),"|",COLUMN(PLCTTHDMGUTCKHTT_06612!A14),",0",",0") -> 617531,14|1,0,0 | B14: =CONCATENATE(617546,",",ROW(PLCTTHDMGUTCKHTT_06612!B14),"|",COLUMN(PLCTTHDMGUTCKHTT_06612!B14),",0",",0") -> 617546,14|2,0,0 | C14: =CONCATENATE(617468,",",ROW(PLCTTHDMGUTCKHTT_06612!C14),"|",COLUMN(PLCTTHDMGUTCKHTT_06612!C14),",0",",0") -> 617468,14|3,0,0 | D14: =CONCATENATE(617416,",",ROW(PLCTTHDMGUTCKHTT_06612!D14),"|",COLUMN(PLCTTHDMGUTCKHTT_06612!D14),",0",",0") -> 617416,14|4,0,0 | E14: =CONCATENATE(617510,",",ROW(PLCTTHDMGUTCKHTT_06612!E14),"|",COLUMN(PLCTTHDMGUTCKHTT_06612!E14),",0",",0") -> 617510,14|5,0,0
A15: =CONCATENATE(617532,",",ROW(PLCTTHDMGUTCKHTT_06612!A15),"|",COLUMN(PLCTTHDMGUTCKHTT_06612!A15),",0",",0") -> 617532,15|1,0,0 | B15: =CONCATENATE(617453,",",ROW(PLCTTHDMGUTCKHTT_06612!B15),"|",COLUMN(PLCTTHDMGUTCKHTT_06612!B15),",0",",0") -> 617453,15|2,0,0 | C15: =CONCATENATE(617470,",",ROW(PLCTTHDMGUTCKHTT_06612!C15),"|",COLUMN(PLCTTHDMGUTCKHTT_06612!C15),",0",",0") -> 617470,15|3,0,0 | D15: =CONCATENATE(617417,",",ROW(PLCTTHDMGUTCKHTT_06612!D15),"|",COLUMN(PLCTTHDMGUTCKHTT_06612!D15),",0",",0") -> 617417,15|4,0,0 | E15: =CONCATENATE(617511,",",ROW(PLCTTHDMGUTCKHTT_06612!E15),"|",COLUMN(PLCTTHDMGUTCKHTT_06612!E15),",0",",0") -> 617511,15|5,0,0
A16: =CONCATENATE(617555,",",ROW(PLCTTHDMGUTCKHTT_06612!A16),"|",COLUMN(PLCTTHDMGUTCKHTT_06612!A16),",0",",0") -> 617555,16|1,0,0 | B16: =CONCATENATE(617454,",",ROW(PLCTTHDMGUTCKHTT_06612!B16),"|",COLUMN(PLCTTHDMGUTCKHTT_06612!B16),",0",",0") -> 617454,16|2,0,0 | C16: =CONCATENATE(617471,",",ROW(PLCTTHDMGUTCKHTT_06612!C16),"|",COLUMN(PLCTTHDMGUTCKHTT_06612!C16),",0",",0") -> 617471,16|3,0,0 | D16: =CONCATENATE(617418,",",ROW(PLCTTHDMGUTCKHTT_06612!D16),"|",COLUMN(PLCTTHDMGUTCKHTT_06612!D16),",0",",0") -> 617418,16|4,0,0 | E16: =CONCATENATE(617512,",",ROW(PLCTTHDMGUTCKHTT_06612!E16),"|",COLUMN(PLCTTHDMGUTCKHTT_06612!E16),",0",",0") -> 617512,16|5,0,0
A17: =CONCATENATE(617533,",",ROW(PLCTTHDMGUTCKHTT_06612!A17),"|",COLUMN(PLCTTHDMGUTCKHTT_06612!A17),",0",",0") -> 617533,17|1,0,0 | B17: =CONCATENATE(617455,",",ROW(PLCTTHDMGUTCKHTT_06612!B17),"|",COLUMN(PLCTTHDMGUTCKHTT_06612!B17),",0",",0") -> 617455,17|2,0,0 | C17: =CONCATENATE(617472,",",ROW(PLCTTHDMGUTCKHTT_06612!C17),"|",COLUMN(PLCTTHDMGUTCKHTT_06612!C17),",0",",0") -> 617472,17|3,0,0 | D17: =CONCATENATE(617419,",",ROW(PLCTTHDMGUTCKHTT_06612!D17),"|",COLUMN(PLCTTHDMGUTCKHTT_06612!D17),",0",",0") -> 617419,17|4,0,0 | E17: =CONCATENATE(617513,",",ROW(PLCTTHDMGUTCKHTT_06612!E17),"|",COLUMN(PLCTTHDMGUTCKHTT_06612!E17),",0",",0") -> 617513,17|5,0,0
A18: =CONCATENATE(617429,",",ROW(PLCTTHDMGUTCKHTT_06612!A18),"|",COLUMN(PLCTTHDMGUTCKHTT_06612!A18),",0",",0") -> 617429,18|1,0,0 | B18: =CONCATENATE(617448,",",ROW(PLCTTHDMGUTCKHTT_06612!B18),"|",COLUMN(PLCTTHDMGUTCKHTT_06612!B18),",0",",0") -> 617448,18|2,0,0 | C18: =CONCATENATE(617473,",",ROW(PLCTTHDMGUTCKHTT_06612!C18),"|",COLUMN(PLCTTHDMGUTCKHTT_06612!C18),",0",",0") -> 617473,18|3,0,0 | D18: =CONCATENATE(617420,",",ROW(PLCTTHDMGUTCKHTT_06612!D18),"|",COLUMN(PLCTTHDMGUTCKHTT_06612!D18),",0",",0") -> 617420,18|4,0,0 | E18: =CONCATENATE(617514,",",ROW(PLCTTHDMGUTCKHTT_06612!E18),"|",COLUMN(PLCTTHDMGUTCKHTT_06612!E18),",0",",0") -> 617514,18|5,0,0
A19: =CONCATENATE(617399,",",ROW(PLCTTHDMGUTCKHTT_06612!A19),"|",COLUMN(PLCTTHDMGUTCKHTT_06612!A19),",0",",0") -> 617399,19|1,0,0 | B19: =CONCATENATE(617400,",",ROW(PLCTTHDMGUTCKHTT_06612!B19),"|",COLUMN(PLCTTHDMGUTCKHTT_06612!B19),",0",",0") -> 617400,19|2,0,0 | C19: =CONCATENATE(617401,",",ROW(PLCTTHDMGUTCKHTT_06612!C19),"|",COLUMN(PLCTTHDMGUTCKHTT_06612!C19),",0",",0") -> 617401,19|3,0,0 | D19: =CONCATENATE(617402,",",ROW(PLCTTHDMGUTCKHTT_06612!D19),"|",COLUMN(PLCTTHDMGUTCKHTT_06612!D19),",0",",0") -> 617402,19|4,0,0 | E19: =CONCATENATE(617403,",",ROW(PLCTTHDMGUTCKHTT_06612!E19),"|",COLUMN(PLCTTHDMGUTCKHTT_06612!E19),",0",",0") -> 617403,19|5,0,0
A20: =CONCATENATE(617430,",",ROW(PLCTTHDMGUTCKHTT_06612!A20),"|",COLUMN(PLCTTHDMGUTCKHTT_06612!A20),",0",",0") -> 617430,20|1,0,0 | B20: =CONCATENATE(617548,",",ROW(PLCTTHDMGUTCKHTT_06612!B20),"|",COLUMN(PLCTTHDMGUTCKHTT_06612!B20),",0",",0") -> 617548,20|2,0,0 | C20: =CONCATENATE(617474,",",ROW(PLCTTHDMGUTCKHTT_06612!C20),"|",COLUMN(PLCTTHDMGUTCKHTT_06612!C20),",0",",0") -> 617474,20|3,0,0 | D20: =CONCATENATE(617421,",",ROW(PLCTTHDMGUTCKHTT_06612!D20),"|",COLUMN(PLCTTHDMGUTCKHTT_06612!D20),",0",",0") -> 617421,20|4,0,0 | E20: =CONCATENATE(617515,",",ROW(PLCTTHDMGUTCKHTT_06612!E20),"|",COLUMN(PLCTTHDMGUTCKHTT_06612!E20),",0",",0") -> 617515,20|5,0,0
A21: =CONCATENATE(617431,",",ROW(PLCTTHDMGUTCKHTT_06612!A21),"|",COLUMN(PLCTTHDMGUTCKHTT_06612!A21),",0",",0") -> 617431,21|1,0,0 | B21: =CONCATENATE(617449,",",ROW(PLCTTHDMGUTCKHTT_06612!B21),"|",COLUMN(PLCTTHDMGUTCKHTT_06612!B21),",0",",0") -> 617449,21|2,0,0 | C21: =CONCATENATE(617475,",",ROW(PLCTTHDMGUTCKHTT_06612!C21),"|",COLUMN(PLCTTHDMGUTCKHTT_06612!C21),",0",",0") -> 617475,21|3,0,0 | D21: =CONCATENATE(617422,",",ROW(PLCTTHDMGUTCKHTT_06612!D21),"|",COLUMN(PLCTTHDMGUTCKHTT_06612!D21),",0",",0") -> 617422,21|4,0,0 | E21: =CONCATENATE(617516,",",ROW(PLCTTHDMGUTCKHTT_06612!E21),"|",COLUMN(PLCTTHDMGUTCKHTT_06612!E21),",0",",0") -> 617516,21|5,0,0
A22: =CONCATENATE(617432,",",ROW(PLCTTHDMGUTCKHTT_06612!A22),"|",COLUMN(PLCTTHDMGUTCKHTT_06612!A22),",0",",0") -> 617432,22|1,0,0 | B22: =CONCATENATE(617456,",",ROW(PLCTTHDMGUTCKHTT_06612!B22),"|",COLUMN(PLCTTHDMGUTCKHTT_06612!B22),",0",",0") -> 617456,22|2,0,0 | C22: =CONCATENATE(617476,",",ROW(PLCTTHDMGUTCKHTT_06612!C22),"|",COLUMN(PLCTTHDMGUTCKHTT_06612!C22),",0",",0") -> 617476,22|3,0,0 | D22: =CONCATENATE(617488,",",ROW(PLCTTHDMGUTCKHTT_06612!D22),"|",COLUMN(PLCTTHDMGUTCKHTT_06612!D22),",0",",0") -> 617488,22|4,0,0 | E22: =CONCATENATE(617517,",",ROW(PLCTTHDMGUTCKHTT_06612!E22),"|",COLUMN(PLCTTHDMGUTCKHTT_06612!E22),",0",",0") -> 617517,22|5,0,0
A23: =CONCATENATE(617433,",",ROW(PLCTTHDMGUTCKHTT_06612!A23),"|",COLUMN(PLCTTHDMGUTCKHTT_06612!A23),",0",",0") -> 617433,23|1,0,0 | B23: =CONCATENATE(617450,",",ROW(PLCTTHDMGUTCKHTT_06612!B23),"|",COLUMN(PLCTTHDMGUTCKHTT_06612!B23),",0",",0") -> 617450,23|2,0,0 | C23: =CONCATENATE(617477,",",ROW(PLCTTHDMGUTCKHTT_06612!C23),"|",COLUMN(PLCTTHDMGUTCKHTT_06612!C23),",0",",0") -> 617477,23|3,0,0 | D23: =CONCATENATE(617489,",",ROW(PLCTTHDMGUTCKHTT_06612!D23),"|",COLUMN(PLCTTHDMGUTCKHTT_06612!D23),",0",",0") -> 617489,23|4,0,0 | E23: =CONCATENATE(617518,",",ROW(PLCTTHDMGUTCKHTT_06612!E23),"|",COLUMN(PLCTTHDMGUTCKHTT_06612!E23),",0",",0") -> 617518,23|5,0,0
A24: =CONCATENATE(617443,",",ROW(PLCTTHDMGUTCKHTT_06612!A24),"|",COLUMN(PLCTTHDMGUTCKHTT_06612!A24),",0",",0") -> 617443,24|1,0,0 | B24: =CONCATENATE(617549,",",ROW(PLCTTHDMGUTCKHTT_06612!B24),"|",COLUMN(PLCTTHDMGUTCKHTT_06612!B24),",0",",0") -> 617549,24|2,0,0 | C24: =CONCATENATE(617478,",",ROW(PLCTTHDMGUTCKHTT_06612!C24),"|",COLUMN(PLCTTHDMGUTCKHTT_06612!C24),",0",",0") -> 617478,24|3,0,0 | D24: =CONCATENATE(617490,",",ROW(PLCTTHDMGUTCKHTT_06612!D24),"|",COLUMN(PLCTTHDMGUTCKHTT_06612!D24),",0",",0") -> 617490,24|4,0,0 | E24: =CONCATENATE(617519,",",ROW(PLCTTHDMGUTCKHTT_06612!E24),"|",COLUMN(PLCTTHDMGUTCKHTT_06612!E24),",0",",0") -> 617519,24|5,0,0
A25: =CONCATENATE(617556,",",ROW(PLCTTHDMGUTCKHTT_06612!A25),"|",COLUMN(PLCTTHDMGUTCKHTT_06612!A25),",0",",0") -> 617556,25|1,0,0 | B25: =CONCATENATE(617451,",",ROW(PLCTTHDMGUTCKHTT_06612!B25),"|",COLUMN(PLCTTHDMGUTCKHTT_06612!B25),",0",",0") -> 617451,25|2,0,0 | C25: =CONCATENATE(617479,",",ROW(PLCTTHDMGUTCKHTT_06612!C25),"|",COLUMN(PLCTTHDMGUTCKHTT_06612!C25),",0",",0") -> 617479,25|3,0,0 | D25: =CONCATENATE(617491,",",ROW(PLCTTHDMGUTCKHTT_06612!D25),"|",COLUMN(PLCTTHDMGUTCKHTT_06612!D25),",0",",0") -> 617491,25|4,0,0 | E25: =CONCATENATE(617520,",",ROW(PLCTTHDMGUTCKHTT_06612!E25),"|",COLUMN(PLCTTHDMGUTCKHTT_06612!E25),",0",",0") -> 617520,25|5,0,0
A26: =CONCATENATE(617461,",",ROW(PLCTTHDMGUTCKHTT_06612!A26),"|",COLUMN(PLCTTHDMGUTCKHTT_06612!A26),",0",",0") -> 617461,26|1,0,0 | B26: =CONCATENATE(617436,",",ROW(PLCTTHDMGUTCKHTT_06612!B26),"|",COLUMN(PLCTTHDMGUTCKHTT_06612!B26),",0",",0") -> 617436,26|2,0,0 | C26: =CONCATENATE(617480,",",ROW(PLCTTHDMGUTCKHTT_06612!C26),"|",COLUMN(PLCTTHDMGUTCKHTT_06612!C26),",0",",0") -> 617480,26|3,0,0 | D26: =CONCATENATE(617492,",",ROW(PLCTTHDMGUTCKHTT_06612!D26),"|",COLUMN(PLCTTHDMGUTCKHTT_06612!D26),",0",",0") -> 617492,26|4,0,0 | E26: =CONCATENATE(617521,",",ROW(PLCTTHDMGUTCKHTT_06612!E26),"|",COLUMN(PLCTTHDMGUTCKHTT_06612!E26),",0",",0") -> 617521,26|5,0,0
A27: =CONCATENATE(617501,",",ROW(PLCTTHDMGUTCKHTT_06612!A27),"|",COLUMN(PLCTTHDMGUTCKHTT_06612!A27),",0",",0") -> 617501,27|1,0,0 | B27: =CONCATENATE(617457,",",ROW(PLCTTHDMGUTCKHTT_06612!B27),"|",COLUMN(PLCTTHDMGUTCKHTT_06612!B27),",0",",0") -> 617457,27|2,0,0 | C27: =CONCATENATE(617481,",",ROW(PLCTTHDMGUTCKHTT_06612!C27),"|",COLUMN(PLCTTHDMGUTCKHTT_06612!C27),",0",",0") -> 617481,27|3,0,0 | D27: =CONCATENATE(617493,",",ROW(PLCTTHDMGUTCKHTT_06612!D27),"|",COLUMN(PLCTTHDMGUTCKHTT_06612!D27),",0",",0") -> 617493,27|4,0,0 | E27: =CONCATENATE(617522,",",ROW(PLCTTHDMGUTCKHTT_06612!E27),"|",COLUMN(PLCTTHDMGUTCKHTT_06612!E27),",0",",0") -> 617522,27|5,0,0
A28: =CONCATENATE(617464,",",ROW(PLCTTHDMGUTCKHTT_06612!A28),"|",COLUMN(PLCTTHDMGUTCKHTT_06612!A28),",0",",0") -> 617464,28|1,0,0 | B28: =CONCATENATE(617576,",",ROW(PLCTTHDMGUTCKHTT_06612!B28),"|",COLUMN(PLCTTHDMGUTCKHTT_06612!B28),",0",",0") -> 617576,28|2,0,0 | C28: =CONCATENATE(617482,",",ROW(PLCTTHDMGUTCKHTT_06612!C28),"|",COLUMN(PLCTTHDMGUTCKHTT_06612!C28),",0",",0") -> 617482,28|3,0,0 | D28: =CONCATENATE(617494,",",ROW(PLCTTHDMGUTCKHTT_06612!D28),"|",COLUMN(PLCTTHDMGUTCKHTT_06612!D28),",0",",0") -> 617494,28|4,0,0 | E28: =CONCATENATE(617523,",",ROW(PLCTTHDMGUTCKHTT_06612!E28),"|",COLUMN(PLCTTHDMGUTCKHTT_06612!E28),",0",",0") -> 617523,28|5,0,0
A29: =CONCATENATE(617462,",",ROW(PLCTTHDMGUTCKHTT_06612!A29),"|",COLUMN(PLCTTHDMGUTCKHTT_06612!A29),",0",",0") -> 617462,29|1,0,0 | B29: =CONCATENATE(617577,",",ROW(PLCTTHDMGUTCKHTT_06612!B29),"|",COLUMN(PLCTTHDMGUTCKHTT_06612!B29),",0",",0") -> 617577,29|2,0,0 | C29: =CONCATENATE(617483,",",ROW(PLCTTHDMGUTCKHTT_06612!C29),"|",COLUMN(PLCTTHDMGUTCKHTT_06612!C29),",0",",0") -> 617483,29|3,0,0 | D29: =CONCATENATE(617495,",",ROW(PLCTTHDMGUTCKHTT_06612!D29),"|",COLUMN(PLCTTHDMGUTCKHTT_06612!D29),",0",",0") -> 617495,29|4,0,0 | E29: =CONCATENATE(617524,",",ROW(PLCTTHDMGUTCKHTT_06612!E29),"|",COLUMN(PLCTTHDMGUTCKHTT_06612!E29),",0",",0") -> 617524,29|5,0,0
A30: =CONCATENATE(617463,",",ROW(PLCTTHDMGUTCKHTT_06612!A30),"|",COLUMN(PLCTTHDMGUTCKHTT_06612!A30),",0",",0") -> 617463,30|1,0,0 | B30: =CONCATENATE(617578,",",ROW(PLCTTHDMGUTCKHTT_06612!B30),"|",COLUMN(PLCTTHDMGUTCKHTT_06612!B30),",0",",0") -> 617578,30|2,0,0 | C30: =CONCATENATE(617484,",",ROW(PLCTTHDMGUTCKHTT_06612!C30),"|",COLUMN(PLCTTHDMGUTCKHTT_06612!C30),",0",",0") -> 617484,30|3,0,0 | D30: =CONCATENATE(617496,",",ROW(PLCTTHDMGUTCKHTT_06612!D30),"|",COLUMN(PLCTTHDMGUTCKHTT_06612!D30),",0",",0") -> 617496,30|4,0,0 | E30: =CONCATENATE(617525,",",ROW(PLCTTHDMGUTCKHTT_06612!E30),"|",COLUMN(PLCTTHDMGUTCKHTT_06612!E30),",0",",0") -> 617525,30|5,0,0
A31: =CONCATENATE(617534,",",ROW(PLCTTHDMGUTCKHTT_06612!A31),"|",COLUMN(PLCTTHDMGUTCKHTT_06612!A31),",0",",0") -> 617534,31|1,0,0 | B31: =CONCATENATE(617550,",",ROW(PLCTTHDMGUTCKHTT_06612!B31),"|",COLUMN(PLCTTHDMGUTCKHTT_06612!B31),",0",",0") -> 617550,31|2,0,0 | C31: =CONCATENATE(617485,",",ROW(PLCTTHDMGUTCKHTT_06612!C31),"|",COLUMN(PLCTTHDMGUTCKHTT_06612!C31),",0",",0") -> 617485,31|3,0,0 | D31: =CONCATENATE(617497,",",ROW(PLCTTHDMGUTCKHTT_06612!D31),"|",COLUMN(PLCTTHDMGUTCKHTT_06612!D31),",0",",0") -> 617497,31|4,0,0 | E31: =CONCATENATE(617526,",",ROW(PLCTTHDMGUTCKHTT_06612!E31),"|",COLUMN(PLCTTHDMGUTCKHTT_06612!E31),",0",",0") -> 617526,31|5,0,0
A32: =CONCATENATE(617434,",",ROW(PLCTTHDMGUTCKHTT_06612!A32),"|",COLUMN(PLCTTHDMGUTCKHTT_06612!A32),",0",",0") -> 617434,32|1,0,0 | B32: =CONCATENATE(617579,",",ROW(PLCTTHDMGUTCKHTT_06612!B32),"|",COLUMN(PLCTTHDMGUTCKHTT_06612!B32),",0",",0") -> 617579,32|2,0,0 | C32: =CONCATENATE(617486,",",ROW(PLCTTHDMGUTCKHTT_06612!C32),"|",COLUMN(PLCTTHDMGUTCKHTT_06612!C32),",0",",0") -> 617486,32|3,0,0 | D32: =CONCATENATE(617498,",",ROW(PLCTTHDMGUTCKHTT_06612!D32),"|",COLUMN(PLCTTHDMGUTCKHTT_06612!D32),",0",",0") -> 617498,32|4,0,0 | E32: =CONCATENATE(617527,",",ROW(PLCTTHDMGUTCKHTT_06612!E32),"|",COLUMN(PLCTTHDMGUTCKHTT_06612!E32),",0",",0") -> 617527,32|5,0,0
A33: =CONCATENATE(617557,",",ROW(PLCTTHDMGUTCKHTT_06612!A33),"|",COLUMN(PLCTTHDMGUTCKHTT_06612!A33),",0",",0") -> 617557,33|1,0,0 | B33: =CONCATENATE(617580,",",ROW(PLCTTHDMGUTCKHTT_06612!B33),"|",COLUMN(PLCTTHDMGUTCKHTT_06612!B33),",0",",0") -> 617580,33|2,0,0 | C33: =CONCATENATE(617487,",",ROW(PLCTTHDMGUTCKHTT_06612!C33),"|",COLUMN(PLCTTHDMGUTCKHTT_06612!C33),",0",",0") -> 617487,33|3,0,0 | D33: =CONCATENATE(617536,",",ROW(PLCTTHDMGUTCKHTT_06612!D33),"|",COLUMN(PLCTTHDMGUTCKHTT_06612!D33),",0",",0") -> 617536,33|4,0,0 | E33: =CONCATENATE(617561,",",ROW(PLCTTHDMGUTCKHTT_06612!E33),"|",COLUMN(PLCTTHDMGUTCKHTT_06612!E33),",0",",0") -> 617561,33|5,0,0
A34: =CONCATENATE(617446,",",ROW(PLCTTHDMGUTCKHTT_06612!A34),"|",COLUMN(PLCTTHDMGUTCKHTT_06612!A34),",0",",0") -> 617446,34|1,0,0 | B34: =CONCATENATE(617528,",",ROW(PLCTTHDMGUTCKHTT_06612!B34),"|",COLUMN(PLCTTHDMGUTCKHTT_06612!B34),",0",",0") -> 617528,34|2,0,0 | C34: =CONCATENATE(617441,",",ROW(PLCTTHDMGUTCKHTT_06612!C34),"|",COLUMN(PLCTTHDMGUTCKHTT_06612!C34),",0",",0") -> 617441,34|3,0,0 | D34: =CONCATENATE(617537,",",ROW(PLCTTHDMGUTCKHTT_06612!D34),"|",COLUMN(PLCTTHDMGUTCKHTT_06612!D34),",0",",0") -> 617537,34|4,0,0 | E34: =CONCATENATE(617562,",",ROW(PLCTTHDMGUTCKHTT_06612!E34),"|",COLUMN(PLCTTHDMGUTCKHTT_06612!E34),",0",",0") -> 617562,34|5,0,0
A35: =CONCATENATE(617558,",",ROW(PLCTTHDMGUTCKHTT_06612!A35),"|",COLUMN(PLCTTHDMGUTCKHTT_06612!A35),",0",",0") -> 617558,35|1,0,0 | B35: =CONCATENATE(617437,",",ROW(PLCTTHDMGUTCKHTT_06612!B35),"|",COLUMN(PLCTTHDMGUTCKHTT_06612!B35),",0",",0") -> 617437,35|2,0,0 | C35: =CONCATENATE(617469,",",ROW(PLCTTHDMGUTCKHTT_06612!C35),"|",COLUMN(PLCTTHDMGUTCKHTT_06612!C35),",0",",0") -> 617469,35|3,0,0 | D35: =CONCATENATE(617538,",",ROW(PLCTTHDMGUTCKHTT_06612!D35),"|",COLUMN(PLCTTHDMGUTCKHTT_06612!D35),",0",",0") -> 617538,35|4,0,0 | E35: =CONCATENATE(617563,",",ROW(PLCTTHDMGUTCKHTT_06612!E35),"|",COLUMN(PLCTTHDMGUTCKHTT_06612!E35),",0",",0") -> 617563,35|5,0,0
A36: =CONCATENATE(617435,",",ROW(PLCTTHDMGUTCKHTT_06612!A36),"|",COLUMN(PLCTTHDMGUTCKHTT_06612!A36),",0",",0") -> 617435,36|1,0,0 | B36: =CONCATENATE(617438,",",ROW(PLCTTHDMGUTCKHTT_06612!B36),"|",COLUMN(PLCTTHDMGUTCKHTT_06612!B36),",0",",0") -> 617438,36|2,0,0 | C36: =CONCATENATE(617442,",",ROW(PLCTTHDMGUTCKHTT_06612!C36),"|",COLUMN(PLCTTHDMGUTCKHTT_06612!C36),",0",",0") -> 617442,36|3,0,0 | D36: =CONCATENATE(617539,",",ROW(PLCTTHDMGUTCKHTT_06612!D36),"|",COLUMN(PLCTTHDMGUTCKHTT_06612!D36),",0",",0") -> 617539,36|4,0,0 | E36: =CONCATENATE(617564,",",ROW(PLCTTHDMGUTCKHTT_06612!E36),"|",COLUMN(PLCTTHDMGUTCKHTT_06612!E36),",0",",0") -> 617564,36|5,0,0
A37: =CONCATENATE(617559,",",ROW(PLCTTHDMGUTCKHTT_06612!A37),"|",COLUMN(PLCTTHDMGUTCKHTT_06612!A37),",0",",0") -> 617559,37|1,0,0 | B37: =CONCATENATE(617423,",",ROW(PLCTTHDMGUTCKHTT_06612!B37),"|",COLUMN(PLCTTHDMGUTCKHTT_06612!B37),",0",",0") -> 617423,37|2,0,0 | C37: =CONCATENATE(617445,",",ROW(PLCTTHDMGUTCKHTT_06612!C37),"|",COLUMN(PLCTTHDMGUTCKHTT_06612!C37),",0",",0") -> 617445,37|3,0,0 | D37: =CONCATENATE(617540,",",ROW(PLCTTHDMGUTCKHTT_06612!D37),"|",COLUMN(PLCTTHDMGUTCKHTT_06612!D37),",0",",0") -> 617540,37|4,0,0 | E37: =CONCATENATE(617565,",",ROW(PLCTTHDMGUTCKHTT_06612!E37),"|",COLUMN(PLCTTHDMGUTCKHTT_06612!E37),",0",",0") -> 617565,37|5,0,0
A38: =CONCATENATE(617560,",",ROW(PLCTTHDMGUTCKHTT_06612!A38),"|",COLUMN(PLCTTHDMGUTCKHTT_06612!A38),",0",",0") -> 617560,38|1,0,0 | B38: =CONCATENATE(617529,",",ROW(PLCTTHDMGUTCKHTT_06612!B38),"|",COLUMN(PLCTTHDMGUTCKHTT_06612!B38),",0",",0") -> 617529,38|2,0,0 | C38: =CONCATENATE(617404,",",ROW(PLCTTHDMGUTCKHTT_06612!C38),"|",COLUMN(PLCTTHDMGUTCKHTT_06612!C38),",0",",0") -> 617404,38|3,0,0 | D38: =CONCATENATE(617541,",",ROW(PLCTTHDMGUTCKHTT_06612!D38),"|",COLUMN(PLCTTHDMGUTCKHTT_06612!D38),",0",",0") -> 617541,38|4,0,0 | E38: =CONCATENATE(617566,",",ROW(PLCTTHDMGUTCKHTT_06612!E38),"|",COLUMN(PLCTTHDMGUTCKHTT_06612!E38),",0",",0") -> 617566,38|5,0,0
A39: =CONCATENATE(617545,",",ROW(PLCTTHDMGUTCKHTT_06612!A39),"|",COLUMN(PLCTTHDMGUTCKHTT_06612!A39),",0",",0") -> 617545,39|1,0,0 | B39: =CONCATENATE(617458,",",ROW(PLCTTHDMGUTCKHTT_06612!B39),"|",COLUMN(PLCTTHDMGUTCKHTT_06612!B39),",0",",0") -> 617458,39|2,0,0 | C39: =CONCATENATE(617405,",",ROW(PLCTTHDMGUTCKHTT_06612!C39),"|",COLUMN(PLCTTHDMGUTCKHTT_06612!C39),",0",",0") -> 617405,39|3,0,0 | D39: =CONCATENATE(617542,",",ROW(PLCTTHDMGUTCKHTT_06612!D39),"|",COLUMN(PLCTTHDMGUTCKHTT_06612!D39),",0",",0") -> 617542,39|4,0,0 | E39: =CONCATENATE(617567,",",ROW(PLCTTHDMGUTCKHTT_06612!E39),"|",COLUMN(PLCTTHDMGUTCKHTT_06612!E39),",0",",0") -> 617567,39|5,0,0

Sheet BCLCTTRGT_06613
A1: BÁO CÁO LƯU CHUYỂN TIỀN TỆ RIÊNG
A2: (Theo phương pháp gián tiếp)
A3: Đơn vị tính: Đồng Việt Nam
A4: Chỉ tiêu | B4: Mã số | C4: Thuyết minh | D4: Năm nay | E4: Năm trước
A5: A | B5: B | C5: C | D5: 1 | E5: 2
A6: I. Lưu chuyển tiền từ hoạt động kinh doanh
A7: 1. Lợi nhuận trước Thuế Thu nhập doanh nghiệp | B7: 1 | D7: -196743149474 | E7: 17862576325
A8: 2. Điều chỉnh cho các khoản: | B8: 2 | D8: 8998083630 | E8: 24092577141
A9: - Khấu hao TSCĐ | B9: 3 | D9: 1389122360 | E9: 1550539967
A10: - Các khoản dự phòng | B10: 4 | D10: 685289435 | E10: 14786247711
A11: (- Lãi) hoặc (+ lỗ) chênh lệch tỷ giá hối đoái chưa thực hiện. | B11: 5
A12: - Chi phí lãi vay | B12: 6 | D12: 6677652485 | E12: 9058190700
A13: - Lãi, lỗ từ hoạt động đầu tư | B13: 7 | D13: 246019350 | E13: -1302401237
A14: - Dự thu tiền lãi | B14: 8
A15: - Các khoản điều chỉnh khác | B15: 9
A16: 3. Tăng các chi phí phi tiền tệ | B16: 10 | D16: 182316116150 | E16: 33570191736
A17: - Lỗ đánh giá lại giá trị các tài sản tài chính ghi nhận thông qua lãi/lỗ FVTPL | B17: 11 | D17: 182316116150 | E17: 33570191736
A18: - Lỗ suy giảm giá trị Các khoản đầu tư nắm giữ đến ngày đáo hạn (HTM) | B18: 12
A19: - Lỗ suy giảm giá trị Các khoản cho vay | B19: 13
A20: - Lỗ về ghi nhận chênh lệch đánh giá theo giá trị hợp lý TSTC sẵn sàng để bán AFS khi phân loại lại | B20: 14
A21: - Suy giảm giá trị của các tài sản cố định, BĐSĐT | B21: 15
A22: - Chi phí dự phòng suy giảm giá trị các khoản đầu tư tài chính dài hạn | B22: 16
A23: - Lỗ khác | B23: 17
A24: 4. Giảm các doanh thu phi tiền tệ | B24: 18 | D24: -424399236 | E24: -71012550453
A25: - Lãi đánh giá lại giá trị các tài sản tài chính ghi nhận thông qua lãi/lỗ FVTPL | B25: 19 | D25: -424399236 | E25: -71012550453
A26: - Lãi về ghi nhận chênh lệch đánh giá theo giá trị hợp lý TSTC sẵn sàng để bán (AFS) khi phân loại lại | B26: 20
A27: - Lãi khác | B27: 21
A28: 5. Lợi nhuận từ hoạt động kinh doanh trước thay đổi vốn lưu động | B28: 30 | D28: -10431153955 | E28: 25511872160
A29: - Tăng (giảm) tài sản tài chính ghi nhận thông qua lãi/lỗ FVTPL | B29: 31 | D29: -602398401374 | E29: 26257751657
A30: - Tăng (giảm) Các khoản đầu tư nắm giữ đến ngày đáo hạn (HTM) | B30: 32
A31: - Tăng (giảm) Các khoản cho vay | B31: 33 | D31: 7990727724 | E31: 25022889804
A32: - Tăng (giảm) tài sản tài chính sẵn sàng để bán AFS | B32: 34
A33: (-) Tăng, (+) giảm phải thu bán các tài sản tài chính | B33: 35 | D33: 625330599928 | E33: -8557614776
A34: (-) Tăng, (+) giảm phải thu và dự thu cổ tức, tiền lãi các tài sản tài chính | B34: 36 | D34: 0 | E34: 113000
A35: (-) Tăng, (+) giảm các khoản phải thu các dịch vụ CTCK cung cấp | B35: 37 | D35: -26227259 | E35: -142613945
A36: (-) Tăng, (+) giảm các khoản phải thu về lỗi giao dịch các TSTC | B36: 38
A37: (-) Tăng, (+) giảm các khoản phải thu khác | B37: 39 | D37: -50638137 | E37: -11013834
A38: - Tăng (giảm) các tài sản khác | B38: 40 | D38: -89770468 | E38: 3657232099
A39: - Tăng (giảm) chi phí phải trả (không bao gồm chi phí lãi vay) | B39: 41 | D39: -3017042987 | E39: -11070184590
A40: - Tăng (giảm) chi phí trả trước | B40: 42 | D40: 124416830 | E40: 875713536
A41: (-) Thuế TNDN đã nộp | B41: 43
A42: (-) Lãi vay đã trả | B42: 44 | D42: -9421536148 | E42: -12061273541
A43: - Tăng (giảm) phải trả cho người bán | B43: 45 | D43: -28588555312 | E43: 2380236019
A44: - Tăng (giảm) các khoản trích nộp phúc lợi nhân viên | B44: 46 | D44: 5144500 | E44: 63406001
A45: - Tăng (giảm) thuế và các khoản phải nộp Nhà nước (Không bao gồm thuế TNDN đã nộp) | B45: 47 | D45: -37960369 | E45: -639958509
A46: - Tăng (giảm) phải trả người lao động | B46: 48 | D46: 326282727 | E46: -55729329
A47: - Tăng (giảm) phải trả về lỗi giao dịch các TSTC | B47: 49
A48: - Tăng (giảm) phải trả, phải nộp khác | B48: 50 | D48: -82339633 | E48: 339957279
A49: - Tiền thu khác từ hoạt động kinh doanh | B49: 51
A50: - Tiền chi khác cho hoạt động kinh doanh | B50: 52 | D50: -495853977 | E50: -547038711
A51: Lưu chuyển tiền thuần từ hoạt động kinh doanh | B51: 60 | D51: -16284502885 | E51: 30024666909
A52: II. Lưu chuyển tiền từ hoạt động đầu tư
A53: 1. Tiền chi để mua sắm, xây dựng TSCĐ, BĐSĐT và các tài sản khác | B53: 61 | D53: 0 | E53: -34378560
A54: 2. Tiền thu từ thanh lý, nhượng bán TSCĐ, BĐSĐT và các tài sản khác | B54: 62 | D54: 1253636364 | E54: 0
A55: 3. Tiền chi đầu tư vốn vào công ty con, công ty liên doanh, liên kết và đầu tư khác | B55: 63
A56: 4. Tiền thu hồi các khoản đầu tư vào công ty con, công ty liên doanh, liên kết và đầu tư khác | B56: 64
A57: 5. Tiền thu về cổ tức và lợi nhuận được chia từ các khoản đầu tư tài chính dài hạn | B57: 65 | D57: 80940869 | E57: 1302401237
A58: Lưu chuyển tiền thuần từ hoạt động đầu tư | B58: 70 | D58: 1334577233 | E58: 1268022677
A59: III. Lưu chuyển tiền từ hoạt động tài chính
A60: 1.Tiền thu từ phát hành cổ phiếu, nhận vốn góp của chủ sở hữu | B60: 71
A61: 2. Tiền chi trả vốn góp cho chủ sở hữu, mua lại cổ phiếu phát hành | B61: 72
A62: 3. Tiền vay gốc | B62: 73 | D62: 132026315000 | E62: 525187904698
A63: 3.1. Tiền vay Quỹ Hỗ trợ thanh toán | B63: 73.1
A64: 3.2. Tiền vay khác | B64: 73.2 | D64: 132026315000 | E64: 525187904698
A65: 4. Tiền chi trả nợ gốc vay | B65: 74 | D65: -178177250000 | E65: -581759409804
A66: 4.1. Tiền chi trả gốc vay Quỹ Hỗ trợ thanh toán | B66: 74.1
A67: 4.2. Tiền chi trả nợ gốc vay tài sản tài chính | B67: 74.2
A68: 4.3. Tiền chi trả gốc vay khác | B68: 74.3 | D68: -178177250000 | E68: -581759409804
A69: 5. Tiền chi trả nợ gốc thuê tài chính | B69: 75
A70: 6. Cổ tức, lợi nhuận đã trả cho chủ sở hữu | B70: 76
A71: Lưu chuyển tiền thuần từ hoạt động tài chính | B71: 80 | D71: -46150935000 | E71: -56571505106
A72: IV. Tăng/giảm tiền thuần trong kỳ | B72: 90 | D72: -61100860652 | E72: -25278815520
A73: V. Tiền và các khoản tương đương tiền đầu kỳ | B73: 101 | D73: 138223648674 | E73: 108953346950
A74: - Tiền | B74: 101.1 | D74: 138223648674 | E74: 108953346950
A75: - Các khoản tương đương tiền | B75: 101.2
A76: - Ảnh hưởng của thay đổi tỷ giá hối đoái quy đổi ngoại tệ | B76: 102
A77: VI. Tiền và các khoản tương đương tiền cuối kỳ | B77: 103 | D77: 77122788022 | E77: 83674531430
A78: - Tiền | B78: 103.1 | D78: 77122788022 | E78: 83674531430
A79: - Các khoản tương đương tiền | B79: 103.2
A80: - Ảnh hưởng của thay đổi tỷ giá hối đoái quy đổi ngoại tệ | B80: 104

Sheet 7712_hidden
A5: =CONCATENATE(618665,",",ROW(BCLCTTRGT_06613!A5),"|",COLUMN(BCLCTTRGT_06613!A5),",0",",0") -> 618665,5|1,0,0 | B5: =CONCATENATE(618490,",",ROW(BCLCTTRGT_06613!B5),"|",COLUMN(BCLCTTRGT_06613!B5),",0",",0") -> 618490,5|2,0,0 | C5: =CONCATENATE(618666,",",ROW(BCLCTTRGT_06613!C5),"|",COLUMN(BCLCTTRGT_06613!C5),",0",",0") -> 618666,5|3,0,0 | D5: =CONCATENATE(618667,",",ROW(BCLCTTRGT_06613!D5),"|",COLUMN(BCLCTTRGT_06613!D5),",0",",0") -> 618667,5|4,0,0 | E5: =CONCATENATE(618578,",",ROW(BCLCTTRGT_06613!E5),"|",COLUMN(BCLCTTRGT_06613!E5),",0",",0") -> 618578,5|5,0,0
A6: =CONCATENATE(618579,",",ROW(BCLCTTRGT_06613!A6),"|",COLUMN(BCLCTTRGT_06613!A6),",0",",0") -> 618579,6|1,0,0 | C6: =CONCATENATE(618690,",",ROW(BCLCTTRGT_06613!C6),"|",COLUMN(BCLCTTRGT_06613!C6),",0",",0") -> 618690,6|3,0,0 | D6: =CONCATENATE(618566,",",ROW(BCLCTTRGT_06613!D6),"|",COLUMN(BCLCTTRGT_06613!D6),",0",",0") -> 618566,6|4,0,0 | E6: =CONCATENATE(618752,",",ROW(BCLCTTRGT_06613!E6),"|",COLUMN(BCLCTTRGT_06613!E6),",0",",0") -> 618752,6|5,0,0
A7: =CONCATENATE(618668,",",ROW(BCLCTTRGT_06613!A7),"|",COLUMN(BCLCTTRGT_06613!A7),",0",",0") -> 618668,7|1,0,0 | B7: =CONCATENATE(618576,",",ROW(BCLCTTRGT_06613!B7),"|",COLUMN(BCLCTTRGT_06613!B7),",0",",0") -> 618576,7|2,0,0 | C7: =CONCATENATE(618815,",",ROW(BCLCTTRGT_06613!C7),"|",COLUMN(BCLCTTRGT_06613!C7),",0",",0") -> 618815,7|3,0,0 | D7: =CONCATENATE(618541,",",ROW(BCLCTTRGT_06613!D7),"|",COLUMN(BCLCTTRGT_06613!D7),",0",",0") -> 618541,7|4,0,0 | E7: =CONCATENATE(618726,",",ROW(BCLCTTRGT_06613!E7),"|",COLUMN(BCLCTTRGT_06613!E7),",0",",0") -> 618726,7|5,0,0
A8: =CONCATENATE(618580,",",ROW(BCLCTTRGT_06613!A8),"|",COLUMN(BCLCTTRGT_06613!A8),",0",",0") -> 618580,8|1,0,0 | B8: =CONCATENATE(618654,",",ROW(BCLCTTRGT_06613!B8),"|",COLUMN(BCLCTTRGT_06613!B8),",0",",0") -> 618654,8|2,0,0 | C8: =CONCATENATE(618816,",",ROW(BCLCTTRGT_06613!C8),"|",COLUMN(BCLCTTRGT_06613!C8),",0",",0") -> 618816,8|3,0,0 | D8: =CONCATENATE(618542,",",ROW(BCLCTTRGT_06613!D8),"|",COLUMN(BCLCTTRGT_06613!D8),",0",",0") -> 618542,8|4,0,0 | E8: =CONCATENATE(618727,",",ROW(BCLCTTRGT_06613!E8),"|",COLUMN(BCLCTTRGT_06613!E8),",0",",0") -> 618727,8|5,0,0
A9: =CONCATENATE(618824,",",ROW(BCLCTTRGT_06613!A9),"|",COLUMN(BCLCTTRGT_06613!A9),",0",",0") -> 618824,9|1,0,0 | B9: =CONCATENATE(618577,",",ROW(BCLCTTRGT_06613!B9),"|",COLUMN(BCLCTTRGT_06613!B9),",0",",0") -> 618577,9|2,0,0 | C9: =CONCATENATE(618817,",",ROW(BCLCTTRGT_06613!C9),"|",COLUMN(BCLCTTRGT_06613!C9),",0",",0") -> 618817,9|3,0,0 | D9: =CONCATENATE(618543,",",ROW(BCLCTTRGT_06613!D9),"|",COLUMN(BCLCTTRGT_06613!D9),",0",",0") -> 618543,9|4,0,0 | E9: =CONCATENATE(618728,",",ROW(BCLCTTRGT_06613!E9),"|",COLUMN(BCLCTTRGT_06613!E9),",0",",0") -> 618728,9|5,0,0
A10: =CONCATENATE(618615,",",ROW(BCLCTTRGT_06613!A10),"|",COLUMN(BCLCTTRGT_06613!A10),",0",",0") -> 618615,10|1,0,0 | B10: =CONCATENATE(618593,",",ROW(BCLCTTRGT_06613!B10),"|",COLUMN(BCLCTTRGT_06613!B10),",0",",0") -> 618593,10|2,0,0 | C10: =CONCATENATE(618818,",",ROW(BCLCTTRGT_06613!C10),"|",COLUMN(BCLCTTRGT_06613!C10),",0",",0") -> 618818,10|3,0,0 | D10: =CONCATENATE(618544,",",ROW(BCLCTTRGT_06613!D10),"|",COLUMN(BCLCTTRGT_06613!D10),",0",",0") -> 618544,10|4,0,0 | E10: =CONCATENATE(618729,",",ROW(BCLCTTRGT_06613!E10),"|",COLUMN(BCLCTTRGT_06613!E10),",0",",0") -> 618729,10|5,0,0
A11: =CONCATENATE(618825,",",ROW(BCLCTTRGT_06613!A11),"|",COLUMN(BCLCTTRGT_06613!A11),",0",",0") -> 618825,11|1,0,0 | B11: =CONCATENATE(618594,",",ROW(BCLCTTRGT_06613!B11),"|",COLUMN(BCLCTTRGT_06613!B11),",0",",0") -> 618594,11|2,0,0 | C11: =CONCATENATE(618499,",",ROW(BCLCTTRGT_06613!C11),"|",COLUMN(BCLCTTRGT_06613!C11),",0",",0") -> 618499,11|3,0,0 | D11: =CONCATENATE(618545,",",ROW(BCLCTTRGT_06613!D11),"|",COLUMN(BCLCTTRGT_06613!D11),",0",",0") -> 618545,11|4,0,0 | E11: =CONCATENATE(618730,",",ROW(BCLCTTRGT_06613!E11),"|",COLUMN(BCLCTTRGT_06613!E11),",0",",0") -> 618730,11|5,0,0
