Workbook

Sheet Trang bìa
B8: Kính gửi: Ủy ban Chứng khoán Nhà nước | C8: Kính gửi: Ủy ban Chứng khoán Nhà nước
B10: BÁO CÁO TÀI CHÍNH RIÊNG LẺ
B12: Thông tư số 334/2016/TT-BTC ngày 27/12/2016 của Bộ Tài chính
B13: STT | C13: Nội dung | D13: Mã sheet
B14: 1 | C14: BÁO CÁO TÌNH HÌNH TÀI CHÍNH RIÊNG | D14: BCTCR_06608
B15: 2 | C15: CÁC CHỈ TIÊU NGOÀI BÁO CÁO TÌNH HÌNH TÀI CHÍNH RIÊNG | D15: CCTTCR_06609
B16: 3 | C16: BÁO CÁO KẾT QUẢ HOẠT ĐỘNG RIÊNG | D16: BCKQHDR_06610
B17: 4 | C17: BÁO CÁO LƯU CHUYỂN TIỀN TỆ RIÊNG | D17: BCLCTTRTT_06611
B18: 5 | C18: PHẦN LƯU CHUYỂN TIỀN TỆ HOẠT ĐỘNG MÔI GIỚI, ỦY THÁC CỦA KHÁCH HÀNG | D18: PLCTTHDMGUTCKHTT_06612
B19: 6 | C19: BÁO CÁO LƯU CHUYỂN TIỀN TỆ RIÊNG | D19: BCLCTTRGT_06613
B20: 7 | C20: PHẦN LƯU CHUYỂN TIỀN TỆ HOẠT ĐỘNG MÔI GIỚI, ỦY THÁC CỦA KHÁCH HÀNG | D20: PLCTTHDMGUTCKHGT_06614
B21: 8 | C21: BÁO CÁO TÌNH HÌNH BIẾN ĐỘNG VỐN CHỦ SỞ HỮU | D21: BCTHBDVCSH_06615
B23: Ghi chú
B24: Không đổi tên sheet Những chỉ tiêu không có số liệu có thể không phải trình bày nhưng không được đánh lại “Mã chỉ tiêu”. Không được xóa cột trên sheet
D26: Lập, ngày 16 tháng 04 năm 2026
B27: Người lập biểu | C27: Kế toán trưởng | D27: Giám đốc
B28: (Ký, họ tên) | C28: (Ký, họ tên) | D28: (Ký, họ tên, đóng dấu)

Sheet Setting
A1: 3491

Sheet BCTCR_06608
A1: BÁO CÁO TÌNH HÌNH TÀI CHÍNH RIÊNG
A2: Tại ngày 31 tháng 03 năm 2026
A3: Đơn vị tính: Đồng Việt Nam
A4: Chỉ tiêu | B4: Mã số | C4: Thuyết minh | D4: Số cuối năm | E4: Số đầu năm
A5: A | B5: B | C5: C | D5: 1 | E5: 2
A6: TÀI SẢN
A7: A. TÀI SẢN NGẮN HẠN (100 = 110 + 130) | B7: 100 | D7: 2024578375841 | E7: 2298087722425
A8: I. Tài sản tài chính | B8: 110 | D8: 2021476460458 | E8: 2296016292341
A9: 1.Tiền và các khoản tương đương tiền | B9: 111 | D9: 77122788022 | E9: 138223648674
A10: 1.1. Tiền | B10: 111.1 | D10: 77122788022 | E10: 138223648674
A11: 1.2. Các khoản tương đương tiền | B11: 111.2
A12: 2. Các tài sản tài chính ghi nhận thông qua lãi/lỗ (FVTPL) | B12: 112 | D12: 1334826549320 | E12: 914319864860
A13: 3. Các khoản đầu tư nắm giữ đến ngày đáo hạn (HTM) | B13: 113
A14: 4. Các khoản cho vay | B14: 114 | D14: 84399330532 | E14: 92390058256
A15: 5. Tài sản tài chính sẵn sàng để bán (AFS) | B15: 115 | D15: 30310000000 | E15: 30310000000
A16: 6. Dự phòng suy giảm giá trị các tài sản tài chính và tài sản thế chấp | B16: 116 | D16: -26145575047 | E16: -25460285612
A17: 7. Các khoản phải thu | B17: 117 | D17: 518870022775 | E17: 1144200622703
A18: 7.1. Phải thu bán các tài sản tài chính | B18: 117.1 | D18: 518870022775 | E18: 1144200622703
A19: 7.2. Phải thu và dự thu cổ tức, tiền lãi các tài sản tài chính | B19: 117.2
A20: 7.2.1. Phải thu cổ tức, tiền lãi đến ngày nhận | B20: 117.3
A21: 7.2.2. Dự thu cổ tức, tiền lãi chưa đến ngày nhận | B21: 117.4
A22: 8. Trả trước cho người bán | B22: 118 | D22: 2689000000 | E22: 2689000000
A23: 9. Phải thu các dịch vụ CTCK cung cấp | B23: 119 | D23: 1986027536 | E23: 1975704277
A24: 10. Phải thu nội bộ | B24: 120
A25: 11. Phải thu về lỗi giao dịch chứng khoán | B25: 121
A26: 12. Các khoản phải thu khác | B26: 122 | D26: 1731317320 | E26: 1680679183
A27: 13. Dự phòng suy giảm giá trị các khoản phải thu (*) | B27: 129 | D27: -4313000000 | E27: -4313000000
A28: II. Tài sản ngắn hạn khác | B28: 130 | D28: 3101915383 | E28: 2071430084
A29: 1. Tạm ứng | B29: 131 | D29: 973976486 | E29: 20103478
A30: 2. Vật tư văn phòng, công cụ, dụng cụ | B30: 132
A31: 3. Chi phí trả trước ngắn hạn | B31: 133 | D31: 1527986810 | E31: 1451374519
A32: 4. Cầm cố, thế chấp, ký quỹ, ký cược ngắn hạn | B32: 134
A33: 5. Thuế giá trị gia tăng được khấu trừ | B33: 135
A34: 6. Thuế và các khoản khác phải thu Nhà nước | B34: 136 | D34: 599952087 | E34: 599952087
A35: 7. Tài sản ngắn hạn khác | B35: 137
A36: 8. Giao dịch mua bán lại trái phiếu Chính phủ | B36: 138
A37: 9. Dự phòng suy giảm giá trị tài sản ngắn hạn khác | B37: 139
A38: B. TÀI SẢN DÀI HẠN (200 = 210 + 220 + 230 + 240 + 250 - 260) | B38: 200 | D38: 80081119041 | E38: 49460780740
A39: I. Tài sản tài chính dài hạn | B39: 210
A40: 1. Các khoản phải thu dài hạn | B40: 211
...

Sheet 7713_hidden
A5: =CONCATENATE(618860,",",ROW(BCTCR_06608!A5),"|",COLUMN(BCTCR_06608!A5),",0",",0") -> 618860,5|1,0,0 | B5: =CONCATENATE(619032,",",ROW(BCTCR_06608!B5),"|",COLUMN(BCTCR_06608!B5),",0",",0") -> 619032,5|2,0,0 | C5: =CONCATENATE(618914,",",ROW(BCTCR_06608!C5),"|",COLUMN(BCTCR_06608!C5),",0",",0") -> 618914,5|3,0,0 | D5: =CONCATENATE(619368,",",ROW(BCTCR_06608!D5),"|",COLUMN(BCTCR_06608!D5),",0",",0") -> 619368,5|4,0,0 | E5: =CONCATENATE(618915,",",ROW(BCTCR_06608!E5),"|",COLUMN(BCTCR_06608!E5),",0",",0") -> 618915,5|5,0,0
A6: =CONCATENATE(619287,",",ROW(BCTCR_06608!A6),"|",COLUMN(BCTCR_06608!A6),",0",",0") -> 619287,6|1,0,0 | C6: =CONCATENATE(619397,",",ROW(BCTCR_06608!C6),"|",COLUMN(BCTCR_06608!C6),",0",",0") -> 619397,6|3,0,0 | D6: =CONCATENATE(619044,",",ROW(BCTCR_06608!D6),"|",COLUMN(BCTCR_06608!D6),",0",",0") -> 619044,6|4,0,0 | E6: =CONCATENATE(619455,",",ROW(BCTCR_06608!E6),"|",COLUMN(BCTCR_06608!E6),",0",",0") -> 619455,6|5,0,0
A7: =CONCATENATE(619128,",",ROW(BCTCR_06608!A7),"|",COLUMN(BCTCR_06608!A7),",0",",0") -> 619128,7|1,0,0 | B7: =CONCATENATE(619411,",",ROW(BCTCR_06608!B7),"|",COLUMN(BCTCR_06608!B7),",0",",0") -> 619411,7|2,0,0 | C7: =CONCATENATE(619347,",",ROW(BCTCR_06608!C7),"|",COLUMN(BCTCR_06608!C7),",0",",0") -> 619347,7|3,0,0 | D7: =CONCATENATE(619480,",",ROW(BCTCR_06608!D7),"|",COLUMN(BCTCR_06608!D7),",0",",0") -> 619480,7|4,0,0 | E7: =CONCATENATE(619150,",",ROW(BCTCR_06608!E7),"|",COLUMN(BCTCR_06608!E7),",0",",0") -> 619150,7|5,0,0
A8: =CONCATENATE(619210,",",ROW(BCTCR_06608!A8),"|",COLUMN(BCTCR_06608!A8),",0",",0") -> 619210,8|1,0,0 | B8: =CONCATENATE(619026,",",ROW(BCTCR_06608!B8),"|",COLUMN(BCTCR_06608!B8),",0",",0") -> 619026,8|2,0,0 | C8: =CONCATENATE(619046,",",ROW(BCTCR_06608!C8),"|",COLUMN(BCTCR_06608!C8),",0",",0") -> 619046,8|3,0,0 | D8: =CONCATENATE(619456,",",ROW(BCTCR_06608!D8),"|",COLUMN(BCTCR_06608!D8),",0",",0") -> 619456,8|4,0,0 | E8: =CONCATENATE(618926,",",ROW(BCTCR_06608!E8),"|",COLUMN(BCTCR_06608!E8),",0",",0") -> 618926,8|5,0,0
A9: =CONCATENATE(619129,",",ROW(BCTCR_06608!A9),"|",COLUMN(BCTCR_06608!A9),",0",",0") -> 619129,9|1,0,0 | B9: =CONCATENATE(619412,",",ROW(BCTCR_06608!B9),"|",COLUMN(BCTCR_06608!B9),",0",",0") -> 619412,9|2,0,0 | C9: =CONCATENATE(619358,",",ROW(BCTCR_06608!C9),"|",COLUMN(BCTCR_06608!C9),",0",",0") -> 619358,9|3,0,0 | D9: =CONCATENATE(619452,",",ROW(BCTCR_06608!D9),"|",COLUMN(BCTCR_06608!D9),",0",",0") -> 619452,9|4,0,0 | E9: =CONCATENATE(619160,",",ROW(BCTCR_06608!E9),"|",COLUMN(BCTCR_06608!E9),",0",",0") -> 619160,9|5,0,0
A10: =CONCATENATE(619211,",",ROW(BCTCR_06608!A10),"|",COLUMN(BCTCR_06608!A10),",0",",0") -> 619211,10|1,0,0 | B10: =CONCATENATE(618954,",",ROW(BCTCR_06608!B10),"|",COLUMN(BCTCR_06608!B10),",0",",0") -> 618954,10|2,0,0 | C10: =CONCATENATE(619047,",",ROW(BCTCR_06608!C10),"|",COLUMN(BCTCR_06608!C10),",0",",0") -> 619047,10|3,0,0 | D10: =CONCATENATE(619457,",",ROW(BCTCR_06608!D10),"|",COLUMN(BCTCR_06608!D10),",0",",0") -> 619457,10|4,0,0 | E10: =CONCATENATE(618916,",",ROW(BCTCR_06608!E10),"|",COLUMN(BCTCR_06608!E10),",0",",0") -> 618916,10|5,0,0
A11: =CONCATENATE(619189,",",ROW(BCTCR_06608!A11),"|",COLUMN(BCTCR_06608!A11),",0",",0") -> 619189,11|1,0,0 | B11: =CONCATENATE(619015,",",ROW(BCTCR_06608!B11),"|",COLUMN(BCTCR_06608!B11),",0",",0") -> 619015,11|2,0,0 | C11: =CONCATENATE(619314,",",ROW(BCTCR_06608!C11),"|",COLUMN(BCTCR_06608!C11),",0",",0") -> 619314,11|3,0,0 | D11: =CONCATENATE(619497,",",ROW(BCTCR_06608!D11),"|",COLUMN(BCTCR_06608!D11),",0",",0") -> 619497,11|4,0,0 | E11: =CONCATENATE(619285,",",ROW(BCTCR_06608!E11),"|",COLUMN(BCTCR_06608!E11),",0",",0") -> 619285,11|5,0,0
A12: =CONCATENATE(619212,",",ROW(BCTCR_06608!A12),"|",COLUMN(BCTCR_06608!A12),",0",",0") -> 619212,12|1,0,0 | B12: =CONCATENATE(619244,",",ROW(BCTCR_06608!B12),"|",COLUMN(BCTCR_06608!B12),",0",",0") -> 619244,12|2,0,0 | C12: =CONCATENATE(619048,",",ROW(BCTCR_06608!C12),"|",COLUMN(BCTCR_06608!C12),",0",",0") -> 619048,12|3,0,0 | D12: =CONCATENATE(619458,",",ROW(BCTCR_06608!D12),"|",COLUMN(BCTCR_06608!D12),",0",",0") -> 619458,12|4,0,0 | E12: =CONCATENATE(618917,",",ROW(BCTCR_06608!E12),"|",COLUMN(BCTCR_06608!E12),",0",",0") -> 618917,12|5,0,0
A13: =CONCATENATE(619130,",",ROW(BCTCR_06608!A13),"|",COLUMN(BCTCR_06608!A13),",0",",0") -> 619130,13|1,0,0 | B13: =CONCATENATE(619413,",",ROW(BCTCR_06608!B13),"|",COLUMN(BCTCR_06608!B13),",0",",0") -> 619413,13|2,0,0 | C13: =CONCATENATE(619359,",",ROW(BCTCR_06608!C13),"|",COLUMN(BCTCR_06608!C13),",0",",0") -> 619359,13|3,0,0 | D13: =CONCATENATE(619045,",",ROW(BCTCR_06608!D13),"|",COLUMN(BCTCR_06608!D13),",0",",0") -> 619045,13|4,0,0 | E13: =CONCATENATE(619227,",",ROW(BCTCR_06608!E13),"|",COLUMN(BCTCR_06608!E13),",0",",0") -> 619227,13|5,0,0
A14: =CONCATENATE(619131,",",ROW(BCTCR_06608!A14),"|",COLUMN(BCTCR_06608!A14),",0",",0") -> 619131,14|1,0,0 | B14: =CONCATENATE(619118,",",ROW(BCTCR_06608!B14),"|",COLUMN(BCTCR_06608!B14),",0",",0") -> 619118,14|2,0,0 | C14: =CONCATENATE(619360,",",ROW(BCTCR_06608!C14),"|",COLUMN(BCTCR_06608!C14),",0",",0") -> 619360,14|3,0,0 | D14: =CONCATENATE(618974,",",ROW(BCTCR_06608!D14),"|",COLUMN(BCTCR_06608!D14),",0",",0") -> 618974,14|4,0,0 | E14: =CONCATENATE(619228,",",ROW(BCTCR_06608!E14),"|",COLUMN(BCTCR_06608!E14),",0",",0") -> 619228,14|5,0,0
A15: =CONCATENATE(619213,",",ROW(BCTCR_06608!A15),"|",COLUMN(BCTCR_06608!A15),",0",",0") -> 619213,15|1,0,0 | B15: =CONCATENATE(619016,",",ROW(BCTCR_06608!B15),"|",COLUMN(BCTCR_06608!B15),",0",",0") -> 619016,15|2,0,0 | C15: =CONCATENATE(619049,",",ROW(BCTCR_06608!C15),"|",COLUMN(BCTCR_06608!C15),",0",",0") -> 619049,15|3,0,0 | D15: =CONCATENATE(619459,",",ROW(BCTCR_06608!D15),"|",COLUMN(BCTCR_06608!D15),",0",",0") -> 619459,15|4,0,0 | E15: =CONCATENATE(618918,",",ROW(BCTCR_06608!E15),"|",COLUMN(BCTCR_06608!E15),",0",",0") -> 618918,15|5,0,0
A16: =CONCATENATE(619132,",",ROW(BCTCR_06608!A16),"|",COLUMN(BCTCR_06608!A16),",0",",0") -> 619132,16|1,0,0 | B16: =CONCATENATE(618955,",",ROW(BCTCR_06608!B16),"|",COLUMN(BCTCR_06608!B16),",0",",0") -> 618955,16|2,0,0 | C16: =CONCATENATE(619361,",",ROW(BCTCR_06608!C16),"|",COLUMN(BCTCR_06608!C16),",0",",0") -> 619361,16|3,0,0 | D16: =CONCATENATE(618975,",",ROW(BCTCR_06608!D16),"|",COLUMN(BCTCR_06608!D16),",0",",0") -> 618975,16|4,0,0 | E16: =CONCATENATE(619161,",",ROW(BCTCR_06608!E16),"|",COLUMN(BCTCR_06608!E16),",0",",0") -> 619161,16|5,0,0
A17: =CONCATENATE(619214,",",ROW(BCTCR_06608!A17),"|",COLUMN(BCTCR_06608!A17),",0",",0") -> 619214,17|1,0,0 | B17: =CONCATENATE(619119,",",ROW(BCTCR_06608!B17),"|",COLUMN(BCTCR_06608!B17),",0",",0") -> 619119,17|2,0,0 | C17: =CONCATENATE(619050,",",ROW(BCTCR_06608!C17),"|",COLUMN(BCTCR_06608!C17),",0",",0") -> 619050,17|3,0,0 | D17: =CONCATENATE(619460,",",ROW(BCTCR_06608!D17),"|",COLUMN(BCTCR_06608!D17),",0",",0") -> 619460,17|4,0,0 | E17: =CONCATENATE(618920,",",ROW(BCTCR_06608!E17),"|",COLUMN(BCTCR_06608!E17),",0",",0") -> 618920,17|5,0,0
A18: =CONCATENATE(619215,",",ROW(BCTCR_06608!A18),"|",COLUMN(BCTCR_06608!A18),",0",",0") -> 619215,18|1,0,0 | B18: =CONCATENATE(618956,",",ROW(BCTCR_06608!B18),"|",COLUMN(BCTCR_06608!B18),",0",",0") -> 618956,18|2,0,0 | C18: =CONCATENATE(619051,",",ROW(BCTCR_06608!C18),"|",COLUMN(BCTCR_06608!C18),",0",",0") -> 619051,18|3,0,0 | D18: =CONCATENATE(619461,",",ROW(BCTCR_06608!D18),"|",COLUMN(BCTCR_06608!D18),",0",",0") -> 619461,18|4,0,0 | E18: =CONCATENATE(618921,",",ROW(BCTCR_06608!E18),"|",COLUMN(BCTCR_06608!E18),",0",",0") -> 618921,18|5,0,0
A19: =CONCATENATE(618861,",",ROW(BCTCR_06608!A19),"|",COLUMN(BCTCR_06608!A19),",0",",0") -> 618861,19|1,0,0 | B19: =CONCATENATE(618967,",",ROW(BCTCR_06608!B19),"|",COLUMN(BCTCR_06608!B19),",0",",0") -> 618967,19|2,0,0 | C19: =CONCATENATE(619362,",",ROW(BCTCR_06608!C19),"|",COLUMN(BCTCR_06608!C19),",0",",0") -> 619362,19|3,0,0 | D19: =CONCATENATE(618976,",",ROW(BCTCR_06608!D19),"|",COLUMN(BCTCR_06608!D19),",0",",0") -> 618976,19|4,0,0 | E19: =CONCATENATE(619162,",",ROW(BCTCR_06608!E19),"|",COLUMN(BCTCR_06608!E19),",0",",0") -> 619162,19|5,0,0
A20: =CONCATENATE(619133,",",ROW(BCTCR_06608!A20),"|",COLUMN(BCTCR_06608!A20),",0",",0") -> 619133,20|1,0,0 | B20: =CONCATENATE(619017,",",ROW(BCTCR_06608!B20),"|",COLUMN(BCTCR_06608!B20),",0",",0") -> 619017,20|2,0,0 | C20: =CONCATENATE(619315,",",ROW(BCTCR_06608!C20),"|",COLUMN(BCTCR_06608!C20),",0",",0") -> 619315,20|3,0,0 | D20: =CONCATENATE(619498,",",ROW(BCTCR_06608!D20),"|",COLUMN(BCTCR_06608!D20),",0",",0") -> 619498,20|4,0,0 | E20: =CONCATENATE(619377,",",ROW(BCTCR_06608!E20),"|",COLUMN(BCTCR_06608!E20),",0",",0") -> 619377,20|5,0,0
A21: =CONCATENATE(619190,",",ROW(BCTCR_06608!A21),"|",COLUMN(BCTCR_06608!A21),",0",",0") -> 619190,21|1,0,0 | B21: =CONCATENATE(619414,",",ROW(BCTCR_06608!B21),"|",COLUMN(BCTCR_06608!B21),",0",",0") -> 619414,21|2,0,0 | C21: =CONCATENATE(619363,",",ROW(BCTCR_06608!C21),"|",COLUMN(BCTCR_06608!C21),",0",",0") -> 619363,21|3,0,0 | D21: =CONCATENATE(618977,",",ROW(BCTCR_06608!D21),"|",COLUMN(BCTCR_06608!D21),",0",",0") -> 618977,21|4,0,0 | E21: =CONCATENATE(619163,",",ROW(BCTCR_06608!E21),"|",COLUMN(BCTCR_06608!E21),",0",",0") -> 619163,21|5,0,0
A22: =CONCATENATE(618864,",",ROW(BCTCR_06608!A22),"|",COLUMN(BCTCR_06608!A22),",0",",0") -> 618864,22|1,0,0 | B22: =CONCATENATE(619274,",",ROW(BCTCR_06608!B22),"|",COLUMN(BCTCR_06608!B22),",0",",0") -> 619274,22|2,0,0 | C22: =CONCATENATE(619364,",",ROW(BCTCR_06608!C22),"|",COLUMN(BCTCR_06608!C22),",0",",0") -> 619364,22|3,0,0 | D22: =CONCATENATE(618978,",",ROW(BCTCR_06608!D22),"|",COLUMN(BCTCR_06608!D22),",0",",0") -> 618978,22|4,0,0 | E22: =CONCATENATE(619164,",",ROW(BCTCR_06608!E22),"|",COLUMN(BCTCR_06608!E22),",0",",0") -> 619164,22|5,0,0
A23: =CONCATENATE(619216,",",ROW(BCTCR_06608!A23),"|",COLUMN(BCTCR_06608!A23),",0",",0") -> 619216,23|1,0,0 | B23: =CONCATENATE(619018,",",ROW(BCTCR_06608!B23),"|",COLUMN(BCTCR_06608!B23),",0",",0") -> 619018,23|2,0,0 | C23: =CONCATENATE(619351,",",ROW(BCTCR_06608!C23),"|",COLUMN(BCTCR_06608!C23),",0",",0") -> 619351,23|3,0,0 | D23: =CONCATENATE(619462,",",ROW(BCTCR_06608!D23),"|",COLUMN(BCTCR_06608!D23),",0",",0") -> 619462,23|4,0,0 | E23: =CONCATENATE(618922,",",ROW(BCTCR_06608!E23),"|",COLUMN(BCTCR_06608!E23),",0",",0") -> 618922,23|5,0,0
A24: =CONCATENATE(619191,",",ROW(BCTCR_06608!A24),"|",COLUMN(BCTCR_06608!A24),",0",",0") -> 619191,24|1,0,0 | B24: =CONCATENATE(619275,",",ROW(BCTCR_06608!B24),"|",COLUMN(BCTCR_06608!B24),",0",",0") -> 619275,24|2,0,0 | C24: =CONCATENATE(619365,",",ROW(BCTCR_06608!C24),"|",COLUMN(BCTCR_06608!C24),",0",",0") -> 619365,24|3,0,0 | D24: =CONCATENATE(618979,",",ROW(BCTCR_06608!D24),"|",COLUMN(BCTCR_06608!D24),",0",",0") -> 618979,24|4,0,0 | E24: =CONCATENATE(619165,",",ROW(BCTCR_06608!E24),"|",COLUMN(BCTCR_06608!E24),",0",",0") -> 619165,24|5,0,0
A25: =CONCATENATE(619217,",",ROW(BCTCR_06608!A25),"|",COLUMN(BCTCR_06608!A25),",0",",0") -> 619217,25|1,0,0 | B25: =CONCATENATE(619276,",",ROW(BCTCR_06608!B25),"|",COLUMN(BCTCR_06608!B25),",0",",0") -> 619276,25|2,0,0 | C25: =CONCATENATE(619052,",",ROW(BCTCR_06608!C25),"|",COLUMN(BCTCR_06608!C25),",0",",0") -> 619052,25|3,0,0 | D25: =CONCATENATE(619463,",",ROW(BCTCR_06608!D25),"|",COLUMN(BCTCR_06608!D25),",0",",0") -> 619463,25|4,0,0 | E25: =CONCATENATE(618923,",",ROW(BCTCR_06608!E25),"|",COLUMN(BCTCR_06608!E25),",0",",0") -> 618923,25|5,0,0
A26: =CONCATENATE(619134,",",ROW(BCTCR_06608!A26),"|",COLUMN(BCTCR_06608!A26),",0",",0") -> 619134,26|1,0,0 | B26: =CONCATENATE(619120,",",ROW(BCTCR_06608!B26),"|",COLUMN(BCTCR_06608!B26),",0",",0") -> 619120,26|2,0,0 | C26: =CONCATENATE(619366,",",ROW(BCTCR_06608!C26),"|",COLUMN(BCTCR_06608!C26),",0",",0") -> 619366,26|3,0,0 | D26: =CONCATENATE(618980,",",ROW(BCTCR_06608!D26),"|",COLUMN(BCTCR_06608!D26),",0",",0") -> 618980,26|4,0,0 | E26: =CONCATENATE(619166,",",ROW(BCTCR_06608!E26),"|",COLUMN(BCTCR_06608!E26),",0",",0") -> 619166,26|5,0,0
A27: =CONCATENATE(618865,",",ROW(BCTCR_06608!A27),"|",COLUMN(BCTCR_06608!A27),",0",",0") -> 618865,27|1,0,0 | B27: =CONCATENATE(619121,",",ROW(BCTCR_06608!B27),"|",COLUMN(BCTCR_06608!B27),",0",",0") -> 619121,27|2,0,0 | C27: =CONCATENATE(619367,",",ROW(BCTCR_06608!C27),"|",COLUMN(BCTCR_06608!C27),",0",",0") -> 619367,27|3,0,0 | D27: =CONCATENATE(618981,",",ROW(BCTCR_06608!D27),"|",COLUMN(BCTCR_06608!D27),",0",",0") -> 618981,27|4,0,0 | E27: =CONCATENATE(619167,",",ROW(BCTCR_06608!E27),"|",COLUMN(BCTCR_06608!E27),",0",",0") -> 619167,27|5,0,0
A28: =CONCATENATE(618866,",",ROW(BCTCR_06608!A28),"|",COLUMN(BCTCR_06608!A28),",0",",0") -> 618866,28|1,0,0 | B28: =CONCATENATE(618919,",",ROW(BCTCR_06608!B28),"|",COLUMN(BCTCR_06608!B28),",0",",0") -> 618919,28|2,0,0 | C28: =CONCATENATE(619316,",",ROW(BCTCR_06608!C28),"|",COLUMN(BCTCR_06608!C28),",0",",0") -> 619316,28|3,0,0 | D28: =CONCATENATE(619499,",",ROW(BCTCR_06608!D28),"|",COLUMN(BCTCR_06608!D28),",0",",0") -> 619499,28|4,0,0 | E28: =CONCATENATE(619378,",",ROW(BCTCR_06608!E28),"|",COLUMN(BCTCR_06608!E28),",0",",0") -> 619378,28|5,0,0
A29: =CONCATENATE(619192,",",ROW(BCTCR_06608!A29),"|",COLUMN(BCTCR_06608!A29),",0",",0") -> 619192,29|1,0,0 | B29: =CONCATENATE(618968,",",ROW(BCTCR_06608!B29),"|",COLUMN(BCTCR_06608!B29),",0",",0") -> 618968,29|2,0,0 | C29: =CONCATENATE(619035,",",ROW(BCTCR_06608!C29),"|",COLUMN(BCTCR_06608!C29),",0",",0") -> 619035,29|3,0,0 | D29: =CONCATENATE(618982,",",ROW(BCTCR_06608!D29),"|",COLUMN(BCTCR_06608!D29),",0",",0") -> 618982,29|4,0,0 | E29: =CONCATENATE(619168,",",ROW(BCTCR_06608!E29),"|",COLUMN(BCTCR_06608!E29),",0",",0") -> 619168,29|5,0,0
A30: =CONCATENATE(619193,",",ROW(BCTCR_06608!A30),"|",COLUMN(BCTCR_06608!A30),",0",",0") -> 619193,30|1,0,0 | B30: =CONCATENATE(619415,",",ROW(BCTCR_06608!B30),"|",COLUMN(BCTCR_06608!B30),",0",",0") -> 619415,30|2,0,0 | C30: =CONCATENATE(619065,",",ROW(BCTCR_06608!C30),"|",COLUMN(BCTCR_06608!C30),",0",",0") -> 619065,30|3,0,0 | D30: =CONCATENATE(618983,",",ROW(BCTCR_06608!D30),"|",COLUMN(BCTCR_06608!D30),",0",",0") -> 618983,30|4,0,0 | E30: =CONCATENATE(619169,",",ROW(BCTCR_06608!E30),"|",COLUMN(BCTCR_06608!E30),",0",",0") -> 619169,30|5,0,0
A31: =CONCATENATE(619278,",",ROW(BCTCR_06608!A31),"|",COLUMN(BCTCR_06608!A31),",0",",0") -> 619278,31|1,0,0 | B31: =CONCATENATE(619019,",",ROW(BCTCR_06608!B31),"|",COLUMN(BCTCR_06608!B31),",0",",0") -> 619019,31|2,0,0 | C31: =CONCATENATE(619317,",",ROW(BCTCR_06608!C31),"|",COLUMN(BCTCR_06608!C31),",0",",0") -> 619317,31|3,0,0 | D31: =CONCATENATE(619500,",",ROW(BCTCR_06608!D31),"|",COLUMN(BCTCR_06608!D31),",0",",0") -> 619500,31|4,0,0 | E31: =CONCATENATE(619379,",",ROW(BCTCR_06608!E31),"|",COLUMN(BCTCR_06608!E31),",0",",0") -> 619379,31|5,0,0
A32: =CONCATENATE(619014,",",ROW(BCTCR_06608!A32),"|",COLUMN(BCTCR_06608!A32),",0",",0") -> 619014,32|1,0,0 | B32: =CONCATENATE(619122,",",ROW(BCTCR_06608!B32),"|",COLUMN(BCTCR_06608!B32),",0",",0") -> 619122,32|2,0,0 | C32: =CONCATENATE(619313,",",ROW(BCTCR_06608!C32),"|",COLUMN(BCTCR_06608!C32),",0",",0") -> 619313,32|3,0,0 | D32: =CONCATENATE(619496,",",ROW(BCTCR_06608!D32),"|",COLUMN(BCTCR_06608!D32),",0",",0") -> 619496,32|4,0,0 | E32: =CONCATENATE(619284,",",ROW(BCTCR_06608!E32),"|",COLUMN(BCTCR_06608!E32),",0",",0") -> 619284,32|5,0,0
A33: =CONCATENATE(619194,",",ROW(BCTCR_06608!A33),"|",COLUMN(BCTCR_06608!A33),",0",",0") -> 619194,33|1,0,0 | B33: =CONCATENATE(619416,",",ROW(BCTCR_06608!B33),"|",COLUMN(BCTCR_06608!B33),",0",",0") -> 619416,33|2,0,0 | C33: =CONCATENATE(619066,",",ROW(BCTCR_06608!C33),"|",COLUMN(BCTCR_06608!C33),",0",",0") -> 619066,33|3,0,0 | D33: =CONCATENATE(618984,",",ROW(BCTCR_06608!D33),"|",COLUMN(BCTCR_06608!D33),",0",",0") -> 618984,33|4,0,0 | E33: =CONCATENATE(619170,",",ROW(BCTCR_06608!E33),"|",COLUMN(BCTCR_06608!E33),",0",",0") -> 619170,33|5,0,0
A34: =CONCATENATE(619135,",",ROW(BCTCR_06608!A34),"|",COLUMN(BCTCR_06608!A34),",0",",0") -> 619135,34|1,0,0 | B34: =CONCATENATE(619277,",",ROW(BCTCR_06608!B34),"|",COLUMN(BCTCR_06608!B34),",0",",0") -> 619277,34|2,0,0 | C34: =CONCATENATE(619067,",",ROW(BCTCR_06608!C34),"|",COLUMN(BCTCR_06608!C34),",0",",0") -> 619067,34|3,0,0 | D34: =CONCATENATE(618985,",",ROW(BCTCR_06608!D34),"|",COLUMN(BCTCR_06608!D34),",0",",0") -> 618985,34|4,0,0 | E34: =CONCATENATE(619171,",",ROW(BCTCR_06608!E34),"|",COLUMN(BCTCR_06608!E34),",0",",0") -> 619171,34|5,0,0
A35: =CONCATENATE(619195,",",ROW(BCTCR_06608!A35),"|",COLUMN(BCTCR_06608!A35),",0",",0") -> 619195,35|1,0,0 | B35: =CONCATENATE(619417,",",ROW(BCTCR_06608!B35),"|",COLUMN(BCTCR_06608!B35),",0",",0") -> 619417,35|2,0,0 | C35: =CONCATENATE(619068,",",ROW(BCTCR_06608!C35),"|",COLUMN(BCTCR_06608!C35),",0",",0") -> 619068,35|3,0,0 | D35: =CONCATENATE(618986,",",ROW(BCTCR_06608!D35),"|",COLUMN(BCTCR_06608!D35),",0",",0") -> 618986,35|4,0,0 | E35: =CONCATENATE(619172,",",ROW(BCTCR_06608!E35),"|",COLUMN(BCTCR_06608!E35),",0",",0") -> 619172,35|5,0,0
A36: =CONCATENATE(619136,",",ROW(BCTCR_06608!A36),"|",COLUMN(BCTCR_06608!A36),",0",",0") -> 619136,36|1,0,0 | B36: =CONCATENATE(618969,",",ROW(BCTCR_06608!B36),"|",COLUMN(BCTCR_06608!B36),",0",",0") -> 618969,36|2,0,0 | C36: =CONCATENATE(619069,",",ROW(BCTCR_06608!C36),"|",COLUMN(BCTCR_06608!C36),",0",",0") -> 619069,36|3,0,0 | D36: =CONCATENATE(618987,",",ROW(BCTCR_06608!D36),"|",COLUMN(BCTCR_06608!D36),",0",",0") -> 618987,36|4,0,0 | E36: =CONCATENATE(619173,",",ROW(BCTCR_06608!E36),"|",COLUMN(BCTCR_06608!E36),",0",",0") -> 619173,36|5,0,0
A37: =CONCATENATE(619279,",",ROW(BCTCR_06608!A37),"|",COLUMN(BCTCR_06608!A37),",0",",0") -> 619279,37|1,0,0 | B37: =CONCATENATE(619020,",",ROW(BCTCR_06608!B37),"|",COLUMN(BCTCR_06608!B37),",0",",0") -> 619020,37|2,0,0 | C37: =CONCATENATE(619319,",",ROW(BCTCR_06608!C37),"|",COLUMN(BCTCR_06608!C37),",0",",0") -> 619319,37|3,0,0 | D37: =CONCATENATE(619477,",",ROW(BCTCR_06608!D37),"|",COLUMN(BCTCR_06608!D37),",0",",0") -> 619477,37|4,0,0 | E37: =CONCATENATE(619380,",",ROW(BCTCR_06608!E37),"|",COLUMN(BCTCR_06608!E37),",0",",0") -> 619380,37|5,0,0
A38: =CONCATENATE(619218,",",ROW(BCTCR_06608!A38),"|",COLUMN(BCTCR_06608!A38),",0",",0") -> 619218,38|1,0,0 | B38: =CONCATENATE(618970,",",ROW(BCTCR_06608!B38),"|",COLUMN(BCTCR_06608!B38),",0",",0") -> 618970,38|2,0,0 | C38: =CONCATENATE(619053,",",ROW(BCTCR_06608!C38),"|",COLUMN(BCTCR_06608!C38),",0",",0") -> 619053,38|3,0,0 | D38: =CONCATENATE(618943,",",ROW(BCTCR_06608!D38),"|",COLUMN(BCTCR_06608!D38),",0",",0") -> 618943,38|4,0,0 | E38: =CONCATENATE(618924,",",ROW(BCTCR_06608!E38),"|",COLUMN(BCTCR_06608!E38),",0",",0") -> 618924,38|5,0,0
A39: =CONCATENATE(619137,",",ROW(BCTCR_06608!A39),"|",COLUMN(BCTCR_06608!A39),",0",",0") -> 619137,39|1,0,0 | B39: =CONCATENATE(618971,",",ROW(BCTCR_06608!B39),"|",COLUMN(BCTCR_06608!B39),",0",",0") -> 618971,39|2,0,0 | C39: =CONCATENATE(619238,",",ROW(BCTCR_06608!C39),"|",COLUMN(BCTCR_06608!C39),",0",",0") -> 619238,39|3,0,0 | D39: =CONCATENATE(618988,",",ROW(BCTCR_06608!D39),"|",COLUMN(BCTCR_06608!D39),",0",",0") -> 618988,39|4,0,0 | E39: =CONCATENATE(619174,",",ROW(BCTCR_06608!E39),"|",COLUMN(BCTCR_06608!E39),",0",",0") -> 619174,39|5,0,0
A40: =CONCATENATE(619286,",",ROW(BCTCR_06608!A40),"|",COLUMN(BCTCR_06608!A40),",0",",0") -> 619286,40|1,0,0 | B40: =CONCATENATE(619021,",",ROW(BCTCR_06608!B40),"|",COLUMN(BCTCR_06608!B40),",0",",0") -> 619021,40|2,0,0 | C40: =CONCATENATE(619320,",",ROW(BCTCR_06608!C40),"|",COLUMN(BCTCR_06608!C40),",0",",0") -> 619320,40|3,0,0 | D40: =CONCATENATE(619485,",",ROW(BCTCR_06608!D40),"|",COLUMN(BCTCR_06608!D40),",0",",0") -> 619485,40|4,0,0 | E40: =CONCATENATE(619381,",",ROW(BCTCR_06608!E40),"|",COLUMN(BCTCR_06608!E40),",0",",0") -> 619381,40|5,0,0
A41: =CONCATENATE(619138,",",ROW(BCTCR_06608!A41),"|",COLUMN(BCTCR_06608!A41),",0",",0") -> 619138,41|1,0,0 | B41: =CONCATENATE(619027,",",ROW(BCTCR_06608!B41),"|",COLUMN(BCTCR_06608!B41),",0",",0") -> 619027,41|2,0,0 | C41: =CONCATENATE(619070,",",ROW(BCTCR_06608!C41),"|",COLUMN(BCTCR_06608!C41),",0",",0") -> 619070,41|3,0,0 | D41: =CONCATENATE(618989,",",ROW(BCTCR_06608!D41),"|",COLUMN(BCTCR_06608!D41),",0",",0") -> 618989,41|4,0,0 | E41: =CONCATENATE(619175,",",ROW(BCTCR_06608!E41),"|",COLUMN(BCTCR_06608!E41),",0",",0") -> 619175,41|5,0,0
A42: =CONCATENATE(619280,",",ROW(BCTCR_06608!A42),"|",COLUMN(BCTCR_06608!A42),",0",",0") -> 619280,42|1,0,0 | B42: =CONCATENATE(619446,",",ROW(BCTCR_06608!B42),"|",COLUMN(BCTCR_06608!B42),",0",",0") -> 619446,42|2,0,0 | C42: =CONCATENATE(619348,",",ROW(BCTCR_06608!C42),"|",COLUMN(BCTCR_06608!C42),",0",",0") -> 619348,42|3,0,0 | D42: =CONCATENATE(619481,",",ROW(BCTCR_06608!D42),"|",COLUMN(BCTCR_06608!D42),",0",",0") -> 619481,42|4,0,0 | E42: =CONCATENATE(619151,",",ROW(BCTCR_06608!E42),"|",COLUMN(BCTCR_06608!E42),",0",",0") -> 619151,42|5,0,0
A43: =CONCATENATE(619196,",",ROW(BCTCR_06608!A43),"|",COLUMN(BCTCR_06608!A43),",0",",0") -> 619196,43|1,0,0 | B43: =CONCATENATE(619447,",",ROW(BCTCR_06608!B43),"|",COLUMN(BCTCR_06608!B43),",0",",0") -> 619447,43|2,0,0 | C43: =CONCATENATE(619071,",",ROW(BCTCR_06608!C43),"|",COLUMN(BCTCR_06608!C43),",0",",0") -> 619071,43|3,0,0 | D43: =CONCATENATE(618990,",",ROW(BCTCR_06608!D43),"|",COLUMN(BCTCR_06608!D43),",0",",0") -> 618990,43|4,0,0 | E43: =CONCATENATE(619176,",",ROW(BCTCR_06608!E43),"|",COLUMN(BCTCR_06608!E43),",0",",0") -> 619176,43|5,0,0
A44: =CONCATENATE(619219,",",ROW(BCTCR_06608!A44),"|",COLUMN(BCTCR_06608!A44),",0",",0") -> 619219,44|1,0,0 | B44: =CONCATENATE(619251,",",ROW(BCTCR_06608!B44),"|",COLUMN(BCTCR_06608!B44),",0",",0") -> 619251,44|2,0,0 | C44: =CONCATENATE(619054,",",ROW(BCTCR_06608!C44),"|",COLUMN(BCTCR_06608!C44),",0",",0") -> 619054,44|3,0,0 | D44: =CONCATENATE(618944,",",ROW(BCTCR_06608!D44),"|",COLUMN(BCTCR_06608!D44),",0",",0") -> 618944,44|4,0,0 | E44: =CONCATENATE(618925,",",ROW(BCTCR_06608!E44),"|",COLUMN(BCTCR_06608!E44),",0",",0") -> 618925,44|5,0,0
...

Sheet CCTTCR_06609
A1: CÁC CHỈ TIÊU NGOÀI BÁO CÁO TÌNH HÌNH TÀI CHÍNH RIÊNG
A2: Chỉ tiêu | B2: Mã số | C2: Thuyết minh | D2: Số cuối năm | E2: Số đầu năm
A3: A | B3: B | C3: C | D3: 1 | E3: 2
A4: A.TÀI SẢN CỦA CTCK VÀ TÀI SẢN QUẢN LÝ THEO CAM KẾT
A5: 1. Tài sản cố định thuê ngoài | B5: 1
A6: 2. Chứng chỉ có giá nhận giữ hộ | B6: 2
A7: 3. Tài sản nhận thế chấp | B7: 3
A8: 4. Nợ khó đòi đã xử lý | B8: 4
A9: 5. Ngoại tệ các loại | B9: 5
A10: 6. Cổ phiếu đang lưu hành | B10: 6 | D10: 164800618 | E10: 164800618
A11: 7. Cổ phiếu quỹ | B11: 7
A12: 8. Tài sản tài chính niêm yết/đăng ký giao dịch tại VSD của CTCK | B12: 8 | D12: 817202450000 | E12: 336650450000
A13: 9. Tài sản tài chính đã lưu ký tại VSD và chưa giao dịch của CTCK | B13: 9 | D13: 2110000 | E13: 2990000
A14: 10. Tài sản tài chính chờ về của CTCK | B14: 10 | D14: 0 | E14: 20000000000
A15: 11. Tài sản tài chính sửa lỗi giao dịch của CTCK | B15: 11
A16: 12. Tài sản tài chính chưa lưu ký tại VSD của CTCK | B16: 12 | D16: 236381150000 | E16: 236380270000
A17: 13.Tài sản tài chính được hưởng quyền của CTCK | B17: 13 | D17: 0 | E17: 380000000
A18: B. TÀI SẢN VÀ CÁC KHOẢN PHẢI TRẢ VỀ TÀI SẢN QUẢN LÝ CAM KẾT VỚI KHÁCH HÀNG
A19: 1.Tài sản tài chính niêm yết/đăng ký giao dịch tại VSD của Nhà đầu tư | B19: 21 | D19: 2938821820000 | E19: 3409299590000
A20: a.Tài sản tài chính giao dịch tự do chuyển nhượng | B20: 21.1 | D20: 2378743320000 | E20: 2381714690000
A21: b.Tài sản tài chính hạn chế chuyển nhượng | B21: 21.2 | D21: 20000000 | E21: 20000000
A22: c.Tài sản tài chính giao dịch cầm cố | B22: 21.3 | D22: 485553300000 | E22: 933453300000
A23: d.Tài sản tài chính phong tỏa, tạm giữ | B23: 21.4 | D23: 73012600000 | E23: 73012600000
A24: e.Tài sản tài chính chờ thanh toán | B24: 21.5 | D24: 1492600000 | E24: 21099000000
A25: f. Tài sản tài chính chờ cho vay | B25: 21.6
A26: 2. Tài sản tài chính đã lưu ký tại VSD và chưa giao dịch của Nhà đầu tư | B26: 22 | D26: 47864340000 | E26: 59220950000
A27: a.Tài sản tài chính đã lưu ký tại VSD và chưa giao dịch, tự do chuyển nhượng | B27: 22.1 | D27: 47714340000 | E27: 59070950000
A28: b.Tài sản tài chính đã lưu ký tại VSD và chưa giao dịch, hạn chế chuyển nhượng | B28: 22.2
A29: c.Tài sản tài chính đã lưu ký tại VSD và chưa giao dịch, cầm cố | B29: 22.3
A30: d.Tài sản tài chính đã lưu ký tại VSD và chưa giao dịch, phong tỏa, tạm giữ | B30: 22.4 | D30: 150000000 | E30: 150000000
A31: 3. Tài sản tài chính chờ về của Nhà đầu tư | B31: 23 | D31: 4239900000 | E31: 3584990000
A32: 4. Tài sản tài chính sửa lỗi giao dịch của Nhà đầu tư | B32: 024.a
A33: 5.Tài sản tài chính chưa lưu ký tại VSD của Nhà đầu tư | B33: 024.b
A34: 6.Tài sản tài chính được hưởng quyền của Nhà đầu tư | B34: 25
A35: 7. Tiền gửi của khách hàng | B35: 26 | D35: 61782827019 | E35: 47448284830
A36: 7.1. Tiền gửi của Nhà đầu tư về giao dịch chứng khoán theo phương thức CTCK quản lý | B36: 27 | D36: 52140120469 | E36: 38006071730
A37: 7.2.Tiền gửi tổng hợp giao dịch chứng khoán cho khách hàng | B37: 28
A38: 7.3. Tiền gửi bù trừ và thanh toán giao dịch chứng khoán | B38: 29 | D38: 9641706550 | E38: 9441213100
A39: a. Tiền gửi bù trừ và thanh toán giao dịch chứng khoán Nhà đầu tư trong nước | B39: 29.1 | D39: 9641706550 | E39: 9441213100
A40: b. Tiền gửi bù trừ và thanh toán giao dịch chứng khoán Nhà đầu tư nước ngoài | B40: 29.2
...

Sheet 7709_hidden
A3: =CONCATENATE(617881,",",ROW(CCTTCR_06609!A3),"|",COLUMN(CCTTCR_06609!A3),",0",",0") -> 617881,3|1,0,0 | B3: =CONCATENATE(617814,",",ROW(CCTTCR_06609!B3),"|",COLUMN(CCTTCR_06609!B3),",0",",0") -> 617814,3|2,0,0 | C3: =CONCATENATE(617863,",",ROW(CCTTCR_06609!C3),"|",COLUMN(CCTTCR_06609!C3),",0",",0") -> 617863,3|3,0,0 | D3: =CONCATENATE(617868,",",ROW(CCTTCR_06609!D3),"|",COLUMN(CCTTCR_06609!D3),",0",",0") -> 617868,3|4,0,0 | E3: =CONCATENATE(617869,",",ROW(CCTTCR_06609!E3),"|",COLUMN(CCTTCR_06609!E3),",0",",0") -> 617869,3|5,0,0
A4: =CONCATENATE(617885,",",ROW(CCTTCR_06609!A4),"|",COLUMN(CCTTCR_06609!A4),",0",",0") -> 617885,4|1,0,0 | C4: =CONCATENATE(617777,",",ROW(CCTTCR_06609!C4),"|",COLUMN(CCTTCR_06609!C4),",0",",0") -> 617777,4|3,0,0 | D4: =CONCATENATE(617980,",",ROW(CCTTCR_06609!D4),"|",COLUMN(CCTTCR_06609!D4),",0",",0") -> 617980,4|4,0,0 | E4: =CONCATENATE(617917,",",ROW(CCTTCR_06609!E4),"|",COLUMN(CCTTCR_06609!E4),",0",",0") -> 617917,4|5,0,0
A5: =CONCATENATE(617822,",",ROW(CCTTCR_06609!A5),"|",COLUMN(CCTTCR_06609!A5),",0",",0") -> 617822,5|1,0,0 | B5: =CONCATENATE(617963,",",ROW(CCTTCR_06609!B5),"|",COLUMN(CCTTCR_06609!B5),",0",",0") -> 617963,5|2,0,0 | C5: =CONCATENATE(617950,",",ROW(CCTTCR_06609!C5),"|",COLUMN(CCTTCR_06609!C5),",0",",0") -> 617950,5|3,0,0 | D5: =CONCATENATE(617896,",",ROW(CCTTCR_06609!D5),"|",COLUMN(CCTTCR_06609!D5),",0",",0") -> 617896,5|4,0,0 | E5: =CONCATENATE(617990,",",ROW(CCTTCR_06609!E5),"|",COLUMN(CCTTCR_06609!E5),",0",",0") -> 617990,5|5,0,0
A6: =CONCATENATE(617903,",",ROW(CCTTCR_06609!A6),"|",COLUMN(CCTTCR_06609!A6),",0",",0") -> 617903,6|1,0,0 | B6: =CONCATENATE(617816,",",ROW(CCTTCR_06609!B6),"|",COLUMN(CCTTCR_06609!B6),",0",",0") -> 617816,6|2,0,0 | C6: =CONCATENATE(617784,",",ROW(CCTTCR_06609!C6),"|",COLUMN(CCTTCR_06609!C6),",0",",0") -> 617784,6|3,0,0 | D6: =CONCATENATE(617996,",",ROW(CCTTCR_06609!D6),"|",COLUMN(CCTTCR_06609!D6),",0",",0") -> 617996,6|4,0,0 | E6: =CONCATENATE(617921,",",ROW(CCTTCR_06609!E6),"|",COLUMN(CCTTCR_06609!E6),",0",",0") -> 617921,6|5,0,0
A7: =CONCATENATE(617815,",",ROW(CCTTCR_06609!A7),"|",COLUMN(CCTTCR_06609!A7),",0",",0") -> 617815,7|1,0,0 | B7: =CONCATENATE(617964,",",ROW(CCTTCR_06609!B7),"|",COLUMN(CCTTCR_06609!B7),",0",",0") -> 617964,7|2,0,0 | C7: =CONCATENATE(617951,",",ROW(CCTTCR_06609!C7),"|",COLUMN(CCTTCR_06609!C7),",0",",0") -> 617951,7|3,0,0 | D7: =CONCATENATE(617897,",",ROW(CCTTCR_06609!D7),"|",COLUMN(CCTTCR_06609!D7),",0",",0") -> 617897,7|4,0,0 | E7: =CONCATENATE(617991,",",ROW(CCTTCR_06609!E7),"|",COLUMN(CCTTCR_06609!E7),",0",",0") -> 617991,7|5,0,0
A8: =CONCATENATE(617904,",",ROW(CCTTCR_06609!A8),"|",COLUMN(CCTTCR_06609!A8),",0",",0") -> 617904,8|1,0,0 | B8: =CONCATENATE(617965,",",ROW(CCTTCR_06609!B8),"|",COLUMN(CCTTCR_06609!B8),",0",",0") -> 617965,8|2,0,0 | C8: =CONCATENATE(617952,",",ROW(CCTTCR_06609!C8),"|",COLUMN(CCTTCR_06609!C8),",0",",0") -> 617952,8|3,0,0 | D8: =CONCATENATE(617898,",",ROW(CCTTCR_06609!D8),"|",COLUMN(CCTTCR_06609!D8),",0",",0") -> 617898,8|4,0,0 | E8: =CONCATENATE(617992,",",ROW(CCTTCR_06609!E8),"|",COLUMN(CCTTCR_06609!E8),",0",",0") -> 617992,8|5,0,0
A9: =CONCATENATE(617933,",",ROW(CCTTCR_06609!A9),"|",COLUMN(CCTTCR_06609!A9),",0",",0") -> 617933,9|1,0,0 | B9: =CONCATENATE(617856,",",ROW(CCTTCR_06609!B9),"|",COLUMN(CCTTCR_06609!B9),",0",",0") -> 617856,9|2,0,0 | C9: =CONCATENATE(617785,",",ROW(CCTTCR_06609!C9),"|",COLUMN(CCTTCR_06609!C9),",0",",0") -> 617785,9|3,0,0 | D9: =CONCATENATE(617997,",",ROW(CCTTCR_06609!D9),"|",COLUMN(CCTTCR_06609!D9),",0",",0") -> 617997,9|4,0,0 | E9: =CONCATENATE(617922,",",ROW(CCTTCR_06609!E9),"|",COLUMN(CCTTCR_06609!E9),",0",",0") -> 617922,9|5,0,0
A10: =CONCATENATE(617886,",",ROW(CCTTCR_06609!A10),"|",COLUMN(CCTTCR_06609!A10),",0",",0") -> 617886,10|1,0,0 | B10: =CONCATENATE(617968,",",ROW(CCTTCR_06609!B10),"|",COLUMN(CCTTCR_06609!B10),",0",",0") -> 617968,10|2,0,0 | C10: =CONCATENATE(617778,",",ROW(CCTTCR_06609!C10),"|",COLUMN(CCTTCR_06609!C10),",0",",0") -> 617778,10|3,0,0 | D10: =CONCATENATE(617993,",",ROW(CCTTCR_06609!D10),"|",COLUMN(CCTTCR_06609!D10),",0",",0") -> 617993,10|4,0,0 | E10: =CONCATENATE(617918,",",ROW(CCTTCR_06609!E10),"|",COLUMN(CCTTCR_06609!E10),",0",",0") -> 617918,10|5,0,0
A11: =CONCATENATE(617866,",",ROW(CCTTCR_06609!A11),"|",COLUMN(CCTTCR_06609!A11),",0",",0") -> 617866,11|1,0,0 | B11: =CONCATENATE(617969,",",ROW(CCTTCR_06609!B11),"|",COLUMN(CCTTCR_06609!B11),",0",",0") -> 617969,11|2,0,0 | C11: =CONCATENATE(617786,",",ROW(CCTTCR_06609!C11),"|",COLUMN(CCTTCR_06609!C11),",0",",0") -> 617786,11|3,0,0 | D11: =CONCATENATE(617837,",",ROW(CCTTCR_06609!D11),"|",COLUMN(CCTTCR_06609!D11),",0",",0") -> 617837,11|4,0,0 | E11: =CONCATENATE(617855,",",ROW(CCTTCR_06609!E11),"|",COLUMN(CCTTCR_06609!E11),",0",",0") -> 617855,11|5,0,0
A12: =CONCATENATE(617823,",",ROW(CCTTCR_06609!A12),"|",COLUMN(CCTTCR_06609!A12),",0",",0") -> 617823,12|1,0,0 | B12: =CONCATENATE(617857,",",ROW(CCTTCR_06609!B12),"|",COLUMN(CCTTCR_06609!B12),",0",",0") -> 617857,12|2,0,0 | C12: =CONCATENATE(617787,",",ROW(CCTTCR_06609!C12),"|",COLUMN(CCTTCR_06609!C12),",0",",0") -> 617787,12|3,0,0 | D12: =CONCATENATE(617838,",",ROW(CCTTCR_06609!D12),"|",COLUMN(CCTTCR_06609!D12),",0",",0") -> 617838,12|4,0,0 | E12: =CONCATENATE(617923,",",ROW(CCTTCR_06609!E12),"|",COLUMN(CCTTCR_06609!E12),",0",",0") -> 617923,12|5,0,0
A13: =CONCATENATE(617870,",",ROW(CCTTCR_06609!A13),"|",COLUMN(CCTTCR_06609!A13),",0",",0") -> 617870,13|1,0,0 | B13: =CONCATENATE(617828,",",ROW(CCTTCR_06609!B13),"|",COLUMN(CCTTCR_06609!B13),",0",",0") -> 617828,13|2,0,0 | C13: =CONCATENATE(617788,",",ROW(CCTTCR_06609!C13),"|",COLUMN(CCTTCR_06609!C13),",0",",0") -> 617788,13|3,0,0 | D13: =CONCATENATE(617839,",",ROW(CCTTCR_06609!D13),"|",COLUMN(CCTTCR_06609!D13),",0",",0") -> 617839,13|4,0,0 | E13: =CONCATENATE(617924,",",ROW(CCTTCR_06609!E13),"|",COLUMN(CCTTCR_06609!E13),",0",",0") -> 617924,13|5,0,0
A14: =CONCATENATE(617934,",",ROW(CCTTCR_06609!A14),"|",COLUMN(CCTTCR_06609!A14),",0",",0") -> 617934,14|1,0,0 | B14: =CONCATENATE(617966,",",ROW(CCTTCR_06609!B14),"|",COLUMN(CCTTCR_06609!B14),",0",",0") -> 617966,14|2,0,0 | C14: =CONCATENATE(617953,",",ROW(CCTTCR_06609!C14),"|",COLUMN(CCTTCR_06609!C14),",0",",0") -> 617953,14|3,0,0 | D14: =CONCATENATE(617899,",",ROW(CCTTCR_06609!D14),"|",COLUMN(CCTTCR_06609!D14),",0",",0") -> 617899,14|4,0,0 | E14: =CONCATENATE(617905,",",ROW(CCTTCR_06609!E14),"|",COLUMN(CCTTCR_06609!E14),",0",",0") -> 617905,14|5,0,0
A15: =CONCATENATE(617887,",",ROW(CCTTCR_06609!A15),"|",COLUMN(CCTTCR_06609!A15),",0",",0") -> 617887,15|1,0,0 | B15: =CONCATENATE(617807,",",ROW(CCTTCR_06609!B15),"|",COLUMN(CCTTCR_06609!B15),",0",",0") -> 617807,15|2,0,0 | C15: =CONCATENATE(617779,",",ROW(CCTTCR_06609!C15),"|",COLUMN(CCTTCR_06609!C15),",0",",0") -> 617779,15|3,0,0 | D15: =CONCATENATE(617994,",",ROW(CCTTCR_06609!D15),"|",COLUMN(CCTTCR_06609!D15),",0",",0") -> 617994,15|4,0,0 | E15: =CONCATENATE(617919,",",ROW(CCTTCR_06609!E15),"|",COLUMN(CCTTCR_06609!E15),",0",",0") -> 617919,15|5,0,0
A16: =CONCATENATE(617824,",",ROW(CCTTCR_06609!A16),"|",COLUMN(CCTTCR_06609!A16),",0",",0") -> 617824,16|1,0,0 | B16: =CONCATENATE(617858,",",ROW(CCTTCR_06609!B16),"|",COLUMN(CCTTCR_06609!B16),",0",",0") -> 617858,16|2,0,0 | C16: =CONCATENATE(617789,",",ROW(CCTTCR_06609!C16),"|",COLUMN(CCTTCR_06609!C16),",0",",0") -> 617789,16|3,0,0 | D16: =CONCATENATE(617840,",",ROW(CCTTCR_06609!D16),"|",COLUMN(CCTTCR_06609!D16),",0",",0") -> 617840,16|4,0,0 | E16: =CONCATENATE(617925,",",ROW(CCTTCR_06609!E16),"|",COLUMN(CCTTCR_06609!E16),",0",",0") -> 617925,16|5,0,0
A17: =CONCATENATE(617882,",",ROW(CCTTCR_06609!A17),"|",COLUMN(CCTTCR_06609!A17),",0",",0") -> 617882,17|1,0,0 | B17: =CONCATENATE(617859,",",ROW(CCTTCR_06609!B17),"|",COLUMN(CCTTCR_06609!B17),",0",",0") -> 617859,17|2,0,0 | C17: =CONCATENATE(617790,",",ROW(CCTTCR_06609!C17),"|",COLUMN(CCTTCR_06609!C17),",0",",0") -> 617790,17|3,0,0 | D17: =CONCATENATE(617841,",",ROW(CCTTCR_06609!D17),"|",COLUMN(CCTTCR_06609!D17),",0",",0") -> 617841,17|4,0,0 | E17: =CONCATENATE(617926,",",ROW(CCTTCR_06609!E17),"|",COLUMN(CCTTCR_06609!E17),",0",",0") -> 617926,17|5,0,0
A18: =CONCATENATE(617888,",",ROW(CCTTCR_06609!A18),"|",COLUMN(CCTTCR_06609!A18),",0",",0") -> 617888,18|1,0,0 | C18: =CONCATENATE(617780,",",ROW(CCTTCR_06609!C18),"|",COLUMN(CCTTCR_06609!C18),",0",",0") -> 617780,18|3,0,0 | D18: =CONCATENATE(617995,",",ROW(CCTTCR_06609!D18),"|",COLUMN(CCTTCR_06609!D18),",0",",0") -> 617995,18|4,0,0 | E18: =CONCATENATE(617920,",",ROW(CCTTCR_06609!E18),"|",COLUMN(CCTTCR_06609!E18),",0",",0") -> 617920,18|5,0,0
A19: =CONCATENATE(617825,",",ROW(CCTTCR_06609!A19),"|",COLUMN(CCTTCR_06609!A19),",0",",0") -> 617825,19|1,0,0 | B19: =CONCATENATE(617967,",",ROW(CCTTCR_06609!B19),"|",COLUMN(CCTTCR_06609!B19),",0",",0") -> 617967,19|2,0,0 | C19: =CONCATENATE(617954,",",ROW(CCTTCR_06609!C19),"|",COLUMN(CCTTCR_06609!C19),",0",",0") -> 617954,19|3,0,0 | D19: =CONCATENATE(617956,",",ROW(CCTTCR_06609!D19),"|",COLUMN(CCTTCR_06609!D19),",0",",0") -> 617956,19|4,0,0 | E19: =CONCATENATE(617906,",",ROW(CCTTCR_06609!E19),"|",COLUMN(CCTTCR_06609!E19),",0",",0") -> 617906,19|5,0,0
A20: =CONCATENATE(617883,",",ROW(CCTTCR_06609!A20),"|",COLUMN(CCTTCR_06609!A20),",0",",0") -> 617883,20|1,0,0 | B20: =CONCATENATE(617829,",",ROW(CCTTCR_06609!B20),"|",COLUMN(CCTTCR_06609!B20),",0",",0") -> 617829,20|2,0,0 | C20: =CONCATENATE(617791,",",ROW(CCTTCR_06609!C20),"|",COLUMN(CCTTCR_06609!C20),",0",",0") -> 617791,20|3,0,0 | D20: =CONCATENATE(617842,",",ROW(CCTTCR_06609!D20),"|",COLUMN(CCTTCR_06609!D20),",0",",0") -> 617842,20|4,0,0 | E20: =CONCATENATE(617927,",",ROW(CCTTCR_06609!E20),"|",COLUMN(CCTTCR_06609!E20),",0",",0") -> 617927,20|5,0,0
A21: =CONCATENATE(617935,",",ROW(CCTTCR_06609!A21),"|",COLUMN(CCTTCR_06609!A21),",0",",0") -> 617935,21|1,0,0 | B21: =CONCATENATE(617871,",",ROW(CCTTCR_06609!B21),"|",COLUMN(CCTTCR_06609!B21),",0",",0") -> 617871,21|2,0,0 | C21: =CONCATENATE(617955,",",ROW(CCTTCR_06609!C21),"|",COLUMN(CCTTCR_06609!C21),",0",",0") -> 617955,21|3,0,0 | D21: =CONCATENATE(617970,",",ROW(CCTTCR_06609!D21),"|",COLUMN(CCTTCR_06609!D21),",0",",0") -> 617970,21|4,0,0 | E21: =CONCATENATE(617907,",",ROW(CCTTCR_06609!E21),"|",COLUMN(CCTTCR_06609!E21),",0",",0") -> 617907,21|5,0,0
A22: =CONCATENATE(617884,",",ROW(CCTTCR_06609!A22),"|",COLUMN(CCTTCR_06609!A22),",0",",0") -> 617884,22|1,0,0 | B22: =CONCATENATE(617872,",",ROW(CCTTCR_06609!B22),"|",COLUMN(CCTTCR_06609!B22),",0",",0") -> 617872,22|2,0,0 | C22: =CONCATENATE(617770,",",ROW(CCTTCR_06609!C22),"|",COLUMN(CCTTCR_06609!C22),",0",",0") -> 617770,22|3,0,0 | D22: =CONCATENATE(617971,",",ROW(CCTTCR_06609!D22),"|",COLUMN(CCTTCR_06609!D22),",0",",0") -> 617971,22|4,0,0 | E22: =CONCATENATE(617908,",",ROW(CCTTCR_06609!E22),"|",COLUMN(CCTTCR_06609!E22),",0",",0") -> 617908,22|5,0,0
A23: =CONCATENATE(617867,",",ROW(CCTTCR_06609!A23),"|",COLUMN(CCTTCR_06609!A23),",0",",0") -> 617867,23|1,0,0 | B23: =CONCATENATE(617860,",",ROW(CCTTCR_06609!B23),"|",COLUMN(CCTTCR_06609!B23),",0",",0") -> 617860,23|2,0,0 | C23: =CONCATENATE(617792,",",ROW(CCTTCR_06609!C23),"|",COLUMN(CCTTCR_06609!C23),",0",",0") -> 617792,23|3,0,0 | D23: =CONCATENATE(617843,",",ROW(CCTTCR_06609!D23),"|",COLUMN(CCTTCR_06609!D23),",0",",0") -> 617843,23|4,0,0 | E23: =CONCATENATE(617928,",",ROW(CCTTCR_06609!E23),"|",COLUMN(CCTTCR_06609!E23),",0",",0") -> 617928,23|5,0,0
A24: =CONCATENATE(617864,",",ROW(CCTTCR_06609!A24),"|",COLUMN(CCTTCR_06609!A24),",0",",0") -> 617864,24|1,0,0 | B24: =CONCATENATE(617873,",",ROW(CCTTCR_06609!B24),"|",COLUMN(CCTTCR_06609!B24),",0",",0") -> 617873,24|2,0,0 | C24: =CONCATENATE(617771,",",ROW(CCTTCR_06609!C24),"|",COLUMN(CCTTCR_06609!C24),",0",",0") -> 617771,24|3,0,0 | D24: =CONCATENATE(617972,",",ROW(CCTTCR_06609!D24),"|",COLUMN(CCTTCR_06609!D24),",0",",0") -> 617972,24|4,0,0 | E24: =CONCATENATE(617909,",",ROW(CCTTCR_06609!E24),"|",COLUMN(CCTTCR_06609!E24),",0",",0") -> 617909,24|5,0,0
A25: =CONCATENATE(617900,",",ROW(CCTTCR_06609!A25),"|",COLUMN(CCTTCR_06609!A25),",0",",0") -> 617900,25|1,0,0 | B25: =CONCATENATE(617874,",",ROW(CCTTCR_06609!B25),"|",COLUMN(CCTTCR_06609!B25),",0",",0") -> 617874,25|2,0,0 | C25: =CONCATENATE(617772,",",ROW(CCTTCR_06609!C25),"|",COLUMN(CCTTCR_06609!C25),",0",",0") -> 617772,25|3,0,0 | D25: =CONCATENATE(617973,",",ROW(CCTTCR_06609!D25),"|",COLUMN(CCTTCR_06609!D25),",0",",0") -> 617973,25|4,0,0 | E25: =CONCATENATE(617910,",",ROW(CCTTCR_06609!E25),"|",COLUMN(CCTTCR_06609!E25),",0",",0") -> 617910,25|5,0,0
A26: =CONCATENATE(617901,",",ROW(CCTTCR_06609!A26),"|",COLUMN(CCTTCR_06609!A26),",0",",0") -> 617901,26|1,0,0 | B26: =CONCATENATE(617830,",",ROW(CCTTCR_06609!B26),"|",COLUMN(CCTTCR_06609!B26),",0",",0") -> 617830,26|2,0,0 | C26: =CONCATENATE(617793,",",ROW(CCTTCR_06609!C26),"|",COLUMN(CCTTCR_06609!C26),",0",",0") -> 617793,26|3,0,0 | D26: =CONCATENATE(617844,",",ROW(CCTTCR_06609!D26),"|",COLUMN(CCTTCR_06609!D26),",0",",0") -> 617844,26|4,0,0 | E26: =CONCATENATE(617929,",",ROW(CCTTCR_06609!E26),"|",COLUMN(CCTTCR_06609!E26),",0",",0") -> 617929,26|5,0,0
A27: =CONCATENATE(617902,",",ROW(CCTTCR_06609!A27),"|",COLUMN(CCTTCR_06609!A27),",0",",0") -> 617902,27|1,0,0 | B27: =CONCATENATE(617831,",",ROW(CCTTCR_06609!B27),"|",COLUMN(CCTTCR_06609!B27),",0",",0") -> 617831,27|2,0,0 | C27: =CONCATENATE(617794,",",ROW(CCTTCR_06609!C27),"|",COLUMN(CCTTCR_06609!C27),",0",",0") -> 617794,27|3,0,0 | D27: =CONCATENATE(617845,",",ROW(CCTTCR_06609!D27),"|",COLUMN(CCTTCR_06609!D27),",0",",0") -> 617845,27|4,0,0 | E27: =CONCATENATE(617930,",",ROW(CCTTCR_06609!E27),"|",COLUMN(CCTTCR_06609!E27),",0",",0") -> 617930,27|5,0,0
A28: =CONCATENATE(617826,",",ROW(CCTTCR_06609!A28),"|",COLUMN(CCTTCR_06609!A28),",0",",0") -> 617826,28|1,0,0 | B28: =CONCATENATE(617875,",",ROW(CCTTCR_06609!B28),"|",COLUMN(CCTTCR_06609!B28),",0",",0") -> 617875,28|2,0,0 | C28: =CONCATENATE(617773,",",ROW(CCTTCR_06609!C28),"|",COLUMN(CCTTCR_06609!C28),",0",",0") -> 617773,28|3,0,0 | D28: =CONCATENATE(617974,",",ROW(CCTTCR_06609!D28),"|",COLUMN(CCTTCR_06609!D28),",0",",0") -> 617974,28|4,0,0 | E28: =CONCATENATE(617911,",",ROW(CCTTCR_06609!E28),"|",COLUMN(CCTTCR_06609!E28),",0",",0") -> 617911,28|5,0,0
A29: =CONCATENATE(617834,",",ROW(CCTTCR_06609!A29),"|",COLUMN(CCTTCR_06609!A29),",0",",0") -> 617834,29|1,0,0 | B29: =CONCATENATE(617808,",",ROW(CCTTCR_06609!B29),"|",COLUMN(CCTTCR_06609!B29),",0",",0") -> 617808,29|2,0,0 | C29: =CONCATENATE(617795,",",ROW(CCTTCR_06609!C29),"|",COLUMN(CCTTCR_06609!C29),",0",",0") -> 617795,29|3,0,0 | D29: =CONCATENATE(617846,",",ROW(CCTTCR_06609!D29),"|",COLUMN(CCTTCR_06609!D29),",0",",0") -> 617846,29|4,0,0 | E29: =CONCATENATE(617931,",",ROW(CCTTCR_06609!E29),"|",COLUMN(CCTTCR_06609!E29),",0",",0") -> 617931,29|5,0,0
A30: =CONCATENATE(617835,",",ROW(CCTTCR_06609!A30),"|",COLUMN(CCTTCR_06609!A30),",0",",0") -> 617835,30|1,0,0 | B30: =CONCATENATE(617809,",",ROW(CCTTCR_06609!B30),"|",COLUMN(CCTTCR_06609!B30),",0",",0") -> 617809,30|2,0,0 | C30: =CONCATENATE(617796,",",ROW(CCTTCR_06609!C30),"|",COLUMN(CCTTCR_06609!C30),",0",",0") -> 617796,30|3,0,0 | D30: =CONCATENATE(617847,",",ROW(CCTTCR_06609!D30),"|",COLUMN(CCTTCR_06609!D30),",0",",0") -> 617847,30|4,0,0 | E30: =CONCATENATE(617932,",",ROW(CCTTCR_06609!E30),"|",COLUMN(CCTTCR_06609!E30),",0",",0") -> 617932,30|5,0,0
A31: =CONCATENATE(617836,",",ROW(CCTTCR_06609!A31),"|",COLUMN(CCTTCR_06609!A31),",0",",0") -> 617836,31|1,0,0 | B31: =CONCATENATE(617876,",",ROW(CCTTCR_06609!B31),"|",COLUMN(CCTTCR_06609!B31),",0",",0") -> 617876,31|2,0,0 | C31: =CONCATENATE(617774,",",ROW(CCTTCR_06609!C31),"|",COLUMN(CCTTCR_06609!C31),",0",",0") -> 617774,31|3,0,0 | D31: =CONCATENATE(617975,",",ROW(CCTTCR_06609!D31),"|",COLUMN(CCTTCR_06609!D31),",0",",0") -> 617975,31|4,0,0 | E31: =CONCATENATE(617912,",",ROW(CCTTCR_06609!E31),"|",COLUMN(CCTTCR_06609!E31),",0",",0") -> 617912,31|5,0,0
A32: =CONCATENATE(617936,",",ROW(CCTTCR_06609!A32),"|",COLUMN(CCTTCR_06609!A32),",0",",0") -> 617936,32|1,0,0 | B32: =CONCATENATE(617832,",",ROW(CCTTCR_06609!B32),"|",COLUMN(CCTTCR_06609!B32),",0",",0") -> 617832,32|2,0,0 | C32: =CONCATENATE(617797,",",ROW(CCTTCR_06609!C32),"|",COLUMN(CCTTCR_06609!C32),",0",",0") -> 617797,32|3,0,0 | D32: =CONCATENATE(617848,",",ROW(CCTTCR_06609!D32),"|",COLUMN(CCTTCR_06609!D32),",0",",0") -> 617848,32|4,0,0 | E32: =CONCATENATE(617800,",",ROW(CCTTCR_06609!E32),"|",COLUMN(CCTTCR_06609!E32),",0",",0") -> 617800,32|5,0,0
A33: =CONCATENATE(617937,",",ROW(CCTTCR_06609!A33),"|",COLUMN(CCTTCR_06609!A33),",0",",0") -> 617937,33|1,0,0 | B33: =CONCATENATE(617877,",",ROW(CCTTCR_06609!B33),"|",COLUMN(CCTTCR_06609!B33),",0",",0") -> 617877,33|2,0,0 | C33: =CONCATENATE(617981,",",ROW(CCTTCR_06609!C33),"|",COLUMN(CCTTCR_06609!C33),",0",",0") -> 617981,33|3,0,0 | D33: =CONCATENATE(617976,",",ROW(CCTTCR_06609!D33),"|",COLUMN(CCTTCR_06609!D33),",0",",0") -> 617976,33|4,0,0 | E33: =CONCATENATE(617913,",",ROW(CCTTCR_06609!E33),"|",COLUMN(CCTTCR_06609!E33),",0",",0") -> 617913,33|5,0,0
A34: =CONCATENATE(617938,",",ROW(CCTTCR_06609!A34),"|",COLUMN(CCTTCR_06609!A34),",0",",0") -> 617938,34|1,0,0 | B34: =CONCATENATE(617817,",",ROW(CCTTCR_06609!B34),"|",COLUMN(CCTTCR_06609!B34),",0",",0") -> 617817,34|2,0,0 | C34: =CONCATENATE(617798,",",ROW(CCTTCR_06609!C34),"|",COLUMN(CCTTCR_06609!C34),",0",",0") -> 617798,34|3,0,0 | D34: =CONCATENATE(617849,",",ROW(CCTTCR_06609!D34),"|",COLUMN(CCTTCR_06609!D34),",0",",0") -> 617849,34|4,0,0 | E34: =CONCATENATE(617801,",",ROW(CCTTCR_06609!E34),"|",COLUMN(CCTTCR_06609!E34),",0",",0") -> 617801,34|5,0,0
A35: =CONCATENATE(617939,",",ROW(CCTTCR_06609!A35),"|",COLUMN(CCTTCR_06609!A35),",0",",0") -> 617939,35|1,0,0 | B35: =CONCATENATE(617878,",",ROW(CCTTCR_06609!B35),"|",COLUMN(CCTTCR_06609!B35),",0",",0") -> 617878,35|2,0,0 | C35: =CONCATENATE(617982,",",ROW(CCTTCR_06609!C35),"|",COLUMN(CCTTCR_06609!C35),",0",",0") -> 617982,35|3,0,0 | D35: =CONCATENATE(617977,",",ROW(CCTTCR_06609!D35),"|",COLUMN(CCTTCR_06609!D35),",0",",0") -> 617977,35|4,0,0 | E35: =CONCATENATE(617914,",",ROW(CCTTCR_06609!E35),"|",COLUMN(CCTTCR_06609!E35),",0",",0") -> 617914,35|5,0,0
A36: =CONCATENATE(617940,",",ROW(CCTTCR_06609!A36),"|",COLUMN(CCTTCR_06609!A36),",0",",0") -> 617940,36|1,0,0 | B36: =CONCATENATE(617818,",",ROW(CCTTCR_06609!B36),"|",COLUMN(CCTTCR_06609!B36),",0",",0") -> 617818,36|2,0,0 | C36: =CONCATENATE(617799,",",ROW(CCTTCR_06609!C36),"|",COLUMN(CCTTCR_06609!C36),",0",",0") -> 617799,36|3,0,0 | D36: =CONCATENATE(617850,",",ROW(CCTTCR_06609!D36),"|",COLUMN(CCTTCR_06609!D36),",0",",0") -> 617850,36|4,0,0 | E36: =CONCATENATE(617802,",",ROW(CCTTCR_06609!E36),"|",COLUMN(CCTTCR_06609!E36),",0",",0") -> 617802,36|5,0,0
A37: =CONCATENATE(617941,",",ROW(CCTTCR_06609!A37),"|",COLUMN(CCTTCR_06609!A37),",0",",0") -> 617941,37|1,0,0 | B37: =CONCATENATE(617819,",",ROW(CCTTCR_06609!B37),"|",COLUMN(CCTTCR_06609!B37),",0",",0") -> 617819,37|2,0,0 | C37: =CONCATENATE(617781,",",ROW(CCTTCR_06609!C37),"|",COLUMN(CCTTCR_06609!C37),",0",",0") -> 617781,37|3,0,0 | D37: =CONCATENATE(617851,",",ROW(CCTTCR_06609!D37),"|",COLUMN(CCTTCR_06609!D37),",0",",0") -> 617851,37|4,0,0 | E37: =CONCATENATE(617803,",",ROW(CCTTCR_06609!E37),"|",COLUMN(CCTTCR_06609!E37),",0",",0") -> 617803,37|5,0,0
A38: =CONCATENATE(617806,",",ROW(CCTTCR_06609!A38),"|",COLUMN(CCTTCR_06609!A38),",0",",0") -> 617806,38|1,0,0 | B38: =CONCATENATE(617833,",",ROW(CCTTCR_06609!B38),"|",COLUMN(CCTTCR_06609!B38),",0",",0") -> 617833,38|2,0,0 | C38: =CONCATENATE(617943,",",ROW(CCTTCR_06609!C38),"|",COLUMN(CCTTCR_06609!C38),",0",",0") -> 617943,38|3,0,0 | D38: =CONCATENATE(617889,",",ROW(CCTTCR_06609!D38),"|",COLUMN(CCTTCR_06609!D38),",0",",0") -> 617889,38|4,0,0 | E38: =CONCATENATE(617983,",",ROW(CCTTCR_06609!E38),"|",COLUMN(CCTTCR_06609!E38),",0",",0") -> 617983,38|5,0,0
A39: =CONCATENATE(617854,",",ROW(CCTTCR_06609!A39),"|",COLUMN(CCTTCR_06609!A39),",0",",0") -> 617854,39|1,0,0 | B39: =CONCATENATE(617865,",",ROW(CCTTCR_06609!B39),"|",COLUMN(CCTTCR_06609!B39),",0",",0") -> 617865,39|2,0,0 | C39: =CONCATENATE(617782,",",ROW(CCTTCR_06609!C39),"|",COLUMN(CCTTCR_06609!C39),",0",",0") -> 617782,39|3,0,0 | D39: =CONCATENATE(617852,",",ROW(CCTTCR_06609!D39),"|",COLUMN(CCTTCR_06609!D39),",0",",0") -> 617852,39|4,0,0 | E39: =CONCATENATE(617804,",",ROW(CCTTCR_06609!E39),"|",COLUMN(CCTTCR_06609!E39),",0",",0") -> 617804,39|5,0,0
A40: =CONCATENATE(617957,",",ROW(CCTTCR_06609!A40),"|",COLUMN(CCTTCR_06609!A40),",0",",0") -> 617957,40|1,0,0 | B40: =CONCATENATE(617810,",",ROW(CCTTCR_06609!B40),"|",COLUMN(CCTTCR_06609!B40),",0",",0") -> 617810,40|2,0,0 | C40: =CONCATENATE(617944,",",ROW(CCTTCR_06609!C40),"|",COLUMN(CCTTCR_06609!C40),",0",",0") -> 617944,40|3,0,0 | D40: =CONCATENATE(617890,",",ROW(CCTTCR_06609!D40),"|",COLUMN(CCTTCR_06609!D40),",0",",0") -> 617890,40|4,0,0 | E40: =CONCATENATE(617984,",",ROW(CCTTCR_06609!E40),"|",COLUMN(CCTTCR_06609!E40),",0",",0") -> 617984,40|5,0,0
A41: =CONCATENATE(617958,",",ROW(CCTTCR_06609!A41),"|",COLUMN(CCTTCR_06609!A41),",0",",0") -> 617958,41|1,0,0 | B41: =CONCATENATE(617812,",",ROW(CCTTCR_06609!B41),"|",COLUMN(CCTTCR_06609!B41),",0",",0") -> 617812,41|2,0,0 | C41: =CONCATENATE(617945,",",ROW(CCTTCR_06609!C41),"|",COLUMN(CCTTCR_06609!C41),",0",",0") -> 617945,41|3,0,0 | D41: =CONCATENATE(617891,",",ROW(CCTTCR_06609!D41),"|",COLUMN(CCTTCR_06609!D41),",0",",0") -> 617891,41|4,0,0 | E41: =CONCATENATE(617985,",",ROW(CCTTCR_06609!E41),"|",COLUMN(CCTTCR_06609!E41),",0",",0") -> 617985,41|5,0,0
A42: =CONCATENATE(617827,",",ROW(CCTTCR_06609!A42),"|",COLUMN(CCTTCR_06609!A42),",0",",0") -> 617827,42|1,0,0 | B42: =CONCATENATE(617879,",",ROW(CCTTCR_06609!B42),"|",COLUMN(CCTTCR_06609!B42),",0",",0") -> 617879,42|2,0,0 | C42: =CONCATENATE(617775,",",ROW(CCTTCR_06609!C42),"|",COLUMN(CCTTCR_06609!C42),",0",",0") -> 617775,42|3,0,0 | D42: =CONCATENATE(617978,",",ROW(CCTTCR_06609!D42),"|",COLUMN(CCTTCR_06609!D42),",0",",0") -> 617978,42|4,0,0 | E42: =CONCATENATE(617915,",",ROW(CCTTCR_06609!E42),"|",COLUMN(CCTTCR_06609!E42),",0",",0") -> 617915,42|5,0,0
...

Sheet BCKQHDR_06610
A1: BÁO CÁO KẾT QUẢ HOẠT ĐỘNG RIÊNG
A2: Quý 1/Năm 2026
A3: Đơn vị tính: Đồng Việt Nam
A4: CHỈ TIÊU | B4: Mã số | C4: Thuyết minh | D4: Năm nay | E4: Năm trước
A5: A | B5: B | C5: C | D5: 1 | E5: 2
A6: I. DOANH THU HOẠT ĐỘNG
A7: 1.1. Lãi từ các tài sản tài chính ghi nhận thông qua lãi/lỗ (FVTPL) | B7: 1 | D7: 2451244872 | E7: 75053832395
A8: a. Lãi bán các tài sản tài chính FVTPL | B8: 1.1 | D8: 2006845636 | E8: 918158042
A9: b. Chênh lệch tăng về đánh giá lại các TSTC FVTPL | B9: 1.2 | D9: 424399236 | E9: 71012550453
A10: c. Cổ tức, tiền lãi phát sinh từ tài sản tài chính FVTPL | B10: 1.3 | D10: 20000000 | E10: 3123123900
A11: 1.2. Lãi từ các khoản đầu tư nắm giữ đến ngày đáo hạn (HTM) | B11: 2
A12: 1.3. Lãi từ các khoản cho vay và phải thu | B12: 3 | D12: 2797257450 | E12: 6515462730
A13: 1.4. Lãi từ tài sản tài chính sẵn sàng để bán (AFS) | B13: 4
A14: 1.5. Lãi từ các công cụ phái sinh phòng ngừa rủi ro | B14: 5
A15: 1.6. Doanh thu nghiệp vụ môi giới chứng khoán | B15: 6 | D15: 2172730442 | E15: 3804485235
A16: 1.7. Doanh thu nghiệp vụ bảo lãnh, đại lý phát hành chứng khoán | B16: 7
A17: 1.8. Doanh thu nghiệp vụ tư vấn đầu tư chứng khoán | B17: 8
A18: 1.9. Doanh thu nghiệp vụ lưu ký chứng khoán | B18: 9 | D18: 306035649 | E18: 425602638
A19: 1.10. Doanh thu hoạt động tư vấn tài chính | B19: 10 | D19: 416958182 | E19: 1175454545
A20: 1.11. Thu nhập hoạt động khác | B20: 11 | D20: 9832000 | E20: 9272000
A21: Cộng doanh thu hoạt động (20 = 01 đến 11) | B21: 20 | D21: 8154058595 | E21: 86984109543
A22: II. CHI PHÍ HOẠT ĐỘNG
A23: 2.1. Lỗ các tài sản tài chính ghi nhận thông qua lãi/lỗ (FVTPL) | B23: 21 | D23: 182316116150 | E23: 37309666065
A24: a. Lỗ bán các tài sản tài chính FVTPL | B24: 21.1 | D24: 0 | E24: 3739474329
A25: b. Chênh lệch giảm đánh giá lại các TSTC FVTPL | B25: 21.2 | D25: 182316116150 | E25: 33570191736
A26: c. Chi phí giao dịch mua các tài sản tài chính FVTPL | B26: 21.3
A27: 2.2. Lỗ các khoản đầu tư nắm giữ đến ngày đáo hạn (HTM) | B27: 22
A28: 2.3. Lỗ và ghi nhận chênh lệch đánh giá theo giá trị hợp lý tài sản tài chính sẵn sàng để bán (AFS) khi phân loại lại | B28: 23
A29: 2.4. Chi phí dự phòng tài sản tài chính, xử lý tổn thất các khoản phải thu khó đòi và lỗ suy giảm tài sản tài chính và chi phí đi vay của các khoản cho vay | B29: 24 | D29: 685289435 | E29: 14786247711
A30: 2.5. Lỗ từ các tài sản tài chính phái sinh phòng ngừa rủi ro | B30: 25
A31: 2.6. Chi phí hoạt động tự doanh | B31: 26 | D31: 214338299 | E31: 141359267
A32: 2.7. Chi phí nghiệp vụ môi giới chứng khoán | B32: 27 | D32: 3072927295 | E32: 4901192683
A33: 2.8. Chi phí nghiệp vụ bảo lãnh, đại lý phát hành chứng khoán | B33: 28
A34: 2.9. Chi phí nghiệp vụ tư vấn đầu tư chứng khoán | B34: 29
A35: 2.10. Chi phí nghiệp vụ lưu ký chứng khoán | B35: 30 | D35: 483942057 | E35: 452232655
A36: 2.11. Chi phí hoạt động tư vấn tài chính | B36: 31 | D36: 604032394 | E36: 914158849
A37: 2.12. Chi phí các dịch vụ khác | B37: 32 | D37: 1094445024 | E37: 1315030634
A38: Cộng chi phí hoạt động (40 = 21 đến 32) | B38: 40 | D38: 188471090654 | E38: 59819887864
A39: III. DOANH THU HOẠT ĐỘNG TÀI CHÍNH
A40: 3.1. Chênh lệch lãi tỷ giá hối đoái đã và chưa thực hiện | B40: 41
...

Sheet 7706_hidden
A5: =CONCATENATE(617267,",",ROW(BCKQHDR_06610!A5),"|",COLUMN(BCKQHDR_06610!A5),",0",",0") -> 617267,5|1,0,0 | B5: =CONCATENATE(617114,",",ROW(BCKQHDR_06610!B5),"|",COLUMN(BCKQHDR_06610!B5),",0",",0") -> 617114,5|2,0,0 | C5: =CONCATENATE(617245,",",ROW(BCKQHDR_06610!C5),"|",COLUMN(BCKQHDR_06610!C5),",0",",0") -> 617245,5|3,0,0 | D5: =CONCATENATE(617115,",",ROW(BCKQHDR_06610!D5),"|",COLUMN(BCKQHDR_06610!D5),",0",",0") -> 617115,5|4,0,0 | E5: =CONCATENATE(617246,",",ROW(BCKQHDR_06610!E5),"|",COLUMN(BCKQHDR_06610!E5),",0",",0") -> 617246,5|5,0,0
A6: =CONCATENATE(617387,",",ROW(BCKQHDR_06610!A6),"|",COLUMN(BCKQHDR_06610!A6),",0",",0") -> 617387,6|1,0,0 | B6: =CONCATENATE(617251,",",ROW(BCKQHDR_06610!B6),"|",COLUMN(BCKQHDR_06610!B6),",0",",0") -> 617251,6|2,0,0 | C6: =CONCATENATE(617191,",",ROW(BCKQHDR_06610!C6),"|",COLUMN(BCKQHDR_06610!C6),",0",",0") -> 617191,6|3,0,0 | D6: =CONCATENATE(617077,",",ROW(BCKQHDR_06610!D6),"|",COLUMN(BCKQHDR_06610!D6),",0",",0") -> 617077,6|4,0,0 | E6: =CONCATENATE(617178,",",ROW(BCKQHDR_06610!E6),"|",COLUMN(BCKQHDR_06610!E6),",0",",0") -> 617178,6|5,0,0
A7: =CONCATENATE(617247,",",ROW(BCKQHDR_06610!A7),"|",COLUMN(BCKQHDR_06610!A7),",0",",0") -> 617247,7|1,0,0 | B7: =CONCATENATE(617172,",",ROW(BCKQHDR_06610!B7),"|",COLUMN(BCKQHDR_06610!B7),",0",",0") -> 617172,7|2,0,0 | C7: =CONCATENATE(617131,",",ROW(BCKQHDR_06610!C7),"|",COLUMN(BCKQHDR_06610!C7),",0",",0") -> 617131,7|3,0,0 | D7: =CONCATENATE(617313,",",ROW(BCKQHDR_06610!D7),"|",COLUMN(BCKQHDR_06610!D7),",0",",0") -> 617313,7|4,0,0 | E7: =CONCATENATE(617287,",",ROW(BCKQHDR_06610!E7),"|",COLUMN(BCKQHDR_06610!E7),",0",",0") -> 617287,7|5,0,0
A8: =CONCATENATE(617165,",",ROW(BCKQHDR_06610!A8),"|",COLUMN(BCKQHDR_06610!A8),",0",",0") -> 617165,8|1,0,0 | B8: =CONCATENATE(617173,",",ROW(BCKQHDR_06610!B8),"|",COLUMN(BCKQHDR_06610!B8),",0",",0") -> 617173,8|2,0,0 | C8: =CONCATENATE(617232,",",ROW(BCKQHDR_06610!C8),"|",COLUMN(BCKQHDR_06610!C8),",0",",0") -> 617232,8|3,0,0 | D8: =CONCATENATE(617314,",",ROW(BCKQHDR_06610!D8),"|",COLUMN(BCKQHDR_06610!D8),",0",",0") -> 617314,8|4,0,0 | E8: =CONCATENATE(617288,",",ROW(BCKQHDR_06610!E8),"|",COLUMN(BCKQHDR_06610!E8),",0",",0") -> 617288,8|5,0,0
A9: =CONCATENATE(617388,",",ROW(BCKQHDR_06610!A9),"|",COLUMN(BCKQHDR_06610!A9),",0",",0") -> 617388,9|1,0,0 | B9: =CONCATENATE(617337,",",ROW(BCKQHDR_06610!B9),"|",COLUMN(BCKQHDR_06610!B9),",0",",0") -> 617337,9|2,0,0 | C9: =CONCATENATE(617233,",",ROW(BCKQHDR_06610!C9),"|",COLUMN(BCKQHDR_06610!C9),",0",",0") -> 617233,9|3,0,0 | D9: =CONCATENATE(617315,",",ROW(BCKQHDR_06610!D9),"|",COLUMN(BCKQHDR_06610!D9),",0",",0") -> 617315,9|4,0,0 | E9: =CONCATENATE(617289,",",ROW(BCKQHDR_06610!E9),"|",COLUMN(BCKQHDR_06610!E9),",0",",0") -> 617289,9|5,0,0
A10: =CONCATENATE(617268,",",ROW(BCKQHDR_06610!A10),"|",COLUMN(BCKQHDR_06610!A10),",0",",0") -> 617268,10|1,0,0 | B10: =CONCATENATE(617354,",",ROW(BCKQHDR_06610!B10),"|",COLUMN(BCKQHDR_06610!B10),",0",",0") -> 617354,10|2,0,0 | C10: =CONCATENATE(617272,",",ROW(BCKQHDR_06610!C10),"|",COLUMN(BCKQHDR_06610!C10),",0",",0") -> 617272,10|3,0,0 | D10: =CONCATENATE(617316,",",ROW(BCKQHDR_06610!D10),"|",COLUMN(BCKQHDR_06610!D10),",0",",0") -> 617316,10|4,0,0 | E10: =CONCATENATE(617290,",",ROW(BCKQHDR_06610!E10),"|",COLUMN(BCKQHDR_06610!E10),",0",",0") -> 617290,10|5,0,0
A11: =CONCATENATE(617166,",",ROW(BCKQHDR_06610!A11),"|",COLUMN(BCKQHDR_06610!A11),",0",",0") -> 617166,11|1,0,0 | B11: =CONCATENATE(617349,",",ROW(BCKQHDR_06610!B11),"|",COLUMN(BCKQHDR_06610!B11),",0",",0") -> 617349,11|2,0,0 | C11: =CONCATENATE(617075,",",ROW(BCKQHDR_06610!C11),"|",COLUMN(BCKQHDR_06610!C11),",0",",0") -> 617075,11|3,0,0 | D11: =CONCATENATE(617317,",",ROW(BCKQHDR_06610!D11),"|",COLUMN(BCKQHDR_06610!D11),",0",",0") -> 617317,11|4,0,0 | E11: =CONCATENATE(617291,",",ROW(BCKQHDR_06610!E11),"|",COLUMN(BCKQHDR_06610!E11),",0",",0") -> 617291,11|5,0,0
A12: =CONCATENATE(617228,",",ROW(BCKQHDR_06610!A12),"|",COLUMN(BCKQHDR_06610!A12),",0",",0") -> 617228,12|1,0,0 | B12: =CONCATENATE(617174,",",ROW(BCKQHDR_06610!B12),"|",COLUMN(BCKQHDR_06610!B12),",0",",0") -> 617174,12|2,0,0 | C12: =CONCATENATE(617080,",",ROW(BCKQHDR_06610!C12),"|",COLUMN(BCKQHDR_06610!C12),",0",",0") -> 617080,12|3,0,0 | D12: =CONCATENATE(617318,",",ROW(BCKQHDR_06610!D12),"|",COLUMN(BCKQHDR_06610!D12),",0",",0") -> 617318,12|4,0,0 | E12: =CONCATENATE(617292,",",ROW(BCKQHDR_06610!E12),"|",COLUMN(BCKQHDR_06610!E12),",0",",0") -> 617292,12|5,0,0
A13: =CONCATENATE(617248,",",ROW(BCKQHDR_06610!A13),"|",COLUMN(BCKQHDR_06610!A13),",0",",0") -> 617248,13|1,0,0 | B13: =CONCATENATE(617175,",",ROW(BCKQHDR_06610!B13),"|",COLUMN(BCKQHDR_06610!B13),",0",",0") -> 617175,13|2,0,0 | C13: =CONCATENATE(617081,",",ROW(BCKQHDR_06610!C13),"|",COLUMN(BCKQHDR_06610!C13),",0",",0") -> 617081,13|3,0,0 | D13: =CONCATENATE(617319,",",ROW(BCKQHDR_06610!D13),"|",COLUMN(BCKQHDR_06610!D13),",0",",0") -> 617319,13|4,0,0 | E13: =CONCATENATE(617293,",",ROW(BCKQHDR_06610!E13),"|",COLUMN(BCKQHDR_06610!E13),",0",",0") -> 617293,13|5,0,0
A14: =CONCATENATE(617249,",",ROW(BCKQHDR_06610!A14),"|",COLUMN(BCKQHDR_06610!A14),",0",",0") -> 617249,14|1,0,0 | B14: =CONCATENATE(617355,",",ROW(BCKQHDR_06610!B14),"|",COLUMN(BCKQHDR_06610!B14),",0",",0") -> 617355,14|2,0,0 | C14: =CONCATENATE(617082,",",ROW(BCKQHDR_06610!C14),"|",COLUMN(BCKQHDR_06610!C14),",0",",0") -> 617082,14|3,0,0 | D14: =CONCATENATE(617124,",",ROW(BCKQHDR_06610!D14),"|",COLUMN(BCKQHDR_06610!D14),",0",",0") -> 617124,14|4,0,0 | E14: =CONCATENATE(617294,",",ROW(BCKQHDR_06610!E14),"|",COLUMN(BCKQHDR_06610!E14),",0",",0") -> 617294,14|5,0,0
