Workbook

Sheet Trang bìa
B8: Kính gửi: Ủy ban Chứng khoán Nhà nước | C8: Kính gửi: Ủy ban Chứng khoán Nhà nước
B10: BÁO CÁO TÀI CHÍNH RIÊNG LẺ
B12: Thông tư số 334/2016/TT-BTC ngày 27/12/2016 của Bộ Tài chính
B13: STT | C13: Nội dung | D13: Mã sheet
B14: 1 | C14: BÁO CÁO TÌNH HÌNH TÀI CHÍNH RIÊNG | D14: BCTCR_06608
B15: 2 | C15: CÁC CHỈ TIÊU NGOÀI BÁO CÁO TÌNH HÌNH TÀI CHÍNH RIÊNG | D15: CCTTCR_06609
B16: 3 | C16: BÁO CÁO KẾT QUẢ HOẠT ĐỘNG RIÊNG | D16: BCKQHDR_06610
B17: 4 | C17: BÁO CÁO LƯU CHUYỂN TIỀN TỆ RIÊNG | D17: BCLCTTRTT_06611
B18: 5 | C18: PHẦN LƯU CHUYỂN TIỀN TỆ HOẠT ĐỘNG MÔI GIỚI, ỦY THÁC CỦA KHÁCH HÀNG | D18: PLCTTHDMGUTCKHTT_06612
B19: 6 | C19: BÁO CÁO LƯU CHUYỂN TIỀN TỆ RIÊNG | D19: BCLCTTRGT_06613
B20: 7 | C20: PHẦN LƯU CHUYỂN TIỀN TỆ HOẠT ĐỘNG MÔI GIỚI, ỦY THÁC CỦA KHÁCH HÀNG | D20: PLCTTHDMGUTCKHGT_06614
B21: 8 | C21: BÁO CÁO TÌNH HÌNH BIẾN ĐỘNG VỐN CHỦ SỞ HỮU | D21: BCTHBDVCSH_06615
B23: Ghi chú
B24: Không đổi tên sheet Những chỉ tiêu không có số liệu có thể không phải trình bày nhưng không được đánh lại “Mã chỉ tiêu”. Không được xóa cột trên sheet
D26: Lập, ngày 16 tháng 07 năm 2026
B27: Người lập biểu | C27: Kế toán trưởng | D27: Giám đốc
B28: (Ký, họ tên) | C28: (Ký, họ tên) | D28: (Ký, họ tên, đóng dấu)

Sheet Setting
A1: 4190

Sheet BCTCR_06608
A1: BÁO CÁO TÌNH HÌNH TÀI CHÍNH RIÊNG
A2: Tại ngày ... tháng ... năm ...(1)
A3: Đơn vị tính: Đồng Việt Nam
A4: Chỉ tiêu | B4: Mã số | C4: Thuyết minh | D4: Số cuối năm | E4: Số đầu năm
A5: A | B5: B | C5: C | D5: 1 | E5: 2
A6: 1.1. Tiền | B6: 111.1 | D6: 71358722193 | E6: 138223648674
A7: 2. Các tài sản tài chính ghi nhận thông qua lãi/lỗ (FVTPL) | B7: 112 | D7: 1529768349900 | E7: 914319864860
A8: I. Tài sản tài chính | B8: 110 | D8: 2260070133413 | E8: 2296016292341
A9: 1.2. Các khoản tương đương tiền | B9: 111.2
A10: TÀI SẢN
A11: 3. Các khoản đầu tư nắm giữ đến ngày đáo hạn (HTM) | B11: 113
A12: A. TÀI SẢN NGẮN HẠN (100 = 110 + 130) | B12: 100 | D12: 2262599294576 | E12: 2298087722425
A13: 1.Tiền và các khoản tương đương tiền | B13: 111 | D13: 71358722193 | E13: 138223648674
A14: 4. Các khoản cho vay | B14: 114 | D14: 74952896089 | E14: 92390058256
A15: 5. Tài sản tài chính sẵn sàng để bán (AFS) | B15: 115 | D15: 30310000000 | E15: 30310000000
A16: 6. Dự phòng suy giảm giá trị các tài sản tài chính và tài sản thế chấp | B16: 116 | D16: -22661105697 | E16: -25460285612
A17: 7. Các khoản phải thu | B17: 117 | D17: 574482216775 | E17: 1144200622703
A18: 7.2. Phải thu và dự thu cổ tức, tiền lãi các tài sản tài chính | B18: 117.2 | D18: 112194000 | E18: 0
A19: 7.1. Phải thu bán các tài sản tài chính | B19: 117.1 | D19: 574370022775 | E19: 1144200622703
A20: 7.2.2. Dự thu cổ tức, tiền lãi chưa đến ngày nhận | B20: 117.4
A21: 7.2.1. Phải thu cổ tức, tiền lãi đến ngày nhận | B21: 117.3 | D21: 112194000 | E21: 0
A22: 8. Trả trước cho người bán | B22: 118 | D22: 2689000000 | E22: 2689000000
A23: 9. Phải thu các dịch vụ CTCK cung cấp | B23: 119 | D23: 1882054153 | E23: 1975704277
A24: 10. Phải thu nội bộ | B24: 120
A25: 11. Phải thu về lỗi giao dịch chứng khoán | B25: 121
A26: 12. Các khoản phải thu khác | B26: 122 | D26: 2321000000 | E26: 1680679183
A27: 13. Dự phòng suy giảm giá trị các khoản phải thu (*) | B27: 129 | D27: -5033000000 | E27: -4313000000
A28: II. Tài sản ngắn hạn khác | B28: 130 | D28: 2529161163 | E28: 2071430084
A29: 1. Tạm ứng | B29: 131 | D29: 39741411 | E29: 20103478
A30: 2. Vật tư văn phòng, công cụ, dụng cụ | B30: 132
A31: 3. Chi phí trả trước ngắn hạn | B31: 133 | D31: 1889467665 | E31: 1451374519
A32: 4. Cầm cố, thế chấp, ký quỹ, ký cược ngắn hạn | B32: 134
A33: 5. Thuế giá trị gia tăng được khấu trừ | B33: 135
A34: 6. Thuế và các khoản khác phải thu Nhà nước | B34: 136 | D34: 599952087 | E34: 599952087
A35: 7. Tài sản ngắn hạn khác | B35: 137
A36: 8. Giao dịch mua bán lại trái phiếu Chính phủ | B36: 138
A37: 9. Dự phòng suy giảm giá trị tài sản ngắn hạn khác | B37: 139
A38: B. TÀI SẢN DÀI HẠN (200 = 210 + 220 + 230 + 240 + 250 - 260) | B38: 200 | D38: 45373449114 | E38: 49460780740
A39: I. Tài sản tài chính dài hạn | B39: 210
A40: 1. Các khoản phải thu dài hạn | B40: 211
A41: 2. Các khoản đầu tư | B41: 212
A42: 2.1.Các khoản đầu tư nắm giữ đến ngày đáo hạn | B42: 212.1
A43: 2.2. Đầu tư vào công ty con | B43: 212.2
A44: 2.3. Đầu tư vào công ty liên doanh, liên kết | B44: 212.3
A45: 2.4. Đầu tư dài hạn khác | B45: 212.4
A46: 3. Dự phòng suy giảm tài sản tài chính dài hạn | B46: 213
A47: II. Tài sản cố định | B47: 220 | D47: 18096777601 | E47: 22204398044
A48: 1. Tài sản cố định hữu hình | B48: 221 | D48: 12197557837 | E48: 15475885635
A49: - Nguyên giá | B49: 222 | D49: 39793908991 | E49: 41828931671
A50: - Giá trị hao mòn luỹ kế (*) | B50: 223a | D50: -27596351154 | E50: -26353046036
A51: - Đánh giá TSCĐHH theo giá trị hợp lý | B51: 223b
A52: 2. Tài sản cố định thuê tài chính | B52: 224
A53: - Nguyên giá | B53: 225
A54: - Giá trị hao mòn luỹ kế (*) | B54: 226a
A55: - Đánh giá TSCĐTTC theo giá trị hợp lý | B55: 226b
A56: 3. Tài sản cố định vô hình | B56: 227 | D56: 5899219764 | E56: 6728512409
A57: - Nguyên giá | B57: 228 | D57: 25385008497 | E57: 25385008497
A58: - Giá trị hao mòn luỹ kế (*) | B58: 229a | D58: -19485788733 | E58: -18656496088
A59: - Đánh giá TSCĐVH theo giá trị hợp lý | B59: 229b
A60: III. Bất động sản đầu tư | B60: 230
A61: - Nguyên giá | B61: 231
A62: - Giá trị hao mòn luỹ kế (*) | B62: 232a
A63: - Đánh giá BĐSĐT theo giá trị hợp lý | B63: 232b
A64: IV.Chi phí xây dựng cơ bản dở dang | B64: 240
A65: V. Tài sản dài hạn khác | B65: 250 | D65: 27276671513 | E65: 27256382696
A66: 1. Cầm cố, thế chấp, ký quỹ, ký cược dài hạn | B66: 251 | D66: 2530039400 | E66: 2545039400
A67: 2. Chi phí trả trước dài hạn | B67: 252 | D67: 4746632113 | E67: 3847240756
A68: 3. Tài sản thuế thu nhập hoãn lại | B68: 253
A69: 4. Tiền nộp Quỹ Hỗ trợ thanh toán | B69: 254 | D69: 20000000000 | E69: 20864102540
A70: 5. Tài sản dài hạn khác | B70: 255
A71: VI. Dự phòng suy giảm giá trị tài sản dài hạn | B71: 260
A72: TỔNG CỘNG TÀI SẢN
A73: (270 = 100 + 200) | B73: 270 | D73: 2307972743690 | E73: 2347548503165
A74: C. NỢ PHẢI TRẢ (300 = 310 + 340) | B74: 300 | D74: 291833682150 | E74: 368757033120
A75: I. Nợ phải trả ngắn hạn | B75: 310 | D75: 278384016731 | E75: 364155122113
A76: 1. Vay và nợ thuê tài chính ngắn hạn | B76: 311 | D76: 260310278020 | E76: 310305633500
A77: 1.1. Vay ngắn hạn | B77: 312 | D77: 260310278020 | E77: 310305633500
A78: 1.2. Nợ thuê tài chính ngắn hạn | B78: 313
A79: 2. Vay tài sản tài chính ngắn hạn | B79: 314
A80: 3. Trái phiếu chuyển đổi ngắn hạn - Cấu phần nợ | B80: 315
A81: 4. Trái phiếu phát hành ngắn hạn | B81: 316
A82: 5. Vay Quỹ Hỗ trợ thanh toán | B82: 317
A83: 6. Phải trả hoạt động giao dịch chứng khoán | B83: 318 | D83: 144035591 | E83: 264199776
A84: 7. Phải trả về lỗi giao dịch các tài sản tài chính | B84: 319
A85: 8. Phải trả người bán ngắn hạn | B85: 320 | D85: 1072323698 | E85: 29715693552
A86: 9. Người mua trả tiền trước ngắn hạn | B86: 321 | D86: 840500000 | E86: 957900000
A87: 10. Thuế và các khoản phải nộp Nhà nước | B87: 322 | D87: 1072364873 | E87: 1076842851
A88: 11. Phải trả người lao động | B88: 323 | D88: 340124863 | E88: 0
A89: 12.Các khoản trích nộp phúc lợi nhân viên | B89: 324 | D89: 231220823 | E89: 432422323
A90: 13. Chi phí phải trả ngắn hạn | B90: 325 | D90: 6317825280 | E90: 12393562713
A91: 14. Phải trả nội bộ ngắn hạn | B91: 326
A92: 15. Doanh thu chưa thực hiện ngắn hạn | B92: 327
A93: 16. Nhận ký quỹ, ký cược ngắn hạn | B93: 328
A94: 17.Các khoản phải trả, phải nộp khác ngắn hạn | B94: 329 | D94: 1329149384 | E94: 1363619222
A95: 18. Dự phòng phải trả ngắn hạn | B95: 330
A96: 19. Quỹ khen thưởng, phúc lợi | B96: 331 | D96: 6726194199 | E96: 7645248176
A97: 20. Giao dịch mua bán lại trái phiếu Chính phủ | B97: 332
A98: II. Nợ phải trả dài hạn | B98: 340 | D98: 13449665419 | E98: 4601911007
A99: 1. Vay và nợ thuê tài chính dài hạn | B99: 341
A100: 1.1.Vay dài hạn | B100: 342
...

Sheet 8652_hidden
A5: =CONCATENATE(666258,",",ROW(BCTCR_06608!A5),"|",COLUMN(BCTCR_06608!A5),",0",",0") -> 666258,5|1,0,0 | B5: =CONCATENATE(666430,",",ROW(BCTCR_06608!B5),"|",COLUMN(BCTCR_06608!B5),",0",",0") -> 666430,5|2,0,0 | C5: =CONCATENATE(666312,",",ROW(BCTCR_06608!C5),"|",COLUMN(BCTCR_06608!C5),",0",",0") -> 666312,5|3,0,0 | D5: =CONCATENATE(666766,",",ROW(BCTCR_06608!D5),"|",COLUMN(BCTCR_06608!D5),",0",",0") -> 666766,5|4,0,0 | E5: =CONCATENATE(666313,",",ROW(BCTCR_06608!E5),"|",COLUMN(BCTCR_06608!E5),",0",",0") -> 666313,5|5,0,0
A6: =CONCATENATE(666609,",",ROW(BCTCR_06608!A6),"|",COLUMN(BCTCR_06608!A6),",0",",0") -> 666609,6|1,0,0 | B6: =CONCATENATE(666352,",",ROW(BCTCR_06608!B6),"|",COLUMN(BCTCR_06608!B6),",0",",0") -> 666352,6|2,0,0 | C6: =CONCATENATE(666445,",",ROW(BCTCR_06608!C6),"|",COLUMN(BCTCR_06608!C6),",0",",0") -> 666445,6|3,0,0 | D6: =CONCATENATE(666855,",",ROW(BCTCR_06608!D6),"|",COLUMN(BCTCR_06608!D6),",0",",0") -> 666855,6|4,0,0 | E6: =CONCATENATE(666314,",",ROW(BCTCR_06608!E6),"|",COLUMN(BCTCR_06608!E6),",0",",0") -> 666314,6|5,0,0
A7: =CONCATENATE(666610,",",ROW(BCTCR_06608!A7),"|",COLUMN(BCTCR_06608!A7),",0",",0") -> 666610,7|1,0,0 | B7: =CONCATENATE(666642,",",ROW(BCTCR_06608!B7),"|",COLUMN(BCTCR_06608!B7),",0",",0") -> 666642,7|2,0,0 | C7: =CONCATENATE(666446,",",ROW(BCTCR_06608!C7),"|",COLUMN(BCTCR_06608!C7),",0",",0") -> 666446,7|3,0,0 | D7: =CONCATENATE(666856,",",ROW(BCTCR_06608!D7),"|",COLUMN(BCTCR_06608!D7),",0",",0") -> 666856,7|4,0,0 | E7: =CONCATENATE(666315,",",ROW(BCTCR_06608!E7),"|",COLUMN(BCTCR_06608!E7),",0",",0") -> 666315,7|5,0,0
A8: =CONCATENATE(666608,",",ROW(BCTCR_06608!A8),"|",COLUMN(BCTCR_06608!A8),",0",",0") -> 666608,8|1,0,0 | B8: =CONCATENATE(666424,",",ROW(BCTCR_06608!B8),"|",COLUMN(BCTCR_06608!B8),",0",",0") -> 666424,8|2,0,0 | C8: =CONCATENATE(666444,",",ROW(BCTCR_06608!C8),"|",COLUMN(BCTCR_06608!C8),",0",",0") -> 666444,8|3,0,0 | D8: =CONCATENATE(666854,",",ROW(BCTCR_06608!D8),"|",COLUMN(BCTCR_06608!D8),",0",",0") -> 666854,8|4,0,0 | E8: =CONCATENATE(666324,",",ROW(BCTCR_06608!E8),"|",COLUMN(BCTCR_06608!E8),",0",",0") -> 666324,8|5,0,0
A9: =CONCATENATE(666587,",",ROW(BCTCR_06608!A9),"|",COLUMN(BCTCR_06608!A9),",0",",0") -> 666587,9|1,0,0 | B9: =CONCATENATE(666413,",",ROW(BCTCR_06608!B9),"|",COLUMN(BCTCR_06608!B9),",0",",0") -> 666413,9|2,0,0 | C9: =CONCATENATE(666712,",",ROW(BCTCR_06608!C9),"|",COLUMN(BCTCR_06608!C9),",0",",0") -> 666712,9|3,0,0 | D9: =CONCATENATE(666895,",",ROW(BCTCR_06608!D9),"|",COLUMN(BCTCR_06608!D9),",0",",0") -> 666895,9|4,0,0 | E9: =CONCATENATE(666683,",",ROW(BCTCR_06608!E9),"|",COLUMN(BCTCR_06608!E9),",0",",0") -> 666683,9|5,0,0
A10: =CONCATENATE(666685,",",ROW(BCTCR_06608!A10),"|",COLUMN(BCTCR_06608!A10),",0",",0") -> 666685,10|1,0,0 | C10: =CONCATENATE(666795,",",ROW(BCTCR_06608!C10),"|",COLUMN(BCTCR_06608!C10),",0",",0") -> 666795,10|3,0,0 | D10: =CONCATENATE(666442,",",ROW(BCTCR_06608!D10),"|",COLUMN(BCTCR_06608!D10),",0",",0") -> 666442,10|4,0,0 | E10: =CONCATENATE(666853,",",ROW(BCTCR_06608!E10),"|",COLUMN(BCTCR_06608!E10),",0",",0") -> 666853,10|5,0,0
A11: =CONCATENATE(666528,",",ROW(BCTCR_06608!A11),"|",COLUMN(BCTCR_06608!A11),",0",",0") -> 666528,11|1,0,0 | B11: =CONCATENATE(666811,",",ROW(BCTCR_06608!B11),"|",COLUMN(BCTCR_06608!B11),",0",",0") -> 666811,11|2,0,0 | C11: =CONCATENATE(666757,",",ROW(BCTCR_06608!C11),"|",COLUMN(BCTCR_06608!C11),",0",",0") -> 666757,11|3,0,0 | D11: =CONCATENATE(666443,",",ROW(BCTCR_06608!D11),"|",COLUMN(BCTCR_06608!D11),",0",",0") -> 666443,11|4,0,0 | E11: =CONCATENATE(666625,",",ROW(BCTCR_06608!E11),"|",COLUMN(BCTCR_06608!E11),",0",",0") -> 666625,11|5,0,0
A12: =CONCATENATE(666526,",",ROW(BCTCR_06608!A12),"|",COLUMN(BCTCR_06608!A12),",0",",0") -> 666526,12|1,0,0 | B12: =CONCATENATE(666809,",",ROW(BCTCR_06608!B12),"|",COLUMN(BCTCR_06608!B12),",0",",0") -> 666809,12|2,0,0 | C12: =CONCATENATE(666745,",",ROW(BCTCR_06608!C12),"|",COLUMN(BCTCR_06608!C12),",0",",0") -> 666745,12|3,0,0 | D12: =CONCATENATE(666878,",",ROW(BCTCR_06608!D12),"|",COLUMN(BCTCR_06608!D12),",0",",0") -> 666878,12|4,0,0 | E12: =CONCATENATE(666548,",",ROW(BCTCR_06608!E12),"|",COLUMN(BCTCR_06608!E12),",0",",0") -> 666548,12|5,0,0
A13: =CONCATENATE(666527,",",ROW(BCTCR_06608!A13),"|",COLUMN(BCTCR_06608!A13),",0",",0") -> 666527,13|1,0,0 | B13: =CONCATENATE(666810,",",ROW(BCTCR_06608!B13),"|",COLUMN(BCTCR_06608!B13),",0",",0") -> 666810,13|2,0,0 | C13: =CONCATENATE(666756,",",ROW(BCTCR_06608!C13),"|",COLUMN(BCTCR_06608!C13),",0",",0") -> 666756,13|3,0,0 | D13: =CONCATENATE(666850,",",ROW(BCTCR_06608!D13),"|",COLUMN(BCTCR_06608!D13),",0",",0") -> 666850,13|4,0,0 | E13: =CONCATENATE(666558,",",ROW(BCTCR_06608!E13),"|",COLUMN(BCTCR_06608!E13),",0",",0") -> 666558,13|5,0,0
A14: =CONCATENATE(666529,",",ROW(BCTCR_06608!A14),"|",COLUMN(BCTCR_06608!A14),",0",",0") -> 666529,14|1,0,0 | B14: =CONCATENATE(666516,",",ROW(BCTCR_06608!B14),"|",COLUMN(BCTCR_06608!B14),",0",",0") -> 666516,14|2,0,0 | C14: =CONCATENATE(666758,",",ROW(BCTCR_06608!C14),"|",COLUMN(BCTCR_06608!C14),",0",",0") -> 666758,14|3,0,0 | D14: =CONCATENATE(666372,",",ROW(BCTCR_06608!D14),"|",COLUMN(BCTCR_06608!D14),",0",",0") -> 666372,14|4,0,0 | E14: =CONCATENATE(666626,",",ROW(BCTCR_06608!E14),"|",COLUMN(BCTCR_06608!E14),",0",",0") -> 666626,14|5,0,0
A15: =CONCATENATE(666611,",",ROW(BCTCR_06608!A15),"|",COLUMN(BCTCR_06608!A15),",0",",0") -> 666611,15|1,0,0 | B15: =CONCATENATE(666414,",",ROW(BCTCR_06608!B15),"|",COLUMN(BCTCR_06608!B15),",0",",0") -> 666414,15|2,0,0 | C15: =CONCATENATE(666447,",",ROW(BCTCR_06608!C15),"|",COLUMN(BCTCR_06608!C15),",0",",0") -> 666447,15|3,0,0 | D15: =CONCATENATE(666857,",",ROW(BCTCR_06608!D15),"|",COLUMN(BCTCR_06608!D15),",0",",0") -> 666857,15|4,0,0 | E15: =CONCATENATE(666316,",",ROW(BCTCR_06608!E15),"|",COLUMN(BCTCR_06608!E15),",0",",0") -> 666316,15|5,0,0
A16: =CONCATENATE(666530,",",ROW(BCTCR_06608!A16),"|",COLUMN(BCTCR_06608!A16),",0",",0") -> 666530,16|1,0,0 | B16: =CONCATENATE(666353,",",ROW(BCTCR_06608!B16),"|",COLUMN(BCTCR_06608!B16),",0",",0") -> 666353,16|2,0,0 | C16: =CONCATENATE(666759,",",ROW(BCTCR_06608!C16),"|",COLUMN(BCTCR_06608!C16),",0",",0") -> 666759,16|3,0,0 | D16: =CONCATENATE(666373,",",ROW(BCTCR_06608!D16),"|",COLUMN(BCTCR_06608!D16),",0",",0") -> 666373,16|4,0,0 | E16: =CONCATENATE(666559,",",ROW(BCTCR_06608!E16),"|",COLUMN(BCTCR_06608!E16),",0",",0") -> 666559,16|5,0,0
A17: =CONCATENATE(666612,",",ROW(BCTCR_06608!A17),"|",COLUMN(BCTCR_06608!A17),",0",",0") -> 666612,17|1,0,0 | B17: =CONCATENATE(666517,",",ROW(BCTCR_06608!B17),"|",COLUMN(BCTCR_06608!B17),",0",",0") -> 666517,17|2,0,0 | C17: =CONCATENATE(666448,",",ROW(BCTCR_06608!C17),"|",COLUMN(BCTCR_06608!C17),",0",",0") -> 666448,17|3,0,0 | D17: =CONCATENATE(666858,",",ROW(BCTCR_06608!D17),"|",COLUMN(BCTCR_06608!D17),",0",",0") -> 666858,17|4,0,0 | E17: =CONCATENATE(666318,",",ROW(BCTCR_06608!E17),"|",COLUMN(BCTCR_06608!E17),",0",",0") -> 666318,17|5,0,0
A18: =CONCATENATE(666259,",",ROW(BCTCR_06608!A18),"|",COLUMN(BCTCR_06608!A18),",0",",0") -> 666259,18|1,0,0 | B18: =CONCATENATE(666365,",",ROW(BCTCR_06608!B18),"|",COLUMN(BCTCR_06608!B18),",0",",0") -> 666365,18|2,0,0 | C18: =CONCATENATE(666760,",",ROW(BCTCR_06608!C18),"|",COLUMN(BCTCR_06608!C18),",0",",0") -> 666760,18|3,0,0 | D18: =CONCATENATE(666374,",",ROW(BCTCR_06608!D18),"|",COLUMN(BCTCR_06608!D18),",0",",0") -> 666374,18|4,0,0 | E18: =CONCATENATE(666560,",",ROW(BCTCR_06608!E18),"|",COLUMN(BCTCR_06608!E18),",0",",0") -> 666560,18|5,0,0
A19: =CONCATENATE(666613,",",ROW(BCTCR_06608!A19),"|",COLUMN(BCTCR_06608!A19),",0",",0") -> 666613,19|1,0,0 | B19: =CONCATENATE(666354,",",ROW(BCTCR_06608!B19),"|",COLUMN(BCTCR_06608!B19),",0",",0") -> 666354,19|2,0,0 | C19: =CONCATENATE(666449,",",ROW(BCTCR_06608!C19),"|",COLUMN(BCTCR_06608!C19),",0",",0") -> 666449,19|3,0,0 | D19: =CONCATENATE(666859,",",ROW(BCTCR_06608!D19),"|",COLUMN(BCTCR_06608!D19),",0",",0") -> 666859,19|4,0,0 | E19: =CONCATENATE(666319,",",ROW(BCTCR_06608!E19),"|",COLUMN(BCTCR_06608!E19),",0",",0") -> 666319,19|5,0,0
A20: =CONCATENATE(666588,",",ROW(BCTCR_06608!A20),"|",COLUMN(BCTCR_06608!A20),",0",",0") -> 666588,20|1,0,0 | B20: =CONCATENATE(666812,",",ROW(BCTCR_06608!B20),"|",COLUMN(BCTCR_06608!B20),",0",",0") -> 666812,20|2,0,0 | C20: =CONCATENATE(666761,",",ROW(BCTCR_06608!C20),"|",COLUMN(BCTCR_06608!C20),",0",",0") -> 666761,20|3,0,0 | D20: =CONCATENATE(666375,",",ROW(BCTCR_06608!D20),"|",COLUMN(BCTCR_06608!D20),",0",",0") -> 666375,20|4,0,0 | E20: =CONCATENATE(666561,",",ROW(BCTCR_06608!E20),"|",COLUMN(BCTCR_06608!E20),",0",",0") -> 666561,20|5,0,0
A21: =CONCATENATE(666531,",",ROW(BCTCR_06608!A21),"|",COLUMN(BCTCR_06608!A21),",0",",0") -> 666531,21|1,0,0 | B21: =CONCATENATE(666415,",",ROW(BCTCR_06608!B21),"|",COLUMN(BCTCR_06608!B21),",0",",0") -> 666415,21|2,0,0 | C21: =CONCATENATE(666713,",",ROW(BCTCR_06608!C21),"|",COLUMN(BCTCR_06608!C21),",0",",0") -> 666713,21|3,0,0 | D21: =CONCATENATE(666896,",",ROW(BCTCR_06608!D21),"|",COLUMN(BCTCR_06608!D21),",0",",0") -> 666896,21|4,0,0 | E21: =CONCATENATE(666775,",",ROW(BCTCR_06608!E21),"|",COLUMN(BCTCR_06608!E21),",0",",0") -> 666775,21|5,0,0
A22: =CONCATENATE(666262,",",ROW(BCTCR_06608!A22),"|",COLUMN(BCTCR_06608!A22),",0",",0") -> 666262,22|1,0,0 | B22: =CONCATENATE(666672,",",ROW(BCTCR_06608!B22),"|",COLUMN(BCTCR_06608!B22),",0",",0") -> 666672,22|2,0,0 | C22: =CONCATENATE(666762,",",ROW(BCTCR_06608!C22),"|",COLUMN(BCTCR_06608!C22),",0",",0") -> 666762,22|3,0,0 | D22: =CONCATENATE(666376,",",ROW(BCTCR_06608!D22),"|",COLUMN(BCTCR_06608!D22),",0",",0") -> 666376,22|4,0,0 | E22: =CONCATENATE(666562,",",ROW(BCTCR_06608!E22),"|",COLUMN(BCTCR_06608!E22),",0",",0") -> 666562,22|5,0,0
A23: =CONCATENATE(666614,",",ROW(BCTCR_06608!A23),"|",COLUMN(BCTCR_06608!A23),",0",",0") -> 666614,23|1,0,0 | B23: =CONCATENATE(666416,",",ROW(BCTCR_06608!B23),"|",COLUMN(BCTCR_06608!B23),",0",",0") -> 666416,23|2,0,0 | C23: =CONCATENATE(666749,",",ROW(BCTCR_06608!C23),"|",COLUMN(BCTCR_06608!C23),",0",",0") -> 666749,23|3,0,0 | D23: =CONCATENATE(666860,",",ROW(BCTCR_06608!D23),"|",COLUMN(BCTCR_06608!D23),",0",",0") -> 666860,23|4,0,0 | E23: =CONCATENATE(666320,",",ROW(BCTCR_06608!E23),"|",COLUMN(BCTCR_06608!E23),",0",",0") -> 666320,23|5,0,0
A24: =CONCATENATE(666589,",",ROW(BCTCR_06608!A24),"|",COLUMN(BCTCR_06608!A24),",0",",0") -> 666589,24|1,0,0 | B24: =CONCATENATE(666673,",",ROW(BCTCR_06608!B24),"|",COLUMN(BCTCR_06608!B24),",0",",0") -> 666673,24|2,0,0 | C24: =CONCATENATE(666763,",",ROW(BCTCR_06608!C24),"|",COLUMN(BCTCR_06608!C24),",0",",0") -> 666763,24|3,0,0 | D24: =CONCATENATE(666377,",",ROW(BCTCR_06608!D24),"|",COLUMN(BCTCR_06608!D24),",0",",0") -> 666377,24|4,0,0 | E24: =CONCATENATE(666563,",",ROW(BCTCR_06608!E24),"|",COLUMN(BCTCR_06608!E24),",0",",0") -> 666563,24|5,0,0
A25: =CONCATENATE(666615,",",ROW(BCTCR_06608!A25),"|",COLUMN(BCTCR_06608!A25),",0",",0") -> 666615,25|1,0,0 | B25: =CONCATENATE(666674,",",ROW(BCTCR_06608!B25),"|",COLUMN(BCTCR_06608!B25),",0",",0") -> 666674,25|2,0,0 | C25: =CONCATENATE(666450,",",ROW(BCTCR_06608!C25),"|",COLUMN(BCTCR_06608!C25),",0",",0") -> 666450,25|3,0,0 | D25: =CONCATENATE(666861,",",ROW(BCTCR_06608!D25),"|",COLUMN(BCTCR_06608!D25),",0",",0") -> 666861,25|4,0,0 | E25: =CONCATENATE(666321,",",ROW(BCTCR_06608!E25),"|",COLUMN(BCTCR_06608!E25),",0",",0") -> 666321,25|5,0,0
A26: =CONCATENATE(666532,",",ROW(BCTCR_06608!A26),"|",COLUMN(BCTCR_06608!A26),",0",",0") -> 666532,26|1,0,0 | B26: =CONCATENATE(666518,",",ROW(BCTCR_06608!B26),"|",COLUMN(BCTCR_06608!B26),",0",",0") -> 666518,26|2,0,0 | C26: =CONCATENATE(666764,",",ROW(BCTCR_06608!C26),"|",COLUMN(BCTCR_06608!C26),",0",",0") -> 666764,26|3,0,0 | D26: =CONCATENATE(666378,",",ROW(BCTCR_06608!D26),"|",COLUMN(BCTCR_06608!D26),",0",",0") -> 666378,26|4,0,0 | E26: =CONCATENATE(666564,",",ROW(BCTCR_06608!E26),"|",COLUMN(BCTCR_06608!E26),",0",",0") -> 666564,26|5,0,0
A27: =CONCATENATE(666263,",",ROW(BCTCR_06608!A27),"|",COLUMN(BCTCR_06608!A27),",0",",0") -> 666263,27|1,0,0 | B27: =CONCATENATE(666519,",",ROW(BCTCR_06608!B27),"|",COLUMN(BCTCR_06608!B27),",0",",0") -> 666519,27|2,0,0 | C27: =CONCATENATE(666765,",",ROW(BCTCR_06608!C27),"|",COLUMN(BCTCR_06608!C27),",0",",0") -> 666765,27|3,0,0 | D27: =CONCATENATE(666379,",",ROW(BCTCR_06608!D27),"|",COLUMN(BCTCR_06608!D27),",0",",0") -> 666379,27|4,0,0 | E27: =CONCATENATE(666565,",",ROW(BCTCR_06608!E27),"|",COLUMN(BCTCR_06608!E27),",0",",0") -> 666565,27|5,0,0
A28: =CONCATENATE(666264,",",ROW(BCTCR_06608!A28),"|",COLUMN(BCTCR_06608!A28),",0",",0") -> 666264,28|1,0,0 | B28: =CONCATENATE(666317,",",ROW(BCTCR_06608!B28),"|",COLUMN(BCTCR_06608!B28),",0",",0") -> 666317,28|2,0,0 | C28: =CONCATENATE(666714,",",ROW(BCTCR_06608!C28),"|",COLUMN(BCTCR_06608!C28),",0",",0") -> 666714,28|3,0,0 | D28: =CONCATENATE(666897,",",ROW(BCTCR_06608!D28),"|",COLUMN(BCTCR_06608!D28),",0",",0") -> 666897,28|4,0,0 | E28: =CONCATENATE(666776,",",ROW(BCTCR_06608!E28),"|",COLUMN(BCTCR_06608!E28),",0",",0") -> 666776,28|5,0,0
A29: =CONCATENATE(666590,",",ROW(BCTCR_06608!A29),"|",COLUMN(BCTCR_06608!A29),",0",",0") -> 666590,29|1,0,0 | B29: =CONCATENATE(666366,",",ROW(BCTCR_06608!B29),"|",COLUMN(BCTCR_06608!B29),",0",",0") -> 666366,29|2,0,0 | C29: =CONCATENATE(666433,",",ROW(BCTCR_06608!C29),"|",COLUMN(BCTCR_06608!C29),",0",",0") -> 666433,29|3,0,0 | D29: =CONCATENATE(666380,",",ROW(BCTCR_06608!D29),"|",COLUMN(BCTCR_06608!D29),",0",",0") -> 666380,29|4,0,0 | E29: =CONCATENATE(666566,",",ROW(BCTCR_06608!E29),"|",COLUMN(BCTCR_06608!E29),",0",",0") -> 666566,29|5,0,0
A30: =CONCATENATE(666591,",",ROW(BCTCR_06608!A30),"|",COLUMN(BCTCR_06608!A30),",0",",0") -> 666591,30|1,0,0 | B30: =CONCATENATE(666813,",",ROW(BCTCR_06608!B30),"|",COLUMN(BCTCR_06608!B30),",0",",0") -> 666813,30|2,0,0 | C30: =CONCATENATE(666463,",",ROW(BCTCR_06608!C30),"|",COLUMN(BCTCR_06608!C30),",0",",0") -> 666463,30|3,0,0 | D30: =CONCATENATE(666381,",",ROW(BCTCR_06608!D30),"|",COLUMN(BCTCR_06608!D30),",0",",0") -> 666381,30|4,0,0 | E30: =CONCATENATE(666567,",",ROW(BCTCR_06608!E30),"|",COLUMN(BCTCR_06608!E30),",0",",0") -> 666567,30|5,0,0
A31: =CONCATENATE(666676,",",ROW(BCTCR_06608!A31),"|",COLUMN(BCTCR_06608!A31),",0",",0") -> 666676,31|1,0,0 | B31: =CONCATENATE(666417,",",ROW(BCTCR_06608!B31),"|",COLUMN(BCTCR_06608!B31),",0",",0") -> 666417,31|2,0,0 | C31: =CONCATENATE(666715,",",ROW(BCTCR_06608!C31),"|",COLUMN(BCTCR_06608!C31),",0",",0") -> 666715,31|3,0,0 | D31: =CONCATENATE(666898,",",ROW(BCTCR_06608!D31),"|",COLUMN(BCTCR_06608!D31),",0",",0") -> 666898,31|4,0,0 | E31: =CONCATENATE(666777,",",ROW(BCTCR_06608!E31),"|",COLUMN(BCTCR_06608!E31),",0",",0") -> 666777,31|5,0,0
A32: =CONCATENATE(666412,",",ROW(BCTCR_06608!A32),"|",COLUMN(BCTCR_06608!A32),",0",",0") -> 666412,32|1,0,0 | B32: =CONCATENATE(666520,",",ROW(BCTCR_06608!B32),"|",COLUMN(BCTCR_06608!B32),",0",",0") -> 666520,32|2,0,0 | C32: =CONCATENATE(666711,",",ROW(BCTCR_06608!C32),"|",COLUMN(BCTCR_06608!C32),",0",",0") -> 666711,32|3,0,0 | D32: =CONCATENATE(666894,",",ROW(BCTCR_06608!D32),"|",COLUMN(BCTCR_06608!D32),",0",",0") -> 666894,32|4,0,0 | E32: =CONCATENATE(666682,",",ROW(BCTCR_06608!E32),"|",COLUMN(BCTCR_06608!E32),",0",",0") -> 666682,32|5,0,0
A33: =CONCATENATE(666592,",",ROW(BCTCR_06608!A33),"|",COLUMN(BCTCR_06608!A33),",0",",0") -> 666592,33|1,0,0 | B33: =CONCATENATE(666814,",",ROW(BCTCR_06608!B33),"|",COLUMN(BCTCR_06608!B33),",0",",0") -> 666814,33|2,0,0 | C33: =CONCATENATE(666464,",",ROW(BCTCR_06608!C33),"|",COLUMN(BCTCR_06608!C33),",0",",0") -> 666464,33|3,0,0 | D33: =CONCATENATE(666382,",",ROW(BCTCR_06608!D33),"|",COLUMN(BCTCR_06608!D33),",0",",0") -> 666382,33|4,0,0 | E33: =CONCATENATE(666568,",",ROW(BCTCR_06608!E33),"|",COLUMN(BCTCR_06608!E33),",0",",0") -> 666568,33|5,0,0
A34: =CONCATENATE(666533,",",ROW(BCTCR_06608!A34),"|",COLUMN(BCTCR_06608!A34),",0",",0") -> 666533,34|1,0,0 | B34: =CONCATENATE(666675,",",ROW(BCTCR_06608!B34),"|",COLUMN(BCTCR_06608!B34),",0",",0") -> 666675,34|2,0,0 | C34: =CONCATENATE(666465,",",ROW(BCTCR_06608!C34),"|",COLUMN(BCTCR_06608!C34),",0",",0") -> 666465,34|3,0,0 | D34: =CONCATENATE(666383,",",ROW(BCTCR_06608!D34),"|",COLUMN(BCTCR_06608!D34),",0",",0") -> 666383,34|4,0,0 | E34: =CONCATENATE(666569,",",ROW(BCTCR_06608!E34),"|",COLUMN(BCTCR_06608!E34),",0",",0") -> 666569,34|5,0,0
A35: =CONCATENATE(666593,",",ROW(BCTCR_06608!A35),"|",COLUMN(BCTCR_06608!A35),",0",",0") -> 666593,35|1,0,0 | B35: =CONCATENATE(666815,",",ROW(BCTCR_06608!B35),"|",COLUMN(BCTCR_06608!B35),",0",",0") -> 666815,35|2,0,0 | C35: =CONCATENATE(666466,",",ROW(BCTCR_06608!C35),"|",COLUMN(BCTCR_06608!C35),",0",",0") -> 666466,35|3,0,0 | D35: =CONCATENATE(666384,",",ROW(BCTCR_06608!D35),"|",COLUMN(BCTCR_06608!D35),",0",",0") -> 666384,35|4,0,0 | E35: =CONCATENATE(666570,",",ROW(BCTCR_06608!E35),"|",COLUMN(BCTCR_06608!E35),",0",",0") -> 666570,35|5,0,0
A36: =CONCATENATE(666534,",",ROW(BCTCR_06608!A36),"|",COLUMN(BCTCR_06608!A36),",0",",0") -> 666534,36|1,0,0 | B36: =CONCATENATE(666367,",",ROW(BCTCR_06608!B36),"|",COLUMN(BCTCR_06608!B36),",0",",0") -> 666367,36|2,0,0 | C36: =CONCATENATE(666467,",",ROW(BCTCR_06608!C36),"|",COLUMN(BCTCR_06608!C36),",0",",0") -> 666467,36|3,0,0 | D36: =CONCATENATE(666385,",",ROW(BCTCR_06608!D36),"|",COLUMN(BCTCR_06608!D36),",0",",0") -> 666385,36|4,0,0 | E36: =CONCATENATE(666571,",",ROW(BCTCR_06608!E36),"|",COLUMN(BCTCR_06608!E36),",0",",0") -> 666571,36|5,0,0
A37: =CONCATENATE(666677,",",ROW(BCTCR_06608!A37),"|",COLUMN(BCTCR_06608!A37),",0",",0") -> 666677,37|1,0,0 | B37: =CONCATENATE(666418,",",ROW(BCTCR_06608!B37),"|",COLUMN(BCTCR_06608!B37),",0",",0") -> 666418,37|2,0,0 | C37: =CONCATENATE(666717,",",ROW(BCTCR_06608!C37),"|",COLUMN(BCTCR_06608!C37),",0",",0") -> 666717,37|3,0,0 | D37: =CONCATENATE(666875,",",ROW(BCTCR_06608!D37),"|",COLUMN(BCTCR_06608!D37),",0",",0") -> 666875,37|4,0,0 | E37: =CONCATENATE(666778,",",ROW(BCTCR_06608!E37),"|",COLUMN(BCTCR_06608!E37),",0",",0") -> 666778,37|5,0,0
A38: =CONCATENATE(666616,",",ROW(BCTCR_06608!A38),"|",COLUMN(BCTCR_06608!A38),",0",",0") -> 666616,38|1,0,0 | B38: =CONCATENATE(666368,",",ROW(BCTCR_06608!B38),"|",COLUMN(BCTCR_06608!B38),",0",",0") -> 666368,38|2,0,0 | C38: =CONCATENATE(666451,",",ROW(BCTCR_06608!C38),"|",COLUMN(BCTCR_06608!C38),",0",",0") -> 666451,38|3,0,0 | D38: =CONCATENATE(666341,",",ROW(BCTCR_06608!D38),"|",COLUMN(BCTCR_06608!D38),",0",",0") -> 666341,38|4,0,0 | E38: =CONCATENATE(666322,",",ROW(BCTCR_06608!E38),"|",COLUMN(BCTCR_06608!E38),",0",",0") -> 666322,38|5,0,0
A39: =CONCATENATE(666535,",",ROW(BCTCR_06608!A39),"|",COLUMN(BCTCR_06608!A39),",0",",0") -> 666535,39|1,0,0 | B39: =CONCATENATE(666369,",",ROW(BCTCR_06608!B39),"|",COLUMN(BCTCR_06608!B39),",0",",0") -> 666369,39|2,0,0 | C39: =CONCATENATE(666636,",",ROW(BCTCR_06608!C39),"|",COLUMN(BCTCR_06608!C39),",0",",0") -> 666636,39|3,0,0 | D39: =CONCATENATE(666386,",",ROW(BCTCR_06608!D39),"|",COLUMN(BCTCR_06608!D39),",0",",0") -> 666386,39|4,0,0 | E39: =CONCATENATE(666572,",",ROW(BCTCR_06608!E39),"|",COLUMN(BCTCR_06608!E39),",0",",0") -> 666572,39|5,0,0
A40: =CONCATENATE(666684,",",ROW(BCTCR_06608!A40),"|",COLUMN(BCTCR_06608!A40),",0",",0") -> 666684,40|1,0,0 | B40: =CONCATENATE(666419,",",ROW(BCTCR_06608!B40),"|",COLUMN(BCTCR_06608!B40),",0",",0") -> 666419,40|2,0,0 | C40: =CONCATENATE(666718,",",ROW(BCTCR_06608!C40),"|",COLUMN(BCTCR_06608!C40),",0",",0") -> 666718,40|3,0,0 | D40: =CONCATENATE(666883,",",ROW(BCTCR_06608!D40),"|",COLUMN(BCTCR_06608!D40),",0",",0") -> 666883,40|4,0,0 | E40: =CONCATENATE(666779,",",ROW(BCTCR_06608!E40),"|",COLUMN(BCTCR_06608!E40),",0",",0") -> 666779,40|5,0,0
A41: =CONCATENATE(666536,",",ROW(BCTCR_06608!A41),"|",COLUMN(BCTCR_06608!A41),",0",",0") -> 666536,41|1,0,0 | B41: =CONCATENATE(666425,",",ROW(BCTCR_06608!B41),"|",COLUMN(BCTCR_06608!B41),",0",",0") -> 666425,41|2,0,0 | C41: =CONCATENATE(666468,",",ROW(BCTCR_06608!C41),"|",COLUMN(BCTCR_06608!C41),",0",",0") -> 666468,41|3,0,0 | D41: =CONCATENATE(666387,",",ROW(BCTCR_06608!D41),"|",COLUMN(BCTCR_06608!D41),",0",",0") -> 666387,41|4,0,0 | E41: =CONCATENATE(666573,",",ROW(BCTCR_06608!E41),"|",COLUMN(BCTCR_06608!E41),",0",",0") -> 666573,41|5,0,0
A42: =CONCATENATE(666678,",",ROW(BCTCR_06608!A42),"|",COLUMN(BCTCR_06608!A42),",0",",0") -> 666678,42|1,0,0 | B42: =CONCATENATE(666844,",",ROW(BCTCR_06608!B42),"|",COLUMN(BCTCR_06608!B42),",0",",0") -> 666844,42|2,0,0 | C42: =CONCATENATE(666746,",",ROW(BCTCR_06608!C42),"|",COLUMN(BCTCR_06608!C42),",0",",0") -> 666746,42|3,0,0 | D42: =CONCATENATE(666879,",",ROW(BCTCR_06608!D42),"|",COLUMN(BCTCR_06608!D42),",0",",0") -> 666879,42|4,0,0 | E42: =CONCATENATE(666549,",",ROW(BCTCR_06608!E42),"|",COLUMN(BCTCR_06608!E42),",0",",0") -> 666549,42|5,0,0
A43: =CONCATENATE(666594,",",ROW(BCTCR_06608!A43),"|",COLUMN(BCTCR_06608!A43),",0",",0") -> 666594,43|1,0,0 | B43: =CONCATENATE(666845,",",ROW(BCTCR_06608!B43),"|",COLUMN(BCTCR_06608!B43),",0",",0") -> 666845,43|2,0,0 | C43: =CONCATENATE(666469,",",ROW(BCTCR_06608!C43),"|",COLUMN(BCTCR_06608!C43),",0",",0") -> 666469,43|3,0,0 | D43: =CONCATENATE(666388,",",ROW(BCTCR_06608!D43),"|",COLUMN(BCTCR_06608!D43),",0",",0") -> 666388,43|4,0,0 | E43: =CONCATENATE(666574,",",ROW(BCTCR_06608!E43),"|",COLUMN(BCTCR_06608!E43),",0",",0") -> 666574,43|5,0,0
A44: =CONCATENATE(666617,",",ROW(BCTCR_06608!A44),"|",COLUMN(BCTCR_06608!A44),",0",",0") -> 666617,44|1,0,0 | B44: =CONCATENATE(666649,",",ROW(BCTCR_06608!B44),"|",COLUMN(BCTCR_06608!B44),",0",",0") -> 666649,44|2,0,0 | C44: =CONCATENATE(666452,",",ROW(BCTCR_06608!C44),"|",COLUMN(BCTCR_06608!C44),",0",",0") -> 666452,44|3,0,0 | D44: =CONCATENATE(666342,",",ROW(BCTCR_06608!D44),"|",COLUMN(BCTCR_06608!D44),",0",",0") -> 666342,44|4,0,0 | E44: =CONCATENATE(666323,",",ROW(BCTCR_06608!E44),"|",COLUMN(BCTCR_06608!E44),",0",",0") -> 666323,44|5,0,0
A45: =CONCATENATE(666371,",",ROW(BCTCR_06608!A45),"|",COLUMN(BCTCR_06608!A45),",0",",0") -> 666371,45|1,0,0 | B45: =CONCATENATE(666816,",",ROW(BCTCR_06608!B45),"|",COLUMN(BCTCR_06608!B45),",0",",0") -> 666816,45|2,0,0 | C45: =CONCATENATE(666747,",",ROW(BCTCR_06608!C45),"|",COLUMN(BCTCR_06608!C45),",0",",0") -> 666747,45|3,0,0 | D45: =CONCATENATE(666880,",",ROW(BCTCR_06608!D45),"|",COLUMN(BCTCR_06608!D45),",0",",0") -> 666880,45|4,0,0 | E45: =CONCATENATE(666550,",",ROW(BCTCR_06608!E45),"|",COLUMN(BCTCR_06608!E45),",0",",0") -> 666550,45|5,0,0
A46: =CONCATENATE(666665,",",ROW(BCTCR_06608!A46),"|",COLUMN(BCTCR_06608!A46),",0",",0") -> 666665,46|1,0,0 | B46: =CONCATENATE(666521,",",ROW(BCTCR_06608!B46),"|",COLUMN(BCTCR_06608!B46),",0",",0") -> 666521,46|2,0,0 | C46: =CONCATENATE(666748,",",ROW(BCTCR_06608!C46),"|",COLUMN(BCTCR_06608!C46),",0",",0") -> 666748,46|3,0,0 | D46: =CONCATENATE(666881,",",ROW(BCTCR_06608!D46),"|",COLUMN(BCTCR_06608!D46),",0",",0") -> 666881,46|4,0,0 | E46: =CONCATENATE(666551,",",ROW(BCTCR_06608!E46),"|",COLUMN(BCTCR_06608!E46),",0",",0") -> 666551,46|5,0,0
A47: =CONCATENATE(666666,",",ROW(BCTCR_06608!A47),"|",COLUMN(BCTCR_06608!A47),",0",",0") -> 666666,47|1,0,0 | B47: =CONCATENATE(666901,",",ROW(BCTCR_06608!B47),"|",COLUMN(BCTCR_06608!B47),",0",",0") -> 666901,47|2,0,0 | C47: =CONCATENATE(666750,",",ROW(BCTCR_06608!C47),"|",COLUMN(BCTCR_06608!C47),",0",",0") -> 666750,47|3,0,0 | D47: =CONCATENATE(666882,",",ROW(BCTCR_06608!D47),"|",COLUMN(BCTCR_06608!D47),",0",",0") -> 666882,47|4,0,0 | E47: =CONCATENATE(666552,",",ROW(BCTCR_06608!E47),"|",COLUMN(BCTCR_06608!E47),",0",",0") -> 666552,47|5,0,0
A48: =CONCATENATE(666537,",",ROW(BCTCR_06608!A48),"|",COLUMN(BCTCR_06608!A48),",0",",0") -> 666537,48|1,0,0 | B48: =CONCATENATE(666333,",",ROW(BCTCR_06608!B48),"|",COLUMN(BCTCR_06608!B48),",0",",0") -> 666333,48|2,0,0 | C48: =CONCATENATE(666470,",",ROW(BCTCR_06608!C48),"|",COLUMN(BCTCR_06608!C48),",0",",0") -> 666470,48|3,0,0 | D48: =CONCATENATE(666389,",",ROW(BCTCR_06608!D48),"|",COLUMN(BCTCR_06608!D48),",0",",0") -> 666389,48|4,0,0 | E48: =CONCATENATE(666575,",",ROW(BCTCR_06608!E48),"|",COLUMN(BCTCR_06608!E48),",0",",0") -> 666575,48|5,0,0
A49: =CONCATENATE(666627,",",ROW(BCTCR_06608!A49),"|",COLUMN(BCTCR_06608!A49),",0",",0") -> 666627,49|1,0,0 | B49: =CONCATENATE(666902,",",ROW(BCTCR_06608!B49),"|",COLUMN(BCTCR_06608!B49),",0",",0") -> 666902,49|2,0,0 | C49: =CONCATENATE(666471,",",ROW(BCTCR_06608!C49),"|",COLUMN(BCTCR_06608!C49),",0",",0") -> 666471,49|3,0,0 | D49: =CONCATENATE(666390,",",ROW(BCTCR_06608!D49),"|",COLUMN(BCTCR_06608!D49),",0",",0") -> 666390,49|4,0,0 | E49: =CONCATENATE(666576,",",ROW(BCTCR_06608!E49),"|",COLUMN(BCTCR_06608!E49),",0",",0") -> 666576,49|5,0,0
A50: =CONCATENATE(666595,",",ROW(BCTCR_06608!A50),"|",COLUMN(BCTCR_06608!A50),",0",",0") -> 666595,50|1,0,0 | B50: =CONCATENATE(666903,",",ROW(BCTCR_06608!B50),"|",COLUMN(BCTCR_06608!B50),",0",",0") -> 666903,50|2,0,0 | C50: =CONCATENATE(666472,",",ROW(BCTCR_06608!C50),"|",COLUMN(BCTCR_06608!C50),",0",",0") -> 666472,50|3,0,0 | D50: =CONCATENATE(666391,",",ROW(BCTCR_06608!D50),"|",COLUMN(BCTCR_06608!D50),",0",",0") -> 666391,50|4,0,0 | E50: =CONCATENATE(666577,",",ROW(BCTCR_06608!E50),"|",COLUMN(BCTCR_06608!E50),",0",",0") -> 666577,50|5,0,0
A51: =CONCATENATE(666596,",",ROW(BCTCR_06608!A51),"|",COLUMN(BCTCR_06608!A51),",0",",0") -> 666596,51|1,0,0 | B51: =CONCATENATE(666904,",",ROW(BCTCR_06608!B51),"|",COLUMN(BCTCR_06608!B51),",0",",0") -> 666904,51|2,0,0 | C51: =CONCATENATE(666473,",",ROW(BCTCR_06608!C51),"|",COLUMN(BCTCR_06608!C51),",0",",0") -> 666473,51|3,0,0 | D51: =CONCATENATE(666392,",",ROW(BCTCR_06608!D51),"|",COLUMN(BCTCR_06608!D51),",0",",0") -> 666392,51|4,0,0 | E51: =CONCATENATE(666578,",",ROW(BCTCR_06608!E51),"|",COLUMN(BCTCR_06608!E51),",0",",0") -> 666578,51|5,0,0
A52: =CONCATENATE(666618,",",ROW(BCTCR_06608!A52),"|",COLUMN(BCTCR_06608!A52),",0",",0") -> 666618,52|1,0,0 | B52: =CONCATENATE(666905,",",ROW(BCTCR_06608!B52),"|",COLUMN(BCTCR_06608!B52),",0",",0") -> 666905,52|2,0,0 | C52: =CONCATENATE(666453,",",ROW(BCTCR_06608!C52),"|",COLUMN(BCTCR_06608!C52),",0",",0") -> 666453,52|3,0,0 | D52: =CONCATENATE(666343,",",ROW(BCTCR_06608!D52),"|",COLUMN(BCTCR_06608!D52),",0",",0") -> 666343,52|4,0,0 | E52: =CONCATENATE(666260,",",ROW(BCTCR_06608!E52),"|",COLUMN(BCTCR_06608!E52),",0",",0") -> 666260,52|5,0,0
A53: =CONCATENATE(666619,",",ROW(BCTCR_06608!A53),"|",COLUMN(BCTCR_06608!A53),",0",",0") -> 666619,53|1,0,0 | B53: =CONCATENATE(666420,",",ROW(BCTCR_06608!B53),"|",COLUMN(BCTCR_06608!B53),",0",",0") -> 666420,53|2,0,0 | C53: =CONCATENATE(666454,",",ROW(BCTCR_06608!C53),"|",COLUMN(BCTCR_06608!C53),",0",",0") -> 666454,53|3,0,0 | D53: =CONCATENATE(666344,",",ROW(BCTCR_06608!D53),"|",COLUMN(BCTCR_06608!D53),",0",",0") -> 666344,53|4,0,0 | E53: =CONCATENATE(666261,",",ROW(BCTCR_06608!E53),"|",COLUMN(BCTCR_06608!E53),",0",",0") -> 666261,53|5,0,0
A54: =CONCATENATE(666646,",",ROW(BCTCR_06608!A54),"|",COLUMN(BCTCR_06608!A54),",0",",0") -> 666646,54|1,0,0 | B54: =CONCATENATE(666243,",",ROW(BCTCR_06608!B54),"|",COLUMN(BCTCR_06608!B54),",0",",0") -> 666243,54|2,0,0 | C54: =CONCATENATE(666474,",",ROW(BCTCR_06608!C54),"|",COLUMN(BCTCR_06608!C54),",0",",0") -> 666474,54|3,0,0 | D54: =CONCATENATE(666393,",",ROW(BCTCR_06608!D54),"|",COLUMN(BCTCR_06608!D54),",0",",0") -> 666393,54|4,0,0 | E54: =CONCATENATE(666579,",",ROW(BCTCR_06608!E54),"|",COLUMN(BCTCR_06608!E54),",0",",0") -> 666579,54|5,0,0
A55: =CONCATENATE(666620,",",ROW(BCTCR_06608!A55),"|",COLUMN(BCTCR_06608!A55),",0",",0") -> 666620,55|1,0,0 | B55: =CONCATENATE(666817,",",ROW(BCTCR_06608!B55),"|",COLUMN(BCTCR_06608!B55),",0",",0") -> 666817,55|2,0,0 | C55: =CONCATENATE(666455,",",ROW(BCTCR_06608!C55),"|",COLUMN(BCTCR_06608!C55),",0",",0") -> 666455,55|3,0,0 | D55: =CONCATENATE(666345,",",ROW(BCTCR_06608!D55),"|",COLUMN(BCTCR_06608!D55),",0",",0") -> 666345,55|4,0,0 | E55: =CONCATENATE(666862,",",ROW(BCTCR_06608!E55),"|",COLUMN(BCTCR_06608!E55),",0",",0") -> 666862,55|5,0,0
A56: =CONCATENATE(666621,",",ROW(BCTCR_06608!A56),"|",COLUMN(BCTCR_06608!A56),",0",",0") -> 666621,56|1,0,0 | B56: =CONCATENATE(666871,",",ROW(BCTCR_06608!B56),"|",COLUMN(BCTCR_06608!B56),",0",",0") -> 666871,56|2,0,0 | C56: =CONCATENATE(666456,",",ROW(BCTCR_06608!C56),"|",COLUMN(BCTCR_06608!C56),",0",",0") -> 666456,56|3,0,0 | D56: =CONCATENATE(666346,",",ROW(BCTCR_06608!D56),"|",COLUMN(BCTCR_06608!D56),",0",",0") -> 666346,56|4,0,0 | E56: =CONCATENATE(666863,",",ROW(BCTCR_06608!E56),"|",COLUMN(BCTCR_06608!E56),",0",",0") -> 666863,56|5,0,0
A57: =CONCATENATE(666622,",",ROW(BCTCR_06608!A57),"|",COLUMN(BCTCR_06608!A57),",0",",0") -> 666622,57|1,0,0 | B57: =CONCATENATE(666244,",",ROW(BCTCR_06608!B57),"|",COLUMN(BCTCR_06608!B57),",0",",0") -> 666244,57|2,0,0 | C57: =CONCATENATE(666457,",",ROW(BCTCR_06608!C57),"|",COLUMN(BCTCR_06608!C57),",0",",0") -> 666457,57|3,0,0 | D57: =CONCATENATE(666347,",",ROW(BCTCR_06608!D57),"|",COLUMN(BCTCR_06608!D57),",0",",0") -> 666347,57|4,0,0 | E57: =CONCATENATE(666864,",",ROW(BCTCR_06608!E57),"|",COLUMN(BCTCR_06608!E57),",0",",0") -> 666864,57|5,0,0
A58: =CONCATENATE(666891,",",ROW(BCTCR_06608!A58),"|",COLUMN(BCTCR_06608!A58),",0",",0") -> 666891,58|1,0,0 | B58: =CONCATENATE(666818,",",ROW(BCTCR_06608!B58),"|",COLUMN(BCTCR_06608!B58),",0",",0") -> 666818,58|2,0,0 | C58: =CONCATENATE(666475,",",ROW(BCTCR_06608!C58),"|",COLUMN(BCTCR_06608!C58),",0",",0") -> 666475,58|3,0,0 | D58: =CONCATENATE(666394,",",ROW(BCTCR_06608!D58),"|",COLUMN(BCTCR_06608!D58),",0",",0") -> 666394,58|4,0,0 | E58: =CONCATENATE(666580,",",ROW(BCTCR_06608!E58),"|",COLUMN(BCTCR_06608!E58),",0",",0") -> 666580,58|5,0,0
A59: =CONCATENATE(666628,",",ROW(BCTCR_06608!A59),"|",COLUMN(BCTCR_06608!A59),",0",",0") -> 666628,59|1,0,0 | B59: =CONCATENATE(666278,",",ROW(BCTCR_06608!B59),"|",COLUMN(BCTCR_06608!B59),",0",",0") -> 666278,59|2,0,0 | C59: =CONCATENATE(666476,",",ROW(BCTCR_06608!C59),"|",COLUMN(BCTCR_06608!C59),",0",",0") -> 666476,59|3,0,0 | D59: =CONCATENATE(666395,",",ROW(BCTCR_06608!D59),"|",COLUMN(BCTCR_06608!D59),",0",",0") -> 666395,59|4,0,0 | E59: =CONCATENATE(666581,",",ROW(BCTCR_06608!E59),"|",COLUMN(BCTCR_06608!E59),",0",",0") -> 666581,59|5,0,0
A60: =CONCATENATE(666667,",",ROW(BCTCR_06608!A60),"|",COLUMN(BCTCR_06608!A60),",0",",0") -> 666667,60|1,0,0 | B60: =CONCATENATE(666279,",",ROW(BCTCR_06608!B60),"|",COLUMN(BCTCR_06608!B60),",0",",0") -> 666279,60|2,0,0 | C60: =CONCATENATE(666751,",",ROW(BCTCR_06608!C60),"|",COLUMN(BCTCR_06608!C60),",0",",0") -> 666751,60|3,0,0 | D60: =CONCATENATE(666696,",",ROW(BCTCR_06608!D60),"|",COLUMN(BCTCR_06608!D60),",0",",0") -> 666696,60|4,0,0 | E60: =CONCATENATE(666553,",",ROW(BCTCR_06608!E60),"|",COLUMN(BCTCR_06608!E60),",0",",0") -> 666553,60|5,0,0
A61: =CONCATENATE(666623,",",ROW(BCTCR_06608!A61),"|",COLUMN(BCTCR_06608!A61),",0",",0") -> 666623,61|1,0,0 | B61: =CONCATENATE(666819,",",ROW(BCTCR_06608!B61),"|",COLUMN(BCTCR_06608!B61),",0",",0") -> 666819,61|2,0,0 | C61: =CONCATENATE(666458,",",ROW(BCTCR_06608!C61),"|",COLUMN(BCTCR_06608!C61),",0",",0") -> 666458,61|3,0,0 | D61: =CONCATENATE(666348,",",ROW(BCTCR_06608!D61),"|",COLUMN(BCTCR_06608!D61),",0",",0") -> 666348,61|4,0,0 | E61: =CONCATENATE(666865,",",ROW(BCTCR_06608!E61),"|",COLUMN(BCTCR_06608!E61),",0",",0") -> 666865,61|5,0,0
A62: =CONCATENATE(666597,",",ROW(BCTCR_06608!A62),"|",COLUMN(BCTCR_06608!A62),",0",",0") -> 666597,62|1,0,0 | B62: =CONCATENATE(666280,",",ROW(BCTCR_06608!B62),"|",COLUMN(BCTCR_06608!B62),",0",",0") -> 666280,62|2,0,0 | C62: =CONCATENATE(666477,",",ROW(BCTCR_06608!C62),"|",COLUMN(BCTCR_06608!C62),",0",",0") -> 666477,62|3,0,0 | D62: =CONCATENATE(666396,",",ROW(BCTCR_06608!D62),"|",COLUMN(BCTCR_06608!D62),",0",",0") -> 666396,62|4,0,0 | E62: =CONCATENATE(666582,",",ROW(BCTCR_06608!E62),"|",COLUMN(BCTCR_06608!E62),",0",",0") -> 666582,62|5,0,0
A63: =CONCATENATE(666668,",",ROW(BCTCR_06608!A63),"|",COLUMN(BCTCR_06608!A63),",0",",0") -> 666668,63|1,0,0 | B63: =CONCATENATE(666820,",",ROW(BCTCR_06608!B63),"|",COLUMN(BCTCR_06608!B63),",0",",0") -> 666820,63|2,0,0 | C63: =CONCATENATE(666752,",",ROW(BCTCR_06608!C63),"|",COLUMN(BCTCR_06608!C63),",0",",0") -> 666752,63|3,0,0 | D63: =CONCATENATE(666697,",",ROW(BCTCR_06608!D63),"|",COLUMN(BCTCR_06608!D63),",0",",0") -> 666697,63|4,0,0 | E63: =CONCATENATE(666554,",",ROW(BCTCR_06608!E63),"|",COLUMN(BCTCR_06608!E63),",0",",0") -> 666554,63|5,0,0
A64: =CONCATENATE(666624,",",ROW(BCTCR_06608!A64),"|",COLUMN(BCTCR_06608!A64),",0",",0") -> 666624,64|1,0,0 | B64: =CONCATENATE(666421,",",ROW(BCTCR_06608!B64),"|",COLUMN(BCTCR_06608!B64),",0",",0") -> 666421,64|2,0,0 | C64: =CONCATENATE(666459,",",ROW(BCTCR_06608!C64),"|",COLUMN(BCTCR_06608!C64),",0",",0") -> 666459,64|3,0,0 | D64: =CONCATENATE(666349,",",ROW(BCTCR_06608!D64),"|",COLUMN(BCTCR_06608!D64),",0",",0") -> 666349,64|4,0,0 | E64: =CONCATENATE(666866,",",ROW(BCTCR_06608!E64),"|",COLUMN(BCTCR_06608!E64),",0",",0") -> 666866,64|5,0,0
A65: =CONCATENATE(666669,",",ROW(BCTCR_06608!A65),"|",COLUMN(BCTCR_06608!A65),",0",",0") -> 666669,65|1,0,0 | B65: =CONCATENATE(666872,",",ROW(BCTCR_06608!B65),"|",COLUMN(BCTCR_06608!B65),",0",",0") -> 666872,65|2,0,0 | C65: =CONCATENATE(666753,",",ROW(BCTCR_06608!C65),"|",COLUMN(BCTCR_06608!C65),",0",",0") -> 666753,65|3,0,0 | D65: =CONCATENATE(666698,",",ROW(BCTCR_06608!D65),"|",COLUMN(BCTCR_06608!D65),",0",",0") -> 666698,65|4,0,0 | E65: =CONCATENATE(666555,",",ROW(BCTCR_06608!E65),"|",COLUMN(BCTCR_06608!E65),",0",",0") -> 666555,65|5,0,0
A66: =CONCATENATE(666515,",",ROW(BCTCR_06608!A66),"|",COLUMN(BCTCR_06608!A66),",0",",0") -> 666515,66|1,0,0 | B66: =CONCATENATE(666281,",",ROW(BCTCR_06608!B66),"|",COLUMN(BCTCR_06608!B66),",0",",0") -> 666281,66|2,0,0 | C66: =CONCATENATE(666460,",",ROW(BCTCR_06608!C66),"|",COLUMN(BCTCR_06608!C66),",0",",0") -> 666460,66|3,0,0 | D66: =CONCATENATE(666350,",",ROW(BCTCR_06608!D66),"|",COLUMN(BCTCR_06608!D66),",0",",0") -> 666350,66|4,0,0 | E66: =CONCATENATE(666867,",",ROW(BCTCR_06608!E66),"|",COLUMN(BCTCR_06608!E66),",0",",0") -> 666867,66|5,0,0
A67: =CONCATENATE(666603,",",ROW(BCTCR_06608!A67),"|",COLUMN(BCTCR_06608!A67),",0",",0") -> 666603,67|1,0,0 | B67: =CONCATENATE(666821,",",ROW(BCTCR_06608!B67),"|",COLUMN(BCTCR_06608!B67),",0",",0") -> 666821,67|2,0,0 | C67: =CONCATENATE(666478,",",ROW(BCTCR_06608!C67),"|",COLUMN(BCTCR_06608!C67),",0",",0") -> 666478,67|3,0,0 | D67: =CONCATENATE(666397,",",ROW(BCTCR_06608!D67),"|",COLUMN(BCTCR_06608!D67),",0",",0") -> 666397,67|4,0,0 | E67: =CONCATENATE(666583,",",ROW(BCTCR_06608!E67),"|",COLUMN(BCTCR_06608!E67),",0",",0") -> 666583,67|5,0,0
A68: =CONCATENATE(666638,",",ROW(BCTCR_06608!A68),"|",COLUMN(BCTCR_06608!A68),",0",",0") -> 666638,68|1,0,0 | B68: =CONCATENATE(666282,",",ROW(BCTCR_06608!B68),"|",COLUMN(BCTCR_06608!B68),",0",",0") -> 666282,68|2,0,0 | C68: =CONCATENATE(666479,",",ROW(BCTCR_06608!C68),"|",COLUMN(BCTCR_06608!C68),",0",",0") -> 666479,68|3,0,0 | D68: =CONCATENATE(666398,",",ROW(BCTCR_06608!D68),"|",COLUMN(BCTCR_06608!D68),",0",",0") -> 666398,68|4,0,0 | E68: =CONCATENATE(666584,",",ROW(BCTCR_06608!E68),"|",COLUMN(BCTCR_06608!E68),",0",",0") -> 666584,68|5,0,0
A69: =CONCATENATE(666604,",",ROW(BCTCR_06608!A69),"|",COLUMN(BCTCR_06608!A69),",0",",0") -> 666604,69|1,0,0 | B69: =CONCATENATE(666283,",",ROW(BCTCR_06608!B69),"|",COLUMN(BCTCR_06608!B69),",0",",0") -> 666283,69|2,0,0 | C69: =CONCATENATE(666480,",",ROW(BCTCR_06608!C69),"|",COLUMN(BCTCR_06608!C69),",0",",0") -> 666480,69|3,0,0 | D69: =CONCATENATE(666399,",",ROW(BCTCR_06608!D69),"|",COLUMN(BCTCR_06608!D69),",0",",0") -> 666399,69|4,0,0 | E69: =CONCATENATE(666585,",",ROW(BCTCR_06608!E69),"|",COLUMN(BCTCR_06608!E69),",0",",0") -> 666585,69|5,0,0
A70: =CONCATENATE(666629,",",ROW(BCTCR_06608!A70),"|",COLUMN(BCTCR_06608!A70),",0",",0") -> 666629,70|1,0,0 | B70: =CONCATENATE(666873,",",ROW(BCTCR_06608!B70),"|",COLUMN(BCTCR_06608!B70),",0",",0") -> 666873,70|2,0,0 | C70: =CONCATENATE(666481,",",ROW(BCTCR_06608!C70),"|",COLUMN(BCTCR_06608!C70),",0",",0") -> 666481,70|3,0,0 | D70: =CONCATENATE(666400,",",ROW(BCTCR_06608!D70),"|",COLUMN(BCTCR_06608!D70),",0",",0") -> 666400,70|4,0,0 | E70: =CONCATENATE(666586,",",ROW(BCTCR_06608!E70),"|",COLUMN(BCTCR_06608!E70),",0",",0") -> 666586,70|5,0,0
A71: =CONCATENATE(666670,",",ROW(BCTCR_06608!A71),"|",COLUMN(BCTCR_06608!A71),",0",",0") -> 666670,71|1,0,0 | B71: =CONCATENATE(666284,",",ROW(BCTCR_06608!B71),"|",COLUMN(BCTCR_06608!B71),",0",",0") -> 666284,71|2,0,0 | C71: =CONCATENATE(666754,",",ROW(BCTCR_06608!C71),"|",COLUMN(BCTCR_06608!C71),",0",",0") -> 666754,71|3,0,0 | D71: =CONCATENATE(666699,",",ROW(BCTCR_06608!D71),"|",COLUMN(BCTCR_06608!D71),",0",",0") -> 666699,71|4,0,0 | E71: =CONCATENATE(666556,",",ROW(BCTCR_06608!E71),"|",COLUMN(BCTCR_06608!E71),",0",",0") -> 666556,71|5,0,0
A72: =CONCATENATE(666431,",",ROW(BCTCR_06608!A72),"|",COLUMN(BCTCR_06608!A72),",0",",0") -> 666431,72|1,0,0 | B72: =CONCATENATE(666661,",",ROW(BCTCR_06608!B72),"|",COLUMN(BCTCR_06608!B72),",0",",0") -> 666661,72|2,0,0 | C72: =CONCATENATE(666599,",",ROW(BCTCR_06608!C72),"|",COLUMN(BCTCR_06608!C72),",0",",0") -> 666599,72|3,0,0 | D72: =CONCATENATE(666662,",",ROW(BCTCR_06608!D72),"|",COLUMN(BCTCR_06608!D72),",0",",0") -> 666662,72|4,0,0 | E72: =CONCATENATE(666663,",",ROW(BCTCR_06608!E72),"|",COLUMN(BCTCR_06608!E72),",0",",0") -> 666663,72|5,0,0
A73: =CONCATENATE(666605,",",ROW(BCTCR_06608!A73),"|",COLUMN(BCTCR_06608!A73),",0",",0") -> 666605,73|1,0,0 | B73: =CONCATENATE(666822,",",ROW(BCTCR_06608!B73),"|",COLUMN(BCTCR_06608!B73),",0",",0") -> 666822,73|2,0,0 | C73: =CONCATENATE(666482,",",ROW(BCTCR_06608!C73),"|",COLUMN(BCTCR_06608!C73),",0",",0") -> 666482,73|3,0,0 | D73: =CONCATENATE(666401,",",ROW(BCTCR_06608!D73),"|",COLUMN(BCTCR_06608!D73),",0",",0") -> 666401,73|4,0,0 | E73: =CONCATENATE(666334,",",ROW(BCTCR_06608!E73),"|",COLUMN(BCTCR_06608!E73),",0",",0") -> 666334,73|5,0,0
A74: =CONCATENATE(666606,",",ROW(BCTCR_06608!A74),"|",COLUMN(BCTCR_06608!A74),",0",",0") -> 666606,74|1,0,0 | B74: =CONCATENATE(666823,",",ROW(BCTCR_06608!B74),"|",COLUMN(BCTCR_06608!B74),",0",",0") -> 666823,74|2,0,0 | C74: =CONCATENATE(666483,",",ROW(BCTCR_06608!C74),"|",COLUMN(BCTCR_06608!C74),",0",",0") -> 666483,74|3,0,0 | D74: =CONCATENATE(666402,",",ROW(BCTCR_06608!D74),"|",COLUMN(BCTCR_06608!D74),",0",",0") -> 666402,74|4,0,0 | E74: =CONCATENATE(666335,",",ROW(BCTCR_06608!E74),"|",COLUMN(BCTCR_06608!E74),",0",",0") -> 666335,74|5,0,0
A75: =CONCATENATE(666639,",",ROW(BCTCR_06608!A75),"|",COLUMN(BCTCR_06608!A75),",0",",0") -> 666639,75|1,0,0 | B75: =CONCATENATE(666285,",",ROW(BCTCR_06608!B75),"|",COLUMN(BCTCR_06608!B75),",0",",0") -> 666285,75|2,0,0 | C75: =CONCATENATE(666484,",",ROW(BCTCR_06608!C75),"|",COLUMN(BCTCR_06608!C75),",0",",0") -> 666484,75|3,0,0 | D75: =CONCATENATE(666434,",",ROW(BCTCR_06608!D75),"|",COLUMN(BCTCR_06608!D75),",0",",0") -> 666434,75|4,0,0 | E75: =CONCATENATE(666336,",",ROW(BCTCR_06608!E75),"|",COLUMN(BCTCR_06608!E75),",0",",0") -> 666336,75|5,0,0
A76: =CONCATENATE(666671,",",ROW(BCTCR_06608!A76),"|",COLUMN(BCTCR_06608!A76),",0",",0") -> 666671,76|1,0,0 | B76: =CONCATENATE(666824,",",ROW(BCTCR_06608!B76),"|",COLUMN(BCTCR_06608!B76),",0",",0") -> 666824,76|2,0,0 | C76: =CONCATENATE(666755,",",ROW(BCTCR_06608!C76),"|",COLUMN(BCTCR_06608!C76),",0",",0") -> 666755,76|3,0,0 | D76: =CONCATENATE(666849,",",ROW(BCTCR_06608!D76),"|",COLUMN(BCTCR_06608!D76),",0",",0") -> 666849,76|4,0,0 | E76: =CONCATENATE(666557,",",ROW(BCTCR_06608!E76),"|",COLUMN(BCTCR_06608!E76),",0",",0") -> 666557,76|5,0,0
A77: =CONCATENATE(666640,",",ROW(BCTCR_06608!A77),"|",COLUMN(BCTCR_06608!A77),",0",",0") -> 666640,77|1,0,0 | B77: =CONCATENATE(666286,",",ROW(BCTCR_06608!B77),"|",COLUMN(BCTCR_06608!B77),",0",",0") -> 666286,77|2,0,0 | C77: =CONCATENATE(666485,",",ROW(BCTCR_06608!C77),"|",COLUMN(BCTCR_06608!C77),",0",",0") -> 666485,77|3,0,0 | D77: =CONCATENATE(666435,",",ROW(BCTCR_06608!D77),"|",COLUMN(BCTCR_06608!D77),",0",",0") -> 666435,77|4,0,0 | E77: =CONCATENATE(666337,",",ROW(BCTCR_06608!E77),"|",COLUMN(BCTCR_06608!E77),",0",",0") -> 666337,77|5,0,0
A78: =CONCATENATE(666633,",",ROW(BCTCR_06608!A78),"|",COLUMN(BCTCR_06608!A78),",0",",0") -> 666633,78|1,0,0 | B78: =CONCATENATE(666825,",",ROW(BCTCR_06608!B78),"|",COLUMN(BCTCR_06608!B78),",0",",0") -> 666825,78|2,0,0 | C78: =CONCATENATE(666486,",",ROW(BCTCR_06608!C78),"|",COLUMN(BCTCR_06608!C78),",0",",0") -> 666486,78|3,0,0 | D78: =CONCATENATE(666436,",",ROW(BCTCR_06608!D78),"|",COLUMN(BCTCR_06608!D78),",0",",0") -> 666436,78|4,0,0 | E78: =CONCATENATE(666338,",",ROW(BCTCR_06608!E78),"|",COLUMN(BCTCR_06608!E78),",0",",0") -> 666338,78|5,0,0
A79: =CONCATENATE(666265,",",ROW(BCTCR_06608!A79),"|",COLUMN(BCTCR_06608!A79),",0",",0") -> 666265,79|1,0,0 | B79: =CONCATENATE(666826,",",ROW(BCTCR_06608!B79),"|",COLUMN(BCTCR_06608!B79),",0",",0") -> 666826,79|2,0,0 | C79: =CONCATENATE(666487,",",ROW(BCTCR_06608!C79),"|",COLUMN(BCTCR_06608!C79),",0",",0") -> 666487,79|3,0,0 | D79: =CONCATENATE(666437,",",ROW(BCTCR_06608!D79),"|",COLUMN(BCTCR_06608!D79),",0",",0") -> 666437,79|4,0,0 | E79: =CONCATENATE(666339,",",ROW(BCTCR_06608!E79),"|",COLUMN(BCTCR_06608!E79),",0",",0") -> 666339,79|5,0,0
A80: =CONCATENATE(666292,",",ROW(BCTCR_06608!A80),"|",COLUMN(BCTCR_06608!A80),",0",",0") -> 666292,80|1,0,0 | B80: =CONCATENATE(666522,",",ROW(BCTCR_06608!B80),"|",COLUMN(BCTCR_06608!B80),",0",",0") -> 666522,80|2,0,0 | C80: =CONCATENATE(666768,",",ROW(BCTCR_06608!C80),"|",COLUMN(BCTCR_06608!C80),",0",",0") -> 666768,80|3,0,0 | D80: =CONCATENATE(666769,",",ROW(BCTCR_06608!D80),"|",COLUMN(BCTCR_06608!D80),",0",",0") -> 666769,80|4,0,0 | E80: =CONCATENATE(666545,",",ROW(BCTCR_06608!E80),"|",COLUMN(BCTCR_06608!E80),",0",",0") -> 666545,80|5,0,0
A81: =CONCATENATE(666293,",",ROW(BCTCR_06608!A81),"|",COLUMN(BCTCR_06608!A81),",0",",0") -> 666293,81|1,0,0 | B81: =CONCATENATE(666827,",",ROW(BCTCR_06608!B81),"|",COLUMN(BCTCR_06608!B81),",0",",0") -> 666827,81|2,0,0 | C81: =CONCATENATE(666743,",",ROW(BCTCR_06608!C81),"|",COLUMN(BCTCR_06608!C81),",0",",0") -> 666743,81|3,0,0 | D81: =CONCATENATE(666876,",",ROW(BCTCR_06608!D81),"|",COLUMN(BCTCR_06608!D81),",0",",0") -> 666876,81|4,0,0 | E81: =CONCATENATE(666546,",",ROW(BCTCR_06608!E81),"|",COLUMN(BCTCR_06608!E81),",0",",0") -> 666546,81|5,0,0
A82: =CONCATENATE(666294,",",ROW(BCTCR_06608!A82),"|",COLUMN(BCTCR_06608!A82),",0",",0") -> 666294,82|1,0,0 | B82: =CONCATENATE(666523,",",ROW(BCTCR_06608!B82),"|",COLUMN(BCTCR_06608!B82),",0",",0") -> 666523,82|2,0,0 | C82: =CONCATENATE(666744,",",ROW(BCTCR_06608!C82),"|",COLUMN(BCTCR_06608!C82),",0",",0") -> 666744,82|3,0,0 | D82: =CONCATENATE(666877,",",ROW(BCTCR_06608!D82),"|",COLUMN(BCTCR_06608!D82),",0",",0") -> 666877,82|4,0,0 | E82: =CONCATENATE(666547,",",ROW(BCTCR_06608!E82),"|",COLUMN(BCTCR_06608!E82),",0",",0") -> 666547,82|5,0,0
A83: =CONCATENATE(666295,",",ROW(BCTCR_06608!A83),"|",COLUMN(BCTCR_06608!A83),",0",",0") -> 666295,83|1,0,0 | B83: =CONCATENATE(666287,",",ROW(BCTCR_06608!B83),"|",COLUMN(BCTCR_06608!B83),",0",",0") -> 666287,83|2,0,0 | C83: =CONCATENATE(666488,",",ROW(BCTCR_06608!C83),"|",COLUMN(BCTCR_06608!C83),",0",",0") -> 666488,83|3,0,0 | D83: =CONCATENATE(666438,",",ROW(BCTCR_06608!D83),"|",COLUMN(BCTCR_06608!D83),",0",",0") -> 666438,83|4,0,0 | E83: =CONCATENATE(666650,",",ROW(BCTCR_06608!E83),"|",COLUMN(BCTCR_06608!E83),",0",",0") -> 666650,83|5,0,0
A84: =CONCATENATE(666647,",",ROW(BCTCR_06608!A84),"|",COLUMN(BCTCR_06608!A84),",0",",0") -> 666647,84|1,0,0 | B84: =CONCATENATE(666288,",",ROW(BCTCR_06608!B84),"|",COLUMN(BCTCR_06608!B84),",0",",0") -> 666288,84|2,0,0 | C84: =CONCATENATE(666489,",",ROW(BCTCR_06608!C84),"|",COLUMN(BCTCR_06608!C84),",0",",0") -> 666489,84|3,0,0 | D84: =CONCATENATE(666439,",",ROW(BCTCR_06608!D84),"|",COLUMN(BCTCR_06608!D84),",0",",0") -> 666439,84|4,0,0 | E84: =CONCATENATE(666651,",",ROW(BCTCR_06608!E84),"|",COLUMN(BCTCR_06608!E84),",0",",0") -> 666651,84|5,0,0
A85: =CONCATENATE(666648,",",ROW(BCTCR_06608!A85),"|",COLUMN(BCTCR_06608!A85),",0",",0") -> 666648,85|1,0,0 | B85: =CONCATENATE(666289,",",ROW(BCTCR_06608!B85),"|",COLUMN(BCTCR_06608!B85),",0",",0") -> 666289,85|2,0,0 | C85: =CONCATENATE(666490,",",ROW(BCTCR_06608!C85),"|",COLUMN(BCTCR_06608!C85),",0",",0") -> 666490,85|3,0,0 | D85: =CONCATENATE(666538,",",ROW(BCTCR_06608!D85),"|",COLUMN(BCTCR_06608!D85),",0",",0") -> 666538,85|4,0,0 | E85: =CONCATENATE(666652,",",ROW(BCTCR_06608!E85),"|",COLUMN(BCTCR_06608!E85),",0",",0") -> 666652,85|5,0,0
A86: =CONCATENATE(666702,",",ROW(BCTCR_06608!A86),"|",COLUMN(BCTCR_06608!A86),",0",",0") -> 666702,86|1,0,0 | B86: =CONCATENATE(666828,",",ROW(BCTCR_06608!B86),"|",COLUMN(BCTCR_06608!B86),",0",",0") -> 666828,86|2,0,0 | C86: =CONCATENATE(666491,",",ROW(BCTCR_06608!C86),"|",COLUMN(BCTCR_06608!C86),",0",",0") -> 666491,86|3,0,0 | D86: =CONCATENATE(666266,",",ROW(BCTCR_06608!D86),"|",COLUMN(BCTCR_06608!D86),",0",",0") -> 666266,86|4,0,0 | E86: =CONCATENATE(666653,",",ROW(BCTCR_06608!E86),"|",COLUMN(BCTCR_06608!E86),",0",",0") -> 666653,86|5,0,0
A87: =CONCATENATE(666700,",",ROW(BCTCR_06608!A87),"|",COLUMN(BCTCR_06608!A87),",0",",0") -> 666700,87|1,0,0 | B87: =CONCATENATE(666290,",",ROW(BCTCR_06608!B87),"|",COLUMN(BCTCR_06608!B87),",0",",0") -> 666290,87|2,0,0 | C87: =CONCATENATE(666492,",",ROW(BCTCR_06608!C87),"|",COLUMN(BCTCR_06608!C87),",0",",0") -> 666492,87|3,0,0 | D87: =CONCATENATE(666267,",",ROW(BCTCR_06608!D87),"|",COLUMN(BCTCR_06608!D87),",0",",0") -> 666267,87|4,0,0 | E87: =CONCATENATE(666654,",",ROW(BCTCR_06608!E87),"|",COLUMN(BCTCR_06608!E87),",0",",0") -> 666654,87|5,0,0
A88: =CONCATENATE(666701,",",ROW(BCTCR_06608!A88),"|",COLUMN(BCTCR_06608!A88),",0",",0") -> 666701,88|1,0,0 | B88: =CONCATENATE(666291,",",ROW(BCTCR_06608!B88),"|",COLUMN(BCTCR_06608!B88),",0",",0") -> 666291,88|2,0,0 | C88: =CONCATENATE(666493,",",ROW(BCTCR_06608!C88),"|",COLUMN(BCTCR_06608!C88),",0",",0") -> 666493,88|3,0,0 | D88: =CONCATENATE(666268,",",ROW(BCTCR_06608!D88),"|",COLUMN(BCTCR_06608!D88),",0",",0") -> 666268,88|4,0,0 | E88: =CONCATENATE(666655,",",ROW(BCTCR_06608!E88),"|",COLUMN(BCTCR_06608!E88),",0",",0") -> 666655,88|5,0,0
A89: =CONCATENATE(666703,",",ROW(BCTCR_06608!A89),"|",COLUMN(BCTCR_06608!A89),",0",",0") -> 666703,89|1,0,0 | B89: =CONCATENATE(666296,",",ROW(BCTCR_06608!B89),"|",COLUMN(BCTCR_06608!B89),",0",",0") -> 666296,89|2,0,0 | C89: =CONCATENATE(666637,",",ROW(BCTCR_06608!C89),"|",COLUMN(BCTCR_06608!C89),",0",",0") -> 666637,89|3,0,0 | D89: =CONCATENATE(666269,",",ROW(BCTCR_06608!D89),"|",COLUMN(BCTCR_06608!D89),",0",",0") -> 666269,89|4,0,0 | E89: =CONCATENATE(666656,",",ROW(BCTCR_06608!E89),"|",COLUMN(BCTCR_06608!E89),",0",",0") -> 666656,89|5,0,0
A90: =CONCATENATE(666704,",",ROW(BCTCR_06608!A90),"|",COLUMN(BCTCR_06608!A90),",0",",0") -> 666704,90|1,0,0 | B90: =CONCATENATE(666297,",",ROW(BCTCR_06608!B90),"|",COLUMN(BCTCR_06608!B90),",0",",0") -> 666297,90|2,0,0 | C90: =CONCATENATE(666249,",",ROW(BCTCR_06608!C90),"|",COLUMN(BCTCR_06608!C90),",0",",0") -> 666249,90|3,0,0 | D90: =CONCATENATE(666270,",",ROW(BCTCR_06608!D90),"|",COLUMN(BCTCR_06608!D90),",0",",0") -> 666270,90|4,0,0 | E90: =CONCATENATE(666686,",",ROW(BCTCR_06608!E90),"|",COLUMN(BCTCR_06608!E90),",0",",0") -> 666686,90|5,0,0
A91: =CONCATENATE(666705,",",ROW(BCTCR_06608!A91),"|",COLUMN(BCTCR_06608!A91),",0",",0") -> 666705,91|1,0,0 | B91: =CONCATENATE(666829,",",ROW(BCTCR_06608!B91),"|",COLUMN(BCTCR_06608!B91),",0",",0") -> 666829,91|2,0,0 | C91: =CONCATENATE(666250,",",ROW(BCTCR_06608!C91),"|",COLUMN(BCTCR_06608!C91),",0",",0") -> 666250,91|3,0,0 | D91: =CONCATENATE(666271,",",ROW(BCTCR_06608!D91),"|",COLUMN(BCTCR_06608!D91),",0",",0") -> 666271,91|4,0,0 | E91: =CONCATENATE(666687,",",ROW(BCTCR_06608!E91),"|",COLUMN(BCTCR_06608!E91),",0",",0") -> 666687,91|5,0,0
A92: =CONCATENATE(666426,",",ROW(BCTCR_06608!A92),"|",COLUMN(BCTCR_06608!A92),",0",",0") -> 666426,92|1,0,0 | B92: =CONCATENATE(666298,",",ROW(BCTCR_06608!B92),"|",COLUMN(BCTCR_06608!B92),",0",",0") -> 666298,92|2,0,0 | C92: =CONCATENATE(666461,",",ROW(BCTCR_06608!C92),"|",COLUMN(BCTCR_06608!C92),",0",",0") -> 666461,92|3,0,0 | D92: =CONCATENATE(666351,",",ROW(BCTCR_06608!D92),"|",COLUMN(BCTCR_06608!D92),",0",",0") -> 666351,92|4,0,0 | E92: =CONCATENATE(666868,",",ROW(BCTCR_06608!E92),"|",COLUMN(BCTCR_06608!E92),",0",",0") -> 666868,92|5,0,0
A93: =CONCATENATE(666427,",",ROW(BCTCR_06608!A93),"|",COLUMN(BCTCR_06608!A93),",0",",0") -> 666427,93|1,0,0 | B93: =CONCATENATE(666422,",",ROW(BCTCR_06608!B93),"|",COLUMN(BCTCR_06608!B93),",0",",0") -> 666422,93|2,0,0 | C93: =CONCATENATE(666462,",",ROW(BCTCR_06608!C93),"|",COLUMN(BCTCR_06608!C93),",0",",0") -> 666462,93|3,0,0 | D93: =CONCATENATE(666356,",",ROW(BCTCR_06608!D93),"|",COLUMN(BCTCR_06608!D93),",0",",0") -> 666356,93|4,0,0 | E93: =CONCATENATE(666869,",",ROW(BCTCR_06608!E93),"|",COLUMN(BCTCR_06608!E93),",0",",0") -> 666869,93|5,0,0
A94: =CONCATENATE(666641,",",ROW(BCTCR_06608!A94),"|",COLUMN(BCTCR_06608!A94),",0",",0") -> 666641,94|1,0,0 | B94: =CONCATENATE(666299,",",ROW(BCTCR_06608!B94),"|",COLUMN(BCTCR_06608!B94),",0",",0") -> 666299,94|2,0,0 | C94: =CONCATENATE(666251,",",ROW(BCTCR_06608!C94),"|",COLUMN(BCTCR_06608!C94),",0",",0") -> 666251,94|3,0,0 | D94: =CONCATENATE(666272,",",ROW(BCTCR_06608!D94),"|",COLUMN(BCTCR_06608!D94),",0",",0") -> 666272,94|4,0,0 | E94: =CONCATENATE(666688,",",ROW(BCTCR_06608!E94),"|",COLUMN(BCTCR_06608!E94),",0",",0") -> 666688,94|5,0,0
A95: =CONCATENATE(666706,",",ROW(BCTCR_06608!A95),"|",COLUMN(BCTCR_06608!A95),",0",",0") -> 666706,95|1,0,0 | B95: =CONCATENATE(666423,",",ROW(BCTCR_06608!B95),"|",COLUMN(BCTCR_06608!B95),",0",",0") -> 666423,95|2,0,0 | C95: =CONCATENATE(666719,",",ROW(BCTCR_06608!C95),"|",COLUMN(BCTCR_06608!C95),",0",",0") -> 666719,95|3,0,0 | D95: =CONCATENATE(666884,",",ROW(BCTCR_06608!D95),"|",COLUMN(BCTCR_06608!D95),",0",",0") -> 666884,95|4,0,0 | E95: =CONCATENATE(666780,",",ROW(BCTCR_06608!E95),"|",COLUMN(BCTCR_06608!E95),",0",",0") -> 666780,95|5,0,0
A96: =CONCATENATE(666428,",",ROW(BCTCR_06608!A96),"|",COLUMN(BCTCR_06608!A96),",0",",0") -> 666428,96|1,0,0 | B96: =CONCATENATE(666830,",",ROW(BCTCR_06608!B96),"|",COLUMN(BCTCR_06608!B96),",0",",0") -> 666830,96|2,0,0 | C96: =CONCATENATE(666494,",",ROW(BCTCR_06608!C96),"|",COLUMN(BCTCR_06608!C96),",0",",0") -> 666494,96|3,0,0 | D96: =CONCATENATE(666357,",",ROW(BCTCR_06608!D96),"|",COLUMN(BCTCR_06608!D96),",0",",0") -> 666357,96|4,0,0 | E96: =CONCATENATE(666870,",",ROW(BCTCR_06608!E96),"|",COLUMN(BCTCR_06608!E96),",0",",0") -> 666870,96|5,0,0
A97: =CONCATENATE(666707,",",ROW(BCTCR_06608!A97),"|",COLUMN(BCTCR_06608!A97),",0",",0") -> 666707,97|1,0,0 | B97: =CONCATENATE(666899,",",ROW(BCTCR_06608!B97),"|",COLUMN(BCTCR_06608!B97),",0",",0") -> 666899,97|2,0,0 | C97: =CONCATENATE(666720,",",ROW(BCTCR_06608!C97),"|",COLUMN(BCTCR_06608!C97),",0",",0") -> 666720,97|3,0,0 | D97: =CONCATENATE(666885,",",ROW(BCTCR_06608!D97),"|",COLUMN(BCTCR_06608!D97),",0",",0") -> 666885,97|4,0,0 | E97: =CONCATENATE(666781,",",ROW(BCTCR_06608!E97),"|",COLUMN(BCTCR_06608!E97),",0",",0") -> 666781,97|5,0,0
A98: =CONCATENATE(666796,",",ROW(BCTCR_06608!A98),"|",COLUMN(BCTCR_06608!A98),",0",",0") -> 666796,98|1,0,0 | B98: =CONCATENATE(666831,",",ROW(BCTCR_06608!B98),"|",COLUMN(BCTCR_06608!B98),",0",",0") -> 666831,98|2,0,0 | C98: =CONCATENATE(666252,",",ROW(BCTCR_06608!C98),"|",COLUMN(BCTCR_06608!C98),",0",",0") -> 666252,98|3,0,0 | D98: =CONCATENATE(666273,",",ROW(BCTCR_06608!D98),"|",COLUMN(BCTCR_06608!D98),",0",",0") -> 666273,98|4,0,0 | E98: =CONCATENATE(666689,",",ROW(BCTCR_06608!E98),"|",COLUMN(BCTCR_06608!E98),",0",",0") -> 666689,98|5,0,0
A99: =CONCATENATE(666797,",",ROW(BCTCR_06608!A99),"|",COLUMN(BCTCR_06608!A99),",0",",0") -> 666797,99|1,0,0 | B99: =CONCATENATE(666524,",",ROW(BCTCR_06608!B99),"|",COLUMN(BCTCR_06608!B99),",0",",0") -> 666524,99|2,0,0 | C99: =CONCATENATE(666253,",",ROW(BCTCR_06608!C99),"|",COLUMN(BCTCR_06608!C99),",0",",0") -> 666253,99|3,0,0 | D99: =CONCATENATE(666274,",",ROW(BCTCR_06608!D99),"|",COLUMN(BCTCR_06608!D99),",0",",0") -> 666274,99|4,0,0 | E99: =CONCATENATE(666690,",",ROW(BCTCR_06608!E99),"|",COLUMN(BCTCR_06608!E99),",0",",0") -> 666690,99|5,0,0
A100: =CONCATENATE(666643,",",ROW(BCTCR_06608!A100),"|",COLUMN(BCTCR_06608!A100),",0",",0") -> 666643,100|1,0,0 | B100: =CONCATENATE(666300,",",ROW(BCTCR_06608!B100),"|",COLUMN(BCTCR_06608!B100),",0",",0") -> 666300,100|2,0,0 | C100: =CONCATENATE(666254,",",ROW(BCTCR_06608!C100),"|",COLUMN(BCTCR_06608!C100),",0",",0") -> 666254,100|3,0,0 | D100: =CONCATENATE(666275,",",ROW(BCTCR_06608!D100),"|",COLUMN(BCTCR_06608!D100),",0",",0") -> 666275,100|4,0,0 | E100: =CONCATENATE(666691,",",ROW(BCTCR_06608!E100),"|",COLUMN(BCTCR_06608!E100),",0",",0") -> 666691,100|5,0,0
A101: =CONCATENATE(666708,",",ROW(BCTCR_06608!A101),"|",COLUMN(BCTCR_06608!A101),",0",",0") -> 666708,101|1,0,0 | B101: =CONCATENATE(666302,",",ROW(BCTCR_06608!B101),"|",COLUMN(BCTCR_06608!B101),",0",",0") -> 666302,101|2,0,0 | C101: =CONCATENATE(666794,",",ROW(BCTCR_06608!C101),"|",COLUMN(BCTCR_06608!C101),",0",",0") -> 666794,101|3,0,0 | D101: =CONCATENATE(666441,",",ROW(BCTCR_06608!D101),"|",COLUMN(BCTCR_06608!D101),",0",",0") -> 666441,101|4,0,0 | E101: =CONCATENATE(666852,",",ROW(BCTCR_06608!E101),"|",COLUMN(BCTCR_06608!E101),",0",",0") -> 666852,101|5,0,0
A102: =CONCATENATE(666709,",",ROW(BCTCR_06608!A102),"|",COLUMN(BCTCR_06608!A102),",0",",0") -> 666709,102|1,0,0 | B102: =CONCATENATE(666900,",",ROW(BCTCR_06608!B102),"|",COLUMN(BCTCR_06608!B102),",0",",0") -> 666900,102|2,0,0 | C102: =CONCATENATE(666721,",",ROW(BCTCR_06608!C102),"|",COLUMN(BCTCR_06608!C102),",0",",0") -> 666721,102|3,0,0 | D102: =CONCATENATE(666495,",",ROW(BCTCR_06608!D102),"|",COLUMN(BCTCR_06608!D102),",0",",0") -> 666495,102|4,0,0 | E102: =CONCATENATE(666782,",",ROW(BCTCR_06608!E102),"|",COLUMN(BCTCR_06608!E102),",0",",0") -> 666782,102|5,0,0
A103: =CONCATENATE(666429,",",ROW(BCTCR_06608!A103),"|",COLUMN(BCTCR_06608!A103),",0",",0") -> 666429,103|1,0,0 | B103: =CONCATENATE(666832,",",ROW(BCTCR_06608!B103),"|",COLUMN(BCTCR_06608!B103),",0",",0") -> 666832,103|2,0,0 | C103: =CONCATENATE(666403,",",ROW(BCTCR_06608!C103),"|",COLUMN(BCTCR_06608!C103),",0",",0") -> 666403,103|3,0,0 | D103: =CONCATENATE(666358,",",ROW(BCTCR_06608!D103),"|",COLUMN(BCTCR_06608!D103),",0",",0") -> 666358,103|4,0,0 | E103: =CONCATENATE(666245,",",ROW(BCTCR_06608!E103),"|",COLUMN(BCTCR_06608!E103),",0",",0") -> 666245,103|5,0,0
A104: =CONCATENATE(666798,",",ROW(BCTCR_06608!A104),"|",COLUMN(BCTCR_06608!A104),",0",",0") -> 666798,104|1,0,0 | B104: =CONCATENATE(666303,",",ROW(BCTCR_06608!B104),"|",COLUMN(BCTCR_06608!B104),",0",",0") -> 666303,104|2,0,0 | C104: =CONCATENATE(666255,",",ROW(BCTCR_06608!C104),"|",COLUMN(BCTCR_06608!C104),",0",",0") -> 666255,104|3,0,0 | D104: =CONCATENATE(666276,",",ROW(BCTCR_06608!D104),"|",COLUMN(BCTCR_06608!D104),",0",",0") -> 666276,104|4,0,0 | E104: =CONCATENATE(666692,",",ROW(BCTCR_06608!E104),"|",COLUMN(BCTCR_06608!E104),",0",",0") -> 666692,104|5,0,0
...

Sheet CCTTCR_06609
A1: CÁC CHỈ TIÊU NGOÀI BÁO CÁO TÌNH HÌNH TÀI CHÍNH RIÊNG
A2: Chỉ tiêu | B2: Mã số | C2: Thuyết minh | D2: Số cuối năm | E2: Số đầu năm
A3: A.TÀI SẢN CỦA CTCK VÀ TÀI SẢN QUẢN LÝ THEO CAM KẾT
A4: 2. Chứng chỉ có giá nhận giữ hộ | B4: 2
A5: 5. Ngoại tệ các loại | B5: 5
A6: A | B6: B | C6: C | D6: 1 | E6: 2
A7: 3. Tài sản nhận thế chấp | B7: 3
A8: 1. Tài sản cố định thuê ngoài | B8: 1
A9: 4. Nợ khó đòi đã xử lý | B9: 4
A10: 6. Cổ phiếu đang lưu hành | B10: 6 | D10: 164800618 | E10: 164800618
A11: 7. Cổ phiếu quỹ | B11: 7
A12: 8. Tài sản tài chính niêm yết/đăng ký giao dịch tại VSD của CTCK | B12: 8 | D12: 813714450000 | E12: 336650450000
A13: 9. Tài sản tài chính đã lưu ký tại VSD và chưa giao dịch của CTCK | B13: 9 | D13: 2110000 | E13: 2990000
A14: 11. Tài sản tài chính sửa lỗi giao dịch của CTCK | B14: 11
A15: 12. Tài sản tài chính chưa lưu ký tại VSD của CTCK | B15: 12 | D15: 162381150000 | E15: 236380270000
A16: 13.Tài sản tài chính được hưởng quyền của CTCK | B16: 13 | D16: 0 | E16: 380000000
A17: 10. Tài sản tài chính chờ về của CTCK | B17: 10 | D17: 0 | E17: 20000000000
A18: B. TÀI SẢN VÀ CÁC KHOẢN PHẢI TRẢ VỀ TÀI SẢN QUẢN LÝ CAM KẾT VỚI KHÁCH HÀNG
A19: 1.Tài sản tài chính niêm yết/đăng ký giao dịch tại VSD của Nhà đầu tư | B19: 21 | D19: 2869116260000 | E19: 3409299590000
A20: a.Tài sản tài chính giao dịch tự do chuyển nhượng | B20: 21.1 | D20: 2308686000000 | E20: 2381714690000
A21: b.Tài sản tài chính hạn chế chuyển nhượng | B21: 21.2 | D21: 636000000 | E21: 20000000
A22: c.Tài sản tài chính giao dịch cầm cố | B22: 21.3 | D22: 485553300000 | E22: 933453300000
A23: d.Tài sản tài chính phong tỏa, tạm giữ | B23: 21.4 | D23: 73012600000 | E23: 73012600000
A24: e.Tài sản tài chính chờ thanh toán | B24: 21.5 | D24: 1228360000 | E24: 21099000000
A25: f. Tài sản tài chính chờ cho vay | B25: 21.6
A26: 2. Tài sản tài chính đã lưu ký tại VSD và chưa giao dịch của Nhà đầu tư | B26: 22 | D26: 83487070000 | E26: 59220950000
A27: a.Tài sản tài chính đã lưu ký tại VSD và chưa giao dịch, tự do chuyển nhượng | B27: 22.1 | D27: 83337070000 | E27: 59070950000
A28: b.Tài sản tài chính đã lưu ký tại VSD và chưa giao dịch, hạn chế chuyển nhượng | B28: 22.2
A29: c.Tài sản tài chính đã lưu ký tại VSD và chưa giao dịch, cầm cố | B29: 22.3
A30: d.Tài sản tài chính đã lưu ký tại VSD và chưa giao dịch, phong tỏa, tạm giữ | B30: 22.4 | D30: 150000000 | E30: 150000000
A31: 3. Tài sản tài chính chờ về của Nhà đầu tư | B31: 23 | D31: 0 | E31: 3584990000
A32: 4. Tài sản tài chính sửa lỗi giao dịch của Nhà đầu tư | B32: 024.a
A33: 5.Tài sản tài chính chưa lưu ký tại VSD của Nhà đầu tư | B33: 024.b
A34: 6.Tài sản tài chính được hưởng quyền của Nhà đầu tư | B34: 25
A35: 7. Tiền gửi của khách hàng | B35: 26 | D35: 43475428290 | E35: 47448284830
A36: 7.1. Tiền gửi của Nhà đầu tư về giao dịch chứng khoán theo phương thức CTCK quản lý | B36: 27 | D36: 38065043990 | E36: 38006071730
A37: 7.2.Tiền gửi tổng hợp giao dịch chứng khoán cho khách hàng | B37: 28
A38: 7.3. Tiền gửi bù trừ và thanh toán giao dịch chứng khoán | B38: 29 | D38: 5409384300 | E38: 9441213100
A39: a. Tiền gửi bù trừ và thanh toán giao dịch chứng khoán Nhà đầu tư trong nước | B39: 29.1 | D39: 5409384300 | E39: 9441213100
A40: b. Tiền gửi bù trừ và thanh toán giao dịch chứng khoán Nhà đầu tư nước ngoài | B40: 29.2
A41: 7.4. Tiền gửi của Tổ chức phát hành chứng khoán | B41: 30 | D41: 1000000 | E41: 1000000
A42: 8. Phải trả Nhà đầu tư về tiền gửi giao dịch chứng khoán theo phương thức CTCK quản lý | B42: 31 | D42: 43474428290 | E42: 47447284830
A43: 8.1. Phải trả Nhà đầu tư trong nước về tiền gửi giao dịch chứng khoán theo phương thức CTCK quản lý | B43: 31.1 | D43: 43350846831 | E43: 47306526881
A44: 8.2. Phải trả Nhà đầu tư nước ngoài về tiền gửi giao dịch chứng khoán theo phương thức CTCK quản lý | B44: 31.2 | D44: 123581459 | E44: 140757949
A45: 9. Phải trả Tổ chức phát hành chứng khoán | B45: 32
A46: 10. Phải thu của khách hàng về lỗi giao dịch các tài sản tài chính | B46: 33
A47: 11. Phải trả của khách hàng về lỗi giao dịch các tài sản tài chính | B47: 34
A48: 12. Phải trả cổ tức, gốc và lãi trái phiếu | B48: 35 | D48: 1000000 | E48: 1000000

Sheet 8648_hidden
A3: =CONCATENATE(665283,",",ROW(CCTTCR_06609!A3),"|",COLUMN(CCTTCR_06609!A3),",0",",0") -> 665283,3|1,0,0 | C3: =CONCATENATE(665175,",",ROW(CCTTCR_06609!C3),"|",COLUMN(CCTTCR_06609!C3),",0",",0") -> 665175,3|3,0,0 | D3: =CONCATENATE(665378,",",ROW(CCTTCR_06609!D3),"|",COLUMN(CCTTCR_06609!D3),",0",",0") -> 665378,3|4,0,0 | E3: =CONCATENATE(665315,",",ROW(CCTTCR_06609!E3),"|",COLUMN(CCTTCR_06609!E3),",0",",0") -> 665315,3|5,0,0
A4: =CONCATENATE(665301,",",ROW(CCTTCR_06609!A4),"|",COLUMN(CCTTCR_06609!A4),",0",",0") -> 665301,4|1,0,0 | B4: =CONCATENATE(665214,",",ROW(CCTTCR_06609!B4),"|",COLUMN(CCTTCR_06609!B4),",0",",0") -> 665214,4|2,0,0 | C4: =CONCATENATE(665182,",",ROW(CCTTCR_06609!C4),"|",COLUMN(CCTTCR_06609!C4),",0",",0") -> 665182,4|3,0,0 | D4: =CONCATENATE(665394,",",ROW(CCTTCR_06609!D4),"|",COLUMN(CCTTCR_06609!D4),",0",",0") -> 665394,4|4,0,0 | E4: =CONCATENATE(665319,",",ROW(CCTTCR_06609!E4),"|",COLUMN(CCTTCR_06609!E4),",0",",0") -> 665319,4|5,0,0
A5: =CONCATENATE(665331,",",ROW(CCTTCR_06609!A5),"|",COLUMN(CCTTCR_06609!A5),",0",",0") -> 665331,5|1,0,0 | B5: =CONCATENATE(665254,",",ROW(CCTTCR_06609!B5),"|",COLUMN(CCTTCR_06609!B5),",0",",0") -> 665254,5|2,0,0 | C5: =CONCATENATE(665183,",",ROW(CCTTCR_06609!C5),"|",COLUMN(CCTTCR_06609!C5),",0",",0") -> 665183,5|3,0,0 | D5: =CONCATENATE(665395,",",ROW(CCTTCR_06609!D5),"|",COLUMN(CCTTCR_06609!D5),",0",",0") -> 665395,5|4,0,0 | E5: =CONCATENATE(665320,",",ROW(CCTTCR_06609!E5),"|",COLUMN(CCTTCR_06609!E5),",0",",0") -> 665320,5|5,0,0
A6: =CONCATENATE(665279,",",ROW(CCTTCR_06609!A6),"|",COLUMN(CCTTCR_06609!A6),",0",",0") -> 665279,6|1,0,0 | B6: =CONCATENATE(665212,",",ROW(CCTTCR_06609!B6),"|",COLUMN(CCTTCR_06609!B6),",0",",0") -> 665212,6|2,0,0 | C6: =CONCATENATE(665261,",",ROW(CCTTCR_06609!C6),"|",COLUMN(CCTTCR_06609!C6),",0",",0") -> 665261,6|3,0,0 | D6: =CONCATENATE(665266,",",ROW(CCTTCR_06609!D6),"|",COLUMN(CCTTCR_06609!D6),",0",",0") -> 665266,6|4,0,0 | E6: =CONCATENATE(665267,",",ROW(CCTTCR_06609!E6),"|",COLUMN(CCTTCR_06609!E6),",0",",0") -> 665267,6|5,0,0
A7: =CONCATENATE(665213,",",ROW(CCTTCR_06609!A7),"|",COLUMN(CCTTCR_06609!A7),",0",",0") -> 665213,7|1,0,0 | B7: =CONCATENATE(665362,",",ROW(CCTTCR_06609!B7),"|",COLUMN(CCTTCR_06609!B7),",0",",0") -> 665362,7|2,0,0 | C7: =CONCATENATE(665349,",",ROW(CCTTCR_06609!C7),"|",COLUMN(CCTTCR_06609!C7),",0",",0") -> 665349,7|3,0,0 | D7: =CONCATENATE(665295,",",ROW(CCTTCR_06609!D7),"|",COLUMN(CCTTCR_06609!D7),",0",",0") -> 665295,7|4,0,0 | E7: =CONCATENATE(665389,",",ROW(CCTTCR_06609!E7),"|",COLUMN(CCTTCR_06609!E7),",0",",0") -> 665389,7|5,0,0
A8: =CONCATENATE(665220,",",ROW(CCTTCR_06609!A8),"|",COLUMN(CCTTCR_06609!A8),",0",",0") -> 665220,8|1,0,0 | B8: =CONCATENATE(665361,",",ROW(CCTTCR_06609!B8),"|",COLUMN(CCTTCR_06609!B8),",0",",0") -> 665361,8|2,0,0 | C8: =CONCATENATE(665348,",",ROW(CCTTCR_06609!C8),"|",COLUMN(CCTTCR_06609!C8),",0",",0") -> 665348,8|3,0,0 | D8: =CONCATENATE(665294,",",ROW(CCTTCR_06609!D8),"|",COLUMN(CCTTCR_06609!D8),",0",",0") -> 665294,8|4,0,0 | E8: =CONCATENATE(665388,",",ROW(CCTTCR_06609!E8),"|",COLUMN(CCTTCR_06609!E8),",0",",0") -> 665388,8|5,0,0
A9: =CONCATENATE(665302,",",ROW(CCTTCR_06609!A9),"|",COLUMN(CCTTCR_06609!A9),",0",",0") -> 665302,9|1,0,0 | B9: =CONCATENATE(665363,",",ROW(CCTTCR_06609!B9),"|",COLUMN(CCTTCR_06609!B9),",0",",0") -> 665363,9|2,0,0 | C9: =CONCATENATE(665350,",",ROW(CCTTCR_06609!C9),"|",COLUMN(CCTTCR_06609!C9),",0",",0") -> 665350,9|3,0,0 | D9: =CONCATENATE(665296,",",ROW(CCTTCR_06609!D9),"|",COLUMN(CCTTCR_06609!D9),",0",",0") -> 665296,9|4,0,0 | E9: =CONCATENATE(665390,",",ROW(CCTTCR_06609!E9),"|",COLUMN(CCTTCR_06609!E9),",0",",0") -> 665390,9|5,0,0
A10: =CONCATENATE(665284,",",ROW(CCTTCR_06609!A10),"|",COLUMN(CCTTCR_06609!A10),",0",",0") -> 665284,10|1,0,0 | B10: =CONCATENATE(665366,",",ROW(CCTTCR_06609!B10),"|",COLUMN(CCTTCR_06609!B10),",0",",0") -> 665366,10|2,0,0 | C10: =CONCATENATE(665176,",",ROW(CCTTCR_06609!C10),"|",COLUMN(CCTTCR_06609!C10),",0",",0") -> 665176,10|3,0,0 | D10: =CONCATENATE(665391,",",ROW(CCTTCR_06609!D10),"|",COLUMN(CCTTCR_06609!D10),",0",",0") -> 665391,10|4,0,0 | E10: =CONCATENATE(665316,",",ROW(CCTTCR_06609!E10),"|",COLUMN(CCTTCR_06609!E10),",0",",0") -> 665316,10|5,0,0
A11: =CONCATENATE(665264,",",ROW(CCTTCR_06609!A11),"|",COLUMN(CCTTCR_06609!A11),",0",",0") -> 665264,11|1,0,0 | B11: =CONCATENATE(665367,",",ROW(CCTTCR_06609!B11),"|",COLUMN(CCTTCR_06609!B11),",0",",0") -> 665367,11|2,0,0 | C11: =CONCATENATE(665184,",",ROW(CCTTCR_06609!C11),"|",COLUMN(CCTTCR_06609!C11),",0",",0") -> 665184,11|3,0,0 | D11: =CONCATENATE(665235,",",ROW(CCTTCR_06609!D11),"|",COLUMN(CCTTCR_06609!D11),",0",",0") -> 665235,11|4,0,0 | E11: =CONCATENATE(665253,",",ROW(CCTTCR_06609!E11),"|",COLUMN(CCTTCR_06609!E11),",0",",0") -> 665253,11|5,0,0
A12: =CONCATENATE(665221,",",ROW(CCTTCR_06609!A12),"|",COLUMN(CCTTCR_06609!A12),",0",",0") -> 665221,12|1,0,0 | B12: =CONCATENATE(665255,",",ROW(CCTTCR_06609!B12),"|",COLUMN(CCTTCR_06609!B12),",0",",0") -> 665255,12|2,0,0 | C12: =CONCATENATE(665185,",",ROW(CCTTCR_06609!C12),"|",COLUMN(CCTTCR_06609!C12),",0",",0") -> 665185,12|3,0,0 | D12: =CONCATENATE(665236,",",ROW(CCTTCR_06609!D12),"|",COLUMN(CCTTCR_06609!D12),",0",",0") -> 665236,12|4,0,0 | E12: =CONCATENATE(665321,",",ROW(CCTTCR_06609!E12),"|",COLUMN(CCTTCR_06609!E12),",0",",0") -> 665321,12|5,0,0
A13: =CONCATENATE(665268,",",ROW(CCTTCR_06609!A13),"|",COLUMN(CCTTCR_06609!A13),",0",",0") -> 665268,13|1,0,0 | B13: =CONCATENATE(665226,",",ROW(CCTTCR_06609!B13),"|",COLUMN(CCTTCR_06609!B13),",0",",0") -> 665226,13|2,0,0 | C13: =CONCATENATE(665186,",",ROW(CCTTCR_06609!C13),"|",COLUMN(CCTTCR_06609!C13),",0",",0") -> 665186,13|3,0,0 | D13: =CONCATENATE(665237,",",ROW(CCTTCR_06609!D13),"|",COLUMN(CCTTCR_06609!D13),",0",",0") -> 665237,13|4,0,0 | E13: =CONCATENATE(665322,",",ROW(CCTTCR_06609!E13),"|",COLUMN(CCTTCR_06609!E13),",0",",0") -> 665322,13|5,0,0
A14: =CONCATENATE(665285,",",ROW(CCTTCR_06609!A14),"|",COLUMN(CCTTCR_06609!A14),",0",",0") -> 665285,14|1,0,0 | B14: =CONCATENATE(665205,",",ROW(CCTTCR_06609!B14),"|",COLUMN(CCTTCR_06609!B14),",0",",0") -> 665205,14|2,0,0 | C14: =CONCATENATE(665177,",",ROW(CCTTCR_06609!C14),"|",COLUMN(CCTTCR_06609!C14),",0",",0") -> 665177,14|3,0,0 | D14: =CONCATENATE(665392,",",ROW(CCTTCR_06609!D14),"|",COLUMN(CCTTCR_06609!D14),",0",",0") -> 665392,14|4,0,0 | E14: =CONCATENATE(665317,",",ROW(CCTTCR_06609!E14),"|",COLUMN(CCTTCR_06609!E14),",0",",0") -> 665317,14|5,0,0
A15: =CONCATENATE(665222,",",ROW(CCTTCR_06609!A15),"|",COLUMN(CCTTCR_06609!A15),",0",",0") -> 665222,15|1,0,0 | B15: =CONCATENATE(665256,",",ROW(CCTTCR_06609!B15),"|",COLUMN(CCTTCR_06609!B15),",0",",0") -> 665256,15|2,0,0 | C15: =CONCATENATE(665187,",",ROW(CCTTCR_06609!C15),"|",COLUMN(CCTTCR_06609!C15),",0",",0") -> 665187,15|3,0,0 | D15: =CONCATENATE(665238,",",ROW(CCTTCR_06609!D15),"|",COLUMN(CCTTCR_06609!D15),",0",",0") -> 665238,15|4,0,0 | E15: =CONCATENATE(665323,",",ROW(CCTTCR_06609!E15),"|",COLUMN(CCTTCR_06609!E15),",0",",0") -> 665323,15|5,0,0
A16: =CONCATENATE(665280,",",ROW(CCTTCR_06609!A16),"|",COLUMN(CCTTCR_06609!A16),",0",",0") -> 665280,16|1,0,0 | B16: =CONCATENATE(665257,",",ROW(CCTTCR_06609!B16),"|",COLUMN(CCTTCR_06609!B16),",0",",0") -> 665257,16|2,0,0 | C16: =CONCATENATE(665188,",",ROW(CCTTCR_06609!C16),"|",COLUMN(CCTTCR_06609!C16),",0",",0") -> 665188,16|3,0,0 | D16: =CONCATENATE(665239,",",ROW(CCTTCR_06609!D16),"|",COLUMN(CCTTCR_06609!D16),",0",",0") -> 665239,16|4,0,0 | E16: =CONCATENATE(665324,",",ROW(CCTTCR_06609!E16),"|",COLUMN(CCTTCR_06609!E16),",0",",0") -> 665324,16|5,0,0
A17: =CONCATENATE(665332,",",ROW(CCTTCR_06609!A17),"|",COLUMN(CCTTCR_06609!A17),",0",",0") -> 665332,17|1,0,0 | B17: =CONCATENATE(665364,",",ROW(CCTTCR_06609!B17),"|",COLUMN(CCTTCR_06609!B17),",0",",0") -> 665364,17|2,0,0 | C17: =CONCATENATE(665351,",",ROW(CCTTCR_06609!C17),"|",COLUMN(CCTTCR_06609!C17),",0",",0") -> 665351,17|3,0,0 | D17: =CONCATENATE(665297,",",ROW(CCTTCR_06609!D17),"|",COLUMN(CCTTCR_06609!D17),",0",",0") -> 665297,17|4,0,0 | E17: =CONCATENATE(665303,",",ROW(CCTTCR_06609!E17),"|",COLUMN(CCTTCR_06609!E17),",0",",0") -> 665303,17|5,0,0
A18: =CONCATENATE(665286,",",ROW(CCTTCR_06609!A18),"|",COLUMN(CCTTCR_06609!A18),",0",",0") -> 665286,18|1,0,0 | C18: =CONCATENATE(665178,",",ROW(CCTTCR_06609!C18),"|",COLUMN(CCTTCR_06609!C18),",0",",0") -> 665178,18|3,0,0 | D18: =CONCATENATE(665393,",",ROW(CCTTCR_06609!D18),"|",COLUMN(CCTTCR_06609!D18),",0",",0") -> 665393,18|4,0,0 | E18: =CONCATENATE(665318,",",ROW(CCTTCR_06609!E18),"|",COLUMN(CCTTCR_06609!E18),",0",",0") -> 665318,18|5,0,0
A19: =CONCATENATE(665223,",",ROW(CCTTCR_06609!A19),"|",COLUMN(CCTTCR_06609!A19),",0",",0") -> 665223,19|1,0,0 | B19: =CONCATENATE(665365,",",ROW(CCTTCR_06609!B19),"|",COLUMN(CCTTCR_06609!B19),",0",",0") -> 665365,19|2,0,0 | C19: =CONCATENATE(665352,",",ROW(CCTTCR_06609!C19),"|",COLUMN(CCTTCR_06609!C19),",0",",0") -> 665352,19|3,0,0 | D19: =CONCATENATE(665354,",",ROW(CCTTCR_06609!D19),"|",COLUMN(CCTTCR_06609!D19),",0",",0") -> 665354,19|4,0,0 | E19: =CONCATENATE(665304,",",ROW(CCTTCR_06609!E19),"|",COLUMN(CCTTCR_06609!E19),",0",",0") -> 665304,19|5,0,0
A20: =CONCATENATE(665281,",",ROW(CCTTCR_06609!A20),"|",COLUMN(CCTTCR_06609!A20),",0",",0") -> 665281,20|1,0,0 | B20: =CONCATENATE(665227,",",ROW(CCTTCR_06609!B20),"|",COLUMN(CCTTCR_06609!B20),",0",",0") -> 665227,20|2,0,0 | C20: =CONCATENATE(665189,",",ROW(CCTTCR_06609!C20),"|",COLUMN(CCTTCR_06609!C20),",0",",0") -> 665189,20|3,0,0 | D20: =CONCATENATE(665240,",",ROW(CCTTCR_06609!D20),"|",COLUMN(CCTTCR_06609!D20),",0",",0") -> 665240,20|4,0,0 | E20: =CONCATENATE(665325,",",ROW(CCTTCR_06609!E20),"|",COLUMN(CCTTCR_06609!E20),",0",",0") -> 665325,20|5,0,0
A21: =CONCATENATE(665333,",",ROW(CCTTCR_06609!A21),"|",COLUMN(CCTTCR_06609!A21),",0",",0") -> 665333,21|1,0,0 | B21: =CONCATENATE(665269,",",ROW(CCTTCR_06609!B21),"|",COLUMN(CCTTCR_06609!B21),",0",",0") -> 665269,21|2,0,0 | C21: =CONCATENATE(665353,",",ROW(CCTTCR_06609!C21),"|",COLUMN(CCTTCR_06609!C21),",0",",0") -> 665353,21|3,0,0 | D21: =CONCATENATE(665368,",",ROW(CCTTCR_06609!D21),"|",COLUMN(CCTTCR_06609!D21),",0",",0") -> 665368,21|4,0,0 | E21: =CONCATENATE(665305,",",ROW(CCTTCR_06609!E21),"|",COLUMN(CCTTCR_06609!E21),",0",",0") -> 665305,21|5,0,0
A22: =CONCATENATE(665282,",",ROW(CCTTCR_06609!A22),"|",COLUMN(CCTTCR_06609!A22),",0",",0") -> 665282,22|1,0,0 | B22: =CONCATENATE(665270,",",ROW(CCTTCR_06609!B22),"|",COLUMN(CCTTCR_06609!B22),",0",",0") -> 665270,22|2,0,0 | C22: =CONCATENATE(665168,",",ROW(CCTTCR_06609!C22),"|",COLUMN(CCTTCR_06609!C22),",0",",0") -> 665168,22|3,0,0 | D22: =CONCATENATE(665369,",",ROW(CCTTCR_06609!D22),"|",COLUMN(CCTTCR_06609!D22),",0",",0") -> 665369,22|4,0,0 | E22: =CONCATENATE(665306,",",ROW(CCTTCR_06609!E22),"|",COLUMN(CCTTCR_06609!E22),",0",",0") -> 665306,22|5,0,0
A23: =CONCATENATE(665265,",",ROW(CCTTCR_06609!A23),"|",COLUMN(CCTTCR_06609!A23),",0",",0") -> 665265,23|1,0,0 | B23: =CONCATENATE(665258,",",ROW(CCTTCR_06609!B23),"|",COLUMN(CCTTCR_06609!B23),",0",",0") -> 665258,23|2,0,0 | C23: =CONCATENATE(665190,",",ROW(CCTTCR_06609!C23),"|",COLUMN(CCTTCR_06609!C23),",0",",0") -> 665190,23|3,0,0 | D23: =CONCATENATE(665241,",",ROW(CCTTCR_06609!D23),"|",COLUMN(CCTTCR_06609!D23),",0",",0") -> 665241,23|4,0,0 | E23: =CONCATENATE(665326,",",ROW(CCTTCR_06609!E23),"|",COLUMN(CCTTCR_06609!E23),",0",",0") -> 665326,23|5,0,0
A24: =CONCATENATE(665262,",",ROW(CCTTCR_06609!A24),"|",COLUMN(CCTTCR_06609!A24),",0",",0") -> 665262,24|1,0,0 | B24: =CONCATENATE(665271,",",ROW(CCTTCR_06609!B24),"|",COLUMN(CCTTCR_06609!B24),",0",",0") -> 665271,24|2,0,0 | C24: =CONCATENATE(665169,",",ROW(CCTTCR_06609!C24),"|",COLUMN(CCTTCR_06609!C24),",0",",0") -> 665169,24|3,0,0 | D24: =CONCATENATE(665370,",",ROW(CCTTCR_06609!D24),"|",COLUMN(CCTTCR_06609!D24),",0",",0") -> 665370,24|4,0,0 | E24: =CONCATENATE(665307,",",ROW(CCTTCR_06609!E24),"|",COLUMN(CCTTCR_06609!E24),",0",",0") -> 665307,24|5,0,0
A25: =CONCATENATE(665298,",",ROW(CCTTCR_06609!A25),"|",COLUMN(CCTTCR_06609!A25),",0",",0") -> 665298,25|1,0,0 | B25: =CONCATENATE(665272,",",ROW(CCTTCR_06609!B25),"|",COLUMN(CCTTCR_06609!B25),",0",",0") -> 665272,25|2,0,0 | C25: =CONCATENATE(665170,",",ROW(CCTTCR_06609!C25),"|",COLUMN(CCTTCR_06609!C25),",0",",0") -> 665170,25|3,0,0 | D25: =CONCATENATE(665371,",",ROW(CCTTCR_06609!D25),"|",COLUMN(CCTTCR_06609!D25),",0",",0") -> 665371,25|4,0,0 | E25: =CONCATENATE(665308,",",ROW(CCTTCR_06609!E25),"|",COLUMN(CCTTCR_06609!E25),",0",",0") -> 665308,25|5,0,0
A26: =CONCATENATE(665299,",",ROW(CCTTCR_06609!A26),"|",COLUMN(CCTTCR_06609!A26),",0",",0") -> 665299,26|1,0,0 | B26: =CONCATENATE(665228,",",ROW(CCTTCR_06609!B26),"|",COLUMN(CCTTCR_06609!B26),",0",",0") -> 665228,26|2,0,0 | C26: =CONCATENATE(665191,",",ROW(CCTTCR_06609!C26),"|",COLUMN(CCTTCR_06609!C26),",0",",0") -> 665191,26|3,0,0 | D26: =CONCATENATE(665242,",",ROW(CCTTCR_06609!D26),"|",COLUMN(CCTTCR_06609!D26),",0",",0") -> 665242,26|4,0,0 | E26: =CONCATENATE(665327,",",ROW(CCTTCR_06609!E26),"|",COLUMN(CCTTCR_06609!E26),",0",",0") -> 665327,26|5,0,0
A27: =CONCATENATE(665300,",",ROW(CCTTCR_06609!A27),"|",COLUMN(CCTTCR_06609!A27),",0",",0") -> 665300,27|1,0,0 | B27: =CONCATENATE(665229,",",ROW(CCTTCR_06609!B27),"|",COLUMN(CCTTCR_06609!B27),",0",",0") -> 665229,27|2,0,0 | C27: =CONCATENATE(665192,",",ROW(CCTTCR_06609!C27),"|",COLUMN(CCTTCR_06609!C27),",0",",0") -> 665192,27|3,0,0 | D27: =CONCATENATE(665243,",",ROW(CCTTCR_06609!D27),"|",COLUMN(CCTTCR_06609!D27),",0",",0") -> 665243,27|4,0,0 | E27: =CONCATENATE(665328,",",ROW(CCTTCR_06609!E27),"|",COLUMN(CCTTCR_06609!E27),",0",",0") -> 665328,27|5,0,0
A28: =CONCATENATE(665224,",",ROW(CCTTCR_06609!A28),"|",COLUMN(CCTTCR_06609!A28),",0",",0") -> 665224,28|1,0,0 | B28: =CONCATENATE(665273,",",ROW(CCTTCR_06609!B28),"|",COLUMN(CCTTCR_06609!B28),",0",",0") -> 665273,28|2,0,0 | C28: =CONCATENATE(665171,",",ROW(CCTTCR_06609!C28),"|",COLUMN(CCTTCR_06609!C28),",0",",0") -> 665171,28|3,0,0 | D28: =CONCATENATE(665372,",",ROW(CCTTCR_06609!D28),"|",COLUMN(CCTTCR_06609!D28),",0",",0") -> 665372,28|4,0,0 | E28: =CONCATENATE(665309,",",ROW(CCTTCR_06609!E28),"|",COLUMN(CCTTCR_06609!E28),",0",",0") -> 665309,28|5,0,0
A29: =CONCATENATE(665232,",",ROW(CCTTCR_06609!A29),"|",COLUMN(CCTTCR_06609!A29),",0",",0") -> 665232,29|1,0,0 | B29: =CONCATENATE(665206,",",ROW(CCTTCR_06609!B29),"|",COLUMN(CCTTCR_06609!B29),",0",",0") -> 665206,29|2,0,0 | C29: =CONCATENATE(665193,",",ROW(CCTTCR_06609!C29),"|",COLUMN(CCTTCR_06609!C29),",0",",0") -> 665193,29|3,0,0 | D29: =CONCATENATE(665244,",",ROW(CCTTCR_06609!D29),"|",COLUMN(CCTTCR_06609!D29),",0",",0") -> 665244,29|4,0,0 | E29: =CONCATENATE(665329,",",ROW(CCTTCR_06609!E29),"|",COLUMN(CCTTCR_06609!E29),",0",",0") -> 665329,29|5,0,0
A30: =CONCATENATE(665233,",",ROW(CCTTCR_06609!A30),"|",COLUMN(CCTTCR_06609!A30),",0",",0") -> 665233,30|1,0,0 | B30: =CONCATENATE(665207,",",ROW(CCTTCR_06609!B30),"|",COLUMN(CCTTCR_06609!B30),",0",",0") -> 665207,30|2,0,0 | C30: =CONCATENATE(665194,",",ROW(CCTTCR_06609!C30),"|",COLUMN(CCTTCR_06609!C30),",0",",0") -> 665194,30|3,0,0 | D30: =CONCATENATE(665245,",",ROW(CCTTCR_06609!D30),"|",COLUMN(CCTTCR_06609!D30),",0",",0") -> 665245,30|4,0,0 | E30: =CONCATENATE(665330,",",ROW(CCTTCR_06609!E30),"|",COLUMN(CCTTCR_06609!E30),",0",",0") -> 665330,30|5,0,0
A31: =CONCATENATE(665234,",",ROW(CCTTCR_06609!A31),"|",COLUMN(CCTTCR_06609!A31),",0",",0") -> 665234,31|1,0,0 | B31: =CONCATENATE(665274,",",ROW(CCTTCR_06609!B31),"|",COLUMN(CCTTCR_06609!B31),",0",",0") -> 665274,31|2,0,0 | C31: =CONCATENATE(665172,",",ROW(CCTTCR_06609!C31),"|",COLUMN(CCTTCR_06609!C31),",0",",0") -> 665172,31|3,0,0 | D31: =CONCATENATE(665373,",",ROW(CCTTCR_06609!D31),"|",COLUMN(CCTTCR_06609!D31),",0",",0") -> 665373,31|4,0,0 | E31: =CONCATENATE(665310,",",ROW(CCTTCR_06609!E31),"|",COLUMN(CCTTCR_06609!E31),",0",",0") -> 665310,31|5,0,0
A32: =CONCATENATE(665334,",",ROW(CCTTCR_06609!A32),"|",COLUMN(CCTTCR_06609!A32),",0",",0") -> 665334,32|1,0,0 | B32: =CONCATENATE(665230,",",ROW(CCTTCR_06609!B32),"|",COLUMN(CCTTCR_06609!B32),",0",",0") -> 665230,32|2,0,0 | C32: =CONCATENATE(665195,",",ROW(CCTTCR_06609!C32),"|",COLUMN(CCTTCR_06609!C32),",0",",0") -> 665195,32|3,0,0 | D32: =CONCATENATE(665246,",",ROW(CCTTCR_06609!D32),"|",COLUMN(CCTTCR_06609!D32),",0",",0") -> 665246,32|4,0,0 | E32: =CONCATENATE(665198,",",ROW(CCTTCR_06609!E32),"|",COLUMN(CCTTCR_06609!E32),",0",",0") -> 665198,32|5,0,0
A33: =CONCATENATE(665335,",",ROW(CCTTCR_06609!A33),"|",COLUMN(CCTTCR_06609!A33),",0",",0") -> 665335,33|1,0,0 | B33: =CONCATENATE(665275,",",ROW(CCTTCR_06609!B33),"|",COLUMN(CCTTCR_06609!B33),",0",",0") -> 665275,33|2,0,0 | C33: =CONCATENATE(665379,",",ROW(CCTTCR_06609!C33),"|",COLUMN(CCTTCR_06609!C33),",0",",0") -> 665379,33|3,0,0 | D33: =CONCATENATE(665374,",",ROW(CCTTCR_06609!D33),"|",COLUMN(CCTTCR_06609!D33),",0",",0") -> 665374,33|4,0,0 | E33: =CONCATENATE(665311,",",ROW(CCTTCR_06609!E33),"|",COLUMN(CCTTCR_06609!E33),",0",",0") -> 665311,33|5,0,0
A34: =CONCATENATE(665336,",",ROW(CCTTCR_06609!A34),"|",COLUMN(CCTTCR_06609!A34),",0",",0") -> 665336,34|1,0,0 | B34: =CONCATENATE(665215,",",ROW(CCTTCR_06609!B34),"|",COLUMN(CCTTCR_06609!B34),",0",",0") -> 665215,34|2,0,0 | C34: =CONCATENATE(665196,",",ROW(CCTTCR_06609!C34),"|",COLUMN(CCTTCR_06609!C34),",0",",0") -> 665196,34|3,0,0 | D34: =CONCATENATE(665247,",",ROW(CCTTCR_06609!D34),"|",COLUMN(CCTTCR_06609!D34),",0",",0") -> 665247,34|4,0,0 | E34: =CONCATENATE(665199,",",ROW(CCTTCR_06609!E34),"|",COLUMN(CCTTCR_06609!E34),",0",",0") -> 665199,34|5,0,0
A35: =CONCATENATE(665337,",",ROW(CCTTCR_06609!A35),"|",COLUMN(CCTTCR_06609!A35),",0",",0") -> 665337,35|1,0,0 | B35: =CONCATENATE(665276,",",ROW(CCTTCR_06609!B35),"|",COLUMN(CCTTCR_06609!B35),",0",",0") -> 665276,35|2,0,0 | C35: =CONCATENATE(665380,",",ROW(CCTTCR_06609!C35),"|",COLUMN(CCTTCR_06609!C35),",0",",0") -> 665380,35|3,0,0 | D35: =CONCATENATE(665375,",",ROW(CCTTCR_06609!D35),"|",COLUMN(CCTTCR_06609!D35),",0",",0") -> 665375,35|4,0,0 | E35: =CONCATENATE(665312,",",ROW(CCTTCR_06609!E35),"|",COLUMN(CCTTCR_06609!E35),",0",",0") -> 665312,35|5,0,0
A36: =CONCATENATE(665338,",",ROW(CCTTCR_06609!A36),"|",COLUMN(CCTTCR_06609!A36),",0",",0") -> 665338,36|1,0,0 | B36: =CONCATENATE(665216,",",ROW(CCTTCR_06609!B36),"|",COLUMN(CCTTCR_06609!B36),",0",",0") -> 665216,36|2,0,0 | C36: =CONCATENATE(665197,",",ROW(CCTTCR_06609!C36),"|",COLUMN(CCTTCR_06609!C36),",0",",0") -> 665197,36|3,0,0 | D36: =CONCATENATE(665248,",",ROW(CCTTCR_06609!D36),"|",COLUMN(CCTTCR_06609!D36),",0",",0") -> 665248,36|4,0,0 | E36: =CONCATENATE(665200,",",ROW(CCTTCR_06609!E36),"|",COLUMN(CCTTCR_06609!E36),",0",",0") -> 665200,36|5,0,0
A37: =CONCATENATE(665339,",",ROW(CCTTCR_06609!A37),"|",COLUMN(CCTTCR_06609!A37),",0",",0") -> 665339,37|1,0,0 | B37: =CONCATENATE(665217,",",ROW(CCTTCR_06609!B37),"|",COLUMN(CCTTCR_06609!B37),",0",",0") -> 665217,37|2,0,0 | C37: =CONCATENATE(665179,",",ROW(CCTTCR_06609!C37),"|",COLUMN(CCTTCR_06609!C37),",0",",0") -> 665179,37|3,0,0 | D37: =CONCATENATE(665249,",",ROW(CCTTCR_06609!D37),"|",COLUMN(CCTTCR_06609!D37),",0",",0") -> 665249,37|4,0,0 | E37: =CONCATENATE(665201,",",ROW(CCTTCR_06609!E37),"|",COLUMN(CCTTCR_06609!E37),",0",",0") -> 665201,37|5,0,0
A38: =CONCATENATE(665204,",",ROW(CCTTCR_06609!A38),"|",COLUMN(CCTTCR_06609!A38),",0",",0") -> 665204,38|1,0,0 | B38: =CONCATENATE(665231,",",ROW(CCTTCR_06609!B38),"|",COLUMN(CCTTCR_06609!B38),",0",",0") -> 665231,38|2,0,0 | C38: =CONCATENATE(665341,",",ROW(CCTTCR_06609!C38),"|",COLUMN(CCTTCR_06609!C38),",0",",0") -> 665341,38|3,0,0 | D38: =CONCATENATE(665287,",",ROW(CCTTCR_06609!D38),"|",COLUMN(CCTTCR_06609!D38),",0",",0") -> 665287,38|4,0,0 | E38: =CONCATENATE(665381,",",ROW(CCTTCR_06609!E38),"|",COLUMN(CCTTCR_06609!E38),",0",",0") -> 665381,38|5,0,0
A39: =CONCATENATE(665252,",",ROW(CCTTCR_06609!A39),"|",COLUMN(CCTTCR_06609!A39),",0",",0") -> 665252,39|1,0,0 | B39: =CONCATENATE(665263,",",ROW(CCTTCR_06609!B39),"|",COLUMN(CCTTCR_06609!B39),",0",",0") -> 665263,39|2,0,0 | C39: =CONCATENATE(665180,",",ROW(CCTTCR_06609!C39),"|",COLUMN(CCTTCR_06609!C39),",0",",0") -> 665180,39|3,0,0 | D39: =CONCATENATE(665250,",",ROW(CCTTCR_06609!D39),"|",COLUMN(CCTTCR_06609!D39),",0",",0") -> 665250,39|4,0,0 | E39: =CONCATENATE(665202,",",ROW(CCTTCR_06609!E39),"|",COLUMN(CCTTCR_06609!E39),",0",",0") -> 665202,39|5,0,0
A40: =CONCATENATE(665355,",",ROW(CCTTCR_06609!A40),"|",COLUMN(CCTTCR_06609!A40),",0",",0") -> 665355,40|1,0,0 | B40: =CONCATENATE(665208,",",ROW(CCTTCR_06609!B40),"|",COLUMN(CCTTCR_06609!B40),",0",",0") -> 665208,40|2,0,0 | C40: =CONCATENATE(665342,",",ROW(CCTTCR_06609!C40),"|",COLUMN(CCTTCR_06609!C40),",0",",0") -> 665342,40|3,0,0 | D40: =CONCATENATE(665288,",",ROW(CCTTCR_06609!D40),"|",COLUMN(CCTTCR_06609!D40),",0",",0") -> 665288,40|4,0,0 | E40: =CONCATENATE(665382,",",ROW(CCTTCR_06609!E40),"|",COLUMN(CCTTCR_06609!E40),",0",",0") -> 665382,40|5,0,0
A41: =CONCATENATE(665356,",",ROW(CCTTCR_06609!A41),"|",COLUMN(CCTTCR_06609!A41),",0",",0") -> 665356,41|1,0,0 | B41: =CONCATENATE(665210,",",ROW(CCTTCR_06609!B41),"|",COLUMN(CCTTCR_06609!B41),",0",",0") -> 665210,41|2,0,0 | C41: =CONCATENATE(665343,",",ROW(CCTTCR_06609!C41),"|",COLUMN(CCTTCR_06609!C41),",0",",0") -> 665343,41|3,0,0 | D41: =CONCATENATE(665289,",",ROW(CCTTCR_06609!D41),"|",COLUMN(CCTTCR_06609!D41),",0",",0") -> 665289,41|4,0,0 | E41: =CONCATENATE(665383,",",ROW(CCTTCR_06609!E41),"|",COLUMN(CCTTCR_06609!E41),",0",",0") -> 665383,41|5,0,0
A42: =CONCATENATE(665225,",",ROW(CCTTCR_06609!A42),"|",COLUMN(CCTTCR_06609!A42),",0",",0") -> 665225,42|1,0,0 | B42: =CONCATENATE(665277,",",ROW(CCTTCR_06609!B42),"|",COLUMN(CCTTCR_06609!B42),",0",",0") -> 665277,42|2,0,0 | C42: =CONCATENATE(665173,",",ROW(CCTTCR_06609!C42),"|",COLUMN(CCTTCR_06609!C42),",0",",0") -> 665173,42|3,0,0 | D42: =CONCATENATE(665376,",",ROW(CCTTCR_06609!D42),"|",COLUMN(CCTTCR_06609!D42),",0",",0") -> 665376,42|4,0,0 | E42: =CONCATENATE(665313,",",ROW(CCTTCR_06609!E42),"|",COLUMN(CCTTCR_06609!E42),",0",",0") -> 665313,42|5,0,0
A43: =CONCATENATE(665357,",",ROW(CCTTCR_06609!A43),"|",COLUMN(CCTTCR_06609!A43),",0",",0") -> 665357,43|1,0,0 | B43: =CONCATENATE(665211,",",ROW(CCTTCR_06609!B43),"|",COLUMN(CCTTCR_06609!B43),",0",",0") -> 665211,43|2,0,0 | C43: =CONCATENATE(665344,",",ROW(CCTTCR_06609!C43),"|",COLUMN(CCTTCR_06609!C43),",0",",0") -> 665344,43|3,0,0 | D43: =CONCATENATE(665290,",",ROW(CCTTCR_06609!D43),"|",COLUMN(CCTTCR_06609!D43),",0",",0") -> 665290,43|4,0,0 | E43: =CONCATENATE(665384,",",ROW(CCTTCR_06609!E43),"|",COLUMN(CCTTCR_06609!E43),",0",",0") -> 665384,43|5,0,0
A44: =CONCATENATE(665358,",",ROW(CCTTCR_06609!A44),"|",COLUMN(CCTTCR_06609!A44),",0",",0") -> 665358,44|1,0,0 | B44: =CONCATENATE(665218,",",ROW(CCTTCR_06609!B44),"|",COLUMN(CCTTCR_06609!B44),",0",",0") -> 665218,44|2,0,0 | C44: =CONCATENATE(665345,",",ROW(CCTTCR_06609!C44),"|",COLUMN(CCTTCR_06609!C44),",0",",0") -> 665345,44|3,0,0 | D44: =CONCATENATE(665291,",",ROW(CCTTCR_06609!D44),"|",COLUMN(CCTTCR_06609!D44),",0",",0") -> 665291,44|4,0,0 | E44: =CONCATENATE(665385,",",ROW(CCTTCR_06609!E44),"|",COLUMN(CCTTCR_06609!E44),",0",",0") -> 665385,44|5,0,0
A45: =CONCATENATE(665340,",",ROW(CCTTCR_06609!A45),"|",COLUMN(CCTTCR_06609!A45),",0",",0") -> 665340,45|1,0,0 | B45: =CONCATENATE(665219,",",ROW(CCTTCR_06609!B45),"|",COLUMN(CCTTCR_06609!B45),",0",",0") -> 665219,45|2,0,0 | C45: =CONCATENATE(665181,",",ROW(CCTTCR_06609!C45),"|",COLUMN(CCTTCR_06609!C45),",0",",0") -> 665181,45|3,0,0 | D45: =CONCATENATE(665251,",",ROW(CCTTCR_06609!D45),"|",COLUMN(CCTTCR_06609!D45),",0",",0") -> 665251,45|4,0,0 | E45: =CONCATENATE(665203,",",ROW(CCTTCR_06609!E45),"|",COLUMN(CCTTCR_06609!E45),",0",",0") -> 665203,45|5,0,0
A46: =CONCATENATE(665359,",",ROW(CCTTCR_06609!A46),"|",COLUMN(CCTTCR_06609!A46),",0",",0") -> 665359,46|1,0,0 | B46: =CONCATENATE(665259,",",ROW(CCTTCR_06609!B46),"|",COLUMN(CCTTCR_06609!B46),",0",",0") -> 665259,46|2,0,0 | C46: =CONCATENATE(665346,",",ROW(CCTTCR_06609!C46),"|",COLUMN(CCTTCR_06609!C46),",0",",0") -> 665346,46|3,0,0 | D46: =CONCATENATE(665292,",",ROW(CCTTCR_06609!D46),"|",COLUMN(CCTTCR_06609!D46),",0",",0") -> 665292,46|4,0,0 | E46: =CONCATENATE(665386,",",ROW(CCTTCR_06609!E46),"|",COLUMN(CCTTCR_06609!E46),",0",",0") -> 665386,46|5,0,0
A47: =CONCATENATE(665209,",",ROW(CCTTCR_06609!A47),"|",COLUMN(CCTTCR_06609!A47),",0",",0") -> 665209,47|1,0,0 | B47: =CONCATENATE(665278,",",ROW(CCTTCR_06609!B47),"|",COLUMN(CCTTCR_06609!B47),",0",",0") -> 665278,47|2,0,0 | C47: =CONCATENATE(665174,",",ROW(CCTTCR_06609!C47),"|",COLUMN(CCTTCR_06609!C47),",0",",0") -> 665174,47|3,0,0 | D47: =CONCATENATE(665377,",",ROW(CCTTCR_06609!D47),"|",COLUMN(CCTTCR_06609!D47),",0",",0") -> 665377,47|4,0,0 | E47: =CONCATENATE(665314,",",ROW(CCTTCR_06609!E47),"|",COLUMN(CCTTCR_06609!E47),",0",",0") -> 665314,47|5,0,0
A48: =CONCATENATE(665360,",",ROW(CCTTCR_06609!A48),"|",COLUMN(CCTTCR_06609!A48),",0",",0") -> 665360,48|1,0,0 | B48: =CONCATENATE(665260,",",ROW(CCTTCR_06609!B48),"|",COLUMN(CCTTCR_06609!B48),",0",",0") -> 665260,48|2,0,0 | C48: =CONCATENATE(665347,",",ROW(CCTTCR_06609!C48),"|",COLUMN(CCTTCR_06609!C48),",0",",0") -> 665347,48|3,0,0 | D48: =CONCATENATE(665293,",",ROW(CCTTCR_06609!D48),"|",COLUMN(CCTTCR_06609!D48),",0",",0") -> 665293,48|4,0,0 | E48: =CONCATENATE(665387,",",ROW(CCTTCR_06609!E48),"|",COLUMN(CCTTCR_06609!E48),",0",",0") -> 665387,48|5,0,0

Sheet BCKQHDR_06610
A1: BÁO CÁO KẾT QUẢ HOẠT ĐỘNG RIÊNG
A2: Năm 202...
A3: Đơn vị tính: Đồng Việt Nam
A4: CHỈ TIÊU | B4: Mã số | C4: Thuyết minh | D4: Năm nay | E4: Năm trước
A5: A | B5: B | C5: C | D5: 1 | E5: 2
A6: 1.4. Lãi từ tài sản tài chính sẵn sàng để bán (AFS) | B6: 4
A7: I. DOANH THU HOẠT ĐỘNG
A8: c. Cổ tức, tiền lãi phát sinh từ tài sản tài chính FVTPL | B8: 1.3 | D8: 112194000 | E8: 5183365815
A9: 1.1. Lãi từ các tài sản tài chính ghi nhận thông qua lãi/lỗ (FVTPL) | B9: 1 | D9: 277812477361 | E9: 21170339209
A10: a. Lãi bán các tài sản tài chính FVTPL | B10: 1.1 | D10: 1239264970 | E10: 3170022002
A11: b. Chênh lệch tăng về đánh giá lại các TSTC FVTPL | B11: 1.2 | D11: 276461018391 | E11: 12816951392
A12: 1.2. Lãi từ các khoản đầu tư nắm giữ đến ngày đáo hạn (HTM) | B12: 2
A13: 1.3. Lãi từ các khoản cho vay và phải thu | B13: 3 | D13: 2163225850 | E13: 4440870793
A14: 1.5. Lãi từ các công cụ phái sinh phòng ngừa rủi ro | B14: 5
A15: 1.6. Doanh thu nghiệp vụ môi giới chứng khoán | B15: 6 | D15: 868480434 | E15: 3867342159
A16: 1.7. Doanh thu nghiệp vụ bảo lãnh, đại lý phát hành chứng khoán | B16: 7
A17: 1.8. Doanh thu nghiệp vụ tư vấn đầu tư chứng khoán | B17: 8
A18: 1.9. Doanh thu nghiệp vụ lưu ký chứng khoán | B18: 9 | D18: 271231045 | E18: 390102113
A19: 1.10. Doanh thu hoạt động tư vấn tài chính | B19: 10 | D19: 215225000 | E19: 860000000
A20: 1.11. Thu nhập hoạt động khác | B20: 11 | D20: 12176000 | E20: 4376000
A21: Cộng doanh thu hoạt động (20 = 01 đến 11) | B21: 20 | D21: 281342815690 | E21: 30733030274
A22: II. CHI PHÍ HOẠT ĐỘNG
A23: 2.1. Lỗ các tài sản tài chính ghi nhận thông qua lãi/lỗ (FVTPL) | B23: 21 | D23: 19474297811 | E23: 23969144684
A24: a. Lỗ bán các tài sản tài chính FVTPL | B24: 21.1 | D24: 18713967191 | E24: 6650610683
A25: b. Chênh lệch giảm đánh giá lại các TSTC FVTPL | B25: 21.2 | D25: 760330620 | E25: 17318534001
A26: c. Chi phí giao dịch mua các tài sản tài chính FVTPL | B26: 21.3
A27: 2.2. Lỗ các khoản đầu tư nắm giữ đến ngày đáo hạn (HTM) | B27: 22
A28: 2.3. Lỗ và ghi nhận chênh lệch đánh giá theo giá trị hợp lý tài sản tài chính sẵn sàng để bán (AFS) khi phân loại lại | B28: 23
A29: 2.4. Chi phí dự phòng tài sản tài chính, xử lý tổn thất các khoản phải thu khó đòi và lỗ suy giảm tài sản tài chính và chi phí đi vay của các khoản cho vay | B29: 24 | D29: -2764469350 | E29: -6540494292
A30: 2.5. Lỗ từ các tài sản tài chính phái sinh phòng ngừa rủi ro | B30: 25
A31: 2.6. Chi phí hoạt động tự doanh | B31: 26 | D31: 238069120 | E31: 244854619
A32: 2.7. Chi phí nghiệp vụ môi giới chứng khoán | B32: 27 | D32: 2549813847 | E32: 5511340975
A33: 2.8. Chi phí nghiệp vụ bảo lãnh, đại lý phát hành chứng khoán | B33: 28 | D33: 0 | E33: 0
A34: 2.9. Chi phí nghiệp vụ tư vấn đầu tư chứng khoán | B34: 29 | D34: 0 | E34: 0
A35: 2.10. Chi phí nghiệp vụ lưu ký chứng khoán | B35: 30 | D35: 312622775 | E35: 404503378
A36: 2.11. Chi phí hoạt động tư vấn tài chính | B36: 31 | D36: 696202214 | E36: 1310044011
A37: 2.12. Chi phí các dịch vụ khác | B37: 32 | D37: 872058472 | E37: 1705248479
A38: Cộng chi phí hoạt động (40 = 21 đến 32) | B38: 40 | D38: 21378594889 | E38: 26604641854
A39: III. DOANH THU HOẠT ĐỘNG TÀI CHÍNH
A40: 3.1. Chênh lệch lãi tỷ giá hối đoái đã và chưa thực hiện | B40: 41
A41: 3.2. Doanh thu, dự thu cổ tức, lãi tiền gửi ngân hàng không cố định | B41: 42 | D41: 57891821 | E41: 108355081
A42: 3.3. Lãi bán, thanh lý các khoản đầu tư vào công ty con, liên kết, liên doanh | B42: 43
A43: 3.4. Doanh thu khác về đầu tư | B43: 44 | D43: 0 | E43: 8028277779
A44: Cộng doanh thu hoạt động tài chính (50 = 41 đến 44) | B44: 50 | D44: 57891821 | E44: 8136632860
A45: IV. CHI PHÍ TÀI CHÍNH
A46: 4.1. Chênh lệch lỗ tỷ giá hối đoái đã và chưa thực hiện | B46: 51
A47: 4.2. Chi phí lãi vay | B47: 52 | D47: 5921038901 | E47: 7987834480
A48: 4.3. Lỗ bán, thanh lý các khoản đầu tư vào công ty con, liên kết, liên doanh | B48: 60
A49: 4.4. Chi phí dự phòng suy giảm giá trị các khoản đầu tư tài chính dài hạn | B49: 54
A50: 4.5. Chi phí tài chính khác | B50: 55
A51: Cộng chi phí tài chính (60 = 51 đến 55) | B51: 60 | D51: 5921038901 | E51: 7987834480
A52: V. CHI PHÍ BÁN HÀNG | B52: 61 | D52: 0 | E52: 0
A53: VI. CHI PHÍ QUẢN LÝ CÔNG TY CHỨNG KHOÁN | B53: 62 | D53: 10872517757 | E53: 12548848505
A54: VII. KẾT QUẢ HOẠT ĐỘNG (70= 20+50-40 -60-61-62) | B54: 70 | D54: 243228555964 | E54: -8271661705
A55: VIII. THU NHẬP KHÁC VÀ CHI PHÍ KHÁC
A56: 8.1. Thu nhập khác | B56: 71 | D56: 0 | E56: 747222528
A57: 8.2. Chi phí khác | B57: 72 | D57: 290060583 | E57: 1288596663
A58: Cộng kết quả hoạt động khác (80= 71-72) | B58: 80 | D58: -290060583 | E58: -541374135
A59: IX. TỔNG LỢI NHUẬN KẾ TOÁN TRƯỚC THUẾ (90=70 + 80) | B59: 90 | D59: 242938495381 | E59: -8813035840
A60: 9.1. Lợi nhuận đã thực hiện | B60: 91 | D60: -32762192390 | E60: -4311453231
A61: 9.2. Lợi nhuận chưa thực hiện | B61: 92 | D61: 275700687771 | E61: -4501582609
A62: X. CHI PHÍ THUẾ TNDN | B62: 100 | D62: 48104854324 | E62: -900316522
A63: 10.1.Chi phí thuế TNDN hiện hành | B63: 100.1
A64: 10.2.Chi phí thuế TNDN hoãn lại | B64: 100.2 | D64: 48104854324 | E64: -900316522
A65: XI. LỢI NHUẬN KẾ TOÁN SAU THUẾ TNDN (200 = 90 - 100) | B65: 200 | D65: 194833641057 | E65: -7912719318
A66: XII. THU NHẬP (LỖ) TOÀN DIỆN KHÁC SAU THUẾ TNDN | B66: 300
A67: 12.1.Lãi/(Lỗ) từ đánh giá lại các tài sản tài chính sẵn sàng để bán | B67: 301
A68: 12.2. Lãi/(lỗ) chênh lệch tỷ giá của hoạt động tại nước ngoài | B68: 302
A69: 12.3. Lãi, lỗ đánh giá lại tài sản cố định theo mô hình giá trị hợp lý | B69: 303
A70: 12.4. Lãi, lỗ toàn diện khác | B70: 304
A71: Tổng thu nhập toàn diện | B71: 400
A72: XIII. THU NHẬP THUẦN TRÊN CỔ PHIẾU PHỔ THÔNG | B72: 500
A73: 13.1.Lãi cơ bản trên cổ phiếu (Đồng/1 cổ phiếu) | B73: 501
A74: 13.2.Thu nhập pha loãng trên cổ phiếu (Đồng/1 cổ phiếu) | B74: 502

Sheet 8645_hidden
A5: =CONCATENATE(664470,",",ROW(BCKQHDR_06610!A5),"|",COLUMN(BCKQHDR_06610!A5),",0",",0") -> 664470,5|1,0,0 | B5: =CONCATENATE(664603,",",ROW(BCKQHDR_06610!B5),"|",COLUMN(BCKQHDR_06610!B5),",0",",0") -> 664603,5|2,0,0 | C5: =CONCATENATE(664794,",",ROW(BCKQHDR_06610!C5),"|",COLUMN(BCKQHDR_06610!C5),",0",",0") -> 664794,5|3,0,0 | D5: =CONCATENATE(664604,",",ROW(BCKQHDR_06610!D5),"|",COLUMN(BCKQHDR_06610!D5),",0",",0") -> 664604,5|4,0,0 | E5: =CONCATENATE(664795,",",ROW(BCKQHDR_06610!E5),"|",COLUMN(BCKQHDR_06610!E5),",0",",0") -> 664795,5|5,0,0
A6: =CONCATENATE(664451,",",ROW(BCKQHDR_06610!A6),"|",COLUMN(BCKQHDR_06610!A6),",0",",0") -> 664451,6|1,0,0 | B6: =CONCATENATE(664724,",",ROW(BCKQHDR_06610!B6),"|",COLUMN(BCKQHDR_06610!B6),",0",",0") -> 664724,6|2,0,0 | C6: =CONCATENATE(664570,",",ROW(BCKQHDR_06610!C6),"|",COLUMN(BCKQHDR_06610!C6),",0",",0") -> 664570,6|3,0,0 | D6: =CONCATENATE(664522,",",ROW(BCKQHDR_06610!D6),"|",COLUMN(BCKQHDR_06610!D6),",0",",0") -> 664522,6|4,0,0 | E6: =CONCATENATE(664496,",",ROW(BCKQHDR_06610!E6),"|",COLUMN(BCKQHDR_06610!E6),",0",",0") -> 664496,6|5,0,0
A7: =CONCATENATE(664686,",",ROW(BCKQHDR_06610!A7),"|",COLUMN(BCKQHDR_06610!A7),",0",",0") -> 664686,7|1,0,0 | B7: =CONCATENATE(664454,",",ROW(BCKQHDR_06610!B7),"|",COLUMN(BCKQHDR_06610!B7),",0",",0") -> 664454,7|2,0,0 | C7: =CONCATENATE(664740,",",ROW(BCKQHDR_06610!C7),"|",COLUMN(BCKQHDR_06610!C7),",0",",0") -> 664740,7|3,0,0 | D7: =CONCATENATE(664566,",",ROW(BCKQHDR_06610!D7),"|",COLUMN(BCKQHDR_06610!D7),",0",",0") -> 664566,7|4,0,0 | E7: =CONCATENATE(664727,",",ROW(BCKQHDR_06610!E7),"|",COLUMN(BCKQHDR_06610!E7),",0",",0") -> 664727,7|5,0,0
A8: =CONCATENATE(664471,",",ROW(BCKQHDR_06610!A8),"|",COLUMN(BCKQHDR_06610!A8),",0",",0") -> 664471,8|1,0,0 | B8: =CONCATENATE(664653,",",ROW(BCKQHDR_06610!B8),"|",COLUMN(BCKQHDR_06610!B8),",0",",0") -> 664653,8|2,0,0 | C8: =CONCATENATE(664475,",",ROW(BCKQHDR_06610!C8),"|",COLUMN(BCKQHDR_06610!C8),",0",",0") -> 664475,8|3,0,0 | D8: =CONCATENATE(664519,",",ROW(BCKQHDR_06610!D8),"|",COLUMN(BCKQHDR_06610!D8),",0",",0") -> 664519,8|4,0,0 | E8: =CONCATENATE(664493,",",ROW(BCKQHDR_06610!E8),"|",COLUMN(BCKQHDR_06610!E8),",0",",0") -> 664493,8|5,0,0
A9: =CONCATENATE(664796,",",ROW(BCKQHDR_06610!A9),"|",COLUMN(BCKQHDR_06610!A9),",0",",0") -> 664796,9|1,0,0 | B9: =CONCATENATE(664721,",",ROW(BCKQHDR_06610!B9),"|",COLUMN(BCKQHDR_06610!B9),",0",",0") -> 664721,9|2,0,0 | C9: =CONCATENATE(664620,",",ROW(BCKQHDR_06610!C9),"|",COLUMN(BCKQHDR_06610!C9),",0",",0") -> 664620,9|3,0,0 | D9: =CONCATENATE(664516,",",ROW(BCKQHDR_06610!D9),"|",COLUMN(BCKQHDR_06610!D9),",0",",0") -> 664516,9|4,0,0 | E9: =CONCATENATE(664490,",",ROW(BCKQHDR_06610!E9),"|",COLUMN(BCKQHDR_06610!E9),",0",",0") -> 664490,9|5,0,0
A10: =CONCATENATE(664714,",",ROW(BCKQHDR_06610!A10),"|",COLUMN(BCKQHDR_06610!A10),",0",",0") -> 664714,10|1,0,0 | B10: =CONCATENATE(664722,",",ROW(BCKQHDR_06610!B10),"|",COLUMN(BCKQHDR_06610!B10),",0",",0") -> 664722,10|2,0,0 | C10: =CONCATENATE(664781,",",ROW(BCKQHDR_06610!C10),"|",COLUMN(BCKQHDR_06610!C10),",0",",0") -> 664781,10|3,0,0 | D10: =CONCATENATE(664517,",",ROW(BCKQHDR_06610!D10),"|",COLUMN(BCKQHDR_06610!D10),",0",",0") -> 664517,10|4,0,0 | E10: =CONCATENATE(664491,",",ROW(BCKQHDR_06610!E10),"|",COLUMN(BCKQHDR_06610!E10),",0",",0") -> 664491,10|5,0,0
A11: =CONCATENATE(664687,",",ROW(BCKQHDR_06610!A11),"|",COLUMN(BCKQHDR_06610!A11),",0",",0") -> 664687,11|1,0,0 | B11: =CONCATENATE(664540,",",ROW(BCKQHDR_06610!B11),"|",COLUMN(BCKQHDR_06610!B11),",0",",0") -> 664540,11|2,0,0 | C11: =CONCATENATE(664782,",",ROW(BCKQHDR_06610!C11),"|",COLUMN(BCKQHDR_06610!C11),",0",",0") -> 664782,11|3,0,0 | D11: =CONCATENATE(664518,",",ROW(BCKQHDR_06610!D11),"|",COLUMN(BCKQHDR_06610!D11),",0",",0") -> 664518,11|4,0,0 | E11: =CONCATENATE(664492,",",ROW(BCKQHDR_06610!E11),"|",COLUMN(BCKQHDR_06610!E11),",0",",0") -> 664492,11|5,0,0
A12: =CONCATENATE(664715,",",ROW(BCKQHDR_06610!A12),"|",COLUMN(BCKQHDR_06610!A12),",0",",0") -> 664715,12|1,0,0 | B12: =CONCATENATE(664648,",",ROW(BCKQHDR_06610!B12),"|",COLUMN(BCKQHDR_06610!B12),",0",",0") -> 664648,12|2,0,0 | C12: =CONCATENATE(664564,",",ROW(BCKQHDR_06610!C12),"|",COLUMN(BCKQHDR_06610!C12),",0",",0") -> 664564,12|3,0,0 | D12: =CONCATENATE(664520,",",ROW(BCKQHDR_06610!D12),"|",COLUMN(BCKQHDR_06610!D12),",0",",0") -> 664520,12|4,0,0 | E12: =CONCATENATE(664494,",",ROW(BCKQHDR_06610!E12),"|",COLUMN(BCKQHDR_06610!E12),",0",",0") -> 664494,12|5,0,0
A13: =CONCATENATE(664777,",",ROW(BCKQHDR_06610!A13),"|",COLUMN(BCKQHDR_06610!A13),",0",",0") -> 664777,13|1,0,0 | B13: =CONCATENATE(664723,",",ROW(BCKQHDR_06610!B13),"|",COLUMN(BCKQHDR_06610!B13),",0",",0") -> 664723,13|2,0,0 | C13: =CONCATENATE(664569,",",ROW(BCKQHDR_06610!C13),"|",COLUMN(BCKQHDR_06610!C13),",0",",0") -> 664569,13|3,0,0 | D13: =CONCATENATE(664521,",",ROW(BCKQHDR_06610!D13),"|",COLUMN(BCKQHDR_06610!D13),",0",",0") -> 664521,13|4,0,0 | E13: =CONCATENATE(664495,",",ROW(BCKQHDR_06610!E13),"|",COLUMN(BCKQHDR_06610!E13),",0",",0") -> 664495,13|5,0,0
A14: =CONCATENATE(664452,",",ROW(BCKQHDR_06610!A14),"|",COLUMN(BCKQHDR_06610!A14),",0",",0") -> 664452,14|1,0,0 | B14: =CONCATENATE(664654,",",ROW(BCKQHDR_06610!B14),"|",COLUMN(BCKQHDR_06610!B14),",0",",0") -> 664654,14|2,0,0 | C14: =CONCATENATE(664571,",",ROW(BCKQHDR_06610!C14),"|",COLUMN(BCKQHDR_06610!C14),",0",",0") -> 664571,14|3,0,0 | D14: =CONCATENATE(664613,",",ROW(BCKQHDR_06610!D14),"|",COLUMN(BCKQHDR_06610!D14),",0",",0") -> 664613,14|4,0,0 | E14: =CONCATENATE(664497,",",ROW(BCKQHDR_06610!E14),"|",COLUMN(BCKQHDR_06610!E14),",0",",0") -> 664497,14|5,0,0
A15: =CONCATENATE(664688,",",ROW(BCKQHDR_06610!A15),"|",COLUMN(BCKQHDR_06610!A15),",0",",0") -> 664688,15|1,0,0 | B15: =CONCATENATE(664455,",",ROW(BCKQHDR_06610!B15),"|",COLUMN(BCKQHDR_06610!B15),",0",",0") -> 664455,15|2,0,0 | C15: =CONCATENATE(664572,",",ROW(BCKQHDR_06610!C15),"|",COLUMN(BCKQHDR_06610!C15),",0",",0") -> 664572,15|3,0,0 | D15: =CONCATENATE(664614,",",ROW(BCKQHDR_06610!D15),"|",COLUMN(BCKQHDR_06610!D15),",0",",0") -> 664614,15|4,0,0 | E15: =CONCATENATE(664498,",",ROW(BCKQHDR_06610!E15),"|",COLUMN(BCKQHDR_06610!E15),",0",",0") -> 664498,15|5,0,0
A16: =CONCATENATE(664711,",",ROW(BCKQHDR_06610!A16),"|",COLUMN(BCKQHDR_06610!A16),",0",",0") -> 664711,16|1,0,0 | B16: =CONCATENATE(664541,",",ROW(BCKQHDR_06610!B16),"|",COLUMN(BCKQHDR_06610!B16),",0",",0") -> 664541,16|2,0,0 | C16: =CONCATENATE(664573,",",ROW(BCKQHDR_06610!C16),"|",COLUMN(BCKQHDR_06610!C16),",0",",0") -> 664573,16|3,0,0 | D16: =CONCATENATE(664615,",",ROW(BCKQHDR_06610!D16),"|",COLUMN(BCKQHDR_06610!D16),",0",",0") -> 664615,16|4,0,0 | E16: =CONCATENATE(664499,",",ROW(BCKQHDR_06610!E16),"|",COLUMN(BCKQHDR_06610!E16),",0",",0") -> 664499,16|5,0,0
A17: =CONCATENATE(664689,",",ROW(BCKQHDR_06610!A17),"|",COLUMN(BCKQHDR_06610!A17),",0",",0") -> 664689,17|1,0,0 | B17: =CONCATENATE(664456,",",ROW(BCKQHDR_06610!B17),"|",COLUMN(BCKQHDR_06610!B17),",0",",0") -> 664456,17|2,0,0 | C17: =CONCATENATE(664574,",",ROW(BCKQHDR_06610!C17),"|",COLUMN(BCKQHDR_06610!C17),",0",",0") -> 664574,17|3,0,0 | D17: =CONCATENATE(664616,",",ROW(BCKQHDR_06610!D17),"|",COLUMN(BCKQHDR_06610!D17),",0",",0") -> 664616,17|4,0,0 | E17: =CONCATENATE(664542,",",ROW(BCKQHDR_06610!E17),"|",COLUMN(BCKQHDR_06610!E17),",0",",0") -> 664542,17|5,0,0
A18: =CONCATENATE(664605,",",ROW(BCKQHDR_06610!A18),"|",COLUMN(BCKQHDR_06610!A18),",0",",0") -> 664605,18|1,0,0 | B18: =CONCATENATE(664457,",",ROW(BCKQHDR_06610!B18),"|",COLUMN(BCKQHDR_06610!B18),",0",",0") -> 664457,18|2,0,0 | C18: =CONCATENATE(664575,",",ROW(BCKQHDR_06610!C18),"|",COLUMN(BCKQHDR_06610!C18),",0",",0") -> 664575,18|3,0,0 | D18: =CONCATENATE(664617,",",ROW(BCKQHDR_06610!D18),"|",COLUMN(BCKQHDR_06610!D18),",0",",0") -> 664617,18|4,0,0 | E18: =CONCATENATE(664543,",",ROW(BCKQHDR_06610!E18),"|",COLUMN(BCKQHDR_06610!E18),",0",",0") -> 664543,18|5,0,0
A19: =CONCATENATE(664606,",",ROW(BCKQHDR_06610!A19),"|",COLUMN(BCKQHDR_06610!A19),",0",",0") -> 664606,19|1,0,0 | B19: =CONCATENATE(664649,",",ROW(BCKQHDR_06610!B19),"|",COLUMN(BCKQHDR_06610!B19),",0",",0") -> 664649,19|2,0,0 | C19: =CONCATENATE(664576,",",ROW(BCKQHDR_06610!C19),"|",COLUMN(BCKQHDR_06610!C19),",0",",0") -> 664576,19|3,0,0 | D19: =CONCATENATE(664523,",",ROW(BCKQHDR_06610!D19),"|",COLUMN(BCKQHDR_06610!D19),",0",",0") -> 664523,19|4,0,0 | E19: =CONCATENATE(664544,",",ROW(BCKQHDR_06610!E19),"|",COLUMN(BCKQHDR_06610!E19),",0",",0") -> 664544,19|5,0,0
A20: =CONCATENATE(664716,",",ROW(BCKQHDR_06610!A20),"|",COLUMN(BCKQHDR_06610!A20),",0",",0") -> 664716,20|1,0,0 | B20: =CONCATENATE(664763,",",ROW(BCKQHDR_06610!B20),"|",COLUMN(BCKQHDR_06610!B20),",0",",0") -> 664763,20|2,0,0 | C20: =CONCATENATE(664626,",",ROW(BCKQHDR_06610!C20),"|",COLUMN(BCKQHDR_06610!C20),",0",",0") -> 664626,20|3,0,0 | D20: =CONCATENATE(664524,",",ROW(BCKQHDR_06610!D20),"|",COLUMN(BCKQHDR_06610!D20),",0",",0") -> 664524,20|4,0,0 | E20: =CONCATENATE(664545,",",ROW(BCKQHDR_06610!E20),"|",COLUMN(BCKQHDR_06610!E20),",0",",0") -> 664545,20|5,0,0
A21: =CONCATENATE(664749,",",ROW(BCKQHDR_06610!A21),"|",COLUMN(BCKQHDR_06610!A21),",0",",0") -> 664749,21|1,0,0 | B21: =CONCATENATE(664650,",",ROW(BCKQHDR_06610!B21),"|",COLUMN(BCKQHDR_06610!B21),",0",",0") -> 664650,21|2,0,0 | C21: =CONCATENATE(664627,",",ROW(BCKQHDR_06610!C21),"|",COLUMN(BCKQHDR_06610!C21),",0",",0") -> 664627,21|3,0,0 | D21: =CONCATENATE(664525,",",ROW(BCKQHDR_06610!D21),"|",COLUMN(BCKQHDR_06610!D21),",0",",0") -> 664525,21|4,0,0 | E21: =CONCATENATE(664546,",",ROW(BCKQHDR_06610!E21),"|",COLUMN(BCKQHDR_06610!E21),",0",",0") -> 664546,21|5,0,0
A22: =CONCATENATE(664607,",",ROW(BCKQHDR_06610!A22),"|",COLUMN(BCKQHDR_06610!A22),",0",",0") -> 664607,22|1,0,0 | C22: =CONCATENATE(664628,",",ROW(BCKQHDR_06610!C22),"|",COLUMN(BCKQHDR_06610!C22),",0",",0") -> 664628,22|3,0,0 | D22: =CONCATENATE(664526,",",ROW(BCKQHDR_06610!D22),"|",COLUMN(BCKQHDR_06610!D22),",0",",0") -> 664526,22|4,0,0 | E22: =CONCATENATE(664547,",",ROW(BCKQHDR_06610!E22),"|",COLUMN(BCKQHDR_06610!E22),",0",",0") -> 664547,22|5,0,0
A23: =CONCATENATE(664608,",",ROW(BCKQHDR_06610!A23),"|",COLUMN(BCKQHDR_06610!A23),",0",",0") -> 664608,23|1,0,0 | B23: =CONCATENATE(664764,",",ROW(BCKQHDR_06610!B23),"|",COLUMN(BCKQHDR_06610!B23),",0",",0") -> 664764,23|2,0,0 | C23: =CONCATENATE(664629,",",ROW(BCKQHDR_06610!C23),"|",COLUMN(BCKQHDR_06610!C23),",0",",0") -> 664629,23|3,0,0 | D23: =CONCATENATE(664527,",",ROW(BCKQHDR_06610!D23),"|",COLUMN(BCKQHDR_06610!D23),",0",",0") -> 664527,23|4,0,0 | E23: =CONCATENATE(664548,",",ROW(BCKQHDR_06610!E23),"|",COLUMN(BCKQHDR_06610!E23),",0",",0") -> 664548,23|5,0,0
A24: =CONCATENATE(664750,",",ROW(BCKQHDR_06610!A24),"|",COLUMN(BCKQHDR_06610!A24),",0",",0") -> 664750,24|1,0,0 | B24: =CONCATENATE(664765,",",ROW(BCKQHDR_06610!B24),"|",COLUMN(BCKQHDR_06610!B24),",0",",0") -> 664765,24|2,0,0 | C24: =CONCATENATE(664630,",",ROW(BCKQHDR_06610!C24),"|",COLUMN(BCKQHDR_06610!C24),",0",",0") -> 664630,24|3,0,0 | D24: =CONCATENATE(664528,",",ROW(BCKQHDR_06610!D24),"|",COLUMN(BCKQHDR_06610!D24),",0",",0") -> 664528,24|4,0,0 | E24: =CONCATENATE(664549,",",ROW(BCKQHDR_06610!E24),"|",COLUMN(BCKQHDR_06610!E24),",0",",0") -> 664549,24|5,0,0
A25: =CONCATENATE(664533,",",ROW(BCKQHDR_06610!A25),"|",COLUMN(BCKQHDR_06610!A25),",0",",0") -> 664533,25|1,0,0 | B25: =CONCATENATE(664458,",",ROW(BCKQHDR_06610!B25),"|",COLUMN(BCKQHDR_06610!B25),",0",",0") -> 664458,25|2,0,0 | C25: =CONCATENATE(664631,",",ROW(BCKQHDR_06610!C25),"|",COLUMN(BCKQHDR_06610!C25),",0",",0") -> 664631,25|3,0,0 | D25: =CONCATENATE(664529,",",ROW(BCKQHDR_06610!D25),"|",COLUMN(BCKQHDR_06610!D25),",0",",0") -> 664529,25|4,0,0 | E25: =CONCATENATE(664550,",",ROW(BCKQHDR_06610!E25),"|",COLUMN(BCKQHDR_06610!E25),",0",",0") -> 664550,25|5,0,0
A26: =CONCATENATE(664717,",",ROW(BCKQHDR_06610!A26),"|",COLUMN(BCKQHDR_06610!A26),",0",",0") -> 664717,26|1,0,0 | B26: =CONCATENATE(664459,",",ROW(BCKQHDR_06610!B26),"|",COLUMN(BCKQHDR_06610!B26),",0",",0") -> 664459,26|2,0,0 | C26: =CONCATENATE(664632,",",ROW(BCKQHDR_06610!C26),"|",COLUMN(BCKQHDR_06610!C26),",0",",0") -> 664632,26|3,0,0 | D26: =CONCATENATE(664530,",",ROW(BCKQHDR_06610!D26),"|",COLUMN(BCKQHDR_06610!D26),",0",",0") -> 664530,26|4,0,0 | E26: =CONCATENATE(664551,",",ROW(BCKQHDR_06610!E26),"|",COLUMN(BCKQHDR_06610!E26),",0",",0") -> 664551,26|5,0,0
A27: =CONCATENATE(664761,",",ROW(BCKQHDR_06610!A27),"|",COLUMN(BCKQHDR_06610!A27),",0",",0") -> 664761,27|1,0,0 | B27: =CONCATENATE(664460,",",ROW(BCKQHDR_06610!B27),"|",COLUMN(BCKQHDR_06610!B27),",0",",0") -> 664460,27|2,0,0 | C27: =CONCATENATE(664633,",",ROW(BCKQHDR_06610!C27),"|",COLUMN(BCKQHDR_06610!C27),",0",",0") -> 664633,27|3,0,0 | D27: =CONCATENATE(664531,",",ROW(BCKQHDR_06610!D27),"|",COLUMN(BCKQHDR_06610!D27),",0",",0") -> 664531,27|4,0,0 | E27: =CONCATENATE(664552,",",ROW(BCKQHDR_06610!E27),"|",COLUMN(BCKQHDR_06610!E27),",0",",0") -> 664552,27|5,0,0
A28: =CONCATENATE(664718,",",ROW(BCKQHDR_06610!A28),"|",COLUMN(BCKQHDR_06610!A28),",0",",0") -> 664718,28|1,0,0 | B28: =CONCATENATE(664651,",",ROW(BCKQHDR_06610!B28),"|",COLUMN(BCKQHDR_06610!B28),",0",",0") -> 664651,28|2,0,0 | C28: =CONCATENATE(664634,",",ROW(BCKQHDR_06610!C28),"|",COLUMN(BCKQHDR_06610!C28),",0",",0") -> 664634,28|3,0,0 | D28: =CONCATENATE(664578,",",ROW(BCKQHDR_06610!D28),"|",COLUMN(BCKQHDR_06610!D28),",0",",0") -> 664578,28|4,0,0 | E28: =CONCATENATE(664553,",",ROW(BCKQHDR_06610!E28),"|",COLUMN(BCKQHDR_06610!E28),",0",",0") -> 664553,28|5,0,0
A29: =CONCATENATE(664472,",",ROW(BCKQHDR_06610!A29),"|",COLUMN(BCKQHDR_06610!A29),",0",",0") -> 664472,29|1,0,0 | B29: =CONCATENATE(664778,",",ROW(BCKQHDR_06610!B29),"|",COLUMN(BCKQHDR_06610!B29),",0",",0") -> 664778,29|2,0,0 | C29: =CONCATENATE(664635,",",ROW(BCKQHDR_06610!C29),"|",COLUMN(BCKQHDR_06610!C29),",0",",0") -> 664635,29|3,0,0 | D29: =CONCATENATE(664579,",",ROW(BCKQHDR_06610!D29),"|",COLUMN(BCKQHDR_06610!D29),",0",",0") -> 664579,29|4,0,0 | E29: =CONCATENATE(664554,",",ROW(BCKQHDR_06610!E29),"|",COLUMN(BCKQHDR_06610!E29),",0",",0") -> 664554,29|5,0,0
A30: =CONCATENATE(664774,",",ROW(BCKQHDR_06610!A30),"|",COLUMN(BCKQHDR_06610!A30),",0",",0") -> 664774,30|1,0,0 | B30: =CONCATENATE(664779,",",ROW(BCKQHDR_06610!B30),"|",COLUMN(BCKQHDR_06610!B30),",0",",0") -> 664779,30|2,0,0 | C30: =CONCATENATE(664636,",",ROW(BCKQHDR_06610!C30),"|",COLUMN(BCKQHDR_06610!C30),",0",",0") -> 664636,30|3,0,0 | D30: =CONCATENATE(664580,",",ROW(BCKQHDR_06610!D30),"|",COLUMN(BCKQHDR_06610!D30),",0",",0") -> 664580,30|4,0,0 | E30: =CONCATENATE(664556,",",ROW(BCKQHDR_06610!E30),"|",COLUMN(BCKQHDR_06610!E30),",0",",0") -> 664556,30|5,0,0
A31: =CONCATENATE(664775,",",ROW(BCKQHDR_06610!A31),"|",COLUMN(BCKQHDR_06610!A31),",0",",0") -> 664775,31|1,0,0 | B31: =CONCATENATE(664638,",",ROW(BCKQHDR_06610!B31),"|",COLUMN(BCKQHDR_06610!B31),",0",",0") -> 664638,31|2,0,0 | C31: =CONCATENATE(664637,",",ROW(BCKQHDR_06610!C31),"|",COLUMN(BCKQHDR_06610!C31),",0",",0") -> 664637,31|3,0,0 | D31: =CONCATENATE(664581,",",ROW(BCKQHDR_06610!D31),"|",COLUMN(BCKQHDR_06610!D31),",0",",0") -> 664581,31|4,0,0 | E31: =CONCATENATE(664557,",",ROW(BCKQHDR_06610!E31),"|",COLUMN(BCKQHDR_06610!E31),",0",",0") -> 664557,31|5,0,0
A32: =CONCATENATE(664762,",",ROW(BCKQHDR_06610!A32),"|",COLUMN(BCKQHDR_06610!A32),",0",",0") -> 664762,32|1,0,0 | B32: =CONCATENATE(664766,",",ROW(BCKQHDR_06610!B32),"|",COLUMN(BCKQHDR_06610!B32),",0",",0") -> 664766,32|2,0,0 | C32: =CONCATENATE(664698,",",ROW(BCKQHDR_06610!C32),"|",COLUMN(BCKQHDR_06610!C32),",0",",0") -> 664698,32|3,0,0 | D32: =CONCATENATE(664582,",",ROW(BCKQHDR_06610!D32),"|",COLUMN(BCKQHDR_06610!D32),",0",",0") -> 664582,32|4,0,0 | E32: =CONCATENATE(664558,",",ROW(BCKQHDR_06610!E32),"|",COLUMN(BCKQHDR_06610!E32),",0",",0") -> 664558,32|5,0,0
A33: =CONCATENATE(664534,",",ROW(BCKQHDR_06610!A33),"|",COLUMN(BCKQHDR_06610!A33),",0",",0") -> 664534,33|1,0,0 | B33: =CONCATENATE(664461,",",ROW(BCKQHDR_06610!B33),"|",COLUMN(BCKQHDR_06610!B33),",0",",0") -> 664461,33|2,0,0 | C33: =CONCATENATE(664699,",",ROW(BCKQHDR_06610!C33),"|",COLUMN(BCKQHDR_06610!C33),",0",",0") -> 664699,33|3,0,0 | D33: =CONCATENATE(664583,",",ROW(BCKQHDR_06610!D33),"|",COLUMN(BCKQHDR_06610!D33),",0",",0") -> 664583,33|4,0,0 | E33: =CONCATENATE(664559,",",ROW(BCKQHDR_06610!E33),"|",COLUMN(BCKQHDR_06610!E33),",0",",0") -> 664559,33|5,0,0
A34: =CONCATENATE(664609,",",ROW(BCKQHDR_06610!A34),"|",COLUMN(BCKQHDR_06610!A34),",0",",0") -> 664609,34|1,0,0 | B34: =CONCATENATE(664462,",",ROW(BCKQHDR_06610!B34),"|",COLUMN(BCKQHDR_06610!B34),",0",",0") -> 664462,34|2,0,0 | C34: =CONCATENATE(664700,",",ROW(BCKQHDR_06610!C34),"|",COLUMN(BCKQHDR_06610!C34),",0",",0") -> 664700,34|3,0,0 | D34: =CONCATENATE(664584,",",ROW(BCKQHDR_06610!D34),"|",COLUMN(BCKQHDR_06610!D34),",0",",0") -> 664584,34|4,0,0 | E34: =CONCATENATE(664560,",",ROW(BCKQHDR_06610!E34),"|",COLUMN(BCKQHDR_06610!E34),",0",",0") -> 664560,34|5,0,0
A35: =CONCATENATE(664473,",",ROW(BCKQHDR_06610!A35),"|",COLUMN(BCKQHDR_06610!A35),",0",",0") -> 664473,35|1,0,0 | B35: =CONCATENATE(664655,",",ROW(BCKQHDR_06610!B35),"|",COLUMN(BCKQHDR_06610!B35),",0",",0") -> 664655,35|2,0,0 | C35: =CONCATENATE(664701,",",ROW(BCKQHDR_06610!C35),"|",COLUMN(BCKQHDR_06610!C35),",0",",0") -> 664701,35|3,0,0 | D35: =CONCATENATE(664585,",",ROW(BCKQHDR_06610!D35),"|",COLUMN(BCKQHDR_06610!D35),",0",",0") -> 664585,35|4,0,0 | E35: =CONCATENATE(664561,",",ROW(BCKQHDR_06610!E35),"|",COLUMN(BCKQHDR_06610!E35),",0",",0") -> 664561,35|5,0,0
A36: =CONCATENATE(664474,",",ROW(BCKQHDR_06610!A36),"|",COLUMN(BCKQHDR_06610!A36),",0",",0") -> 664474,36|1,0,0 | B36: =CONCATENATE(664463,",",ROW(BCKQHDR_06610!B36),"|",COLUMN(BCKQHDR_06610!B36),",0",",0") -> 664463,36|2,0,0 | C36: =CONCATENATE(664702,",",ROW(BCKQHDR_06610!C36),"|",COLUMN(BCKQHDR_06610!C36),",0",",0") -> 664702,36|3,0,0 | D36: =CONCATENATE(664586,",",ROW(BCKQHDR_06610!D36),"|",COLUMN(BCKQHDR_06610!D36),",0",",0") -> 664586,36|4,0,0 | E36: =CONCATENATE(664562,",",ROW(BCKQHDR_06610!E36),"|",COLUMN(BCKQHDR_06610!E36),",0",",0") -> 664562,36|5,0,0
A37: =CONCATENATE(664719,",",ROW(BCKQHDR_06610!A37),"|",COLUMN(BCKQHDR_06610!A37),",0",",0") -> 664719,37|1,0,0 | B37: =CONCATENATE(664464,",",ROW(BCKQHDR_06610!B37),"|",COLUMN(BCKQHDR_06610!B37),",0",",0") -> 664464,37|2,0,0 | C37: =CONCATENATE(664690,",",ROW(BCKQHDR_06610!C37),"|",COLUMN(BCKQHDR_06610!C37),",0",",0") -> 664690,37|3,0,0 | D37: =CONCATENATE(664587,",",ROW(BCKQHDR_06610!D37),"|",COLUMN(BCKQHDR_06610!D37),",0",",0") -> 664587,37|4,0,0 | E37: =CONCATENATE(664563,",",ROW(BCKQHDR_06610!E37),"|",COLUMN(BCKQHDR_06610!E37),",0",",0") -> 664563,37|5,0,0
A38: =CONCATENATE(664621,",",ROW(BCKQHDR_06610!A38),"|",COLUMN(BCKQHDR_06610!A38),",0",",0") -> 664621,38|1,0,0 | B38: =CONCATENATE(664656,",",ROW(BCKQHDR_06610!B38),"|",COLUMN(BCKQHDR_06610!B38),",0",",0") -> 664656,38|2,0,0 | C38: =CONCATENATE(664751,",",ROW(BCKQHDR_06610!C38),"|",COLUMN(BCKQHDR_06610!C38),",0",",0") -> 664751,38|3,0,0 | D38: =CONCATENATE(664588,",",ROW(BCKQHDR_06610!D38),"|",COLUMN(BCKQHDR_06610!D38),",0",",0") -> 664588,38|4,0,0 | E38: =CONCATENATE(664691,",",ROW(BCKQHDR_06610!E38),"|",COLUMN(BCKQHDR_06610!E38),",0",",0") -> 664691,38|5,0,0
A39: =CONCATENATE(664645,",",ROW(BCKQHDR_06610!A39),"|",COLUMN(BCKQHDR_06610!A39),",0",",0") -> 664645,39|1,0,0 | C39: =CONCATENATE(664752,",",ROW(BCKQHDR_06610!C39),"|",COLUMN(BCKQHDR_06610!C39),",0",",0") -> 664752,39|3,0,0 | D39: =CONCATENATE(664589,",",ROW(BCKQHDR_06610!D39),"|",COLUMN(BCKQHDR_06610!D39),",0",",0") -> 664589,39|4,0,0 | E39: =CONCATENATE(664692,",",ROW(BCKQHDR_06610!E39),"|",COLUMN(BCKQHDR_06610!E39),",0",",0") -> 664692,39|5,0,0
A40: =CONCATENATE(664622,",",ROW(BCKQHDR_06610!A40),"|",COLUMN(BCKQHDR_06610!A40),",0",",0") -> 664622,40|1,0,0 | B40: =CONCATENATE(664657,",",ROW(BCKQHDR_06610!B40),"|",COLUMN(BCKQHDR_06610!B40),",0",",0") -> 664657,40|2,0,0 | C40: =CONCATENATE(664753,",",ROW(BCKQHDR_06610!C40),"|",COLUMN(BCKQHDR_06610!C40),",0",",0") -> 664753,40|3,0,0 | D40: =CONCATENATE(664590,",",ROW(BCKQHDR_06610!D40),"|",COLUMN(BCKQHDR_06610!D40),",0",",0") -> 664590,40|4,0,0 | E40: =CONCATENATE(664693,",",ROW(BCKQHDR_06610!E40),"|",COLUMN(BCKQHDR_06610!E40),",0",",0") -> 664693,40|5,0,0
A41: =CONCATENATE(664623,",",ROW(BCKQHDR_06610!A41),"|",COLUMN(BCKQHDR_06610!A41),",0",",0") -> 664623,41|1,0,0 | B41: =CONCATENATE(664639,",",ROW(BCKQHDR_06610!B41),"|",COLUMN(BCKQHDR_06610!B41),",0",",0") -> 664639,41|2,0,0 | C41: =CONCATENATE(664754,",",ROW(BCKQHDR_06610!C41),"|",COLUMN(BCKQHDR_06610!C41),",0",",0") -> 664754,41|3,0,0 | D41: =CONCATENATE(664591,",",ROW(BCKQHDR_06610!D41),"|",COLUMN(BCKQHDR_06610!D41),",0",",0") -> 664591,41|4,0,0 | E41: =CONCATENATE(664694,",",ROW(BCKQHDR_06610!E41),"|",COLUMN(BCKQHDR_06610!E41),",0",",0") -> 664694,41|5,0,0
A42: =CONCATENATE(664646,",",ROW(BCKQHDR_06610!A42),"|",COLUMN(BCKQHDR_06610!A42),",0",",0") -> 664646,42|1,0,0 | B42: =CONCATENATE(664780,",",ROW(BCKQHDR_06610!B42),"|",COLUMN(BCKQHDR_06610!B42),",0",",0") -> 664780,42|2,0,0 | C42: =CONCATENATE(664755,",",ROW(BCKQHDR_06610!C42),"|",COLUMN(BCKQHDR_06610!C42),",0",",0") -> 664755,42|3,0,0 | D42: =CONCATENATE(664592,",",ROW(BCKQHDR_06610!D42),"|",COLUMN(BCKQHDR_06610!D42),",0",",0") -> 664592,42|4,0,0 | E42: =CONCATENATE(664695,",",ROW(BCKQHDR_06610!E42),"|",COLUMN(BCKQHDR_06610!E42),",0",",0") -> 664695,42|5,0,0
A43: =CONCATENATE(664783,",",ROW(BCKQHDR_06610!A43),"|",COLUMN(BCKQHDR_06610!A43),",0",",0") -> 664783,43|1,0,0 | B43: =CONCATENATE(664767,",",ROW(BCKQHDR_06610!B43),"|",COLUMN(BCKQHDR_06610!B43),",0",",0") -> 664767,43|2,0,0 | C43: =CONCATENATE(664756,",",ROW(BCKQHDR_06610!C43),"|",COLUMN(BCKQHDR_06610!C43),",0",",0") -> 664756,43|3,0,0 | D43: =CONCATENATE(664593,",",ROW(BCKQHDR_06610!D43),"|",COLUMN(BCKQHDR_06610!D43),",0",",0") -> 664593,43|4,0,0 | E43: =CONCATENATE(664696,",",ROW(BCKQHDR_06610!E43),"|",COLUMN(BCKQHDR_06610!E43),",0",",0") -> 664696,43|5,0,0
A44: =CONCATENATE(664624,",",ROW(BCKQHDR_06610!A44),"|",COLUMN(BCKQHDR_06610!A44),",0",",0") -> 664624,44|1,0,0 | B44: =CONCATENATE(664658,",",ROW(BCKQHDR_06610!B44),"|",COLUMN(BCKQHDR_06610!B44),",0",",0") -> 664658,44|2,0,0 | C44: =CONCATENATE(664757,",",ROW(BCKQHDR_06610!C44),"|",COLUMN(BCKQHDR_06610!C44),",0",",0") -> 664757,44|3,0,0 | D44: =CONCATENATE(664594,",",ROW(BCKQHDR_06610!D44),"|",COLUMN(BCKQHDR_06610!D44),",0",",0") -> 664594,44|4,0,0 | E44: =CONCATENATE(664787,",",ROW(BCKQHDR_06610!E44),"|",COLUMN(BCKQHDR_06610!E44),",0",",0") -> 664787,44|5,0,0
A45: =CONCATENATE(664784,",",ROW(BCKQHDR_06610!A45),"|",COLUMN(BCKQHDR_06610!A45),",0",",0") -> 664784,45|1,0,0 | C45: =CONCATENATE(664758,",",ROW(BCKQHDR_06610!C45),"|",COLUMN(BCKQHDR_06610!C45),",0",",0") -> 664758,45|3,0,0 | D45: =CONCATENATE(664595,",",ROW(BCKQHDR_06610!D45),"|",COLUMN(BCKQHDR_06610!D45),",0",",0") -> 664595,45|4,0,0 | E45: =CONCATENATE(664476,",",ROW(BCKQHDR_06610!E45),"|",COLUMN(BCKQHDR_06610!E45),",0",",0") -> 664476,45|5,0,0
A46: =CONCATENATE(664697,",",ROW(BCKQHDR_06610!A46),"|",COLUMN(BCKQHDR_06610!A46),",0",",0") -> 664697,46|1,0,0 | B46: =CONCATENATE(664768,",",ROW(BCKQHDR_06610!B46),"|",COLUMN(BCKQHDR_06610!B46),",0",",0") -> 664768,46|2,0,0 | C46: =CONCATENATE(664759,",",ROW(BCKQHDR_06610!C46),"|",COLUMN(BCKQHDR_06610!C46),",0",",0") -> 664759,46|3,0,0 | D46: =CONCATENATE(664596,",",ROW(BCKQHDR_06610!D46),"|",COLUMN(BCKQHDR_06610!D46),",0",",0") -> 664596,46|4,0,0 | E46: =CONCATENATE(664725,",",ROW(BCKQHDR_06610!E46),"|",COLUMN(BCKQHDR_06610!E46),",0",",0") -> 664725,46|5,0,0
A47: =CONCATENATE(664597,",",ROW(BCKQHDR_06610!A47),"|",COLUMN(BCKQHDR_06610!A47),",0",",0") -> 664597,47|1,0,0 | B47: =CONCATENATE(664659,",",ROW(BCKQHDR_06610!B47),"|",COLUMN(BCKQHDR_06610!B47),",0",",0") -> 664659,47|2,0,0 | C47: =CONCATENATE(664760,",",ROW(BCKQHDR_06610!C47),"|",COLUMN(BCKQHDR_06610!C47),",0",",0") -> 664760,47|3,0,0 | D47: =CONCATENATE(664565,",",ROW(BCKQHDR_06610!D47),"|",COLUMN(BCKQHDR_06610!D47),",0",",0") -> 664565,47|4,0,0 | E47: =CONCATENATE(664726,",",ROW(BCKQHDR_06610!E47),"|",COLUMN(BCKQHDR_06610!E47),",0",",0") -> 664726,47|5,0,0
A48: =CONCATENATE(664535,",",ROW(BCKQHDR_06610!A48),"|",COLUMN(BCKQHDR_06610!A48),",0",",0") -> 664535,48|1,0,0 | B48: =CONCATENATE(664660,",",ROW(BCKQHDR_06610!B48),"|",COLUMN(BCKQHDR_06610!B48),",0",",0") -> 664660,48|2,0,0 | C48: =CONCATENATE(664567,",",ROW(BCKQHDR_06610!C48),"|",COLUMN(BCKQHDR_06610!C48),",0",",0") -> 664567,48|3,0,0 | D48: =CONCATENATE(664728,",",ROW(BCKQHDR_06610!D48),"|",COLUMN(BCKQHDR_06610!D48),",0",",0") -> 664728,48|4,0,0 | E48: =CONCATENATE(664741,",",ROW(BCKQHDR_06610!E48),"|",COLUMN(BCKQHDR_06610!E48),",0",",0") -> 664741,48|5,0,0
A49: =CONCATENATE(664785,",",ROW(BCKQHDR_06610!A49),"|",COLUMN(BCKQHDR_06610!A49),",0",",0") -> 664785,49|1,0,0 | B49: =CONCATENATE(664642,",",ROW(BCKQHDR_06610!B49),"|",COLUMN(BCKQHDR_06610!B49),",0",",0") -> 664642,49|2,0,0 | C49: =CONCATENATE(664568,",",ROW(BCKQHDR_06610!C49),"|",COLUMN(BCKQHDR_06610!C49),",0",",0") -> 664568,49|3,0,0 | D49: =CONCATENATE(664729,",",ROW(BCKQHDR_06610!D49),"|",COLUMN(BCKQHDR_06610!D49),",0",",0") -> 664729,49|4,0,0 | E49: =CONCATENATE(664742,",",ROW(BCKQHDR_06610!E49),"|",COLUMN(BCKQHDR_06610!E49),",0",",0") -> 664742,49|5,0,0
A50: =CONCATENATE(664598,",",ROW(BCKQHDR_06610!A50),"|",COLUMN(BCKQHDR_06610!A50),",0",",0") -> 664598,50|1,0,0 | B50: =CONCATENATE(664640,",",ROW(BCKQHDR_06610!B50),"|",COLUMN(BCKQHDR_06610!B50),",0",",0") -> 664640,50|2,0,0 | C50: =CONCATENATE(664477,",",ROW(BCKQHDR_06610!C50),"|",COLUMN(BCKQHDR_06610!C50),",0",",0") -> 664477,50|3,0,0 | D50: =CONCATENATE(664730,",",ROW(BCKQHDR_06610!D50),"|",COLUMN(BCKQHDR_06610!D50),",0",",0") -> 664730,50|4,0,0 | E50: =CONCATENATE(664743,",",ROW(BCKQHDR_06610!E50),"|",COLUMN(BCKQHDR_06610!E50),",0",",0") -> 664743,50|5,0,0
A51: =CONCATENATE(664536,",",ROW(BCKQHDR_06610!A51),"|",COLUMN(BCKQHDR_06610!A51),",0",",0") -> 664536,51|1,0,0 | B51: =CONCATENATE(664641,",",ROW(BCKQHDR_06610!B51),"|",COLUMN(BCKQHDR_06610!B51),",0",",0") -> 664641,51|2,0,0 | C51: =CONCATENATE(664662,",",ROW(BCKQHDR_06610!C51),"|",COLUMN(BCKQHDR_06610!C51),",0",",0") -> 664662,51|3,0,0 | D51: =CONCATENATE(664731,",",ROW(BCKQHDR_06610!D51),"|",COLUMN(BCKQHDR_06610!D51),",0",",0") -> 664731,51|4,0,0 | E51: =CONCATENATE(664744,",",ROW(BCKQHDR_06610!E51),"|",COLUMN(BCKQHDR_06610!E51),",0",",0") -> 664744,51|5,0,0
A52: =CONCATENATE(664599,",",ROW(BCKQHDR_06610!A52),"|",COLUMN(BCKQHDR_06610!A52),",0",",0") -> 664599,52|1,0,0 | B52: =CONCATENATE(664465,",",ROW(BCKQHDR_06610!B52),"|",COLUMN(BCKQHDR_06610!B52),",0",",0") -> 664465,52|2,0,0 | C52: =CONCATENATE(664663,",",ROW(BCKQHDR_06610!C52),"|",COLUMN(BCKQHDR_06610!C52),",0",",0") -> 664663,52|3,0,0 | D52: =CONCATENATE(664732,",",ROW(BCKQHDR_06610!D52),"|",COLUMN(BCKQHDR_06610!D52),",0",",0") -> 664732,52|4,0,0 | E52: =CONCATENATE(664772,",",ROW(BCKQHDR_06610!E52),"|",COLUMN(BCKQHDR_06610!E52),",0",",0") -> 664772,52|5,0,0
A53: =CONCATENATE(664707,",",ROW(BCKQHDR_06610!A53),"|",COLUMN(BCKQHDR_06610!A53),",0",",0") -> 664707,53|1,0,0 | B53: =CONCATENATE(664769,",",ROW(BCKQHDR_06610!B53),"|",COLUMN(BCKQHDR_06610!B53),",0",",0") -> 664769,53|2,0,0 | C53: =CONCATENATE(664664,",",ROW(BCKQHDR_06610!C53),"|",COLUMN(BCKQHDR_06610!C53),",0",",0") -> 664664,53|3,0,0 | D53: =CONCATENATE(664733,",",ROW(BCKQHDR_06610!D53),"|",COLUMN(BCKQHDR_06610!D53),",0",",0") -> 664733,53|4,0,0 | E53: =CONCATENATE(664745,",",ROW(BCKQHDR_06610!E53),"|",COLUMN(BCKQHDR_06610!E53),",0",",0") -> 664745,53|5,0,0
A54: =CONCATENATE(664736,",",ROW(BCKQHDR_06610!A54),"|",COLUMN(BCKQHDR_06610!A54),",0",",0") -> 664736,54|1,0,0 | B54: =CONCATENATE(664703,",",ROW(BCKQHDR_06610!B54),"|",COLUMN(BCKQHDR_06610!B54),",0",",0") -> 664703,54|2,0,0 | C54: =CONCATENATE(664665,",",ROW(BCKQHDR_06610!C54),"|",COLUMN(BCKQHDR_06610!C54),",0",",0") -> 664665,54|3,0,0 | D54: =CONCATENATE(664734,",",ROW(BCKQHDR_06610!D54),"|",COLUMN(BCKQHDR_06610!D54),",0",",0") -> 664734,54|4,0,0 | E54: =CONCATENATE(664746,",",ROW(BCKQHDR_06610!E54),"|",COLUMN(BCKQHDR_06610!E54),",0",",0") -> 664746,54|5,0,0
A55: =CONCATENATE(664708,",",ROW(BCKQHDR_06610!A55),"|",COLUMN(BCKQHDR_06610!A55),",0",",0") -> 664708,55|1,0,0 | C55: =CONCATENATE(664666,",",ROW(BCKQHDR_06610!C55),"|",COLUMN(BCKQHDR_06610!C55),",0",",0") -> 664666,55|3,0,0 | D55: =CONCATENATE(664735,",",ROW(BCKQHDR_06610!D55),"|",COLUMN(BCKQHDR_06610!D55),",0",",0") -> 664735,55|4,0,0 | E55: =CONCATENATE(664747,",",ROW(BCKQHDR_06610!E55),"|",COLUMN(BCKQHDR_06610!E55),",0",",0") -> 664747,55|5,0,0
A56: =CONCATENATE(664625,",",ROW(BCKQHDR_06610!A56),"|",COLUMN(BCKQHDR_06610!A56),",0",",0") -> 664625,56|1,0,0 | B56: =CONCATENATE(664704,",",ROW(BCKQHDR_06610!B56),"|",COLUMN(BCKQHDR_06610!B56),",0",",0") -> 664704,56|2,0,0 | C56: =CONCATENATE(664667,",",ROW(BCKQHDR_06610!C56),"|",COLUMN(BCKQHDR_06610!C56),",0",",0") -> 664667,56|3,0,0 | D56: =CONCATENATE(664737,",",ROW(BCKQHDR_06610!D56),"|",COLUMN(BCKQHDR_06610!D56),",0",",0") -> 664737,56|4,0,0 | E56: =CONCATENATE(664748,",",ROW(BCKQHDR_06610!E56),"|",COLUMN(BCKQHDR_06610!E56),",0",",0") -> 664748,56|5,0,0
A57: =CONCATENATE(664709,",",ROW(BCKQHDR_06610!A57),"|",COLUMN(BCKQHDR_06610!A57),",0",",0") -> 664709,57|1,0,0 | B57: =CONCATENATE(664661,",",ROW(BCKQHDR_06610!B57),"|",COLUMN(BCKQHDR_06610!B57),",0",",0") -> 664661,57|2,0,0 | C57: =CONCATENATE(664668,",",ROW(BCKQHDR_06610!C57),"|",COLUMN(BCKQHDR_06610!C57),",0",",0") -> 664668,57|3,0,0 | D57: =CONCATENATE(664738,",",ROW(BCKQHDR_06610!D57),"|",COLUMN(BCKQHDR_06610!D57),",0",",0") -> 664738,57|4,0,0 | E57: =CONCATENATE(664478,",",ROW(BCKQHDR_06610!E57),"|",COLUMN(BCKQHDR_06610!E57),",0",",0") -> 664478,57|5,0,0
A58: =CONCATENATE(664577,",",ROW(BCKQHDR_06610!A58),"|",COLUMN(BCKQHDR_06610!A58),",0",",0") -> 664577,58|1,0,0 | B58: =CONCATENATE(664789,",",ROW(BCKQHDR_06610!B58),"|",COLUMN(BCKQHDR_06610!B58),",0",",0") -> 664789,58|2,0,0 | C58: =CONCATENATE(664669,",",ROW(BCKQHDR_06610!C58),"|",COLUMN(BCKQHDR_06610!C58),",0",",0") -> 664669,58|3,0,0 | D58: =CONCATENATE(664739,",",ROW(BCKQHDR_06610!D58),"|",COLUMN(BCKQHDR_06610!D58),",0",",0") -> 664739,58|4,0,0 | E58: =CONCATENATE(664479,",",ROW(BCKQHDR_06610!E58),"|",COLUMN(BCKQHDR_06610!E58),",0",",0") -> 664479,58|5,0,0
A59: =CONCATENATE(664532,",",ROW(BCKQHDR_06610!A59),"|",COLUMN(BCKQHDR_06610!A59),",0",",0") -> 664532,59|1,0,0 | B59: =CONCATENATE(664790,",",ROW(BCKQHDR_06610!B59),"|",COLUMN(BCKQHDR_06610!B59),",0",",0") -> 664790,59|2,0,0 | C59: =CONCATENATE(664670,",",ROW(BCKQHDR_06610!C59),"|",COLUMN(BCKQHDR_06610!C59),",0",",0") -> 664670,59|3,0,0 | D59: =CONCATENATE(664500,",",ROW(BCKQHDR_06610!D59),"|",COLUMN(BCKQHDR_06610!D59),",0",",0") -> 664500,59|4,0,0 | E59: =CONCATENATE(664480,",",ROW(BCKQHDR_06610!E59),"|",COLUMN(BCKQHDR_06610!E59),",0",",0") -> 664480,59|5,0,0
A60: =CONCATENATE(664673,",",ROW(BCKQHDR_06610!A60),"|",COLUMN(BCKQHDR_06610!A60),",0",",0") -> 664673,60|1,0,0 | B60: =CONCATENATE(664466,",",ROW(BCKQHDR_06610!B60),"|",COLUMN(BCKQHDR_06610!B60),",0",",0") -> 664466,60|2,0,0 | C60: =CONCATENATE(664671,",",ROW(BCKQHDR_06610!C60),"|",COLUMN(BCKQHDR_06610!C60),",0",",0") -> 664671,60|3,0,0 | D60: =CONCATENATE(664501,",",ROW(BCKQHDR_06610!D60),"|",COLUMN(BCKQHDR_06610!D60),",0",",0") -> 664501,60|4,0,0 | E60: =CONCATENATE(664481,",",ROW(BCKQHDR_06610!E60),"|",COLUMN(BCKQHDR_06610!E60),",0",",0") -> 664481,60|5,0,0
A61: =CONCATENATE(664537,",",ROW(BCKQHDR_06610!A61),"|",COLUMN(BCKQHDR_06610!A61),",0",",0") -> 664537,61|1,0,0 | B61: =CONCATENATE(664643,",",ROW(BCKQHDR_06610!B61),"|",COLUMN(BCKQHDR_06610!B61),",0",",0") -> 664643,61|2,0,0 | C61: =CONCATENATE(664672,",",ROW(BCKQHDR_06610!C61),"|",COLUMN(BCKQHDR_06610!C61),",0",",0") -> 664672,61|3,0,0 | D61: =CONCATENATE(664504,",",ROW(BCKQHDR_06610!D61),"|",COLUMN(BCKQHDR_06610!D61),",0",",0") -> 664504,61|4,0,0 | E61: =CONCATENATE(664482,",",ROW(BCKQHDR_06610!E61),"|",COLUMN(BCKQHDR_06610!E61),",0",",0") -> 664482,61|5,0,0
A62: =CONCATENATE(664652,",",ROW(BCKQHDR_06610!A62),"|",COLUMN(BCKQHDR_06610!A62),",0",",0") -> 664652,62|1,0,0 | B62: =CONCATENATE(664770,",",ROW(BCKQHDR_06610!B62),"|",COLUMN(BCKQHDR_06610!B62),",0",",0") -> 664770,62|2,0,0 | C62: =CONCATENATE(664674,",",ROW(BCKQHDR_06610!C62),"|",COLUMN(BCKQHDR_06610!C62),",0",",0") -> 664674,62|3,0,0 | D62: =CONCATENATE(664505,",",ROW(BCKQHDR_06610!D62),"|",COLUMN(BCKQHDR_06610!D62),",0",",0") -> 664505,62|4,0,0 | E62: =CONCATENATE(664483,",",ROW(BCKQHDR_06610!E62),"|",COLUMN(BCKQHDR_06610!E62),",0",",0") -> 664483,62|5,0,0
A63: =CONCATENATE(664600,",",ROW(BCKQHDR_06610!A63),"|",COLUMN(BCKQHDR_06610!A63),",0",",0") -> 664600,63|1,0,0 | B63: =CONCATENATE(664467,",",ROW(BCKQHDR_06610!B63),"|",COLUMN(BCKQHDR_06610!B63),",0",",0") -> 664467,63|2,0,0 | C63: =CONCATENATE(664675,",",ROW(BCKQHDR_06610!C63),"|",COLUMN(BCKQHDR_06610!C63),",0",",0") -> 664675,63|3,0,0 | D63: =CONCATENATE(664502,",",ROW(BCKQHDR_06610!D63),"|",COLUMN(BCKQHDR_06610!D63),",0",",0") -> 664502,63|4,0,0 | E63: =CONCATENATE(664610,",",ROW(BCKQHDR_06610!E63),"|",COLUMN(BCKQHDR_06610!E63),",0",",0") -> 664610,63|5,0,0
A64: =CONCATENATE(664710,",",ROW(BCKQHDR_06610!A64),"|",COLUMN(BCKQHDR_06610!A64),",0",",0") -> 664710,64|1,0,0 | B64: =CONCATENATE(664705,",",ROW(BCKQHDR_06610!B64),"|",COLUMN(BCKQHDR_06610!B64),",0",",0") -> 664705,64|2,0,0 | C64: =CONCATENATE(664676,",",ROW(BCKQHDR_06610!C64),"|",COLUMN(BCKQHDR_06610!C64),",0",",0") -> 664676,64|3,0,0 | D64: =CONCATENATE(664503,",",ROW(BCKQHDR_06610!D64),"|",COLUMN(BCKQHDR_06610!D64),",0",",0") -> 664503,64|4,0,0 | E64: =CONCATENATE(664611,",",ROW(BCKQHDR_06610!E64),"|",COLUMN(BCKQHDR_06610!E64),",0",",0") -> 664611,64|5,0,0
A65: =CONCATENATE(664712,",",ROW(BCKQHDR_06610!A65),"|",COLUMN(BCKQHDR_06610!A65),",0",",0") -> 664712,65|1,0,0 | B65: =CONCATENATE(664771,",",ROW(BCKQHDR_06610!B65),"|",COLUMN(BCKQHDR_06610!B65),",0",",0") -> 664771,65|2,0,0 | C65: =CONCATENATE(664677,",",ROW(BCKQHDR_06610!C65),"|",COLUMN(BCKQHDR_06610!C65),",0",",0") -> 664677,65|3,0,0 | D65: =CONCATENATE(664508,",",ROW(BCKQHDR_06610!D65),"|",COLUMN(BCKQHDR_06610!D65),",0",",0") -> 664508,65|4,0,0 | E65: =CONCATENATE(664612,",",ROW(BCKQHDR_06610!E65),"|",COLUMN(BCKQHDR_06610!E65),",0",",0") -> 664612,65|5,0,0
A66: =CONCATENATE(664601,",",ROW(BCKQHDR_06610!A66),"|",COLUMN(BCKQHDR_06610!A66),",0",",0") -> 664601,66|1,0,0 | B66: =CONCATENATE(664791,",",ROW(BCKQHDR_06610!B66),"|",COLUMN(BCKQHDR_06610!B66),",0",",0") -> 664791,66|2,0,0 | C66: =CONCATENATE(664678,",",ROW(BCKQHDR_06610!C66),"|",COLUMN(BCKQHDR_06610!C66),",0",",0") -> 664678,66|3,0,0 | D66: =CONCATENATE(664506,",",ROW(BCKQHDR_06610!D66),"|",COLUMN(BCKQHDR_06610!D66),",0",",0") -> 664506,66|4,0,0 | E66: =CONCATENATE(664788,",",ROW(BCKQHDR_06610!E66),"|",COLUMN(BCKQHDR_06610!E66),",0",",0") -> 664788,66|5,0,0
A67: =CONCATENATE(664713,",",ROW(BCKQHDR_06610!A67),"|",COLUMN(BCKQHDR_06610!A67),",0",",0") -> 664713,67|1,0,0 | B67: =CONCATENATE(664468,",",ROW(BCKQHDR_06610!B67),"|",COLUMN(BCKQHDR_06610!B67),",0",",0") -> 664468,67|2,0,0 | C67: =CONCATENATE(664679,",",ROW(BCKQHDR_06610!C67),"|",COLUMN(BCKQHDR_06610!C67),",0",",0") -> 664679,67|3,0,0 | D67: =CONCATENATE(664507,",",ROW(BCKQHDR_06610!D67),"|",COLUMN(BCKQHDR_06610!D67),",0",",0") -> 664507,67|4,0,0 | E67: =CONCATENATE(664706,",",ROW(BCKQHDR_06610!E67),"|",COLUMN(BCKQHDR_06610!E67),",0",",0") -> 664706,67|5,0,0
A68: =CONCATENATE(664776,",",ROW(BCKQHDR_06610!A68),"|",COLUMN(BCKQHDR_06610!A68),",0",",0") -> 664776,68|1,0,0 | B68: =CONCATENATE(664644,",",ROW(BCKQHDR_06610!B68),"|",COLUMN(BCKQHDR_06610!B68),",0",",0") -> 664644,68|2,0,0 | C68: =CONCATENATE(664680,",",ROW(BCKQHDR_06610!C68),"|",COLUMN(BCKQHDR_06610!C68),",0",",0") -> 664680,68|3,0,0 | D68: =CONCATENATE(664509,",",ROW(BCKQHDR_06610!D68),"|",COLUMN(BCKQHDR_06610!D68),",0",",0") -> 664509,68|4,0,0 | E68: =CONCATENATE(664555,",",ROW(BCKQHDR_06610!E68),"|",COLUMN(BCKQHDR_06610!E68),",0",",0") -> 664555,68|5,0,0
A69: =CONCATENATE(664538,",",ROW(BCKQHDR_06610!A69),"|",COLUMN(BCKQHDR_06610!A69),",0",",0") -> 664538,69|1,0,0 | B69: =CONCATENATE(664773,",",ROW(BCKQHDR_06610!B69),"|",COLUMN(BCKQHDR_06610!B69),",0",",0") -> 664773,69|2,0,0 | C69: =CONCATENATE(664681,",",ROW(BCKQHDR_06610!C69),"|",COLUMN(BCKQHDR_06610!C69),",0",",0") -> 664681,69|3,0,0 | D69: =CONCATENATE(664510,",",ROW(BCKQHDR_06610!D69),"|",COLUMN(BCKQHDR_06610!D69),",0",",0") -> 664510,69|4,0,0 | E69: =CONCATENATE(664484,",",ROW(BCKQHDR_06610!E69),"|",COLUMN(BCKQHDR_06610!E69),",0",",0") -> 664484,69|5,0,0
A70: =CONCATENATE(664602,",",ROW(BCKQHDR_06610!A70),"|",COLUMN(BCKQHDR_06610!A70),",0",",0") -> 664602,70|1,0,0 | B70: =CONCATENATE(664685,",",ROW(BCKQHDR_06610!B70),"|",COLUMN(BCKQHDR_06610!B70),",0",",0") -> 664685,70|2,0,0 | C70: =CONCATENATE(664682,",",ROW(BCKQHDR_06610!C70),"|",COLUMN(BCKQHDR_06610!C70),",0",",0") -> 664682,70|3,0,0 | D70: =CONCATENATE(664511,",",ROW(BCKQHDR_06610!D70),"|",COLUMN(BCKQHDR_06610!D70),",0",",0") -> 664511,70|4,0,0 | E70: =CONCATENATE(664485,",",ROW(BCKQHDR_06610!E70),"|",COLUMN(BCKQHDR_06610!E70),",0",",0") -> 664485,70|5,0,0
A71: =CONCATENATE(664720,",",ROW(BCKQHDR_06610!A71),"|",COLUMN(BCKQHDR_06610!A71),",0",",0") -> 664720,71|1,0,0 | B71: =CONCATENATE(664792,",",ROW(BCKQHDR_06610!B71),"|",COLUMN(BCKQHDR_06610!B71),",0",",0") -> 664792,71|2,0,0 | C71: =CONCATENATE(664683,",",ROW(BCKQHDR_06610!C71),"|",COLUMN(BCKQHDR_06610!C71),",0",",0") -> 664683,71|3,0,0 | D71: =CONCATENATE(664512,",",ROW(BCKQHDR_06610!D71),"|",COLUMN(BCKQHDR_06610!D71),",0",",0") -> 664512,71|4,0,0 | E71: =CONCATENATE(664486,",",ROW(BCKQHDR_06610!E71),"|",COLUMN(BCKQHDR_06610!E71),",0",",0") -> 664486,71|5,0,0
A72: =CONCATENATE(664539,",",ROW(BCKQHDR_06610!A72),"|",COLUMN(BCKQHDR_06610!A72),",0",",0") -> 664539,72|1,0,0 | B72: =CONCATENATE(664469,",",ROW(BCKQHDR_06610!B72),"|",COLUMN(BCKQHDR_06610!B72),",0",",0") -> 664469,72|2,0,0 | C72: =CONCATENATE(664684,",",ROW(BCKQHDR_06610!C72),"|",COLUMN(BCKQHDR_06610!C72),",0",",0") -> 664684,72|3,0,0 | D72: =CONCATENATE(664513,",",ROW(BCKQHDR_06610!D72),"|",COLUMN(BCKQHDR_06610!D72),",0",",0") -> 664513,72|4,0,0 | E72: =CONCATENATE(664487,",",ROW(BCKQHDR_06610!E72),"|",COLUMN(BCKQHDR_06610!E72),",0",",0") -> 664487,72|5,0,0
A73: =CONCATENATE(664647,",",ROW(BCKQHDR_06610!A73),"|",COLUMN(BCKQHDR_06610!A73),",0",",0") -> 664647,73|1,0,0 | B73: =CONCATENATE(664793,",",ROW(BCKQHDR_06610!B73),"|",COLUMN(BCKQHDR_06610!B73),",0",",0") -> 664793,73|2,0,0 | C73: =CONCATENATE(664618,",",ROW(BCKQHDR_06610!C73),"|",COLUMN(BCKQHDR_06610!C73),",0",",0") -> 664618,73|3,0,0 | D73: =CONCATENATE(664514,",",ROW(BCKQHDR_06610!D73),"|",COLUMN(BCKQHDR_06610!D73),",0",",0") -> 664514,73|4,0,0 | E73: =CONCATENATE(664488,",",ROW(BCKQHDR_06610!E73),"|",COLUMN(BCKQHDR_06610!E73),",0",",0") -> 664488,73|5,0,0
A74: =CONCATENATE(664453,",",ROW(BCKQHDR_06610!A74),"|",COLUMN(BCKQHDR_06610!A74),",0",",0") -> 664453,74|1,0,0 | B74: =CONCATENATE(664786,",",ROW(BCKQHDR_06610!B74),"|",COLUMN(BCKQHDR_06610!B74),",0",",0") -> 664786,74|2,0,0 | C74: =CONCATENATE(664619,",",ROW(BCKQHDR_06610!C74),"|",COLUMN(BCKQHDR_06610!C74),",0",",0") -> 664619,74|3,0,0 | D74: =CONCATENATE(664515,",",ROW(BCKQHDR_06610!D74),"|",COLUMN(BCKQHDR_06610!D74),",0",",0") -> 664515,74|4,0,0 | E74: =CONCATENATE(664489,",",ROW(BCKQHDR_06610!E74),"|",COLUMN(BCKQHDR_06610!E74),",0",",0") -> 664489,74|5,0,0

Sheet BCLCTTRTT_06611
A1: BÁO CÁO LƯU CHUYỂN TIỀN TỆ RIÊNG
A2: (Theo phương pháp trực tiếp)
A3: Đơn vị tính: Đồng Việt Nam
A4: CHỈ TIÊU | B4: Mã số | C4: Thuyết minh | D4: Năm nay | E4: Năm trước
A5: I. Lưu chuyển tiền từ hoạt động kinh doanh
A6: 1.Tiền đã chi mua các tài sản tài chính | B6: 1
A7: 2.Tiền đã thu từ bán các tài sản tài chính | B7: 2
A8: A | B8: B | C8: C | D8: 1 | E8: 2
A9: 3. Tiền chi nộp Quỹ Hỗ trợ thanh toán | B9: 3
A10: 4. Cổ tức đã nhận | B10: 4
A11: 5. Tiền lãi đã thu | B11: 5
A12: 6. Tiền chi trả lãi vay cho hoạt động của CTCK | B12: 6
A13: 8. Tiền chi trả cho người lao động | B13: 8
A14: 7. Tiền chi trả Tổ chức cung cấp dịch vụ cho CTCK | B14: 7
A15: 9. Tiền chi nộp thuế liên quan đến hoạt động CTCK | B15: 9
A16: 10.Tiền chi thanh toán các chi phí cho hoạt động mua, bán các tài sản tài chính | B16: 10
A17: 11. Tiền thu khác từ hoạt động kinh doanh | B17: 11
A18: 12. Tiền chi khác cho hoạt động kinh doanh | B18: 12
A19: Lưu chuyển tiền thuần từ hoạt động kinh doanh | B19: 20
A20: II. Lưu chuyển tiền từ hoạt động đầu tư
A21: 1.Tiền chi để mua sắm, xây dựng TSCĐ, BĐSĐT và các tài sản khác | B21: 21
A22: 2.Tiền thu từ thanh lý, nhượng bán TSCĐ, BĐSĐT và các tài sản khác | B22: 22
A23: 3.Tiền chi đầu tư góp vốn vào công ty con, công ty liên doanh, liên kết và đầu tư khác | B23: 23
A24: 4.Tiền thu hồi đầu tư góp vốn vào công ty con, công ty liên doanh, liên kết và đầu tư khác | B24: 24
A25: 5.Tiền thu về cổ tức và lợi nhuận được chia từ các khoản đầu tư tài chính dài hạn | B25: 25
A26: Lưu chuyển tiền thuần từ hoạt động đầu tư | B26: 30
A27: III. Lưu chuyển tiền từ hoạt động tài chính
A28: 1.Tiền thu từ phát hành cổ phiếu, nhận vốn góp của chủ sở hữu | B28: 31
A29: 2.Tiền chi trả vốn góp cho các chủ sở hữu, mua lại cổ phiếu đã phát hành | B29: 32
A30: 3.Tiền vay gốc | B30: 33
A31: 3.1. Tiền vay Quỹ Hỗ trợ thanh toán | B31: 33.1
A32: 3.2. Tiền vay khác | B32: 33.2
A33: 4. Tiền chi trả nợ gốc vay | B33: 34
A34: 4.1. Tiền chi trả gốc vay Quỹ Hỗ trợ thanh toán | B34: 34.1
A35: 4.2. Tiền chi trả gốc vay tài sản tài chính | B35: 34.2
A36: 4.3. Tiền chi trả gốc vay khác | B36: 34.3
A37: 5.Tiền chi trả nợ gốc thuê tài chính | B37: 35
A38: 6. Cổ tức, lợi nhuận đã trả cho chủ sở hữu | B38: 36
A39: Lưu chuyển tiền thuần từ hoạt động tài chính | B39: 40
... A48: Ảnh hưởng của thay đổi tỷ giá hối đoái quy đổi ngoại tệ | B48: 73

Sheet 8649_hidden
A5: =CONCATENATE(665526,",",ROW(BCLCTTRTT_06611!A5),"|",COLUMN(BCLCTTRTT_06611!A5),",0",",0") -> 665526,5|1,0,0 | C5: =CONCATENATE(665462,",",ROW(BCLCTTRTT_06611!C5),"|",COLUMN(BCLCTTRTT_06611!C5),",0",",0") -> 665462,5|3,0,0 | D5: =CONCATENATE(665604,",",ROW(BCLCTTRTT_06611!D5),"|",COLUMN(BCLCTTRTT_06611!D5),",0",",0") -> 665604,5|4,0,0 | E5: =CONCATENATE(665400,",",ROW(BCLCTTRTT_06611!E5),"|",COLUMN(BCLCTTRTT_06611!E5),",0",",0") -> 665400,5|5,0,0
A6: =CONCATENATE(665415,",",ROW(BCLCTTRTT_06611!A6),"|",COLUMN(BCLCTTRTT_06611!A6),",0",",0") -> 665415,6|1,0,0 | B6: =CONCATENATE(665429,",",ROW(BCLCTTRTT_06611!B6),"|",COLUMN(BCLCTTRTT_06611!B6),",0",",0") -> 665429,6|2,0,0 | C6: =CONCATENATE(665566,",",ROW(BCLCTTRTT_06611!C6),"|",COLUMN(BCLCTTRTT_06611!C6),",0",",0") -> 665566,6|3,0,0 | D6: =CONCATENATE(665536,",",ROW(BCLCTTRTT_06611!D6),"|",COLUMN(BCLCTTRTT_06611!D6),",0",",0") -> 665536,6|4,0,0 | E6: =CONCATENATE(665481,",",ROW(BCLCTTRTT_06611!E6),"|",COLUMN(BCLCTTRTT_06611!E6),",0",",0") -> 665481,6|5,0,0
A7: =CONCATENATE(665564,",",ROW(BCLCTTRTT_06611!A7),"|",COLUMN(BCLCTTRTT_06611!A7),",0",",0") -> 665564,7|1,0,0 | B7: =CONCATENATE(665430,",",ROW(BCLCTTRTT_06611!B7),"|",COLUMN(BCLCTTRTT_06611!B7),",0",",0") -> 665430,7|2,0,0 | C7: =CONCATENATE(665447,",",ROW(BCLCTTRTT_06611!C7),"|",COLUMN(BCLCTTRTT_06611!C7),",0",",0") -> 665447,7|3,0,0 | D7: =CONCATENATE(665589,",",ROW(BCLCTTRTT_06611!D7),"|",COLUMN(BCLCTTRTT_06611!D7),",0",",0") -> 665589,7|4,0,0 | E7: =CONCATENATE(665506,",",ROW(BCLCTTRTT_06611!E7),"|",COLUMN(BCLCTTRTT_06611!E7),",0",",0") -> 665506,7|5,0,0
A8: =CONCATENATE(665531,",",ROW(BCLCTTRTT_06611!A8),"|",COLUMN(BCLCTTRTT_06611!A8),",0",",0") -> 665531,8|1,0,0 | B8: =CONCATENATE(665524,",",ROW(BCLCTTRTT_06611!B8),"|",COLUMN(BCLCTTRTT_06611!B8),",0",",0") -> 665524,8|2,0,0 | C8: =CONCATENATE(665576,",",ROW(BCLCTTRTT_06611!C8),"|",COLUMN(BCLCTTRTT_06611!C8),",0",",0") -> 665576,8|3,0,0 | D8: =CONCATENATE(665525,",",ROW(BCLCTTRTT_06611!D8),"|",COLUMN(BCLCTTRTT_06611!D8),",0",",0") -> 665525,8|4,0,0 | E8: =CONCATENATE(665562,",",ROW(BCLCTTRTT_06611!E8),"|",COLUMN(BCLCTTRTT_06611!E8),",0",",0") -> 665562,8|5,0,0
A9: =CONCATENATE(665577,",",ROW(BCLCTTRTT_06611!A9),"|",COLUMN(BCLCTTRTT_06611!A9),",0",",0") -> 665577,9|1,0,0 | B9: =CONCATENATE(665431,",",ROW(BCLCTTRTT_06611!B9),"|",COLUMN(BCLCTTRTT_06611!B9),",0",",0") -> 665431,9|2,0,0 | C9: =CONCATENATE(665448,",",ROW(BCLCTTRTT_06611!C9),"|",COLUMN(BCLCTTRTT_06611!C9),",0",",0") -> 665448,9|3,0,0 | D9: =CONCATENATE(665590,",",ROW(BCLCTTRTT_06611!D9),"|",COLUMN(BCLCTTRTT_06611!D9),",0",",0") -> 665590,9|4,0,0 | E9: =CONCATENATE(665507,",",ROW(BCLCTTRTT_06611!E9),"|",COLUMN(BCLCTTRTT_06611!E9),",0",",0") -> 665507,9|5,0,0
A10: =CONCATENATE(665527,",",ROW(BCLCTTRTT_06611!A10),"|",COLUMN(BCLCTTRTT_06611!A10),",0",",0") -> 665527,10|1,0,0 | B10: =CONCATENATE(665432,",",ROW(BCLCTTRTT_06611!B10),"|",COLUMN(BCLCTTRTT_06611!B10),",0",",0") -> 665432,10|2,0,0 | C10: =CONCATENATE(665449,",",ROW(BCLCTTRTT_06611!C10),"|",COLUMN(BCLCTTRTT_06611!C10),",0",",0") -> 665449,10|3,0,0 | D10: =CONCATENATE(665591,",",ROW(BCLCTTRTT_06611!D10),"|",COLUMN(BCLCTTRTT_06611!D10),",0",",0") -> 665591,10|4,0,0 | E10: =CONCATENATE(665508,",",ROW(BCLCTTRTT_06611!E10),"|",COLUMN(BCLCTTRTT_06611!E10),",0",",0") -> 665508,10|5,0,0
A11: =CONCATENATE(665578,",",ROW(BCLCTTRTT_06611!A11),"|",COLUMN(BCLCTTRTT_06611!A11),",0",",0") -> 665578,11|1,0,0 | B11: =CONCATENATE(665433,",",ROW(BCLCTTRTT_06611!B11),"|",COLUMN(BCLCTTRTT_06611!B11),",0",",0") -> 665433,11|2,0,0 | C11: =CONCATENATE(665450,",",ROW(BCLCTTRTT_06611!C11),"|",COLUMN(BCLCTTRTT_06611!C11),",0",",0") -> 665450,11|3,0,0 | D11: =CONCATENATE(665592,",",ROW(BCLCTTRTT_06611!D11),"|",COLUMN(BCLCTTRTT_06611!D11),",0",",0") -> 665592,11|4,0,0 | E11: =CONCATENATE(665509,",",ROW(BCLCTTRTT_06611!E11),"|",COLUMN(BCLCTTRTT_06611!E11),",0",",0") -> 665509,11|5,0,0
A12: =CONCATENATE(665579,",",ROW(BCLCTTRTT_06611!A12),"|",COLUMN(BCLCTTRTT_06611!A12),",0",",0") -> 665579,12|1,0,0 | B12: =CONCATENATE(665434,",",ROW(BCLCTTRTT_06611!B12),"|",COLUMN(BCLCTTRTT_06611!B12),",0",",0") -> 665434,12|2,0,0 | C12: =CONCATENATE(665451,",",ROW(BCLCTTRTT_06611!C12),"|",COLUMN(BCLCTTRTT_06611!C12),",0",",0") -> 665451,12|3,0,0 | D12: =CONCATENATE(665593,",",ROW(BCLCTTRTT_06611!D12),"|",COLUMN(BCLCTTRTT_06611!D12),",0",",0") -> 665593,12|4,0,0 | E12: =CONCATENATE(665510,",",ROW(BCLCTTRTT_06611!E12),"|",COLUMN(BCLCTTRTT_06611!E12),",0",",0") -> 665510,12|5,0,0
A13: =CONCATENATE(665560,",",ROW(BCLCTTRTT_06611!A13),"|",COLUMN(BCLCTTRTT_06611!A13),",0",",0") -> 665560,13|1,0,0 | B13: =CONCATENATE(665484,",",ROW(BCLCTTRTT_06611!B13),"|",COLUMN(BCLCTTRTT_06611!B13),",0",",0") -> 665484,13|2,0,0 | C13: =CONCATENATE(665463,",",ROW(BCLCTTRTT_06611!C13),"|",COLUMN(BCLCTTRTT_06611!C13),",0",",0") -> 665463,13|3,0,0 | D13: =CONCATENATE(665605,",",ROW(BCLCTTRTT_06611!D13),"|",COLUMN(BCLCTTRTT_06611!D13),",0",",0") -> 665605,13|4,0,0 | E13: =CONCATENATE(665401,",",ROW(BCLCTTRTT_06611!E13),"|",COLUMN(BCLCTTRTT_06611!E13),",0",",0") -> 665401,13|5,0,0
A14: =CONCATENATE(665572,",",ROW(BCLCTTRTT_06611!A14),"|",COLUMN(BCLCTTRTT_06611!A14),",0",",0") -> 665572,14|1,0,0 | B14: =CONCATENATE(665491,",",ROW(BCLCTTRTT_06611!B14),"|",COLUMN(BCLCTTRTT_06611!B14),",0",",0") -> 665491,14|2,0,0 | C14: =CONCATENATE(665465,",",ROW(BCLCTTRTT_06611!C14),"|",COLUMN(BCLCTTRTT_06611!C14),",0",",0") -> 665465,14|3,0,0 | D14: =CONCATENATE(665607,",",ROW(BCLCTTRTT_06611!D14),"|",COLUMN(BCLCTTRTT_06611!D14),",0",",0") -> 665607,14|4,0,0 | E14: =CONCATENATE(665403,",",ROW(BCLCTTRTT_06611!E14),"|",COLUMN(BCLCTTRTT_06611!E14),",0",",0") -> 665403,14|5,0,0
A15: =CONCATENATE(665581,",",ROW(BCLCTTRTT_06611!A15),"|",COLUMN(BCLCTTRTT_06611!A15),",0",",0") -> 665581,15|1,0,0 | B15: =CONCATENATE(665485,",",ROW(BCLCTTRTT_06611!B15),"|",COLUMN(BCLCTTRTT_06611!B15),",0",",0") -> 665485,15|2,0,0 | C15: =CONCATENATE(665473,",",ROW(BCLCTTRTT_06611!C15),"|",COLUMN(BCLCTTRTT_06611!C15),",0",",0") -> 665473,15|3,0,0 | D15: =CONCATENATE(665476,",",ROW(BCLCTTRTT_06611!D15),"|",COLUMN(BCLCTTRTT_06611!D15),",0",",0") -> 665476,15|4,0,0 | E15: =CONCATENATE(665411,",",ROW(BCLCTTRTT_06611!E15),"|",COLUMN(BCLCTTRTT_06611!E15),",0",",0") -> 665411,15|5,0,0
A16: =CONCATENATE(665416,",",ROW(BCLCTTRTT_06611!A16),"|",COLUMN(BCLCTTRTT_06611!A16),",0",",0") -> 665416,16|1,0,0 | B16: =CONCATENATE(665486,",",ROW(BCLCTTRTT_06611!B16),"|",COLUMN(BCLCTTRTT_06611!B16),",0",",0") -> 665486,16|2,0,0 | C16: =CONCATENATE(665567,",",ROW(BCLCTTRTT_06611!C16),"|",COLUMN(BCLCTTRTT_06611!C16),",0",",0") -> 665567,16|3,0,0 | D16: =CONCATENATE(665537,",",ROW(BCLCTTRTT_06611!D16),"|",COLUMN(BCLCTTRTT_06611!D16),",0",",0") -> 665537,16|4,0,0 | E16: =CONCATENATE(665482,",",ROW(BCLCTTRTT_06611!E16),"|",COLUMN(BCLCTTRTT_06611!E16),",0",",0") -> 665482,16|5,0,0
A17: =CONCATENATE(665580,",",ROW(BCLCTTRTT_06611!A17),"|",COLUMN(BCLCTTRTT_06611!A17),",0",",0") -> 665580,17|1,0,0 | B17: =CONCATENATE(665487,",",ROW(BCLCTTRTT_06611!B17),"|",COLUMN(BCLCTTRTT_06611!B17),",0",",0") -> 665487,17|2,0,0 | C17: =CONCATENATE(665472,",",ROW(BCLCTTRTT_06611!C17),"|",COLUMN(BCLCTTRTT_06611!C17),",0",",0") -> 665472,17|3,0,0 | D17: =CONCATENATE(665475,",",ROW(BCLCTTRTT_06611!D17),"|",COLUMN(BCLCTTRTT_06611!D17),",0",",0") -> 665475,17|4,0,0 | E17: =CONCATENATE(665410,",",ROW(BCLCTTRTT_06611!E17),"|",COLUMN(BCLCTTRTT_06611!E17),",0",",0") -> 665410,17|5,0,0
A18: =CONCATENATE(665417,",",ROW(BCLCTTRTT_06611!A18),"|",COLUMN(BCLCTTRTT_06611!A18),",0",",0") -> 665417,18|1,0,0 | B18: =CONCATENATE(665423,",",ROW(BCLCTTRTT_06611!B18),"|",COLUMN(BCLCTTRTT_06611!B18),",0",",0") -> 665423,18|2,0,0 | C18: =CONCATENATE(665477,",",ROW(BCLCTTRTT_06611!C18),"|",COLUMN(BCLCTTRTT_06611!C18),",0",",0") -> 665477,18|3,0,0 | D18: =CONCATENATE(665538,",",ROW(BCLCTTRTT_06611!D18),"|",COLUMN(BCLCTTRTT_06611!D18),",0",",0") -> 665538,18|4,0,0 | E18: =CONCATENATE(665496,",",ROW(BCLCTTRTT_06611!E18),"|",COLUMN(BCLCTTRTT_06611!E18),",0",",0") -> 665496,18|5,0,0
A19: =CONCATENATE(665418,",",ROW(BCLCTTRTT_06611!A19),"|",COLUMN(BCLCTTRTT_06611!A19),",0",",0") -> 665418,19|1,0,0 | B19: =CONCATENATE(665492,",",ROW(BCLCTTRTT_06611!B19),"|",COLUMN(BCLCTTRTT_06611!B19),",0",",0") -> 665492,19|2,0,0 | C19: =CONCATENATE(665568,",",ROW(BCLCTTRTT_06611!C19),"|",COLUMN(BCLCTTRTT_06611!C19),",0",",0") -> 665568,19|3,0,0 | D19: =CONCATENATE(665539,",",ROW(BCLCTTRTT_06611!D19),"|",COLUMN(BCLCTTRTT_06611!D19),",0",",0") -> 665539,19|4,0,0 | E19: =CONCATENATE(665497,",",ROW(BCLCTTRTT_06611!E19),"|",COLUMN(BCLCTTRTT_06611!E19),",0",",0") -> 665497,19|5,0,0
A20: =CONCATENATE(665582,",",ROW(BCLCTTRTT_06611!A20),"|",COLUMN(BCLCTTRTT_06611!A20),",0",",0") -> 665582,20|1,0,0 | C20: =CONCATENATE(665533,",",ROW(BCLCTTRTT_06611!C20),"|",COLUMN(BCLCTTRTT_06611!C20),",0",",0") -> 665533,20|3,0,0 | D20: =CONCATENATE(665478,",",ROW(BCLCTTRTT_06611!D20),"|",COLUMN(BCLCTTRTT_06611!D20),",0",",0") -> 665478,20|4,0,0 | E20: =CONCATENATE(665412,",",ROW(BCLCTTRTT_06611!E20),"|",COLUMN(BCLCTTRTT_06611!E20),",0",",0") -> 665412,20|5,0,0
A21: =CONCATENATE(665440,",",ROW(BCLCTTRTT_06611!A21),"|",COLUMN(BCLCTTRTT_06611!A21),",0",",0") -> 665440,21|1,0,0 | B21: =CONCATENATE(665553,",",ROW(BCLCTTRTT_06611!B21),"|",COLUMN(BCLCTTRTT_06611!B21),",0",",0") -> 665553,21|2,0,0 | C21: =CONCATENATE(665457,",",ROW(BCLCTTRTT_06611!C21),"|",COLUMN(BCLCTTRTT_06611!C21),",0",",0") -> 665457,21|3,0,0 | D21: =CONCATENATE(665599,",",ROW(BCLCTTRTT_06611!D21),"|",COLUMN(BCLCTTRTT_06611!D21),",0",",0") -> 665599,21|4,0,0 | E21: =CONCATENATE(665559,",",ROW(BCLCTTRTT_06611!E21),"|",COLUMN(BCLCTTRTT_06611!E21),",0",",0") -> 665559,21|5,0,0
A22: =CONCATENATE(665441,",",ROW(BCLCTTRTT_06611!A22),"|",COLUMN(BCLCTTRTT_06611!A22),",0",",0") -> 665441,22|1,0,0 | B22: =CONCATENATE(665554,",",ROW(BCLCTTRTT_06611!B22),"|",COLUMN(BCLCTTRTT_06611!B22),",0",",0") -> 665554,22|2,0,0 | C22: =CONCATENATE(665466,",",ROW(BCLCTTRTT_06611!C22),"|",COLUMN(BCLCTTRTT_06611!C22),",0",",0") -> 665466,22|3,0,0 | D22: =CONCATENATE(665608,",",ROW(BCLCTTRTT_06611!D22),"|",COLUMN(BCLCTTRTT_06611!D22),",0",",0") -> 665608,22|4,0,0 | E22: =CONCATENATE(665404,",",ROW(BCLCTTRTT_06611!E22),"|",COLUMN(BCLCTTRTT_06611!E22),",0",",0") -> 665404,22|5,0,0
A23: =CONCATENATE(665529,",",ROW(BCLCTTRTT_06611!A23),"|",COLUMN(BCLCTTRTT_06611!A23),",0",",0") -> 665529,23|1,0,0 | B23: =CONCATENATE(665530,",",ROW(BCLCTTRTT_06611!B23),"|",COLUMN(BCLCTTRTT_06611!B23),",0",",0") -> 665530,23|2,0,0 | C23: =CONCATENATE(665535,",",ROW(BCLCTTRTT_06611!C23),"|",COLUMN(BCLCTTRTT_06611!C23),",0",",0") -> 665535,23|3,0,0 | D23: =CONCATENATE(665480,",",ROW(BCLCTTRTT_06611!D23),"|",COLUMN(BCLCTTRTT_06611!D23),",0",",0") -> 665480,23|4,0,0 | E23: =CONCATENATE(665414,",",ROW(BCLCTTRTT_06611!E23),"|",COLUMN(BCLCTTRTT_06611!E23),",0",",0") -> 665414,23|5,0,0
A24: =CONCATENATE(665532,",",ROW(BCLCTTRTT_06611!A24),"|",COLUMN(BCLCTTRTT_06611!A24),",0",",0") -> 665532,24|1,0,0 | B24: =CONCATENATE(665565,",",ROW(BCLCTTRTT_06611!B24),"|",COLUMN(BCLCTTRTT_06611!B24),",0",",0") -> 665565,24|2,0,0 | C24: =CONCATENATE(665534,",",ROW(BCLCTTRTT_06611!C24),"|",COLUMN(BCLCTTRTT_06611!C24),",0",",0") -> 665534,24|3,0,0 | D24: =CONCATENATE(665479,",",ROW(BCLCTTRTT_06611!D24),"|",COLUMN(BCLCTTRTT_06611!D24),",0",",0") -> 665479,24|4,0,0 | E24: =CONCATENATE(665413,",",ROW(BCLCTTRTT_06611!E24),"|",COLUMN(BCLCTTRTT_06611!E24),",0",",0") -> 665413,24|5,0,0
A25: =CONCATENATE(665583,",",ROW(BCLCTTRTT_06611!A25),"|",COLUMN(BCLCTTRTT_06611!A25),",0",",0") -> 665583,25|1,0,0 | B25: =CONCATENATE(665555,",",ROW(BCLCTTRTT_06611!B25),"|",COLUMN(BCLCTTRTT_06611!B25),",0",",0") -> 665555,25|2,0,0 | C25: =CONCATENATE(665470,",",ROW(BCLCTTRTT_06611!C25),"|",COLUMN(BCLCTTRTT_06611!C25),",0",",0") -> 665470,25|3,0,0 | D25: =CONCATENATE(665612,",",ROW(BCLCTTRTT_06611!D25),"|",COLUMN(BCLCTTRTT_06611!D25),",0",",0") -> 665612,25|4,0,0 | E25: =CONCATENATE(665408,",",ROW(BCLCTTRTT_06611!E25),"|",COLUMN(BCLCTTRTT_06611!E25),",0",",0") -> 665408,25|5,0,0
A26: =CONCATENATE(665515,",",ROW(BCLCTTRTT_06611!A26),"|",COLUMN(BCLCTTRTT_06611!A26),",0",",0") -> 665515,26|1,0,0 | B26: =CONCATENATE(665424,",",ROW(BCLCTTRTT_06611!B26),"|",COLUMN(BCLCTTRTT_06611!B26),",0",",0") -> 665424,26|2,0,0 | C26: =CONCATENATE(665442,",",ROW(BCLCTTRTT_06611!C26),"|",COLUMN(BCLCTTRTT_06611!C26),",0",",0") -> 665442,26|3,0,0 | D26: =CONCATENATE(665544,",",ROW(BCLCTTRTT_06611!D26),"|",COLUMN(BCLCTTRTT_06611!D26),",0",",0") -> 665544,26|4,0,0 | E26: =CONCATENATE(665501,",",ROW(BCLCTTRTT_06611!E26),"|",COLUMN(BCLCTTRTT_06611!E26),",0",",0") -> 665501,26|5,0,0
A27: =CONCATENATE(665528,",",ROW(BCLCTTRTT_06611!A27),"|",COLUMN(BCLCTTRTT_06611!A27),",0",",0") -> 665528,27|1,0,0 | C27: =CONCATENATE(665443,",",ROW(BCLCTTRTT_06611!C27),"|",COLUMN(BCLCTTRTT_06611!C27),",0",",0") -> 665443,27|3,0,0 | D27: =CONCATENATE(665545,",",ROW(BCLCTTRTT_06611!D27),"|",COLUMN(BCLCTTRTT_06611!D27),",0",",0") -> 665545,27|4,0,0 | E27: =CONCATENATE(665502,",",ROW(BCLCTTRTT_06611!E27),"|",COLUMN(BCLCTTRTT_06611!E27),",0",",0") -> 665502,27|5,0,0
A28: =CONCATENATE(665419,",",ROW(BCLCTTRTT_06611!A28),"|",COLUMN(BCLCTTRTT_06611!A28),",0",",0") -> 665419,28|1,0,0 | B28: =CONCATENATE(665425,",",ROW(BCLCTTRTT_06611!B28),"|",COLUMN(BCLCTTRTT_06611!B28),",0",",0") -> 665425,28|2,0,0 | C28: =CONCATENATE(665569,",",ROW(BCLCTTRTT_06611!C28),"|",COLUMN(BCLCTTRTT_06611!C28),",0",",0") -> 665569,28|3,0,0 | D28: =CONCATENATE(665540,",",ROW(BCLCTTRTT_06611!D28),"|",COLUMN(BCLCTTRTT_06611!D28),",0",",0") -> 665540,28|4,0,0 | E28: =CONCATENATE(665498,",",ROW(BCLCTTRTT_06611!E28),"|",COLUMN(BCLCTTRTT_06611!E28),",0",",0") -> 665498,28|5,0,0
A29: =CONCATENATE(665547,",",ROW(BCLCTTRTT_06611!A29),"|",COLUMN(BCLCTTRTT_06611!A29),",0",",0") -> 665547,29|1,0,0 | B29: =CONCATENATE(665493,",",ROW(BCLCTTRTT_06611!B29),"|",COLUMN(BCLCTTRTT_06611!B29),",0",",0") -> 665493,29|2,0,0 | C29: =CONCATENATE(665467,",",ROW(BCLCTTRTT_06611!C29),"|",COLUMN(BCLCTTRTT_06611!C29),",0",",0") -> 665467,29|3,0,0 | D29: =CONCATENATE(665609,",",ROW(BCLCTTRTT_06611!D29),"|",COLUMN(BCLCTTRTT_06611!D29),",0",",0") -> 665609,29|4,0,0 | E29: =CONCATENATE(665405,",",ROW(BCLCTTRTT_06611!E29),"|",COLUMN(BCLCTTRTT_06611!E29),",0",",0") -> 665405,29|5,0,0
A30: =CONCATENATE(665420,",",ROW(BCLCTTRTT_06611!A30),"|",COLUMN(BCLCTTRTT_06611!A30),",0",",0") -> 665420,30|1,0,0 | B30: =CONCATENATE(665488,",",ROW(BCLCTTRTT_06611!B30),"|",COLUMN(BCLCTTRTT_06611!B30),",0",",0") -> 665488,30|2,0,0 | C30: =CONCATENATE(665570,",",ROW(BCLCTTRTT_06611!C30),"|",COLUMN(BCLCTTRTT_06611!C30),",0",",0") -> 665570,30|3,0,0 | D30: =CONCATENATE(665541,",",ROW(BCLCTTRTT_06611!D30),"|",COLUMN(BCLCTTRTT_06611!D30),",0",",0") -> 665541,30|4,0,0 | E30: =CONCATENATE(665563,",",ROW(BCLCTTRTT_06611!E30),"|",COLUMN(BCLCTTRTT_06611!E30),",0",",0") -> 665563,30|5,0,0
A31: =CONCATENATE(665548,",",ROW(BCLCTTRTT_06611!A31),"|",COLUMN(BCLCTTRTT_06611!A31),",0",",0") -> 665548,31|1,0,0 | B31: =CONCATENATE(665435,",",ROW(BCLCTTRTT_06611!B31),"|",COLUMN(BCLCTTRTT_06611!B31),",0",",0") -> 665435,31|2,0,0 | C31: =CONCATENATE(665452,",",ROW(BCLCTTRTT_06611!C31),"|",COLUMN(BCLCTTRTT_06611!C31),",0",",0") -> 665452,31|3,0,0 | D31: =CONCATENATE(665594,",",ROW(BCLCTTRTT_06611!D31),"|",COLUMN(BCLCTTRTT_06611!D31),",0",",0") -> 665594,31|4,0,0 | E31: =CONCATENATE(665511,",",ROW(BCLCTTRTT_06611!E31),"|",COLUMN(BCLCTTRTT_06611!E31),",0",",0") -> 665511,31|5,0,0
A32: =CONCATENATE(665516,",",ROW(BCLCTTRTT_06611!A32),"|",COLUMN(BCLCTTRTT_06611!A32),",0",",0") -> 665516,32|1,0,0 | B32: =CONCATENATE(665494,",",ROW(BCLCTTRTT_06611!B32),"|",COLUMN(BCLCTTRTT_06611!B32),",0",",0") -> 665494,32|2,0,0 | C32: =CONCATENATE(665458,",",ROW(BCLCTTRTT_06611!C32),"|",COLUMN(BCLCTTRTT_06611!C32),",0",",0") -> 665458,32|3,0,0 | D32: =CONCATENATE(665600,",",ROW(BCLCTTRTT_06611!D32),"|",COLUMN(BCLCTTRTT_06611!D32),",0",",0") -> 665600,32|4,0,0 | E32: =CONCATENATE(665396,",",ROW(BCLCTTRTT_06611!E32),"|",COLUMN(BCLCTTRTT_06611!E32),",0",",0") -> 665396,32|5,0,0
A33: =CONCATENATE(665421,",",ROW(BCLCTTRTT_06611!A33),"|",COLUMN(BCLCTTRTT_06611!A33),",0",",0") -> 665421,33|1,0,0 | B33: =CONCATENATE(665556,",",ROW(BCLCTTRTT_06611!B33),"|",COLUMN(BCLCTTRTT_06611!B33),",0",",0") -> 665556,33|2,0,0 | C33: =CONCATENATE(665571,",",ROW(BCLCTTRTT_06611!C33),"|",COLUMN(BCLCTTRTT_06611!C33),",0",",0") -> 665571,33|3,0,0 | D33: =CONCATENATE(665542,",",ROW(BCLCTTRTT_06611!D33),"|",COLUMN(BCLCTTRTT_06611!D33),",0",",0") -> 665542,33|4,0,0 | E33: =CONCATENATE(665499,",",ROW(BCLCTTRTT_06611!E33),"|",COLUMN(BCLCTTRTT_06611!E33),",0",",0") -> 665499,33|5,0,0
A34: =CONCATENATE(665522,",",ROW(BCLCTTRTT_06611!A34),"|",COLUMN(BCLCTTRTT_06611!A34),",0",",0") -> 665522,34|1,0,0 | B34: =CONCATENATE(665436,",",ROW(BCLCTTRTT_06611!B34),"|",COLUMN(BCLCTTRTT_06611!B34),",0",",0") -> 665436,34|2,0,0 | C34: =CONCATENATE(665453,",",ROW(BCLCTTRTT_06611!C34),"|",COLUMN(BCLCTTRTT_06611!C34),",0",",0") -> 665453,34|3,0,0 | D34: =CONCATENATE(665595,",",ROW(BCLCTTRTT_06611!D34),"|",COLUMN(BCLCTTRTT_06611!D34),",0",",0") -> 665595,34|4,0,0 | E34: =CONCATENATE(665512,",",ROW(BCLCTTRTT_06611!E34),"|",COLUMN(BCLCTTRTT_06611!E34),",0",",0") -> 665512,34|5,0,0
A35: =CONCATENATE(665549,",",ROW(BCLCTTRTT_06611!A35),"|",COLUMN(BCLCTTRTT_06611!A35),",0",",0") -> 665549,35|1,0,0 | B35: =CONCATENATE(665426,",",ROW(BCLCTTRTT_06611!B35),"|",COLUMN(BCLCTTRTT_06611!B35),",0",",0") -> 665426,35|2,0,0 | C35: =CONCATENATE(665444,",",ROW(BCLCTTRTT_06611!C35),"|",COLUMN(BCLCTTRTT_06611!C35),",0",",0") -> 665444,35|3,0,0 | D35: =CONCATENATE(665546,",",ROW(BCLCTTRTT_06611!D35),"|",COLUMN(BCLCTTRTT_06611!D35),",0",",0") -> 665546,35|4,0,0 | E35: =CONCATENATE(665503,",",ROW(BCLCTTRTT_06611!E35),"|",COLUMN(BCLCTTRTT_06611!E35),",0",",0") -> 665503,35|5,0,0
A36: =CONCATENATE(665550,",",ROW(BCLCTTRTT_06611!A36),"|",COLUMN(BCLCTTRTT_06611!A36),",0",",0") -> 665550,36|1,0,0 | B36: =CONCATENATE(665495,",",ROW(BCLCTTRTT_06611!B36),"|",COLUMN(BCLCTTRTT_06611!B36),",0",",0") -> 665495,36|2,0,0 | C36: =CONCATENATE(665468,",",ROW(BCLCTTRTT_06611!C36),"|",COLUMN(BCLCTTRTT_06611!C36),",0",",0") -> 665468,36|3,0,0 | D36: =CONCATENATE(665610,",",ROW(BCLCTTRTT_06611!D36),"|",COLUMN(BCLCTTRTT_06611!D36),",0",",0") -> 665610,36|4,0,0 | E36: =CONCATENATE(665406,",",ROW(BCLCTTRTT_06611!E36),"|",COLUMN(BCLCTTRTT_06611!E36),",0",",0") -> 665406,36|5,0,0
A37: =CONCATENATE(665551,",",ROW(BCLCTTRTT_06611!A37),"|",COLUMN(BCLCTTRTT_06611!A37),",0",",0") -> 665551,37|1,0,0 | B37: =CONCATENATE(665437,",",ROW(BCLCTTRTT_06611!B37),"|",COLUMN(BCLCTTRTT_06611!B37),",0",",0") -> 665437,37|2,0,0 | C37: =CONCATENATE(665454,",",ROW(BCLCTTRTT_06611!C37),"|",COLUMN(BCLCTTRTT_06611!C37),",0",",0") -> 665454,37|3,0,0 | D37: =CONCATENATE(665596,",",ROW(BCLCTTRTT_06611!D37),"|",COLUMN(BCLCTTRTT_06611!D37),",0",",0") -> 665596,37|4,0,0 | E37: =CONCATENATE(665513,",",ROW(BCLCTTRTT_06611!E37),"|",COLUMN(BCLCTTRTT_06611!E37),",0",",0") -> 665513,37|5,0,0
A38: =CONCATENATE(665523,",",ROW(BCLCTTRTT_06611!A38),"|",COLUMN(BCLCTTRTT_06611!A38),",0",",0") -> 665523,38|1,0,0 | B38: =CONCATENATE(665427,",",ROW(BCLCTTRTT_06611!B38),"|",COLUMN(BCLCTTRTT_06611!B38),",0",",0") -> 665427,38|2,0,0 | C38: =CONCATENATE(665445,",",ROW(BCLCTTRTT_06611!C38),"|",COLUMN(BCLCTTRTT_06611!C38),",0",",0") -> 665445,38|3,0,0 | D38: =CONCATENATE(665587,",",ROW(BCLCTTRTT_06611!D38),"|",COLUMN(BCLCTTRTT_06611!D38),",0",",0") -> 665587,38|4,0,0 | E38: =CONCATENATE(665504,",",ROW(BCLCTTRTT_06611!E38),"|",COLUMN(BCLCTTRTT_06611!E38),",0",",0") -> 665504,38|5,0,0
A39: =CONCATENATE(665561,",",ROW(BCLCTTRTT_06611!A39),"|",COLUMN(BCLCTTRTT_06611!A39),",0",",0") -> 665561,39|1,0,0 | B39: =CONCATENATE(665584,",",ROW(BCLCTTRTT_06611!B39),"|",COLUMN(BCLCTTRTT_06611!B39),",0",",0") -> 665584,39|2,0,0 | C39: =CONCATENATE(665464,",",ROW(BCLCTTRTT_06611!C39),"|",COLUMN(BCLCTTRTT_06611!C39),",0",",0") -> 665464,39|3,0,0 | D39: =CONCATENATE(665606,",",ROW(BCLCTTRTT_06611!D39),"|",COLUMN(BCLCTTRTT_06611!D39),",0",",0") -> 665606,39|4,0,0 | E39: =CONCATENATE(665402,",",ROW(BCLCTTRTT_06611!E39),"|",COLUMN(BCLCTTRTT_06611!E39),",0",",0") -> 665402,39|5,0,0
A40: =CONCATENATE(665517,",",ROW(BCLCTTRTT_06611!A40),"|",COLUMN(BCLCTTRTT_06611!A40),",0",",0") -> 665517,40|1,0,0 | B40: =CONCATENATE(665438,",",ROW(BCLCTTRTT_06611!B40),"|",COLUMN(BCLCTTRTT_06611!B40),",0",",0") -> 665438,40|2,0,0 | C40: =CONCATENATE(665455,",",ROW(BCLCTTRTT_06611!C40),"|",COLUMN(BCLCTTRTT_06611!C40),",0",",0") -> 665455,40|3,0,0 | D40: =CONCATENATE(665597,",",ROW(BCLCTTRTT_06611!D40),"|",COLUMN(BCLCTTRTT_06611!D40),",0",",0") -> 665597,40|4,0,0 | E40: =CONCATENATE(665514,",",ROW(BCLCTTRTT_06611!E40),"|",COLUMN(BCLCTTRTT_06611!E40),",0",",0") -> 665514,40|5,0,0
A41: =CONCATENATE(665518,",",ROW(BCLCTTRTT_06611!A41),"|",COLUMN(BCLCTTRTT_06611!A41),",0",",0") -> 665518,41|1,0,0 | B41: =CONCATENATE(665428,",",ROW(BCLCTTRTT_06611!B41),"|",COLUMN(BCLCTTRTT_06611!B41),",0",",0") -> 665428,41|2,0,0 | C41: =CONCATENATE(665446,",",ROW(BCLCTTRTT_06611!C41),"|",COLUMN(BCLCTTRTT_06611!C41),",0",",0") -> 665446,41|3,0,0 | D41: =CONCATENATE(665588,",",ROW(BCLCTTRTT_06611!D41),"|",COLUMN(BCLCTTRTT_06611!D41),",0",",0") -> 665588,41|4,0,0 | E41: =CONCATENATE(665505,",",ROW(BCLCTTRTT_06611!E41),"|",COLUMN(BCLCTTRTT_06611!E41),",0",",0") -> 665505,41|5,0,0
A42: =CONCATENATE(665586,",",ROW(BCLCTTRTT_06611!A42),"|",COLUMN(BCLCTTRTT_06611!A42),",0",",0") -> 665586,42|1,0,0 | B42: =CONCATENATE(665439,",",ROW(BCLCTTRTT_06611!B42),"|",COLUMN(BCLCTTRTT_06611!B42),",0",",0") -> 665439,42|2,0,0 | C42: =CONCATENATE(665456,",",ROW(BCLCTTRTT_06611!C42),"|",COLUMN(BCLCTTRTT_06611!C42),",0",",0") -> 665456,42|3,0,0 | D42: =CONCATENATE(665598,",",ROW(BCLCTTRTT_06611!D42),"|",COLUMN(BCLCTTRTT_06611!D42),",0",",0") -> 665598,42|4,0,0 | E42: =CONCATENATE(665552,",",ROW(BCLCTTRTT_06611!E42),"|",COLUMN(BCLCTTRTT_06611!E42),",0",",0") -> 665552,42|5,0,0
A43: =CONCATENATE(665519,",",ROW(BCLCTTRTT_06611!A43),"|",COLUMN(BCLCTTRTT_06611!A43),",0",",0") -> 665519,43|1,0,0 | B43: =CONCATENATE(665557,",",ROW(BCLCTTRTT_06611!B43),"|",COLUMN(BCLCTTRTT_06611!B43),",0",",0") -> 665557,43|2,0,0 | C43: =CONCATENATE(665459,",",ROW(BCLCTTRTT_06611!C43),"|",COLUMN(BCLCTTRTT_06611!C43),",0",",0") -> 665459,43|3,0,0 | D43: =CONCATENATE(665601,",",ROW(BCLCTTRTT_06611!D43),"|",COLUMN(BCLCTTRTT_06611!D43),",0",",0") -> 665601,43|4,0,0 | E43: =CONCATENATE(665397,",",ROW(BCLCTTRTT_06611!E43),"|",COLUMN(BCLCTTRTT_06611!E43),",0",",0") -> 665397,43|5,0,0
A44: =CONCATENATE(665422,",",ROW(BCLCTTRTT_06611!A44),"|",COLUMN(BCLCTTRTT_06611!A44),",0",",0") -> 665422,44|1,0,0 | B44: =CONCATENATE(665489,",",ROW(BCLCTTRTT_06611!B44),"|",COLUMN(BCLCTTRTT_06611!B44),",0",",0") -> 665489,44|2,0,0 | C44: =CONCATENATE(665573,",",ROW(BCLCTTRTT_06611!C44),"|",COLUMN(BCLCTTRTT_06611!C44),",0",",0") -> 665573,44|3,0,0 | D44: =CONCATENATE(665543,",",ROW(BCLCTTRTT_06611!D44),"|",COLUMN(BCLCTTRTT_06611!D44),",0",",0") -> 665543,44|4,0,0 | E44: =CONCATENATE(665500,",",ROW(BCLCTTRTT_06611!E44),"|",COLUMN(BCLCTTRTT_06611!E44),",0",",0") -> 665500,44|5,0,0
A45: =CONCATENATE(665585,",",ROW(BCLCTTRTT_06611!A45),"|",COLUMN(BCLCTTRTT_06611!A45),",0",",0") -> 665585,45|1,0,0 | B45: =CONCATENATE(665558,",",ROW(BCLCTTRTT_06611!B45),"|",COLUMN(BCLCTTRTT_06611!B45),",0",",0") -> 665558,45|2,0,0 | C45: =CONCATENATE(665469,",",ROW(BCLCTTRTT_06611!C45),"|",COLUMN(BCLCTTRTT_06611!C45),",0",",0") -> 665469,45|3,0,0 | D45: =CONCATENATE(665611,",",ROW(BCLCTTRTT_06611!D45),"|",COLUMN(BCLCTTRTT_06611!D45),",0",",0") -> 665611,45|4,0,0 | E45: =CONCATENATE(665407,",",ROW(BCLCTTRTT_06611!E45),"|",COLUMN(BCLCTTRTT_06611!E45),",0",",0") -> 665407,45|5,0,0
A46: =CONCATENATE(665520,",",ROW(BCLCTTRTT_06611!A46),"|",COLUMN(BCLCTTRTT_06611!A46),",0",",0") -> 665520,46|1,0,0 | B46: =CONCATENATE(665490,",",ROW(BCLCTTRTT_06611!B46),"|",COLUMN(BCLCTTRTT_06611!B46),",0",",0") -> 665490,46|2,0,0 | C46: =CONCATENATE(665460,",",ROW(BCLCTTRTT_06611!C46),"|",COLUMN(BCLCTTRTT_06611!C46),",0",",0") -> 665460,46|3,0,0 | D46: =CONCATENATE(665602,",",ROW(BCLCTTRTT_06611!D46),"|",COLUMN(BCLCTTRTT_06611!D46),",0",",0") -> 665602,46|4,0,0 | E46: =CONCATENATE(665398,",",ROW(BCLCTTRTT_06611!E46),"|",COLUMN(BCLCTTRTT_06611!E46),",0",",0") -> 665398,46|5,0,0
A47: =CONCATENATE(665521,",",ROW(BCLCTTRTT_06611!A47),"|",COLUMN(BCLCTTRTT_06611!A47),",0",",0") -> 665521,47|1,0,0 | B47: =CONCATENATE(665574,",",ROW(BCLCTTRTT_06611!B47),"|",COLUMN(BCLCTTRTT_06611!B47),",0",",0") -> 665574,47|2,0,0 | C47: =CONCATENATE(665461,",",ROW(BCLCTTRTT_06611!C47),"|",COLUMN(BCLCTTRTT_06611!C47),",0",",0") -> 665461,47|3,0,0 | D47: =CONCATENATE(665603,",",ROW(BCLCTTRTT_06611!D47),"|",COLUMN(BCLCTTRTT_06611!D47),",0",",0") -> 665603,47|4,0,0 | E47: =CONCATENATE(665399,",",ROW(BCLCTTRTT_06611!E47),"|",COLUMN(BCLCTTRTT_06611!E47),",0",",0") -> 665399,47|5,0,0
A48: =CONCATENATE(665483,",",ROW(BCLCTTRTT_06611!A48),"|",COLUMN(BCLCTTRTT_06611!A48),",0",",0") -> 665483,48|1,0,0 | B48: =CONCATENATE(665575,",",ROW(BCLCTTRTT_06611!B48),"|",COLUMN(BCLCTTRTT_06611!B48),",0",",0") -> 665575,48|2,0,0 | C48: =CONCATENATE(665471,",",ROW(BCLCTTRTT_06611!C48),"|",COLUMN(BCLCTTRTT_06611!C48),",0",",0") -> 665471,48|3,0,0 | D48: =CONCATENATE(665474,",",ROW(BCLCTTRTT_06611!D48),"|",COLUMN(BCLCTTRTT_06611!D48),",0",",0") -> 665474,48|4,0,0 | E48: =CONCATENATE(665409,",",ROW(BCLCTTRTT_06611!E48),"|",COLUMN(BCLCTTRTT_06611!E48),",0",",0") -> 665409,48|5,0,0

Sheet PLCTTHDMGUTCKHTT_06612
A1: PHẦN LƯU CHUYỂN TIỀN TỆ HOẠT ĐỘNG MÔI GIỚI, ỦY THÁC CỦA KHÁCH HÀNG
A2: Theo phương pháp trực tiếp
A3: Chỉ tiêu | B3: Mã số | C3: Thuyết minh | D3: Năm nay | E3: Năm trước
A4: I. Lưu chuyển tiền hoạt động môi giới, ủy thác của khách hàng
A5: A | B5: B | C5: C | D5: 1
A6: 1. Tiền thu bán chứng khoán môi giới cho khách hàng | B6: 1
A7: 2. Tiền chi mua chứng khoán môi giới cho khách hàng | B7: 2
A8: 3. Tiền thu bán chứng khoán ủy thác của khách hàng | B8: 3
A9: 4.Tiền chi mua chứng khoán ủy thác của khách hàng | B9: 4
A10: 5. Thu vay Quỹ Hỗ trợ thanh toán | B10: 5
A11: 6. Chi trả vay Quỹ Hỗ trợ thanh toán | B11: 6
A12: 7. Nhận tiền gửi để thanh toán giao dịch chứng khoán của khách hàng | B12: 7
A13: 8. Nhận tiền gửi của Nhà đầu tư cho hoạt động ủy thác đầu tư của khách hàng | B13: 8
A14: 9. Chi trả phí lưu ký chứng khoán của khách hàng | B14: 9
A15: 10. Thu lỗi giao dịch chứng khoán | B15: 10
A16: 11. Chi lỗi giao dịch chứng khoán | B16: 11
A17: 12. Tiền thu của Tổ chức phát hành chứng khoán | B17: 12
... A39: Ảnh hưởng của thay đổi tỷ giá hối đoái quy đổi ngoại tệ | B39: 47

Sheet 8646_hidden
A4: =CONCATENATE(664897,",",ROW(PLCTTHDMGUTCKHTT_06612!A4),"|",COLUMN(PLCTTHDMGUTCKHTT_06612!A4),",0",",0") -> 664897,4|1,0,0 | C4: =CONCATENATE(664804,",",ROW(PLCTTHDMGUTCKHTT_06612!C4),"|",COLUMN(PLCTTHDMGUTCKHTT_06612!C4),",0",",0") -> 664804,4|3,0,0 | D4: =CONCATENATE(664941,",",ROW(PLCTTHDMGUTCKHTT_06612!D4),"|",COLUMN(PLCTTHDMGUTCKHTT_06612!D4),",0",",0") -> 664941,4|4,0,0 | E4: =CONCATENATE(664966,",",ROW(PLCTTHDMGUTCKHTT_06612!E4),"|",COLUMN(PLCTTHDMGUTCKHTT_06612!E4),",0",",0") -> 664966,4|5,0,0
A5: =CONCATENATE(664933,",",ROW(PLCTTHDMGUTCKHTT_06612!A5),"|",COLUMN(PLCTTHDMGUTCKHTT_06612!A5),",0",",0") -> 664933,5|1,0,0 | B5: =CONCATENATE(664857,",",ROW(PLCTTHDMGUTCKHTT_06612!B5),"|",COLUMN(PLCTTHDMGUTCKHTT_06612!B5),",0",",0") -> 664857,5|2,0,0 | C5: =CONCATENATE(664824,",",ROW(PLCTTHDMGUTCKHTT_06612!C5),"|",COLUMN(PLCTTHDMGUTCKHTT_06612!C5),",0",",0") -> 664824,5|3,0,0 | D5: =CONCATENATE(664950,",",ROW(PLCTTHDMGUTCKHTT_06612!D5),"|",COLUMN(PLCTTHDMGUTCKHTT_06612!D5),",0",",0") -> 664950,5|4,0,0 | E5: =CONCATENATE(664967,",",ROW(PLCTTHDMGUTCKHTT_06612!E5),"|",COLUMN(PLCTTHDMGUTCKHTT_06612!E5),",0",",0") -> 664967,5|5,0,0
A6: =CONCATENATE(664951,",",ROW(PLCTTHDMGUTCKHTT_06612!A6),"|",COLUMN(PLCTTHDMGUTCKHTT_06612!A6),",0",",0") -> 664951,6|1,0,0 | B6: =CONCATENATE(664845,",",ROW(PLCTTHDMGUTCKHTT_06612!B6),"|",COLUMN(PLCTTHDMGUTCKHTT_06612!B6),",0",",0") -> 664845,6|2,0,0 | C6: =CONCATENATE(664969,",",ROW(PLCTTHDMGUTCKHTT_06612!C6),"|",COLUMN(PLCTTHDMGUTCKHTT_06612!C6),",0",",0") -> 664969,6|3,0,0 | D6: =CONCATENATE(664806,",",ROW(PLCTTHDMGUTCKHTT_06612!D6),"|",COLUMN(PLCTTHDMGUTCKHTT_06612!D6),",0",",0") -> 664806,6|4,0,0 | E6: =CONCATENATE(664900,",",ROW(PLCTTHDMGUTCKHTT_06612!E6),"|",COLUMN(PLCTTHDMGUTCKHTT_06612!E6),",0",",0") -> 664900,6|5,0,0
A7: =CONCATENATE(664826,",",ROW(PLCTTHDMGUTCKHTT_06612!A7),"|",COLUMN(PLCTTHDMGUTCKHTT_06612!A7),",0",",0") -> 664826,7|1,0,0 | B7: =CONCATENATE(664837,",",ROW(PLCTTHDMGUTCKHTT_06612!B7),"|",COLUMN(PLCTTHDMGUTCKHTT_06612!B7),",0",",0") -> 664837,7|2,0,0 | C7: =CONCATENATE(664968,",",ROW(PLCTTHDMGUTCKHTT_06612!C7),"|",COLUMN(PLCTTHDMGUTCKHTT_06612!C7),",0",",0") -> 664968,7|3,0,0 | D7: =CONCATENATE(664807,",",ROW(PLCTTHDMGUTCKHTT_06612!D7),"|",COLUMN(PLCTTHDMGUTCKHTT_06612!D7),",0",",0") -> 664807,7|4,0,0 | E7: =CONCATENATE(664901,",",ROW(PLCTTHDMGUTCKHTT_06612!E7),"|",COLUMN(PLCTTHDMGUTCKHTT_06612!E7),",0",",0") -> 664901,7|5,0,0
A8: =CONCATENATE(664822,",",ROW(PLCTTHDMGUTCKHTT_06612!A8),"|",COLUMN(PLCTTHDMGUTCKHTT_06612!A8),",0",",0") -> 664822,8|1,0,0 | B8: =CONCATENATE(664842,",",ROW(PLCTTHDMGUTCKHTT_06612!B8),"|",COLUMN(PLCTTHDMGUTCKHTT_06612!B8),",0",",0") -> 664842,8|2,0,0 | C8: =CONCATENATE(664970,",",ROW(PLCTTHDMGUTCKHTT_06612!C8),"|",COLUMN(PLCTTHDMGUTCKHTT_06612!C8),",0",",0") -> 664970,8|3,0,0 | D8: =CONCATENATE(664808,",",ROW(PLCTTHDMGUTCKHTT_06612!D8),"|",COLUMN(PLCTTHDMGUTCKHTT_06612!D8),",0",",0") -> 664808,8|4,0,0 | E8: =CONCATENATE(664902,",",ROW(PLCTTHDMGUTCKHTT_06612!E8),"|",COLUMN(PLCTTHDMGUTCKHTT_06612!E8),",0",",0") -> 664902,8|5,0,0
A9: =CONCATENATE(664823,",",ROW(PLCTTHDMGUTCKHTT_06612!A9),"|",COLUMN(PLCTTHDMGUTCKHTT_06612!A9),",0",",0") -> 664823,9|1,0,0 | B9: =CONCATENATE(664838,",",ROW(PLCTTHDMGUTCKHTT_06612!B9),"|",COLUMN(PLCTTHDMGUTCKHTT_06612!B9),",0",",0") -> 664838,9|2,0,0 | C9: =CONCATENATE(664971,",",ROW(PLCTTHDMGUTCKHTT_06612!C9),"|",COLUMN(PLCTTHDMGUTCKHTT_06612!C9),",0",",0") -> 664971,9|3,0,0 | D9: =CONCATENATE(664809,",",ROW(PLCTTHDMGUTCKHTT_06612!D9),"|",COLUMN(PLCTTHDMGUTCKHTT_06612!D9),",0",",0") -> 664809,9|4,0,0 | E9: =CONCATENATE(664903,",",ROW(PLCTTHDMGUTCKHTT_06612!E9),"|",COLUMN(PLCTTHDMGUTCKHTT_06612!E9),",0",",0") -> 664903,9|5,0,0
A10: =CONCATENATE(664952,",",ROW(PLCTTHDMGUTCKHTT_06612!A10),"|",COLUMN(PLCTTHDMGUTCKHTT_06612!A10),",0",",0") -> 664952,10|1,0,0 | B10: =CONCATENATE(664945,",",ROW(PLCTTHDMGUTCKHTT_06612!B10),"|",COLUMN(PLCTTHDMGUTCKHTT_06612!B10),",0",",0") -> 664945,10|2,0,0 | C10: =CONCATENATE(664972,",",ROW(PLCTTHDMGUTCKHTT_06612!C10),"|",COLUMN(PLCTTHDMGUTCKHTT_06612!C10),",0",",0") -> 664972,10|3,0,0 | D10: =CONCATENATE(664810,",",ROW(PLCTTHDMGUTCKHTT_06612!D10),"|",COLUMN(PLCTTHDMGUTCKHTT_06612!D10),",0",",0") -> 664810,10|4,0,0 | E10: =CONCATENATE(664904,",",ROW(PLCTTHDMGUTCKHTT_06612!E10),"|",COLUMN(PLCTTHDMGUTCKHTT_06612!E10),",0",",0") -> 664904,10|5,0,0
A11: =CONCATENATE(664858,",",ROW(PLCTTHDMGUTCKHTT_06612!A11),"|",COLUMN(PLCTTHDMGUTCKHTT_06612!A11),",0",",0") -> 664858,11|1,0,0 | B11: =CONCATENATE(664949,",",ROW(PLCTTHDMGUTCKHTT_06612!B11),"|",COLUMN(PLCTTHDMGUTCKHTT_06612!B11),",0",",0") -> 664949,11|2,0,0 | C11: =CONCATENATE(664863,",",ROW(PLCTTHDMGUTCKHTT_06612!C11),"|",COLUMN(PLCTTHDMGUTCKHTT_06612!C11),",0",",0") -> 664863,11|3,0,0 | D11: =CONCATENATE(664811,",",ROW(PLCTTHDMGUTCKHTT_06612!D11),"|",COLUMN(PLCTTHDMGUTCKHTT_06612!D11),",0",",0") -> 664811,11|4,0,0 | E11: =CONCATENATE(664905,",",ROW(PLCTTHDMGUTCKHTT_06612!E11),"|",COLUMN(PLCTTHDMGUTCKHTT_06612!E11),",0",",0") -> 664905,11|5,0,0
A12: =CONCATENATE(664898,",",ROW(PLCTTHDMGUTCKHTT_06612!A12),"|",COLUMN(PLCTTHDMGUTCKHTT_06612!A12),",0",",0") -> 664898,12|1,0,0 | B12: =CONCATENATE(664973,",",ROW(PLCTTHDMGUTCKHTT_06612!B12),"|",COLUMN(PLCTTHDMGUTCKHTT_06612!B12),",0",",0") -> 664973,12|2,0,0 | C12: =CONCATENATE(664864,",",ROW(PLCTTHDMGUTCKHTT_06612!C12),"|",COLUMN(PLCTTHDMGUTCKHTT_06612!C12),",0",",0") -> 664864,12|3,0,0 | D12: =CONCATENATE(664812,",",ROW(PLCTTHDMGUTCKHTT_06612!D12),"|",COLUMN(PLCTTHDMGUTCKHTT_06612!D12),",0",",0") -> 664812,12|4,0,0 | E12: =CONCATENATE(664906,",",ROW(PLCTTHDMGUTCKHTT_06612!E12),"|",COLUMN(PLCTTHDMGUTCKHTT_06612!E12),",0",",0") -> 664906,12|5,0,0
A13: =CONCATENATE(664928,",",ROW(PLCTTHDMGUTCKHTT_06612!A13),"|",COLUMN(PLCTTHDMGUTCKHTT_06612!A13),",0",",0") -> 664928,13|1,0,0 | B13: =CONCATENATE(664850,",",ROW(PLCTTHDMGUTCKHTT_06612!B13),"|",COLUMN(PLCTTHDMGUTCKHTT_06612!B13),",0",",0") -> 664850,13|2,0,0 | C13: =CONCATENATE(664865,",",ROW(PLCTTHDMGUTCKHTT_06612!C13),"|",COLUMN(PLCTTHDMGUTCKHTT_06612!C13),",0",",0") -> 664865,13|3,0,0 | D13: =CONCATENATE(664813,",",ROW(PLCTTHDMGUTCKHTT_06612!D13),"|",COLUMN(PLCTTHDMGUTCKHTT_06612!D13),",0",",0") -> 664813,13|4,0,0 | E13: =CONCATENATE(664907,",",ROW(PLCTTHDMGUTCKHTT_06612!E13),"|",COLUMN(PLCTTHDMGUTCKHTT_06612!E13),",0",",0") -> 664907,13|5,0,0
A14: =CONCATENATE(664929,",",ROW(PLCTTHDMGUTCKHTT_06612!A14),"|",COLUMN(PLCTTHDMGUTCKHTT_06612!A14),",0",",0") -> 664929,14|1,0,0 | B14: =CONCATENATE(664944,",",ROW(PLCTTHDMGUTCKHTT_06612!B14),"|",COLUMN(PLCTTHDMGUTCKHTT_06612!B14),",0",",0") -> 664944,14|2,0,0 | C14: =CONCATENATE(664866,",",ROW(PLCTTHDMGUTCKHTT_06612!C14),"|",COLUMN(PLCTTHDMGUTCKHTT_06612!C14),",0",",0") -> 664866,14|3,0,0 | D14: =CONCATENATE(664814,",",ROW(PLCTTHDMGUTCKHTT_06612!D14),"|",COLUMN(PLCTTHDMGUTCKHTT_06612!D14),",0",",0") -> 664814,14|4,0,0 | E14: =CONCATENATE(664908,",",ROW(PLCTTHDMGUTCKHTT_06612!E14),"|",COLUMN(PLCTTHDMGUTCKHTT_06612!E14),",0",",0") -> 664908,14|5,0,0
A15: =CONCATENATE(664930,",",ROW(PLCTTHDMGUTCKHTT_06612!A15),"|",COLUMN(PLCTTHDMGUTCKHTT_06612!A15),",0",",0") -> 664930,15|1,0,0 | B15: =CONCATENATE(664851,",",ROW(PLCTTHDMGUTCKHTT_06612!B15),"|",COLUMN(PLCTTHDMGUTCKHTT_06612!B15),",0",",0") -> 664851,15|2,0,0 | C15: =CONCATENATE(664868,",",ROW(PLCTTHDMGUTCKHTT_06612!C15),"|",COLUMN(PLCTTHDMGUTCKHTT_06612!C15),",0",",0") -> 664868,15|3,0,0 | D15: =CONCATENATE(664815,",",ROW(PLCTTHDMGUTCKHTT_06612!D15),"|",COLUMN(PLCTTHDMGUTCKHTT_06612!D15),",0",",0") -> 664815,15|4,0,0 | E15: =CONCATENATE(664909,",",ROW(PLCTTHDMGUTCKHTT_06612!E15),"|",COLUMN(PLCTTHDMGUTCKHTT_06612!E15),",0",",0") -> 664909,15|5,0,0
A16: =CONCATENATE(664953,",",ROW(PLCTTHDMGUTCKHTT_06612!A16),"|",COLUMN(PLCTTHDMGUTCKHTT_06612!A16),",0",",0") -> 664953,16|1,0,0 | B16: =CONCATENATE(664852,",",ROW(PLCTTHDMGUTCKHTT_06612!B16),"|",COLUMN(PLCTTHDMGUTCKHTT_06612!B16),",0",",0") -> 664852,16|2,0,0 | C16: =CONCATENATE(664869,",",ROW(PLCTTHDMGUTCKHTT_06612!C16),"|",COLUMN(PLCTTHDMGUTCKHTT_06612!C16),",0",",0") -> 664869,16|3,0,0 | D16: =CONCATENATE(664816,",",ROW(PLCTTHDMGUTCKHTT_06612!D16),"|",COLUMN(PLCTTHDMGUTCKHTT_06612!D16),",0",",0") -> 664816,16|4,0,0 | E16: =CONCATENATE(664910,",",ROW(PLCTTHDMGUTCKHTT_06612!E16),"|",COLUMN(PLCTTHDMGUTCKHTT_06612!E16),",0",",0") -> 664910,16|5,0,0
A17: =CONCATENATE(664931,",",ROW(PLCTTHDMGUTCKHTT_06612!A17),"|",COLUMN(PLCTTHDMGUTCKHTT_06612!A17),",0",",0") -> 664931,17|1,0,0 | B17: =CONCATENATE(664853,",",ROW(PLCTTHDMGUTCKHTT_06612!B17),"|",COLUMN(PLCTTHDMGUTCKHTT_06612!B17),",0",",0") -> 664853,17|2,0,0 | C17: =CONCATENATE(664870,",",ROW(PLCTTHDMGUTCKHTT_06612!C17),"|",COLUMN(PLCTTHDMGUTCKHTT_06612!C17),",0",",0") -> 664870,17|3,0,0 | D17: =CONCATENATE(664817,",",ROW(PLCTTHDMGUTCKHTT_06612!D17),"|",COLUMN(PLCTTHDMGUTCKHTT_06612!D17),",0",",0") -> 664817,17|4,0,0 | E17: =CONCATENATE(664911,",",ROW(PLCTTHDMGUTCKHTT_06612!E17),"|",COLUMN(PLCTTHDMGUTCKHTT_06612!E17),",0",",0") -> 664911,17|5,0,0
A18: =CONCATENATE(664827,",",ROW(PLCTTHDMGUTCKHTT_06612!A18),"|",COLUMN(PLCTTHDMGUTCKHTT_06612!A18),",0",",0") -> 664827,18|1,0,0 | B18: =CONCATENATE(664846,",",ROW(PLCTTHDMGUTCKHTT_06612!B18),"|",COLUMN(PLCTTHDMGUTCKHTT_06612!B18),",0",",0") -> 664846,18|2,0,0 | C18: =CONCATENATE(664871,",",ROW(PLCTTHDMGUTCKHTT_06612!C18),"|",COLUMN(PLCTTHDMGUTCKHTT_06612!C18),",0",",0") -> 664871,18|3,0,0 | D18: =CONCATENATE(664818,",",ROW(PLCTTHDMGUTCKHTT_06612!D18),"|",COLUMN(PLCTTHDMGUTCKHTT_06612!D18),",0",",0") -> 664818,18|4,0,0 | E18: =CONCATENATE(664912,",",ROW(PLCTTHDMGUTCKHTT_06612!E18),"|",COLUMN(PLCTTHDMGUTCKHTT_06612!E18),",0",",0") -> 664912,18|5,0,0
A19: =CONCATENATE(664797,",",ROW(PLCTTHDMGUTCKHTT_06612!A19),"|",COLUMN(PLCTTHDMGUTCKHTT_06612!A19),",0",",0") -> 664797,19|1,0,0 | B19: =CONCATENATE(664798,",",ROW(PLCTTHDMGUTCKHTT_06612!B19),"|",COLUMN(PLCTTHDMGUTCKHTT_06612!B19),",0",",0") -> 664798,19|2,0,0 | C19: =CONCATENATE(664799,",",ROW(PLCTTHDMGUTCKHTT_06612!C19),"|",COLUMN(PLCTTHDMGUTCKHTT_06612!C19),",0",",0") -> 664799,19|3,0,0 | D19: =CONCATENATE(664800,",",ROW(PLCTTHDMGUTCKHTT_06612!D19),"|",COLUMN(PLCTTHDMGUTCKHTT_06612!D19),",0",",0") -> 664800,19|4,0,0 | E19: =CONCATENATE(664801,",",ROW(PLCTTHDMGUTCKHTT_06612!E19),"|",COLUMN(PLCTTHDMGUTCKHTT_06612!E19),",0",",0") -> 664801,19|5,0,0
A20: =CONCATENATE(664828,",",ROW(PLCTTHDMGUTCKHTT_06612!A20),"|",COLUMN(PLCTTHDMGUTCKHTT_06612!A20),",0",",0") -> 664828,20|1,0,0 | B20: =CONCATENATE(664946,",",ROW(PLCTTHDMGUTCKHTT_06612!B20),"|",COLUMN(PLCTTHDMGUTCKHTT_06612!B20),",0",",0") -> 664946,20|2,0,0 | C20: =CONCATENATE(664872,",",ROW(PLCTTHDMGUTCKHTT_06612!C20),"|",COLUMN(PLCTTHDMGUTCKHTT_06612!C20),",0",",0") -> 664872,20|3,0,0 | D20: =CONCATENATE(664819,",",ROW(PLCTTHDMGUTCKHTT_06612!D20),"|",COLUMN(PLCTTHDMGUTCKHTT_06612!D20),",0",",0") -> 664819,20|4,0,0 | E20: =CONCATENATE(664913,",",ROW(PLCTTHDMGUTCKHTT_06612!E20),"|",COLUMN(PLCTTHDMGUTCKHTT_06612!E20),",0",",0") -> 664913,20|5,0,0
A21: =CONCATENATE(664829,",",ROW(PLCTTHDMGUTCKHTT_06612!A21),"|",COLUMN(PLCTTHDMGUTCKHTT_06612!A21),",0",",0") -> 664829,21|1,0,0 | B21: =CONCATENATE(664847,",",ROW(PLCTTHDMGUTCKHTT_06612!B21),"|",COLUMN(PLCTTHDMGUTCKHTT_06612!B21),",0",",0") -> 664847,21|2,0,0 | C21: =CONCATENATE(664873,",",ROW(PLCTTHDMGUTCKHTT_06612!C21),"|",COLUMN(PLCTTHDMGUTCKHTT_06612!C21),",0",",0") -> 664873,21|3,0,0 | D21: =CONCATENATE(664820,",",ROW(PLCTTHDMGUTCKHTT_06612!D21),"|",COLUMN(PLCTTHDMGUTCKHTT_06612!D21),",0",",0") -> 664820,21|4,0,0 | E21: =CONCATENATE(664914,",",ROW(PLCTTHDMGUTCKHTT_06612!E21),"|",COLUMN(PLCTTHDMGUTCKHTT_06612!E21),",0",",0") -> 664914,21|5,0,0
A22: =CONCATENATE(664830,",",ROW(PLCTTHDMGUTCKHTT_06612!A22),"|",COLUMN(PLCTTHDMGUTCKHTT_06612!A22),",0",",0") -> 664830,22|1,0,0 | B22: =CONCATENATE(664854,",",ROW(PLCTTHDMGUTCKHTT_06612!B22),"|",COLUMN(PLCTTHDMGUTCKHTT_06612!B22),",0",",0") -> 664854,22|2,0,0 | C22: =CONCATENATE(664874,",",ROW(PLCTTHDMGUTCKHTT_06612!C22),"|",COLUMN(PLCTTHDMGUTCKHTT_06612!C22),",0",",0") -> 664874,22|3,0,0 | D22: =CONCATENATE(664886,",",ROW(PLCTTHDMGUTCKHTT_06612!D22),"|",COLUMN(PLCTTHDMGUTCKHTT_06612!D22),",0",",0") -> 664886,22|4,0,0 | E22: =CONCATENATE(664915,",",ROW(PLCTTHDMGUTCKHTT_06612!E22),"|",COLUMN(PLCTTHDMGUTCKHTT_06612!E22),",0",",0") -> 664915,22|5,0,0
A23: =CONCATENATE(664831,",",ROW(PLCTTHDMGUTCKHTT_06612!A23),"|",COLUMN(PLCTTHDMGUTCKHTT_06612!A23),",0",",0") -> 664831,23|1,0,0 | B23: =CONCATENATE(664848,",",ROW(PLCTTHDMGUTCKHTT_06612!B23),"|",COLUMN(PLCTTHDMGUTCKHTT_06612!B23),",0",",0") -> 664848,23|2,0,0 | C23: =CONCATENATE(664875,",",ROW(PLCTTHDMGUTCKHTT_06612!C23),"|",COLUMN(PLCTTHDMGUTCKHTT_06612!C23),",0",",0") -> 664875,23|3,0,0 | D23: =CONCATENATE(664887,",",ROW(PLCTTHDMGUTCKHTT_06612!D23),"|",COLUMN(PLCTTHDMGUTCKHTT_06612!D23),",0",",0") -> 664887,23|4,0,0 | E23: =CONCATENATE(664916,",",ROW(PLCTTHDMGUTCKHTT_06612!E23),"|",COLUMN(PLCTTHDMGUTCKHTT_06612!E23),",0",",0") -> 664916,23|5,0,0
A24: =CONCATENATE(664841,",",ROW(PLCTTHDMGUTCKHTT_06612!A24),"|",COLUMN(PLCTTHDMGUTCKHTT_06612!A24),",0",",0") -> 664841,24|1,0,0 | B24: =CONCATENATE(664947,",",ROW(PLCTTHDMGUTCKHTT_06612!B24),"|",COLUMN(PLCTTHDMGUTCKHTT_06612!B24),",0",",0") -> 664947,24|2,0,0 | C24: =CONCATENATE(664876,",",ROW(PLCTTHDMGUTCKHTT_06612!C24),"|",COLUMN(PLCTTHDMGUTCKHTT_06612!C24),",0",",0") -> 664876,24|3,0,0 | D24: =CONCATENATE(664888,",",ROW(PLCTTHDMGUTCKHTT_06612!D24),"|",COLUMN(PLCTTHDMGUTCKHTT_06612!D24),",0",",0") -> 664888,24|4,0,0 | E24: =CONCATENATE(664917,",",ROW(PLCTTHDMGUTCKHTT_06612!E24),"|",COLUMN(PLCTTHDMGUTCKHTT_06612!E24),",0",",0") -> 664917,24|5,0,0
A25: =CONCATENATE(664954,",",ROW(PLCTTHDMGUTCKHTT_06612!A25),"|",COLUMN(PLCTTHDMGUTCKHTT_06612!A25),",0",",0") -> 664954,25|1,0,0 | B25: =CONCATENATE(664849,",",ROW(PLCTTHDMGUTCKHTT_06612!B25),"|",COLUMN(PLCTTHDMGUTCKHTT_06612!B25),",0",",0") -> 664849,25|2,0,0 | C25: =CONCATENATE(664877,",",ROW(PLCTTHDMGUTCKHTT_06612!C25),"|",COLUMN(PLCTTHDMGUTCKHTT_06612!C25),",0",",0") -> 664877,25|3,0,0 | D25: =CONCATENATE(664889,",",ROW(PLCTTHDMGUTCKHTT_06612!D25),"|",COLUMN(PLCTTHDMGUTCKHTT_06612!D25),",0",",0") -> 664889,25|4,0,0 | E25: =CONCATENATE(664918,",",ROW(PLCTTHDMGUTCKHTT_06612!E25),"|",COLUMN(PLCTTHDMGUTCKHTT_06612!E25),",0",",0") -> 664918,25|5,0,0
A26: =CONCATENATE(664859,",",ROW(PLCTTHDMGUTCKHTT_06612!A26),"|",COLUMN(PLCTTHDMGUTCKHTT_06612!A26),",0",",0") -> 664859,26|1,0,0 | B26: =CONCATENATE(664834,",",ROW(PLCTTHDMGUTCKHTT_06612!B26),"|",COLUMN(PLCTTHDMGUTCKHTT_06612!B26),",0",",0") -> 664834,26|2,0,0 | C26: =CONCATENATE(664878,",",ROW(PLCTTHDMGUTCKHTT_06612!C26),"|",COLUMN(PLCTTHDMGUTCKHTT_06612!C26),",0",",0") -> 664878,26|3,0,0 | D26: =CONCATENATE(664890,",",ROW(PLCTTHDMGUTCKHTT_06612!D26),"|",COLUMN(PLCTTHDMGUTCKHTT_06612!D26),",0",",0") -> 664890,26|4,0,0 | E26: =CONCATENATE(664919,",",ROW(PLCTTHDMGUTCKHTT_06612!E26),"|",COLUMN(PLCTTHDMGUTCKHTT_06612!E26),",0",",0") -> 664919,26|5,0,0
A27: =CONCATENATE(664899,",",ROW(PLCTTHDMGUTCKHTT_06612!A27),"|",COLUMN(PLCTTHDMGUTCKHTT_06612!A27),",0",",0") -> 664899,27|1,0,0 | B27: =CONCATENATE(664855,",",ROW(PLCTTHDMGUTCKHTT_06612!B27),"|",COLUMN(PLCTTHDMGUTCKHTT_06612!B27),",0",",0") -> 664855,27|2,0,0 | C27: =CONCATENATE(664879,",",ROW(PLCTTHDMGUTCKHTT_06612!C27),"|",COLUMN(PLCTTHDMGUTCKHTT_06612!C27),",0",",0") -> 664879,27|3,0,0 | D27: =CONCATENATE(664891,",",ROW(PLCTTHDMGUTCKHTT_06612!D27),"|",COLUMN(PLCTTHDMGUTCKHTT_06612!D27),",0",",0") -> 664891,27|4,0,0 | E27: =CONCATENATE(664920,",",ROW(PLCTTHDMGUTCKHTT_06612!E27),"|",COLUMN(PLCTTHDMGUTCKHTT_06612!E27),",0",",0") -> 664920,27|5,0,0
A28: =CONCATENATE(664862,",",ROW(PLCTTHDMGUTCKHTT_06612!A28),"|",COLUMN(PLCTTHDMGUTCKHTT_06612!A28),",0",",0") -> 664862,28|1,0,0 | B28: =CONCATENATE(664974,",",ROW(PLCTTHDMGUTCKHTT_06612!B28),"|",COLUMN(PLCTTHDMGUTCKHTT_06612!B28),",0",",0") -> 664974,28|2,0,0 | C28: =CONCATENATE(664880,",",ROW(PLCTTHDMGUTCKHTT_06612!C28),"|",COLUMN(PLCTTHDMGUTCKHTT_06612!C28),",0",",0") -> 664880,28|3,0,0 | D28: =CONCATENATE(664892,",",ROW(PLCTTHDMGUTCKHTT_06612!D28),"|",COLUMN(PLCTTHDMGUTCKHTT_06612!D28),",0",",0") -> 664892,28|4,0,0 | E28: =CONCATENATE(664921,",",ROW(PLCTTHDMGUTCKHTT_06612!E28),"|",COLUMN(PLCTTHDMGUTCKHTT_06612!E28),",0",",0") -> 664921,28|5,0,0
A29: =CONCATENATE(664860,",",ROW(PLCTTHDMGUTCKHTT_06612!A29),"|",COLUMN(PLCTTHDMGUTCKHTT_06612!A29),",0",",0") -> 664860,29|1,0,0 | B29: =CONCATENATE(664975,",",ROW(PLCTTHDMGUTCKHTT_06612!B29),"|",COLUMN(PLCTTHDMGUTCKHTT_06612!B29),",0",",0") -> 664975,29|2,0,0 | C29: =CONCATENATE(664881,",",ROW(PLCTTHDMGUTCKHTT_06612!C29),"|",COLUMN(PLCTTHDMGUTCKHTT_06612!C29),",0",",0") -> 664881,29|3,0,0 | D29: =CONCATENATE(664893,",",ROW(PLCTTHDMGUTCKHTT_06612!D29),"|",COLUMN(PLCTTHDMGUTCKHTT_06612!D29),",0",",0") -> 664893,29|4,0,0 | E29: =CONCATENATE(664922,",",ROW(PLCTTHDMGUTCKHTT_06612!E29),"|",COLUMN(PLCTTHDMGUTCKHTT_06612!E29),",0",",0") -> 664922,29|5,0,0
A30: =CONCATENATE(664861,",",ROW(PLCTTHDMGUTCKHTT_06612!A30),"|",COLUMN(PLCTTHDMGUTCKHTT_06612!A30),",0",",0") -> 664861,30|1,0,0 | B30: =CONCATENATE(664976,",",ROW(PLCTTHDMGUTCKHTT_06612!B30),"|",COLUMN(PLCTTHDMGUTCKHTT_06612!B30),",0",",0") -> 664976,30|2,0,0 | C30: =CONCATENATE(664882,",",ROW(PLCTTHDMGUTCKHTT_06612!C30),"|",COLUMN(PLCTTHDMGUTCKHTT_06612!C30),",0",",0") -> 664882,30|3,0,0 | D30: =CONCATENATE(664894,",",ROW(PLCTTHDMGUTCKHTT_06612!D30),"|",COLUMN(PLCTTHDMGUTCKHTT_06612!D30),",0",",0") -> 664894,30|4,0,0 | E30: =CONCATENATE(664923,",",ROW(PLCTTHDMGUTCKHTT_06612!E30),"|",COLUMN(PLCTTHDMGUTCKHTT_06612!E30),",0",",0") -> 664923,30|5,0,0
A31: =CONCATENATE(664932,",",ROW(PLCTTHDMGUTCKHTT_06612!A31),"|",COLUMN(PLCTTHDMGUTCKHTT_06612!A31),",0",",0") -> 664932,31|1,0,0 | B31: =CONCATENATE(664948,",",ROW(PLCTTHDMGUTCKHTT_06612!B31),"|",COLUMN(PLCTTHDMGUTCKHTT_06612!B31),",0",",0") -> 664948,31|2,0,0 | C31: =CONCATENATE(664883,",",ROW(PLCTTHDMGUTCKHTT_06612!C31),"|",COLUMN(PLCTTHDMGUTCKHTT_06612!C31),",0",",0") -> 664883,31|3,0,0 | D31: =CONCATENATE(664895,",",ROW(PLCTTHDMGUTCKHTT_06612!D31),"|",COLUMN(PLCTTHDMGUTCKHTT_06612!D31),",0",",0") -> 664895,31|4,0,0 | E31: =CONCATENATE(664924,",",ROW(PLCTTHDMGUTCKHTT_06612!E31),"|",COLUMN(PLCTTHDMGUTCKHTT_06612!E31),",0",",0") -> 664924,31|5,0,0
A32: =CONCATENATE(664832,",",ROW(PLCTTHDMGUTCKHTT_06612!A32),"|",COLUMN(PLCTTHDMGUTCKHTT_06612!A32),",0",",0") -> 664832,32|1,0,0 | B32: =CONCATENATE(664977,",",ROW(PLCTTHDMGUTCKHTT_06612!B32),"|",COLUMN(PLCTTHDMGUTCKHTT_06612!B32),",0",",0") -> 664977,32|2,0,0 | C32: =CONCATENATE(664884,",",ROW(PLCTTHDMGUTCKHTT_06612!C32),"|",COLUMN(PLCTTHDMGUTCKHTT_06612!C32),",0",",0") -> 664884,32|3,0,0 | D32: =CONCATENATE(664896,",",ROW(PLCTTHDMGUTCKHTT_06612!D32),"|",COLUMN(PLCTTHDMGUTCKHTT_06612!D32),",0",",0") -> 664896,32|4,0,0 | E32: =CONCATENATE(664925,",",ROW(PLCTTHDMGUTCKHTT_06612!E32),"|",COLUMN(PLCTTHDMGUTCKHTT_06612!E32),",0",",0") -> 664925,32|5,0,0
A33: =CONCATENATE(664955,",",ROW(PLCTTHDMGUTCKHTT_06612!A33),"|",COLUMN(PLCTTHDMGUTCKHTT_06612!A33),",0",",0") -> 664955,33|1,0,0 | B33: =CONCATENATE(664978,",",ROW(PLCTTHDMGUTCKHTT_06612!B33),"|",COLUMN(PLCTTHDMGUTCKHTT_06612!B33),",0",",0") -> 664978,33|2,0,0 | C33: =CONCATENATE(664885,",",ROW(PLCTTHDMGUTCKHTT_06612!C33),"|",COLUMN(PLCTTHDMGUTCKHTT_06612!C33),",0",",0") -> 664885,33|3,0,0 | D33: =CONCATENATE(664934,",",ROW(PLCTTHDMGUTCKHTT_06612!D33),"|",COLUMN(PLCTTHDMGUTCKHTT_06612!D33),",0",",0") -> 664934,33|4,0,0 | E33: =CONCATENATE(664959,",",ROW(PLCTTHDMGUTCKHTT_06612!E33),"|",COLUMN(PLCTTHDMGUTCKHTT_06612!E33),",0",",0") -> 664959,33|5,0,0
A34: =CONCATENATE(664844,",",ROW(PLCTTHDMGUTCKHTT_06612!A34),"|",COLUMN(PLCTTHDMGUTCKHTT_06612!A34),",0",",0") -> 664844,34|1,0,0 | B34: =CONCATENATE(664926,",",ROW(PLCTTHDMGUTCKHTT_06612!B34),"|",COLUMN(PLCTTHDMGUTCKHTT_06612!B34),",0",",0") -> 664926,34|2,0,0 | C34: =CONCATENATE(664839,",",ROW(PLCTTHDMGUTCKHTT_06612!C34),"|",COLUMN(PLCTTHDMGUTCKHTT_06612!C34),",0",",0") -> 664839,34|3,0,0 | D34: =CONCATENATE(664935,",",ROW(PLCTTHDMGUTCKHTT_06612!D34),"|",COLUMN(PLCTTHDMGUTCKHTT_06612!D34),",0",",0") -> 664935,34|4,0,0 | E34: =CONCATENATE(664960,",",ROW(PLCTTHDMGUTCKHTT_06612!E34),"|",COLUMN(PLCTTHDMGUTCKHTT_06612!E34),",0",",0") -> 664960,34|5,0,0
A35: =CONCATENATE(664956,",",ROW(PLCTTHDMGUTCKHTT_06612!A35),"|",COLUMN(PLCTTHDMGUTCKHTT_06612!A35),",0",",0") -> 664956,35|1,0,0 | B35: =CONCATENATE(664835,",",ROW(PLCTTHDMGUTCKHTT_06612!B35),"|",COLUMN(PLCTTHDMGUTCKHTT_06612!B35),",0",",0") -> 664835,35|2,0,0 | C35: =CONCATENATE(664867,",",ROW(PLCTTHDMGUTCKHTT_06612!C35),"|",COLUMN(PLCTTHDMGUTCKHTT_06612!C35),",0",",0") -> 664867,35|3,0,0 | D35: =CONCATENATE(664936,",",ROW(PLCTTHDMGUTCKHTT_06612!D35),"|",COLUMN(PLCTTHDMGUTCKHTT_06612!D35),",0",",0") -> 664936,35|4,0,0 | E35: =CONCATENATE(664961,",",ROW(PLCTTHDMGUTCKHTT_06612!E35),"|",COLUMN(PLCTTHDMGUTCKHTT_06612!E35),",0",",0") -> 664961,35|5,0,0
A36: =CONCATENATE(664833,",",ROW(PLCTTHDMGUTCKHTT_06612!A36),"|",COLUMN(PLCTTHDMGUTCKHTT_06612!A36),",0",",0") -> 664833,36|1,0,0 | B36: =CONCATENATE(664836,",",ROW(PLCTTHDMGUTCKHTT_06612!B36),"|",COLUMN(PLCTTHDMGUTCKHTT_06612!B36),",0",",0") -> 664836,36|2,0,0 | C36: =CONCATENATE(664840,",",ROW(PLCTTHDMGUTCKHTT_06612!C36),"|",COLUMN(PLCTTHDMGUTCKHTT_06612!C36),",0",",0") -> 664840,36|3,0,0 | D36: =CONCATENATE(664937,",",ROW(PLCTTHDMGUTCKHTT_06612!D36),"|",COLUMN(PLCTTHDMGUTCKHTT_06612!D36),",0",",0") -> 664937,36|4,0,0 | E36: =CONCATENATE(664962,",",ROW(PLCTTHDMGUTCKHTT_06612!E36),"|",COLUMN(PLCTTHDMGUTCKHTT_06612!E36),",0",",0") -> 664962,36|5,0,0
A37: =CONCATENATE(664957,",",ROW(PLCTTHDMGUTCKHTT_06612!A37),"|",COLUMN(PLCTTHDMGUTCKHTT_06612!A37),",0",",0") -> 664957,37|1,0,0 | B37: =CONCATENATE(664821,",",ROW(PLCTTHDMGUTCKHTT_06612!B37),"|",COLUMN(PLCTTHDMGUTCKHTT_06612!B37),",0",",0") -> 664821,37|2,0,0 | C37: =CONCATENATE(664843,",",ROW(PLCTTHDMGUTCKHTT_06612!C37),"|",COLUMN(PLCTTHDMGUTCKHTT_06612!C37),",0",",0") -> 664843,37|3,0,0 | D37: =CONCATENATE(664938,",",ROW(PLCTTHDMGUTCKHTT_06612!D37),"|",COLUMN(PLCTTHDMGUTCKHTT_06612!D37),",0",",0") -> 664938,37|4,0,0 | E37: =CONCATENATE(664963,",",ROW(PLCTTHDMGUTCKHTT_06612!E37),"|",COLUMN(PLCTTHDMGUTCKHTT_06612!E37),",0",",0") -> 664963,37|5,0,0
A38: =CONCATENATE(664958,",",ROW(PLCTTHDMGUTCKHTT_06612!A38),"|",COLUMN(PLCTTHDMGUTCKHTT_06612!A38),",0",",0") -> 664958,38|1,0,0 | B38: =CONCATENATE(664927,",",ROW(PLCTTHDMGUTCKHTT_06612!B38),"|",COLUMN(PLCTTHDMGUTCKHTT_06612!B38),",0",",0") -> 664927,38|2,0,0 | C38: =CONCATENATE(664802,",",ROW(PLCTTHDMGUTCKHTT_06612!C38),"|",COLUMN(PLCTTHDMGUTCKHTT_06612!C38),",0",",0") -> 664802,38|3,0,0 | D38: =CONCATENATE(664939,",",ROW(PLCTTHDMGUTCKHTT_06612!D38),"|",COLUMN(PLCTTHDMGUTCKHTT_06612!D38),",0",",0") -> 664939,38|4,0,0 | E38: =CONCATENATE(664964,",",ROW(PLCTTHDMGUTCKHTT_06612!E38),"|",COLUMN(PLCTTHDMGUTCKHTT_06612!E38),",0",",0") -> 664964,38|5,0,0
A39: =CONCATENATE(664943,",",ROW(PLCTTHDMGUTCKHTT_06612!A39),"|",COLUMN(PLCTTHDMGUTCKHTT_06612!A39),",0",",0") -> 664943,39|1,0,0 | B39: =CONCATENATE(664856,",",ROW(PLCTTHDMGUTCKHTT_06612!B39),"|",COLUMN(PLCTTHDMGUTCKHTT_06612!B39),",0",",0") -> 664856,39|2,0,0 | C39: =CONCATENATE(664803,",",ROW(PLCTTHDMGUTCKHTT_06612!C39),"|",COLUMN(PLCTTHDMGUTCKHTT_06612!C39),",0",",0") -> 664803,39|3,0,0 | D39: =CONCATENATE(664940,",",ROW(PLCTTHDMGUTCKHTT_06612!D39),"|",COLUMN(PLCTTHDMGUTCKHTT_06612!D39),",0",",0") -> 664940,39|4,0,0 | E39: =CONCATENATE(664965,",",ROW(PLCTTHDMGUTCKHTT_06612!E39),"|",COLUMN(PLCTTHDMGUTCKHTT_06612!E39),",0",",0") -> 664965,39|5,0,0

Sheet BCLCTTRGT_06613
A1: BÁO CÁO LƯU CHUYỂN TIỀN TỆ RIÊNG
A2: (Theo phương pháp gián tiếp)
A3: Đơn vị tính: Đồng Việt Nam
A4: Chỉ tiêu | B4: Mã số | C4: Thuyết minh | D4: Năm nay | E4: Năm trước
A5: A | B5: B | C5: C | D5: 1 | E5: 2
A6: - Lãi, lỗ từ hoạt động đầu tư | B6: 7 | D6: 188127529 | E6: -1367376184
A7: (- Lãi) hoặc (+ lỗ) chênh lệch tỷ giá hối đoái chưa thực hiện. | B7: 5
A8: 1. Lợi nhuận trước Thuế Thu nhập doanh nghiệp | B8: 1 | D8: 46195345907 | E8: 9049540484
A9: 2. Điều chỉnh cho các khoản: | B9: 2 | D9: 13234662860 | E9: 26944050127
A10: - Khấu hao TSCĐ | B10: 3 | D10: 2527023860 | E10: 3019647712
A11: - Các khoản dự phòng | B11: 4 | D11: -2079179915 | E11: 8245753419
A12: - Chi phí lãi vay | B12: 6 | D12: 12598691386 | E12: 17046025180
A13: I. Lưu chuyển tiền từ hoạt động kinh doanh
A14: - Dự thu tiền lãi | B14: 8
A15: - Các khoản điều chỉnh khác | B15: 9
A16: 3. Tăng các chi phí phi tiền tệ | B16: 10 | D16: 183076446770 | E16: 50888725737
A17: - Lỗ đánh giá lại giá trị các tài sản tài chính ghi nhận thông qua lãi/lỗ FVTPL | B17: 11 | D17: 183076446770 | E17: 50888725737
A18: - Lỗ suy giảm giá trị Các khoản cho vay | B18: 13
A19: - Lỗ suy giảm giá trị Các khoản đầu tư nắm giữ đến ngày đáo hạn (HTM) | B19: 12
A20: - Lỗ về ghi nhận chênh lệch đánh giá theo giá trị hợp lý TSTC sẵn sàng để bán AFS khi phân loại lại | B20: 14
A21: - Suy giảm giá trị của các tài sản cố định, BĐSĐT | B21: 15
A22: - Chi phí dự phòng suy giảm giá trị các khoản đầu tư tài chính dài hạn | B22: 16
A23: - Lỗ khác | B23: 17
A24: 4. Giảm các doanh thu phi tiền tệ | B24: 18 | D24: -276885417627 | E24: -83829501844
A25: - Lãi đánh giá lại giá trị các tài sản tài chính ghi nhận thông qua lãi/lỗ FVTPL | B25: 19 | D25: -276885417627 | E25: -83829501844
A26: - Lãi về ghi nhận chênh lệch đánh giá theo giá trị hợp lý TSTC sẵn sàng để bán (AFS) khi phân loại lại | B26: 20
A27: - Lãi khác | B27: 21
A28: 5. Lợi nhuận từ hoạt động kinh doanh trước thay đổi vốn lưu động | B28: 30 | D28: 17765716555 | E28: 116510502601
A29: - Tăng (giảm) tài sản tài chính ghi nhận thông qua lãi/lỗ FVTPL | B29: 31 | D29: -521639514183 | E29: 81026566338
A30: - Tăng (giảm) Các khoản đầu tư nắm giữ đến ngày đáo hạn (HTM) | B30: 32
A31: - Tăng (giảm) Các khoản cho vay | B31: 33 | D31: 17437162167 | E31: 80777213845
A32: - Tăng (giảm) tài sản tài chính sẵn sàng để bán AFS | B32: 34
A33: (-) Tăng, (+) giảm phải thu bán các tài sản tài chính | B33: 35 | D33: 569830599928 | E33: -20970272555
A34: (-) Tăng, (+) giảm phải thu và dự thu cổ tức, tiền lãi các tài sản tài chính | B34: 36 | D34: -112194000 | E34: -82736315
A35: (-) Tăng, (+) giảm các khoản phải thu các dịch vụ CTCK cung cấp | B35: 37 | D35: -23749876 | E35: 1369641290
A36: (-) Tăng, (+) giảm các khoản phải thu về lỗi giao dịch các TSTC | B36: 38
A37: (-) Tăng, (+) giảm các khoản phải thu khác | B37: 39 | D37: -640320817 | E37: -88552388
A38: - Tăng (giảm) các tài sản khác | B38: 40 | D38: 844464607 | E38: 3198777833
A39: - Tăng (giảm) chi phí phải trả (không bao gồm chi phí lãi vay) | B39: 41 | D39: -594270049 | E39: -11281887592
A40: - Tăng (giảm) chi phí trả trước | B40: 42 | D40: -1337484503 | E40: 1359383336
A41: (-) Thuế TNDN đã nộp | B41: 43
A42: (-) Lãi vay đã trả | B42: 44 | D42: -16431364250 | E42: -17927430526
A43: - Tăng (giảm) phải trả cho người bán | B43: 45 | D43: -28643369854 | E43: -119999256
A44: - Tăng (giảm) các khoản trích nộp phúc lợi nhân viên | B44: 46 | D44: -201201500 | E44: 35009601
A45: - Tăng (giảm) thuế và các khoản phải nộp Nhà nước (Không bao gồm thuế TNDN đã nộp) | B45: 47 | D45: -4477978 | E45: -657700767
A46: - Tăng (giảm) phải trả người lao động | B46: 48 | D46: 340124863 | E46: -126854512
A47: - Tăng (giảm) phải trả về lỗi giao dịch các TSTC | B47: 49
A48: - Tăng (giảm) phải trả, phải nộp khác | B48: 50 | D48: -154634023 | E48: -39347020
A49: - Tiền thu khác từ hoạt động kinh doanh | B49: 51 | E49: 605050000
A50: - Tiền chi khác cho hoạt động kinh doanh | B50: 52 | D50: -904053977 | E50: -566358711
A51: Lưu chuyển tiền thuần từ hoạt động kinh doanh | B51: 60 | D51: -16613245535 | E51: 119563317105
A52: II. Lưu chuyển tiền từ hoạt động đầu tư
A53: 1. Tiền chi để mua sắm, xây dựng TSCĐ, BĐSĐT và các tài sản khác | B53: 61 | D53: 0 | E53: -277891455
A54: 2. Tiền thu từ thanh lý, nhượng bán TSCĐ, BĐSĐT và các tài sản khác | B54: 62 | D54: 1253636364 | E54: 786797868
A55: 3. Tiền chi đầu tư vốn vào công ty con, công ty liên doanh, liên kết và đầu tư khác | B55: 63
A56: 4. Tiền thu hồi các khoản đầu tư vào công ty con, công ty liên doanh, liên kết và đầu tư khác | B56: 64
A57: 5. Tiền thu về cổ tức và lợi nhuận được chia từ các khoản đầu tư tài chính dài hạn | B57: 65 | D57: 138832690 | E57: 1410756318
A58: Lưu chuyển tiền thuần từ hoạt động đầu tư | B58: 70 | D58: 1392469054 | E58: 1919662731
A59: III. Lưu chuyển tiền từ hoạt động tài chính
A60: 1.Tiền thu từ phát hành cổ phiếu, nhận vốn góp của chủ sở hữu | B60: 71
A61: 2. Tiền chi trả vốn góp cho chủ sở hữu, mua lại cổ phiếu phát hành | B61: 72
A62: 3. Tiền vay gốc | B62: 73 | D62: 219017845000 | E62: 949388791683
A63: 3.1. Tiền vay Quỹ Hỗ trợ thanh toán | B63: 73.1
A64: 3.2. Tiền vay khác | B64: 73.2 | D64: 219017845000 | E64: 949388791683
A65: 4. Tiền chi trả nợ gốc vay | B65: 74 | D65: -270661995000 | E65: -1081359048835
A66: 4.1. Tiền chi trả gốc vay Quỹ Hỗ trợ thanh toán | B66: 74.1
A67: 4.2. Tiền chi trả nợ gốc vay tài sản tài chính | B67: 74.2
A68: 4.3. Tiền chi trả gốc vay khác | B68: 74.3 | D68: -270661995000 | E68: -1081359048835
A69: 5. Tiền chi trả nợ gốc thuê tài chính | B69: 75
A70: 6. Cổ tức, lợi nhuận đã trả cho chủ sở hữu | B70: 76
A71: Lưu chuyển tiền thuần từ hoạt động tài chính | B71: 80 | D71: -51644150000 | E71: -131970257152
A72: IV. Tăng/giảm tiền thuần trong kỳ | B72: 90 | D72: -66864926481 | E72: -10487277316
A73: V. Tiền và các khoản tương đương tiền đầu kỳ | B73: 101 | D73: 138223648674 | E73: 108953346950
A74: - Tiền | B74: 101.1 | D74: 138223648674 | E74: 108953346950
A75: - Các khoản tương đương tiền | B75: 101.2
A76: - Ảnh hưởng của thay đổi tỷ giá hối đoái quy đổi ngoại tệ | B76: 102
A77: VI. Tiền và các khoản tương đương tiền cuối kỳ | B77: 103 | D77: 71358722193 | E77: 98466069634
A78: - Tiền | B78: 103.1 | D78: 71358722193 | E78: 58466069634
A79: - Các khoản tương đương tiền | B79: 103.2 | D79: 0 | E79: 40000000000
A80: - Ảnh hưởng của thay đổi tỷ giá hối đoái quy đổi ngoại tệ | B80: 104

Sheet 8651_hidden
A5: =CONCATENATE(666063,",",ROW(BCLCTTRGT_06613!A5),"|",COLUMN(BCLCTTRGT_06613!A5),",0",",0") -> 666063,5|1,0,0 | B5: =CONCATENATE(665888,",",ROW(BCLCTTRGT_06613!B5),"|",COLUMN(BCLCTTRGT_06613!B5),",0",",0") -> 665888,5|2,0,0 | C5: =CONCATENATE(666064,",",ROW(BCLCTTRGT_06613!C5),"|",COLUMN(BCLCTTRGT_06613!C5),",0",",0") -> 666064,5|3,0,0 | D5: =CONCATENATE(666065,",",ROW(BCLCTTRGT_06613!D5),"|",COLUMN(BCLCTTRGT_06613!D5),",0",",0") -> 666065,5|4,0,0 | E5: =CONCATENATE(665976,",",ROW(BCLCTTRGT_06613!E5),"|",COLUMN(BCLCTTRGT_06613!E5),",0",",0") -> 665976,5|5,0,0
A6: =CONCATENATE(665889,",",ROW(BCLCTTRGT_06613!A6),"|",COLUMN(BCLCTTRGT_06613!A6),",0",",0") -> 665889,6|1,0,0 | B6: =CONCATENATE(665993,",",ROW(BCLCTTRGT_06613!B6),"|",COLUMN(BCLCTTRGT_06613!B6),",0",",0") -> 665993,6|2,0,0 | C6: =CONCATENATE(666069,",",ROW(BCLCTTRGT_06613!C6),"|",COLUMN(BCLCTTRGT_06613!C6),",0",",0") -> 666069,6|3,0,0 | D6: =CONCATENATE(665945,",",ROW(BCLCTTRGT_06613!D6),"|",COLUMN(BCLCTTRGT_06613!D6),",0",",0") -> 665945,6|4,0,0 | E6: =CONCATENATE(666130,",",ROW(BCLCTTRGT_06613!E6),"|",COLUMN(BCLCTTRGT_06613!E6),",0",",0") -> 666130,6|5,0,0
A7: =CONCATENATE(666223,",",ROW(BCLCTTRGT_06613!A7),"|",COLUMN(BCLCTTRGT_06613!A7),",0",",0") -> 666223,7|1,0,0 | B7: =CONCATENATE(665992,",",ROW(BCLCTTRGT_06613!B7),"|",COLUMN(BCLCTTRGT_06613!B7),",0",",0") -> 665992,7|2,0,0 | C7: =CONCATENATE(665897,",",ROW(BCLCTTRGT_06613!C7),"|",COLUMN(BCLCTTRGT_06613!C7),",0",",0") -> 665897,7|3,0,0 | D7: =CONCATENATE(665943,",",ROW(BCLCTTRGT_06613!D7),"|",COLUMN(BCLCTTRGT_06613!D7),",0",",0") -> 665943,7|4,0,0 | E7: =CONCATENATE(666128,",",ROW(BCLCTTRGT_06613!E7),"|",COLUMN(BCLCTTRGT_06613!E7),",0",",0") -> 666128,7|5,0,0
A8: =CONCATENATE(666066,",",ROW(BCLCTTRGT_06613!A8),"|",COLUMN(BCLCTTRGT_06613!A8),",0",",0") -> 666066,8|1,0,0 | B8: =CONCATENATE(665974,",",ROW(BCLCTTRGT_06613!B8),"|",COLUMN(BCLCTTRGT_06613!B8),",0",",0") -> 665974,8|2,0,0 | C8: =CONCATENATE(666213,",",ROW(BCLCTTRGT_06613!C8),"|",COLUMN(BCLCTTRGT_06613!C8),",0",",0") -> 666213,8|3,0,0 | D8: =CONCATENATE(665939,",",ROW(BCLCTTRGT_06613!D8),"|",COLUMN(BCLCTTRGT_06613!D8),",0",",0") -> 665939,8|4,0,0 | E8: =CONCATENATE(666124,",",ROW(BCLCTTRGT_06613!E8),"|",COLUMN(BCLCTTRGT_06613!E8),",0",",0") -> 666124,8|5,0,0
A9: =CONCATENATE(665978,",",ROW(BCLCTTRGT_06613!A9),"|",COLUMN(BCLCTTRGT_06613!A9),",0",",0") -> 665978,9|1,0,0 | B9: =CONCATENATE(666052,",",ROW(BCLCTTRGT_06613!B9),"|",COLUMN(BCLCTTRGT_06613!B9),",0",",0") -> 666052,9|2,0,0 | C9: =CONCATENATE(666214,",",ROW(BCLCTTRGT_06613!C9),"|",COLUMN(BCLCTTRGT_06613!C9),",0",",0") -> 666214,9|3,0,0 | D9: =CONCATENATE(665940,",",ROW(BCLCTTRGT_06613!D9),"|",COLUMN(BCLCTTRGT_06613!D9),",0",",0") -> 665940,9|4,0,0 | E9: =CONCATENATE(666125,",",ROW(BCLCTTRGT_06613!E9),"|",COLUMN(BCLCTTRGT_06613!E9),",0",",0") -> 666125,9|5,0,0
A10: =CONCATENATE(666222,",",ROW(BCLCTTRGT_06613!A10),"|",COLUMN(BCLCTTRGT_06613!A10),",0",",0") -> 666222,10|1,0,0 | B10: =CONCATENATE(665975,",",ROW(BCLCTTRGT_06613!B10),"|",COLUMN(BCLCTTRGT_06613!B10),",0",",0") -> 665975,10|2,0,0 | C10: =CONCATENATE(666215,",",ROW(BCLCTTRGT_06613!C10),"|",COLUMN(BCLCTTRGT_06613!C10),",0",",0") -> 666215,10|3,0,0 | D10: =CONCATENATE(665941,",",ROW(BCLCTTRGT_06613!D10),"|",COLUMN(BCLCTTRGT_06613!D10),",0",",0") -> 665941,10|4,0,0 | E10: =CONCATENATE(666126,",",ROW(BCLCTTRGT_06613!E10),"|",COLUMN(BCLCTTRGT_06613!E10),",0",",0") -> 666126,10|5,0,0
