Workbook

Sheet Trang bìa
B8: Kính gửi: Ủy ban Chứng khoán Nhà nước | C8: Kính gửi: Ủy ban Chứng khoán Nhà nước
B10: BÁO CÁO TÀI CHÍNH RIÊNG LẺ
B12: Thông tư số 334/2016/TT-BTC ngày 27/12/2016 của Bộ Tài chính
B13: STT | C13: Nội dung | D13: Mã sheet
B14: 1 | C14: BÁO CÁO TÌNH HÌNH TÀI CHÍNH RIÊNG | D14: BCTCR_06608
B15: 2 | C15: CÁC CHỈ TIÊU NGOÀI BÁO CÁO TÌNH HÌNH TÀI CHÍNH RIÊNG | D15: CCTTCR_06609
B16: 3 | C16: BÁO CÁO KẾT QUẢ HOẠT ĐỘNG RIÊNG | D16: BCKQHDR_06610
B17: 4 | C17: BÁO CÁO LƯU CHUYỂN TIỀN TỆ RIÊNG | D17: BCLCTTRTT_06611
B18: 5 | C18: PHẦN LƯU CHUYỂN TIỀN TỆ HOẠT ĐỘNG MÔI GIỚI, ỦY THÁC CỦA KHÁCH HÀNG | D18: PLCTTHDMGUTCKHTT_06612
B19: 6 | C19: BÁO CÁO LƯU CHUYỂN TIỀN TỆ RIÊNG | D19: BCLCTTRGT_06613
B20: 7 | C20: PHẦN LƯU CHUYỂN TIỀN TỆ HOẠT ĐỘNG MÔI GIỚI, ỦY THÁC CỦA KHÁCH HÀNG | D20: PLCTTHDMGUTCKHGT_06614
B21: 8 | C21: BÁO CÁO TÌNH HÌNH BIẾN ĐỘNG VỐN CHỦ SỞ HỮU | D21: BCTHBDVCSH_06615
B23: Ghi chú
B24: Không đổi tên sheet Những chỉ tiêu không có số liệu có thể không phải trình bày nhưng không được đánh lại “Mã chỉ tiêu”. Không được xóa cột trên sheet
D26: Lập, ngày 16 tháng 07 năm 2026
B27: Người lập biểu | C27: Kế toán trưởng | D27: Giám đốc
B28: (Ký, họ tên) | C28: (Ký, họ tên) | D28: (Ký, họ tên, đóng dấu)

Sheet Setting
A1: 4190

Sheet BCTCR_06608
A1: BÁO CÁO TÌNH HÌNH TÀI CHÍNH RIÊNG
A2: Tại ngày ... tháng ... năm ...(1)
A3: Đơn vị tính: Đồng Việt Nam
A4: Chỉ tiêu | B4: Mã số | C4: Thuyết minh | D4: Số cuối năm | E4: Số đầu năm
A5: A | B5: B | C5: C | D5: 1 | E5: 2
A6: 1.1. Tiền | B6: 111.1 | D6: 71358722193 | E6: 138223648674
A7: 2. Các tài sản tài chính ghi nhận thông qua lãi/lỗ (FVTPL) | B7: 112 | D7: 1529768349900 | E7: 914319864860
A8: I. Tài sản tài chính | B8: 110 | D8: 2260070133413 | E8: 2296016292341
A9: 1.2. Các khoản tương đương tiền | B9: 111.2
A10: TÀI SẢN
A11: 3. Các khoản đầu tư nắm giữ đến ngày đáo hạn (HTM) | B11: 113
A12: A. TÀI SẢN NGẮN HẠN (100 = 110 + 130) | B12: 100 | D12: 2262599294576 | E12: 2298087722425
A13: 1.Tiền và các khoản tương đương tiền | B13: 111 | D13: 71358722193 | E13: 138223648674
A14: 4. Các khoản cho vay | B14: 114 | D14: 74952896089 | E14: 92390058256
A15: 5. Tài sản tài chính sẵn sàng để bán (AFS) | B15: 115 | D15: 30310000000 | E15: 30310000000
A16: 6. Dự phòng suy giảm giá trị các tài sản tài chính và tài sản thế chấp | B16: 116 | D16: -22661105697 | E16: -25460285612
A17: 7. Các khoản phải thu | B17: 117 | D17: 574482216775 | E17: 1144200622703
A18: 7.2. Phải thu và dự thu cổ tức, tiền lãi các tài sản tài chính | B18: 117.2 | D18: 112194000 | E18: 0
A19: 7.1. Phải thu bán các tài sản tài chính | B19: 117.1 | D19: 574370022775 | E19: 1144200622703
A20: 7.2.2. Dự thu cổ tức, tiền lãi chưa đến ngày nhận | B20: 117.4
A21: 7.2.1. Phải thu cổ tức, tiền lãi đến ngày nhận | B21: 117.3 | D21: 112194000 | E21: 0
A22: 8. Trả trước cho người bán | B22: 118 | D22: 2689000000 | E22: 2689000000
A23: 9. Phải thu các dịch vụ CTCK cung cấp | B23: 119 | D23: 1882054153 | E23: 1975704277
A24: 10. Phải thu nội bộ | B24: 120
A25: 11. Phải thu về lỗi giao dịch chứng khoán | B25: 121
A26: 12. Các khoản phải thu khác | B26: 122 | D26: 2321000000 | E26: 1680679183
A27: 13. Dự phòng suy giảm giá trị các khoản phải thu (*) | B27: 129 | D27: -5033000000 | E27: -4313000000
A28: II. Tài sản ngắn hạn khác | B28: 130 | D28: 2529161163 | E28: 2071430084
A29: 1. Tạm ứng | B29: 131 | D29: 39741411 | E29: 20103478
A30: 2. Vật tư văn phòng, công cụ, dụng cụ | B30: 132
A31: 3. Chi phí trả trước ngắn hạn | B31: 133 | D31: 1889467665 | E31: 1451374519
A32: 4. Cầm cố, thế chấp, ký quỹ, ký cược ngắn hạn | B32: 134
A33: 5. Thuế giá trị gia tăng được khấu trừ | B33: 135
A34: 6. Thuế và các khoản khác phải thu Nhà nước | B34: 136 | D34: 599952087 | E34: 599952087
A35: 7. Tài sản ngắn hạn khác | B35: 137
A36: 8. Giao dịch mua bán lại trái phiếu Chính phủ | B36: 138
A37: 9. Dự phòng suy giảm giá trị tài sản ngắn hạn khác | B37: 139
A38: B. TÀI SẢN DÀI HẠN (200 = 210 + 220 + 230 + 240 + 250 - 260) | B38: 200 | D38: 45373449114 | E38: 49460780740
A39: I. Tài sản tài chính dài hạn | B39: 210
A40: 1. Các khoản phải thu dài hạn | B40: 211
...

Sheet 8652_hidden
A5: =CONCATENATE(666258,",",ROW(BCTCR_06608!A5),"|",COLUMN(BCTCR_06608!A5),",0",",0") -> 666258,5|1,0,0 | B5: =CONCATENATE(666430,",",ROW(BCTCR_06608!B5),"|",COLUMN(BCTCR_06608!B5),",0",",0") -> 666430,5|2,0,0 | C5: =CONCATENATE(666312,",",ROW(BCTCR_06608!C5),"|",COLUMN(BCTCR_06608!C5),",0",",0") -> 666312,5|3,0,0 | D5: =CONCATENATE(666766,",",ROW(BCTCR_06608!D5),"|",COLUMN(BCTCR_06608!D5),",0",",0") -> 666766,5|4,0,0 | E5: =CONCATENATE(666313,",",ROW(BCTCR_06608!E5),"|",COLUMN(BCTCR_06608!E5),",0",",0") -> 666313,5|5,0,0
A6: =CONCATENATE(666609,",",ROW(BCTCR_06608!A6),"|",COLUMN(BCTCR_06608!A6),",0",",0") -> 666609,6|1,0,0 | B6: =CONCATENATE(666352,",",ROW(BCTCR_06608!B6),"|",COLUMN(BCTCR_06608!B6),",0",",0") -> 666352,6|2,0,0 | C6: =CONCATENATE(666445,",",ROW(BCTCR_06608!C6),"|",COLUMN(BCTCR_06608!C6),",0",",0") -> 666445,6|3,0,0 | D6: =CONCATENATE(666855,",",ROW(BCTCR_06608!D6),"|",COLUMN(BCTCR_06608!D6),",0",",0") -> 666855,6|4,0,0 | E6: =CONCATENATE(666314,",",ROW(BCTCR_06608!E6),"|",COLUMN(BCTCR_06608!E6),",0",",0") -> 666314,6|5,0,0
A7: =CONCATENATE(666610,",",ROW(BCTCR_06608!A7),"|",COLUMN(BCTCR_06608!A7),",0",",0") -> 666610,7|1,0,0 | B7: =CONCATENATE(666642,",",ROW(BCTCR_06608!B7),"|",COLUMN(BCTCR_06608!B7),",0",",0") -> 666642,7|2,0,0 | C7: =CONCATENATE(666446,",",ROW(BCTCR_06608!C7),"|",COLUMN(BCTCR_06608!C7),",0",",0") -> 666446,7|3,0,0 | D7: =CONCATENATE(666856,",",ROW(BCTCR_06608!D7),"|",COLUMN(BCTCR_06608!D7),",0",",0") -> 666856,7|4,0,0 | E7: =CONCATENATE(666315,",",ROW(BCTCR_06608!E7),"|",COLUMN(BCTCR_06608!E7),",0",",0") -> 666315,7|5,0,0
A8: =CONCATENATE(666608,",",ROW(BCTCR_06608!A8),"|",COLUMN(BCTCR_06608!A8),",0",",0") -> 666608,8|1,0,0 | B8: =CONCATENATE(666424,",",ROW(BCTCR_06608!B8),"|",COLUMN(BCTCR_06608!B8),",0",",0") -> 666424,8|2,0,0 | C8: =CONCATENATE(666444,",",ROW(BCTCR_06608!C8),"|",COLUMN(BCTCR_06608!C8),",0",",0") -> 666444,8|3,0,0 | D8: =CONCATENATE(666854,",",ROW(BCTCR_06608!D8),"|",COLUMN(BCTCR_06608!D8),",0",",0") -> 666854,8|4,0,0 | E8: =CONCATENATE(666324,",",ROW(BCTCR_06608!E8),"|",COLUMN(BCTCR_06608!E8),",0",",0") -> 666324,8|5,0,0
A9: =CONCATENATE(666587,",",ROW(BCTCR_06608!A9),"|",COLUMN(BCTCR_06608!A9),",0",",0") -> 666587,9|1,0,0 | B9: =CONCATENATE(666413,",",ROW(BCTCR_06608!B9),"|",COLUMN(BCTCR_06608!B9),",0",",0") -> 666413,9|2,0,0 | C9: =CONCATENATE(666712,",",ROW(BCTCR_06608!C9),"|",COLUMN(BCTCR_06608!C9),",0",",0") -> 666712,9|3,0,0 | D9: =CONCATENATE(666895,",",ROW(BCTCR_06608!D9),"|",COLUMN(BCTCR_06608!D9),",0",",0") -> 666895,9|4,0,0 | E9: =CONCATENATE(666683,",",ROW(BCTCR_06608!E9),"|",COLUMN(BCTCR_06608!E9),",0",",0") -> 666683,9|5,0,0
A10: =CONCATENATE(666685,",",ROW(BCTCR_06608!A10),"|",COLUMN(BCTCR_06608!A10),",0",",0") -> 666685,10|1,0,0 | C10: =CONCATENATE(666795,",",ROW(BCTCR_06608!C10),"|",COLUMN(BCTCR_06608!C10),",0",",0") -> 666795,10|3,0,0 | D10: =CONCATENATE(666442,",",ROW(BCTCR_06608!D10),"|",COLUMN(BCTCR_06608!D10),",0",",0") -> 666442,10|4,0,0 | E10: =CONCATENATE(666853,",",ROW(BCTCR_06608!E10),"|",COLUMN(BCTCR_06608!E10),",0",",0") -> 666853,10|5,0,0
A11: =CONCATENATE(666528,",",ROW(BCTCR_06608!A11),"|",COLUMN(BCTCR_06608!A11),",0",",0") -> 666528,11|1,0,0 | B11: =CONCATENATE(666811,",",ROW(BCTCR_06608!B11),"|",COLUMN(BCTCR_06608!B11),",0",",0") -> 666811,11|2,0,0 | C11: =CONCATENATE(666757,",",ROW(BCTCR_06608!C11),"|",COLUMN(BCTCR_06608!C11),",0",",0") -> 666757,11|3,0,0 | D11: =CONCATENATE(666443,",",ROW(BCTCR_06608!D11),"|",COLUMN(BCTCR_06608!D11),",0",",0") -> 666443,11|4,0,0 | E11: =CONCATENATE(666625,",",ROW(BCTCR_06608!E11),"|",COLUMN(BCTCR_06608!E11),",0",",0") -> 666625,11|5,0,0
A12: =CONCATENATE(666526,",",ROW(BCTCR_06608!A12),"|",COLUMN(BCTCR_06608!A12),",0",",0") -> 666526,12|1,0,0 | B12: =CONCATENATE(666809,",",ROW(BCTCR_06608!B12),"|",COLUMN(BCTCR_06608!B12),",0",",0") -> 666809,12|2,0,0 | C12: =CONCATENATE(666745,",",ROW(BCTCR_06608!C12),"|",COLUMN(BCTCR_06608!C12),",0",",0") -> 666745,12|3,0,0 | D12: =CONCATENATE(666878,",",ROW(BCTCR_06608!D12),"|",COLUMN(BCTCR_06608!D12),",0",",0") -> 666878,12|4,0,0 | E12: =CONCATENATE(666548,",",ROW(BCTCR_06608!E12),"|",COLUMN(BCTCR_06608!E12),",0",",0") -> 666548,12|5,0,0
A13: =CONCATENATE(666527,",",ROW(BCTCR_06608!A13),"|",COLUMN(BCTCR_06608!A13),",0",",0") -> 666527,13|1,0,0 | B13: =CONCATENATE(666810,",",ROW(BCTCR_06608!B13),"|",COLUMN(BCTCR_06608!B13),",0",",0") -> 666810,13|2,0,0 | C13: =CONCATENATE(666756,",",ROW(BCTCR_06608!C13),"|",COLUMN(BCTCR_06608!C13),",0",",0") -> 666756,13|3,0,0 | D13: =CONCATENATE(666850,",",ROW(BCTCR_06608!D13),"|",COLUMN(BCTCR_06608!D13),",0",",0") -> 666850,13|4,0,0 | E13: =CONCATENATE(666558,",",ROW(BCTCR_06608!E13),"|",COLUMN(BCTCR_06608!E13),",0",",0") -> 666558,13|5,0,0
A14: =CONCATENATE(666529,",",ROW(BCTCR_06608!A14),"|",COLUMN(BCTCR_06608!A14),",0",",0") -> 666529,14|1,0,0 | B14: =CONCATENATE(666516,",",ROW(BCTCR_06608!B14),"|",COLUMN(BCTCR_06608!B14),",0",",0") -> 666516,14|2,0,0 | C14: =CONCATENATE(666758,",",ROW(BCTCR_06608!C14),"|",COLUMN(BCTCR_06608!C14),",0",",0") -> 666758,14|3,0,0 | D14: =CONCATENATE(666372,",",ROW(BCTCR_06608!D14),"|",COLUMN(BCTCR_06608!D14),",0",",0") -> 666372,14|4,0,0 | E14: =CONCATENATE(666626,",",ROW(BCTCR_06608!E14),"|",COLUMN(BCTCR_06608!E14),",0",",0") -> 666626,14|5,0,0
A15: =CONCATENATE(666611,",",ROW(BCTCR_06608!A15),"|",COLUMN(BCTCR_06608!A15),",0",",0") -> 666611,15|1,0,0 | B15: =CONCATENATE(666414,",",ROW(BCTCR_06608!B15),"|",COLUMN(BCTCR_06608!B15),",0",",0") -> 666414,15|2,0,0 | C15: =CONCATENATE(666447,",",ROW(BCTCR_06608!C15),"|",COLUMN(BCTCR_06608!C15),",0",",0") -> 666447,15|3,0,0 | D15: =CONCATENATE(666857,",",ROW(BCTCR_06608!D15),"|",COLUMN(BCTCR_06608!D15),",0",",0") -> 666857,15|4,0,0 | E15: =CONCATENATE(666316,",",ROW(BCTCR_06608!E15),"|",COLUMN(BCTCR_06608!E15),",0",",0") -> 666316,15|5,0,0
A16: =CONCATENATE(666530,",",ROW(BCTCR_06608!A16),"|",COLUMN(BCTCR_06608!A16),",0",",0") -> 666530,16|1,0,0 | B16: =CONCATENATE(666353,",",ROW(BCTCR_06608!B16),"|",COLUMN(BCTCR_06608!B16),",0",",0") -> 666353,16|2,0,0 | C16: =CONCATENATE(666759,",",ROW(BCTCR_06608!C16),"|",COLUMN(BCTCR_06608!C16),",0",",0") -> 666759,16|3,0,0 | D16: =CONCATENATE(666373,",",ROW(BCTCR_06608!D16),"|",COLUMN(BCTCR_06608!D16),",0",",0") -> 666373,16|4,0,0 | E16: =CONCATENATE(666559,",",ROW(BCTCR_06608!E16),"|",COLUMN(BCTCR_06608!E16),",0",",0") -> 666559,16|5,0,0
A17: =CONCATENATE(666612,",",ROW(BCTCR_06608!A17),"|",COLUMN(BCTCR_06608!A17),",0",",0") -> 666612,17|1,0,0 | B17: =CONCATENATE(666517,",",ROW(BCTCR_06608!B17),"|",COLUMN(BCTCR_06608!B17),",0",",0") -> 666517,17|2,0,0 | C17: =CONCATENATE(666448,",",ROW(BCTCR_06608!C17),"|",COLUMN(BCTCR_06608!C17),",0",",0") -> 666448,17|3,0,0 | D17: =CONCATENATE(666858,",",ROW(BCTCR_06608!D17),"|",COLUMN(BCTCR_06608!D17),",0",",0") -> 666858,17|4,0,0 | E17: =CONCATENATE(666318,",",ROW(BCTCR_06608!E17),"|",COLUMN(BCTCR_06608!E17),",0",",0") -> 666318,17|5,0,0
A18: =CONCATENATE(666259,",",ROW(BCTCR_06608!A18),"|",COLUMN(BCTCR_06608!A18),",0",",0") -> 666259,18|1,0,0 | B18: =CONCATENATE(666365,",",ROW(BCTCR_06608!B18),"|",COLUMN(BCTCR_06608!B18),",0",",0") -> 666365,18|2,0,0 | C18: =CONCATENATE(666760,",",ROW(BCTCR_06608!C18),"|",COLUMN(BCTCR_06608!C18),",0",",0") -> 666760,18|3,0,0 | D18: =CONCATENATE(666374,",",ROW(BCTCR_06608!D18),"|",COLUMN(BCTCR_06608!D18),",0",",0") -> 666374,18|4,0,0 | E18: =CONCATENATE(666560,",",ROW(BCTCR_06608!E18),"|",COLUMN(BCTCR_06608!E18),",0",",0") -> 666560,18|5,0,0
A19: =CONCATENATE(666613,",",ROW(BCTCR_06608!A19),"|",COLUMN(BCTCR_06608!A19),",0",",0") -> 666613,19|1,0,0 | B19: =CONCATENATE(666354,",",ROW(BCTCR_06608!B19),"|",COLUMN(BCTCR_06608!B19),",0",",0") -> 666354,19|2,0,0 | C19: =CONCATENATE(666449,",",ROW(BCTCR_06608!C19),"|",COLUMN(BCTCR_06608!C19),",0",",0") -> 666449,19|3,0,0 | D19: =CONCATENATE(666859,",",ROW(BCTCR_06608!D19),"|",COLUMN(BCTCR_06608!D19),",0",",0") -> 666859,19|4,0,0 | E19: =CONCATENATE(666319,",",ROW(BCTCR_06608!E19),"|",COLUMN(BCTCR_06608!E19),",0",",0") -> 666319,19|5,0,0
A20: =CONCATENATE(666588,",",ROW(BCTCR_06608!A20),"|",COLUMN(BCTCR_06608!A20),",0",",0") -> 666588,20|1,0,0 | B20: =CONCATENATE(666812,",",ROW(BCTCR_06608!B20),"|",COLUMN(BCTCR_06608!B20),",0",",0") -> 666812,20|2,0,0 | C20: =CONCATENATE(666761,",",ROW(BCTCR_06608!C20),"|",COLUMN(BCTCR_06608!C20),",0",",0") -> 666761,20|3,0,0 | D20: =CONCATENATE(666375,",",ROW(BCTCR_06608!D20),"|",COLUMN(BCTCR_06608!D20),",0",",0") -> 666375,20|4,0,0 | E20: =CONCATENATE(666561,",",ROW(BCTCR_06608!E20),"|",COLUMN(BCTCR_06608!E20),",0",",0") -> 666561,20|5,0,0
A21: =CONCATENATE(666531,",",ROW(BCTCR_06608!A21),"|",COLUMN(BCTCR_06608!A21),",0",",0") -> 666531,21|1,0,0 | B21: =CONCATENATE(666415,",",ROW(BCTCR_06608!B21),"|",COLUMN(BCTCR_06608!B21),",0",",0") -> 666415,21|2,0,0 | C21: =CONCATENATE(666713,",",ROW(BCTCR_06608!C21),"|",COLUMN(BCTCR_06608!C21),",0",",0") -> 666713,21|3,0,0 | D21: =CONCATENATE(666896,",",ROW(BCTCR_06608!D21),"|",COLUMN(BCTCR_06608!D21),",0",",0") -> 666896,21|4,0,0 | E21: =CONCATENATE(666775,",",ROW(BCTCR_06608!E21),"|",COLUMN(BCTCR_06608!E21),",0",",0") -> 666775,21|5,0,0
A22: =CONCATENATE(666262,",",ROW(BCTCR_06608!A22),"|",COLUMN(BCTCR_06608!A22),",0",",0") -> 666262,22|1,0,0 | B22: =CONCATENATE(666672,",",ROW(BCTCR_06608!B22),"|",COLUMN(BCTCR_06608!B22),",0",",0") -> 666672,22|2,0,0 | C22: =CONCATENATE(666762,",",ROW(BCTCR_06608!C22),"|",COLUMN(BCTCR_06608!C22),",0",",0") -> 666762,22|3,0,0 | D22: =CONCATENATE(666376,",",ROW(BCTCR_06608!D22),"|",COLUMN(BCTCR_06608!D22),",0",",0") -> 666376,22|4,0,0 | E22: =CONCATENATE(666562,",",ROW(BCTCR_06608!E22),"|",COLUMN(BCTCR_06608!E22),",0",",0") -> 666562,22|5,0,0
A23: =CONCATENATE(666614,",",ROW(BCTCR_06608!A23),"|",COLUMN(BCTCR_06608!A23),",0",",0") -> 666614,23|1,0,0 | B23: =CONCATENATE(666416,",",ROW(BCTCR_06608!B23),"|",COLUMN(BCTCR_06608!B23),",0",",0") -> 666416,23|2,0,0 | C23: =CONCATENATE(666749,",",ROW(BCTCR_06608!C23),"|",COLUMN(BCTCR_06608!C23),",0",",0") -> 666749,23|3,0,0 | D23: =CONCATENATE(666860,",",ROW(BCTCR_06608!D23),"|",COLUMN(BCTCR_06608!D23),",0",",0") -> 666860,23|4,0,0 | E23: =CONCATENATE(666320,",",ROW(BCTCR_06608!E23),"|",COLUMN(BCTCR_06608!E23),",0",",0") -> 666320,23|5,0,0
A24: =CONCATENATE(666589,",",ROW(BCTCR_06608!A24),"|",COLUMN(BCTCR_06608!A24),",0",",0") -> 666589,24|1,0,0 | B24: =CONCATENATE(666673,",",ROW(BCTCR_06608!B24),"|",COLUMN(BCTCR_06608!B24),",0",",0") -> 666673,24|2,0,0 | C24: =CONCATENATE(666763,",",ROW(BCTCR_06608!C24),"|",COLUMN(BCTCR_06608!C24),",0",",0") -> 666763,24|3,0,0 | D24: =CONCATENATE(666377,",",ROW(BCTCR_06608!D24),"|",COLUMN(BCTCR_06608!D24),",0",",0") -> 666377,24|4,0,0 | E24: =CONCATENATE(666563,",",ROW(BCTCR_06608!E24),"|",COLUMN(BCTCR_06608!E24),",0",",0") -> 666563,24|5,0,0
A25: =CONCATENATE(666615,",",ROW(BCTCR_06608!A25),"|",COLUMN(BCTCR_06608!A25),",0",",0") -> 666615,25|1,0,0 | B25: =CONCATENATE(666674,",",ROW(BCTCR_06608!B25),"|",COLUMN(BCTCR_06608!B25),",0",",0") -> 666674,25|2,0,0 | C25: =CONCATENATE(666450,",",ROW(BCTCR_06608!C25),"|",COLUMN(BCTCR_06608!C25),",0",",0") -> 666450,25|3,0,0 | D25: =CONCATENATE(666861,",",ROW(BCTCR_06608!D25),"|",COLUMN(BCTCR_06608!D25),",0",",0") -> 666861,25|4,0,0 | E25: =CONCATENATE(666321,",",ROW(BCTCR_06608!E25),"|",COLUMN(BCTCR_06608!E25),",0",",0") -> 666321,25|5,0,0
A26: =CONCATENATE(666532,",",ROW(BCTCR_06608!A26),"|",COLUMN(BCTCR_06608!A26),",0",",0") -> 666532,26|1,0,0 | B26: =CONCATENATE(666518,",",ROW(BCTCR_06608!B26),"|",COLUMN(BCTCR_06608!B26),",0",",0") -> 666518,26|2,0,0 | C26: =CONCATENATE(666764,",",ROW(BCTCR_06608!C26),"|",COLUMN(BCTCR_06608!C26),",0",",0") -> 666764,26|3,0,0 | D26: =CONCATENATE(666378,",",ROW(BCTCR_06608!D26),"|",COLUMN(BCTCR_06608!D26),",0",",0") -> 666378,26|4,0,0 | E26: =CONCATENATE(666564,",",ROW(BCTCR_06608!E26),"|",COLUMN(BCTCR_06608!E26),",0",",0") -> 666564,26|5,0,0
A27: =CONCATENATE(666263,",",ROW(BCTCR_06608!A27),"|",COLUMN(BCTCR_06608!A27),",0",",0") -> 666263,27|1,0,0 | B27: =CONCATENATE(666519,",",ROW(BCTCR_06608!B27),"|",COLUMN(BCTCR_06608!B27),",0",",0") -> 666519,27|2,0,0 | C27: =CONCATENATE(666765,",",ROW(BCTCR_06608!C27),"|",COLUMN(BCTCR_06608!C27),",0",",0") -> 666765,27|3,0,0 | D27: =CONCATENATE(666379,",",ROW(BCTCR_06608!D27),"|",COLUMN(BCTCR_06608!D27),",0",",0") -> 666379,27|4,0,0 | E27: =CONCATENATE(666565,",",ROW(BCTCR_06608!E27),"|",COLUMN(BCTCR_06608!E27),",0",",0") -> 666565,27|5,0,0
A28: =CONCATENATE(666264,",",ROW(BCTCR_06608!A28),"|",COLUMN(BCTCR_06608!A28),",0",",0") -> 666264,28|1,0,0 | B28: =CONCATENATE(666317,",",ROW(BCTCR_06608!B28),"|",COLUMN(BCTCR_06608!B28),",0",",0") -> 666317,28|2,0,0 | C28: =CONCATENATE(666714,",",ROW(BCTCR_06608!C28),"|",COLUMN(BCTCR_06608!C28),",0",",0") -> 666714,28|3,0,0 | D28: =CONCATENATE(666897,",",ROW(BCTCR_06608!D28),"|",COLUMN(BCTCR_06608!D28),",0",",0") -> 666897,28|4,0,0 | E28: =CONCATENATE(666776,",",ROW(BCTCR_06608!E28),"|",COLUMN(BCTCR_06608!E28),",0",",0") -> 666776,28|5,0,0
A29: =CONCATENATE(666590,",",ROW(BCTCR_06608!A29),"|",COLUMN(BCTCR_06608!A29),",0",",0") -> 666590,29|1,0,0 | B29: =CONCATENATE(666366,",",ROW(BCTCR_06608!B29),"|",COLUMN(BCTCR_06608!B29),",0",",0") -> 666366,29|2,0,0 | C29: =CONCATENATE(666433,",",ROW(BCTCR_06608!C29),"|",COLUMN(BCTCR_06608!C29),",0",",0") -> 666433,29|3,0,0 | D29: =CONCATENATE(666380,",",ROW(BCTCR_06608!D29),"|",COLUMN(BCTCR_06608!D29),",0",",0") -> 666380,29|4,0,0 | E29: =CONCATENATE(666566,",",ROW(BCTCR_06608!E29),"|",COLUMN(BCTCR_06608!E29),",0",",0") -> 666566,29|5,0,0
A30: =CONCATENATE(666591,",",ROW(BCTCR_06608!A30),"|",COLUMN(BCTCR_06608!A30),",0",",0") -> 666591,30|1,0,0 | B30: =CONCATENATE(666813,",",ROW(BCTCR_06608!B30),"|",COLUMN(BCTCR_06608!B30),",0",",0") -> 666813,30|2,0,0 | C30: =CONCATENATE(666463,",",ROW(BCTCR_06608!C30),"|",COLUMN(BCTCR_06608!C30),",0",",0") -> 666463,30|3,0,0 | D30: =CONCATENATE(666381,",",ROW(BCTCR_06608!D30),"|",COLUMN(BCTCR_06608!D30),",0",",0") -> 666381,30|4,0,0 | E30: =CONCATENATE(666567,",",ROW(BCTCR_06608!E30),"|",COLUMN(BCTCR_06608!E30),",0",",0") -> 666567,30|5,0,0
A31: =CONCATENATE(666676,",",ROW(BCTCR_06608!A31),"|",COLUMN(BCTCR_06608!A31),",0",",0") -> 666676,31|1,0,0 | B31: =CONCATENATE(666417,",",ROW(BCTCR_06608!B31),"|",COLUMN(BCTCR_06608!B31),",0",",0") -> 666417,31|2,0,0 | C31: =CONCATENATE(666715,",",ROW(BCTCR_06608!C31),"|",COLUMN(BCTCR_06608!C31),",0",",0") -> 666715,31|3,0,0 | D31: =CONCATENATE(666898,",",ROW(BCTCR_06608!D31),"|",COLUMN(BCTCR_06608!D31),",0",",0") -> 666898,31|4,0,0 | E31: =CONCATENATE(666777,",",ROW(BCTCR_06608!E31),"|",COLUMN(BCTCR_06608!E31),",0",",0") -> 666777,31|5,0,0
A32: =CONCATENATE(666412,",",ROW(BCTCR_06608!A32),"|",COLUMN(BCTCR_06608!A32),",0",",0") -> 666412,32|1,0,0 | B32: =CONCATENATE(666520,",",ROW(BCTCR_06608!B32),"|",COLUMN(BCTCR_06608!B32),",0",",0") -> 666520,32|2,0,0 | C32: =CONCATENATE(666711,",",ROW(BCTCR_06608!C32),"|",COLUMN(BCTCR_06608!C32),",0",",0") -> 666711,32|3,0,0 | D32: =CONCATENATE(666894,",",ROW(BCTCR_06608!D32),"|",COLUMN(BCTCR_06608!D32),",0",",0") -> 666894,32|4,0,0 | E32: =CONCATENATE(666682,",",ROW(BCTCR_06608!E32),"|",COLUMN(BCTCR_06608!E32),",0",",0") -> 666682,32|5,0,0
A33: =CONCATENATE(666592,",",ROW(BCTCR_06608!A33),"|",COLUMN(BCTCR_06608!A33),",0",",0") -> 666592,33|1,0,0 | B33: =CONCATENATE(666814,",",ROW(BCTCR_06608!B33),"|",COLUMN(BCTCR_06608!B33),",0",",0") -> 666814,33|2,0,0 | C33: =CONCATENATE(666464,",",ROW(BCTCR_06608!C33),"|",COLUMN(BCTCR_06608!C33),",0",",0") -> 666464,33|3,0,0 | D33: =CONCATENATE(666382,",",ROW(BCTCR_06608!D33),"|",COLUMN(BCTCR_06608!D33),",0",",0") -> 666382,33|4,0,0 | E33: =CONCATENATE(666568,",",ROW(BCTCR_06608!E33),"|",COLUMN(BCTCR_06608!E33),",0",",0") -> 666568,33|5,0,0
A34: =CONCATENATE(666533,",",ROW(BCTCR_06608!A34),"|",COLUMN(BCTCR_06608!A34),",0",",0") -> 666533,34|1,0,0 | B34: =CONCATENATE(666675,",",ROW(BCTCR_06608!B34),"|",COLUMN(BCTCR_06608!B34),",0",",0") -> 666675,34|2,0,0 | C34: =CONCATENATE(666465,",",ROW(BCTCR_06608!C34),"|",COLUMN(BCTCR_06608!C34),",0",",0") -> 666465,34|3,0,0 | D34: =CONCATENATE(666383,",",ROW(BCTCR_06608!D34),"|",COLUMN(BCTCR_06608!D34),",0",",0") -> 666383,34|4,0,0 | E34: =CONCATENATE(666569,",",ROW(BCTCR_06608!E34),"|",COLUMN(BCTCR_06608!E34),",0",",0") -> 666569,34|5,0,0
A35: =CONCATENATE(666593,",",ROW(BCTCR_06608!A35),"|",COLUMN(BCTCR_06608!A35),",0",",0") -> 666593,35|1,0,0 | B35: =CONCATENATE(666815,",",ROW(BCTCR_06608!B35),"|",COLUMN(BCTCR_06608!B35),",0",",0") -> 666815,35|2,0,0 | C35: =CONCATENATE(666466,",",ROW(BCTCR_06608!C35),"|",COLUMN(BCTCR_06608!C35),",0",",0") -> 666466,35|3,0,0 | D35: =CONCATENATE(666384,",",ROW(BCTCR_06608!D35),"|",COLUMN(BCTCR_06608!D35),",0",",0") -> 666384,35|4,0,0 | E35: =CONCATENATE(666570,",",ROW(BCTCR_06608!E35),"|",COLUMN(BCTCR_06608!E35),",0",",0") -> 666570,35|5,0,0
A36: =CONCATENATE(666534,",",ROW(BCTCR_06608!A36),"|",COLUMN(BCTCR_06608!A36),",0",",0") -> 666534,36|1,0,0 | B36: =CONCATENATE(666367,",",ROW(BCTCR_06608!B36),"|",COLUMN(BCTCR_06608!B36),",0",",0") -> 666367,36|2,0,0 | C36: =CONCATENATE(666467,",",ROW(BCTCR_06608!C36),"|",COLUMN(BCTCR_06608!C36),",0",",0") -> 666467,36|3,0,0 | D36: =CONCATENATE(666385,",",ROW(BCTCR_06608!D36),"|",COLUMN(BCTCR_06608!D36),",0",",0") -> 666385,36|4,0,0 | E36: =CONCATENATE(666571,",",ROW(BCTCR_06608!E36),"|",COLUMN(BCTCR_06608!E36),",0",",0") -> 666571,36|5,0,0
A37: =CONCATENATE(666677,",",ROW(BCTCR_06608!A37),"|",COLUMN(BCTCR_06608!A37),",0",",0") -> 666677,37|1,0,0 | B37: =CONCATENATE(666418,",",ROW(BCTCR_06608!B37),"|",COLUMN(BCTCR_06608!B37),",0",",0") -> 666418,37|2,0,0 | C37: =CONCATENATE(666717,",",ROW(BCTCR_06608!C37),"|",COLUMN(BCTCR_06608!C37),",0",",0") -> 666717,37|3,0,0 | D37: =CONCATENATE(666875,",",ROW(BCTCR_06608!D37),"|",COLUMN(BCTCR_06608!D37),",0",",0") -> 666875,37|4,0,0 | E37: =CONCATENATE(666778,",",ROW(BCTCR_06608!E37),"|",COLUMN(BCTCR_06608!E37),",0",",0") -> 666778,37|5,0,0
A38: =CONCATENATE(666616,",",ROW(BCTCR_06608!A38),"|",COLUMN(BCTCR_06608!A38),",0",",0") -> 666616,38|1,0,0 | B38: =CONCATENATE(666368,",",ROW(BCTCR_06608!B38),"|",COLUMN(BCTCR_06608!B38),",0",",0") -> 666368,38|2,0,0 | C38: =CONCATENATE(666451,",",ROW(BCTCR_06608!C38),"|",COLUMN(BCTCR_06608!C38),",0",",0") -> 666451,38|3,0,0 | D38: =CONCATENATE(666341,",",ROW(BCTCR_06608!D38),"|",COLUMN(BCTCR_06608!D38),",0",",0") -> 666341,38|4,0,0 | E38: =CONCATENATE(666322,",",ROW(BCTCR_06608!E38),"|",COLUMN(BCTCR_06608!E38),",0",",0") -> 666322,38|5,0,0
A39: =CONCATENATE(666535,",",ROW(BCTCR_06608!A39),"|",COLUMN(BCTCR_06608!A39),",0",",0") -> 666535,39|1,0,0 | B39: =CONCATENATE(666369,",",ROW(BCTCR_06608!B39),"|",COLUMN(BCTCR_06608!B39),",0",",0") -> 666369,39|2,0,0 | C39: =CONCATENATE(666636,",",ROW(BCTCR_06608!C39),"|",COLUMN(BCTCR_06608!C39),",0",",0") -> 666636,39|3,0,0 | D39: =CONCATENATE(666386,",",ROW(BCTCR_06608!D39),"|",COLUMN(BCTCR_06608!D39),",0",",0") -> 666386,39|4,0,0 | E39: =CONCATENATE(666572,",",ROW(BCTCR_06608!E39),"|",COLUMN(BCTCR_06608!E39),",0",",0") -> 666572,39|5,0,0
A40: =CONCATENATE(666684,",",ROW(BCTCR_06608!A40),"|",COLUMN(BCTCR_06608!A40),",0",",0") -> 666684,40|1,0,0 | B40: =CONCATENATE(666419,",",ROW(BCTCR_06608!B40),"|",COLUMN(BCTCR_06608!B40),",0",",0") -> 666419,40|2,0,0 | C40: =CONCATENATE(666718,",",ROW(BCTCR_06608!C40),"|",COLUMN(BCTCR_06608!C40),",0",",0") -> 666718,40|3,0,0 | D40: =CONCATENATE(666883,",",ROW(BCTCR_06608!D40),"|",COLUMN(BCTCR_06608!D40),",0",",0") -> 666883,40|4,0,0 | E40: =CONCATENATE(666779,",",ROW(BCTCR_06608!E40),"|",COLUMN(BCTCR_06608!E40),",0",",0") -> 666779,40|5,0,0
A41: =CONCATENATE(666536,",",ROW(BCTCR_06608!A41),"|",COLUMN(BCTCR_06608!A41),",0",",0") -> 666536,41|1,0,0 | B41: =CONCATENATE(666425,",",ROW(BCTCR_06608!B41),"|",COLUMN(BCTCR_06608!B41),",0",",0") -> 666425,41|2,0,0 | C41: =CONCATENATE(666468,",",ROW(BCTCR_06608!C41),"|",COLUMN(BCTCR_06608!C41),",0",",0") -> 666468,41|3,0,0 | D41: =CONCATENATE(666387,",",ROW(BCTCR_06608!D41),"|",COLUMN(BCTCR_06608!D41),",0",",0") -> 666387,41|4,0,0 | E41: =CONCATENATE(666573,",",ROW(BCTCR_06608!E41),"|",COLUMN(BCTCR_06608!E41),",0",",0") -> 666573,41|5,0,0
A42: =CONCATENATE(666678,",",ROW(BCTCR_06608!A42),"|",COLUMN(BCTCR_06608!A42),",0",",0") -> 666678,42|1,0,0 | B42: =CONCATENATE(666844,",",ROW(BCTCR_06608!B42),"|",COLUMN(BCTCR_06608!B42),",0",",0") -> 666844,42|2,0,0 | C42: =CONCATENATE(666746,",",ROW(BCTCR_06608!C42),"|",COLUMN(BCTCR_06608!C42),",0",",0") -> 666746,42|3,0,0 | D42: =CONCATENATE(666879,",",ROW(BCTCR_06608!D42),"|",COLUMN(BCTCR_06608!D42),",0",",0") -> 666879,42|4,0,0 | E42: =CONCATENATE(666549,",",ROW(BCTCR_06608!E42),"|",COLUMN(BCTCR_06608!E42),",0",",0") -> 666549,42|5,0,0
A43: =CONCATENATE(666594,",",ROW(BCTCR_06608!A43),"|",COLUMN(BCTCR_06608!A43),",0",",0") -> 666594,43|1,0,0 | B43: =CONCATENATE(666845,",",ROW(BCTCR_06608!B43),"|",COLUMN(BCTCR_06608!B43),",0",",0") -> 666845,43|2,0,0 | C43: =CONCATENATE(666469,",",ROW(BCTCR_06608!C43),"|",COLUMN(BCTCR_06608!C43),",0",",0") -> 666469,43|3,0,0 | D43: =CONCATENATE(666388,",",ROW(BCTCR_06608!D43),"|",COLUMN(BCTCR_06608!D43),",0",",0") -> 666388,43|4,0,0 | E43: =CONCATENATE(666574,",",ROW(BCTCR_06608!E43),"|",COLUMN(BCTCR_06608!E43),",0",",0") -> 666574,43|5,0,0
A44: =CONCATENATE(666617,",",ROW(BCTCR_06608!A44),"|",COLUMN(BCTCR_06608!A44),",0",",0") -> 666617,44|1,0,0 | B44: =CONCATENATE(666649,",",ROW(BCTCR_06608!B44),"|",COLUMN(BCTCR_06608!B44),",0",",0") -> 666649,44|2,0,0 | C44: =CONCATENATE(666452,",",ROW(BCTCR_06608!C44),"|",COLUMN(BCTCR_06608!C44),",0",",0") -> 666452,44|3,0,0 | D44: =CONCATENATE(666342,",",ROW(BCTCR_06608!D44),"|",COLUMN(BCTCR_06608!D44),",0",",0") -> 666342,44|4,0,0 | E44: =CONCATENATE(666323,",",ROW(BCTCR_06608!E44),"|",COLUMN(BCTCR_06608!E44),",0",",0") -> 666323,44|5,0,0
...

Sheet CCTTCR_06609
A1: CÁC CHỈ TIÊU NGOÀI BÁO CÁO TÌNH HÌNH TÀI CHÍNH RIÊNG
A2: Chỉ tiêu | B2: Mã số | C2: Thuyết minh | D2: Số cuối năm | E2: Số đầu năm
A3: A.TÀI SẢN CỦA CTCK VÀ TÀI SẢN QUẢN LÝ THEO CAM KẾT
A4: 2. Chứng chỉ có giá nhận giữ hộ | B4: 2
A5: 5. Ngoại tệ các loại | B5: 5
A6: A | B6: B | C6: C | D6: 1 | E6: 2
A7: 3. Tài sản nhận thế chấp | B7: 3
A8: 1. Tài sản cố định thuê ngoài | B8: 1
A9: 4. Nợ khó đòi đã xử lý | B9: 4
A10: 6. Cổ phiếu đang lưu hành | B10: 6 | D10: 164800618 | E10: 164800618
A11: 7. Cổ phiếu quỹ | B11: 7
A12: 8. Tài sản tài chính niêm yết/đăng ký giao dịch tại VSD của CTCK | B12: 8 | D12: 813714450000 | E12: 336650450000
A13: 9. Tài sản tài chính đã lưu ký tại VSD và chưa giao dịch của CTCK | B13: 9 | D13: 2110000 | E13: 2990000
A14: 11. Tài sản tài chính sửa lỗi giao dịch của CTCK | B14: 11
A15: 12. Tài sản tài chính chưa lưu ký tại VSD của CTCK | B15: 12 | D15: 162381150000 | E15: 236380270000
A16: 13.Tài sản tài chính được hưởng quyền của CTCK | B16: 13 | D16: 0 | E16: 380000000
A17: 10. Tài sản tài chính chờ về của CTCK | B17: 10 | D17: 0 | E17: 20000000000
A18: B. TÀI SẢN VÀ CÁC KHOẢN PHẢI TRẢ VỀ TÀI SẢN QUẢN LÝ CAM KẾT VỚI KHÁCH HÀNG
A19: 1.Tài sản tài chính niêm yết/đăng ký giao dịch tại VSD của Nhà đầu tư | B19: 21 | D19: 2869116260000 | E19: 3409299590000
A20: a.Tài sản tài chính giao dịch tự do chuyển nhượng | B20: 21.1 | D20: 2308686000000 | E20: 2381714690000
A21: b.Tài sản tài chính hạn chế chuyển nhượng | B21: 21.2 | D21: 636000000 | E21: 20000000
A22: c.Tài sản tài chính giao dịch cầm cố | B22: 21.3 | D22: 485553300000 | E22: 933453300000
A23: d.Tài sản tài chính phong tỏa, tạm giữ | B23: 21.4 | D23: 73012600000 | E23: 73012600000
A24: e.Tài sản tài chính chờ thanh toán | B24: 21.5 | D24: 1228360000 | E24: 21099000000
A25: f. Tài sản tài chính chờ cho vay | B25: 21.6
A26: 2. Tài sản tài chính đã lưu ký tại VSD và chưa giao dịch của Nhà đầu tư | B26: 22 | D26: 83487070000 | E26: 59220950000
A27: a.Tài sản tài chính đã lưu ký tại VSD và chưa giao dịch, tự do chuyển nhượng | B27: 22.1 | D27: 83337070000 | E27: 59070950000
A28: b.Tài sản tài chính đã lưu ký tại VSD và chưa giao dịch, hạn chế chuyển nhượng | B28: 22.2
A29: c.Tài sản tài chính đã lưu ký tại VSD và chưa giao dịch, cầm cố | B29: 22.3
A30: d.Tài sản tài chính đã lưu ký tại VSD và chưa giao dịch, phong tỏa, tạm giữ | B30: 22.4 | D30: 150000000 | E30: 150000000
A31: 3. Tài sản tài chính chờ về của Nhà đầu tư | B31: 23 | D31: 0 | E31: 3584990000
A32: 4. Tài sản tài chính sửa lỗi giao dịch của Nhà đầu tư | B32: 024.a
A33: 5.Tài sản tài chính chưa lưu ký tại VSD của Nhà đầu tư | B33: 024.b
A34: 6.Tài sản tài chính được hưởng quyền của Nhà đầu tư | B34: 25
A35: 7. Tiền gửi của khách hàng | B35: 26 | D35: 43475428290 | E35: 47448284830
A36: 7.1. Tiền gửi của Nhà đầu tư về giao dịch chứng khoán theo phương thức CTCK quản lý | B36: 27 | D36: 38065043990 | E36: 38006071730
A37: 7.2.Tiền gửi tổng hợp giao dịch chứng khoán cho khách hàng | B37: 28
A38: 7.3. Tiền gửi bù trừ và thanh toán giao dịch chứng khoán | B38: 29 | D38: 5409384300 | E38: 9441213100
A39: a. Tiền gửi bù trừ và thanh toán giao dịch chứng khoán Nhà đầu tư trong nước | B39: 29.1 | D39: 5409384300 | E39: 9441213100
A40: b. Tiền gửi bù trừ và thanh toán giao dịch chứng khoán Nhà đầu tư nước ngoài | B40: 29.2
...

Sheet 8648_hidden
A3: =CONCATENATE(665283,",",ROW(CCTTCR_06609!A3),"|",COLUMN(CCTTCR_06609!A3),",0",",0") -> 665283,3|1,0,0 | C3: =CONCATENATE(665175,",",ROW(CCTTCR_06609!C3),"|",COLUMN(CCTTCR_06609!C3),",0",",0") -> 665175,3|3,0,0 | D3: =CONCATENATE(665378,",",ROW(CCTTCR_06609!D3),"|",COLUMN(CCTTCR_06609!D3),",0",",0") -> 665378,3|4,0,0 | E3: =CONCATENATE(665315,",",ROW(CCTTCR_06609!E3),"|",COLUMN(CCTTCR_06609!E3),",0",",0") -> 665315,3|5,0,0
A4: =CONCATENATE(665301,",",ROW(CCTTCR_06609!A4),"|",COLUMN(CCTTCR_06609!A4),",0",",0") -> 665301,4|1,0,0 | B4: =CONCATENATE(665214,",",ROW(CCTTCR_06609!B4),"|",COLUMN(CCTTCR_06609!B4),",0",",0") -> 665214,4|2,0,0 | C4: =CONCATENATE(665182,",",ROW(CCTTCR_06609!C4),"|",COLUMN(CCTTCR_06609!C4),",0",",0") -> 665182,4|3,0,0 | D4: =CONCATENATE(665394,",",ROW(CCTTCR_06609!D4),"|",COLUMN(CCTTCR_06609!D4),",0",",0") -> 665394,4|4,0,0 | E4: =CONCATENATE(665319,",",ROW(CCTTCR_06609!E4),"|",COLUMN(CCTTCR_06609!E4),",0",",0") -> 665319,4|5,0,0
A5: =CONCATENATE(665331,",",ROW(CCTTCR_06609!A5),"|",COLUMN(CCTTCR_06609!A5),",0",",0") -> 665331,5|1,0,0 | B5: =CONCATENATE(665254,",",ROW(CCTTCR_06609!B5),"|",COLUMN(CCTTCR_06609!B5),",0",",0") -> 665254,5|2,0,0 | C5: =CONCATENATE(665183,",",ROW(CCTTCR_06609!C5),"|",COLUMN(CCTTCR_06609!C5),",0",",0") -> 665183,5|3,0,0 | D5: =CONCATENATE(665395,",",ROW(CCTTCR_06609!D5),"|",COLUMN(CCTTCR_06609!D5),",0",",0") -> 665395,5|4,0,0 | E5: =CONCATENATE(665320,",",ROW(CCTTCR_06609!E5),"|",COLUMN(CCTTCR_06609!E5),",0",",0") -> 665320,5|5,0,0
A6: =CONCATENATE(665279,",",ROW(CCTTCR_06609!A6),"|",COLUMN(CCTTCR_06609!A6),",0",",0") -> 665279,6|1,0,0 | B6: =CONCATENATE(665212,",",ROW(CCTTCR_06609!B6),"|",COLUMN(CCTTCR_06609!B6),",0",",0") -> 665212,6|2,0,0 | C6: =CONCATENATE(665261,",",ROW(CCTTCR_06609!C6),"|",COLUMN(CCTTCR_06609!C6),",0",",0") -> 665261,6|3,0,0 | D6: =CONCATENATE(665266,",",ROW(CCTTCR_06609!D6),"|",COLUMN(CCTTCR_06609!D6),",0",",0") -> 665266,6|4,0,0 | E6: =CONCATENATE(665267,",",ROW(CCTTCR_06609!E6),"|",COLUMN(CCTTCR_06609!E6),",0",",0") -> 665267,6|5,0,0
A7: =CONCATENATE(665213,",",ROW(CCTTCR_06609!A7),"|",COLUMN(CCTTCR_06609!A7),",0",",0") -> 665213,7|1,0,0 | B7: =CONCATENATE(665362,",",ROW(CCTTCR_06609!B7),"|",COLUMN(CCTTCR_06609!B7),",0",",0") -> 665362,7|2,0,0 | C7: =CONCATENATE(665349,",",ROW(CCTTCR_06609!C7),"|",COLUMN(CCTTCR_06609!C7),",0",",0") -> 665349,7|3,0,0 | D7: =CONCATENATE(665295,",",ROW(CCTTCR_06609!D7),"|",COLUMN(CCTTCR_06609!D7),",0",",0") -> 665295,7|4,0,0 | E7: =CONCATENATE(665389,",",ROW(CCTTCR_06609!E7),"|",COLUMN(CCTTCR_06609!E7),",0",",0") -> 665389,7|5,0,0
A8: =CONCATENATE(665220,",",ROW(CCTTCR_06609!A8),"|",COLUMN(CCTTCR_06609!A8),",0",",0") -> 665220,8|1,0,0 | B8: =CONCATENATE(665361,",",ROW(CCTTCR_06609!B8),"|",COLUMN(CCTTCR_06609!B8),",0",",0") -> 665361,8|2,0,0 | C8: =CONCATENATE(665348,",",ROW(CCTTCR_06609!C8),"|",COLUMN(CCTTCR_06609!C8),",0",",0") -> 665348,8|3,0,0 | D8: =CONCATENATE(665294,",",ROW(CCTTCR_06609!D8),"|",COLUMN(CCTTCR_06609!D8),",0",",0") -> 665294,8|4,0,0 | E8: =CONCATENATE(665388,",",ROW(CCTTCR_06609!E8),"|",COLUMN(CCTTCR_06609!E8),",0",",0") -> 665388,8|5,0,0
A9: =CONCATENATE(665302,",",ROW(CCTTCR_06609!A9),"|",COLUMN(CCTTCR_06609!A9),",0",",0") -> 665302,9|1,0,0 | B9: =CONCATENATE(665363,",",ROW(CCTTCR_06609!B9),"|",COLUMN(CCTTCR_06609!B9),",0",",0") -> 665363,9|2,0,0 | C9: =CONCATENATE(665350,",",ROW(CCTTCR_06609!C9),"|",COLUMN(CCTTCR_06609!C9),",0",",0") -> 665350,9|3,0,0 | D9: =CONCATENATE(665296,",",ROW(CCTTCR_06609!D9),"|",COLUMN(CCTTCR_06609!D9),",0",",0") -> 665296,9|4,0,0 | E9: =CONCATENATE(665390,",",ROW(CCTTCR_06609!E9),"|",COLUMN(CCTTCR_06609!E9),",0",",0") -> 665390,9|5,0,0
A10: =CONCATENATE(665284,",",ROW(CCTTCR_06609!A10),"|",COLUMN(CCTTCR_06609!A10),",0",",0") -> 665284,10|1,0,0 | B10: =CONCATENATE(665366,",",ROW(CCTTCR_06609!B10),"|",COLUMN(CCTTCR_06609!B10),",0",",0") -> 665366,10|2,0,0 | C10: =CONCATENATE(665176,",",ROW(CCTTCR_06609!C10),"|",COLUMN(CCTTCR_06609!C10),",0",",0") -> 665176,10|3,0,0 | D10: =CONCATENATE(665391,",",ROW(CCTTCR_06609!D10),"|",COLUMN(CCTTCR_06609!D10),",0",",0") -> 665391,10|4,0,0 | E10: =CONCATENATE(665316,",",ROW(CCTTCR_06609!E10),"|",COLUMN(CCTTCR_06609!E10),",0",",0") -> 665316,10|5,0,0
A11: =CONCATENATE(665264,",",ROW(CCTTCR_06609!A11),"|",COLUMN(CCTTCR_06609!A11),",0",",0") -> 665264,11|1,0,0 | B11: =CONCATENATE(665367,",",ROW(CCTTCR_06609!B11),"|",COLUMN(CCTTCR_06609!B11),",0",",0") -> 665367,11|2,0,0 | C11: =CONCATENATE(665184,",",ROW(CCTTCR_06609!C11),"|",COLUMN(CCTTCR_06609!C11),",0",",0") -> 665184,11|3,0,0 | D11: =CONCATENATE(665235,",",ROW(CCTTCR_06609!D11),"|",COLUMN(CCTTCR_06609!D11),",0",",0") -> 665235,11|4,0,0 | E11: =CONCATENATE(665253,",",ROW(CCTTCR_06609!E11),"|",COLUMN(CCTTCR_06609!E11),",0",",0") -> 665253,11|5,0,0
A12: =CONCATENATE(665221,",",ROW(CCTTCR_06609!A12),"|",COLUMN(CCTTCR_06609!A12),",0",",0") -> 665221,12|1,0,0 | B12: =CONCATENATE(665255,",",ROW(CCTTCR_06609!B12),"|",COLUMN(CCTTCR_06609!B12),",0",",0") -> 665255,12|2,0,0 | C12: =CONCATENATE(665185,",",ROW(CCTTCR_06609!C12),"|",COLUMN(CCTTCR_06609!C12),",0",",0") -> 665185,12|3,0,0 | D12: =CONCATENATE(665236,",",ROW(CCTTCR_06609!D12),"|",COLUMN(CCTTCR_06609!D12),",0",",0") -> 665236,12|4,0,0 | E12: =CONCATENATE(665321,",",ROW(CCTTCR_06609!E12),"|",COLUMN(CCTTCR_06609!E12),",0",",0") -> 665321,12|5,0,0
A13: =CONCATENATE(665268,",",ROW(CCTTCR_06609!A13),"|",COLUMN(CCTTCR_06609!A13),",0",",0") -> 665268,13|1,0,0 | B13: =CONCATENATE(665226,",",ROW(CCTTCR_06609!B13),"|",COLUMN(CCTTCR_06609!B13),",0",",0") -> 665226,13|2,0,0 | C13: =CONCATENATE(665186,",",ROW(CCTTCR_06609!C13),"|",COLUMN(CCTTCR_06609!C13),",0",",0") -> 665186,13|3,0,0 | D13: =CONCATENATE(665237,",",ROW(CCTTCR_06609!D13),"|",COLUMN(CCTTCR_06609!D13),",0",",0") -> 665237,13|4,0,0 | E13: =CONCATENATE(665322,",",ROW(CCTTCR_06609!E13),"|",COLUMN(CCTTCR_06609!E13),",0",",0") -> 665322,13|5,0,0
A14: =CONCATENATE(665285,",",ROW(CCTTCR_06609!A14),"|",COLUMN(CCTTCR_06609!A14),",0",",0") -> 665285,14|1,0,0 | B14: =CONCATENATE(665205,",",ROW(CCTTCR_06609!B14),"|",COLUMN(CCTTCR_06609!B14),",0",",0") -> 665205,14|2,0,0 | C14: =CONCATENATE(665177,",",ROW(CCTTCR_06609!C14),"|",COLUMN(CCTTCR_06609!C14),",0",",0") -> 665177,14|3,0,0 | D14: =CONCATENATE(665392,",",ROW(CCTTCR_06609!D14),"|",COLUMN(CCTTCR_06609!D14),",0",",0") -> 665392,14|4,0,0 | E14: =CONCATENATE(665317,",",ROW(CCTTCR_06609!E14),"|",COLUMN(CCTTCR_06609!E14),",0",",0") -> 665317,14|5,0,0
A15: =CONCATENATE(665222,",",ROW(CCTTCR_06609!A15),"|",COLUMN(CCTTCR_06609!A15),",0",",0") -> 665222,15|1,0,0 | B15: =CONCATENATE(665256,",",ROW(CCTTCR_06609!B15),"|",COLUMN(CCTTCR_06609!B15),",0",",0") -> 665256,15|2,0,0 | C15: =CONCATENATE(665187,",",ROW(CCTTCR_06609!C15),"|",COLUMN(CCTTCR_06609!C15),",0",",0") -> 665187,15|3,0,0 | D15: =CONCATENATE(665238,",",ROW(CCTTCR_06609!D15),"|",COLUMN(CCTTCR_06609!D15),",0",",0") -> 665238,15|4,0,0 | E15: =CONCATENATE(665323,",",ROW(CCTTCR_06609!E15),"|",COLUMN(CCTTCR_06609!E15),",0",",0") -> 665323,15|5,0,0
A16: =CONCATENATE(665280,",",ROW(CCTTCR_06609!A16),"|",COLUMN(CCTTCR_06609!A16),",0",",0") -> 665280,16|1,0,0 | B16: =CONCATENATE(665257,",",ROW(CCTTCR_06609!B16),"|",COLUMN(CCTTCR_06609!B16),",0",",0") -> 665257,16|2,0,0 | C16: =CONCATENATE(665188,",",ROW(CCTTCR_06609!C16),"|",COLUMN(CCTTCR_06609!C16),",0",",0") -> 665188,16|3,0,0 | D16: =CONCATENATE(665239,",",ROW(CCTTCR_06609!D16),"|",COLUMN(CCTTCR_06609!D16),",0",",0") -> 665239,16|4,0,0 | E16: =CONCATENATE(665324,",",ROW(CCTTCR_06609!E16),"|",COLUMN(CCTTCR_06609!E16),",0",",0") -> 665324,16|5,0,0
A17: =CONCATENATE(665332,",",ROW(CCTTCR_06609!A17),"|",COLUMN(CCTTCR_06609!A17),",0",",0") -> 665332,17|1,0,0 | B17: =CONCATENATE(665364,",",ROW(CCTTCR_06609!B17),"|",COLUMN(CCTTCR_06609!B17),",0",",0") -> 665364,17|2,0,0 | C17: =CONCATENATE(665351,",",ROW(CCTTCR_06609!C17),"|",COLUMN(CCTTCR_06609!C17),",0",",0") -> 665351,17|3,0,0 | D17: =CONCATENATE(665297,",",ROW(CCTTCR_06609!D17),"|",COLUMN(CCTTCR_06609!D17),",0",",0") -> 665297,17|4,0,0 | E17: =CONCATENATE(665303,",",ROW(CCTTCR_06609!E17),"|",COLUMN(CCTTCR_06609!E17),",0",",0") -> 665303,17|5,0,0
A18: =CONCATENATE(665286,",",ROW(CCTTCR_06609!A18),"|",COLUMN(CCTTCR_06609!A18),",0",",0") -> 665286,18|1,0,0 | C18: =CONCATENATE(665178,",",ROW(CCTTCR_06609!C18),"|",COLUMN(CCTTCR_06609!C18),",0",",0") -> 665178,18|3,0,0 | D18: =CONCATENATE(665393,",",ROW(CCTTCR_06609!D18),"|",COLUMN(CCTTCR_06609!D18),",0",",0") -> 665393,18|4,0,0 | E18: =CONCATENATE(665318,",",ROW(CCTTCR_06609!E18),"|",COLUMN(CCTTCR_06609!E18),",0",",0") -> 665318,18|5,0,0
A19: =CONCATENATE(665223,",",ROW(CCTTCR_06609!A19),"|",COLUMN(CCTTCR_06609!A19),",0",",0") -> 665223,19|1,0,0 | B19: =CONCATENATE(665365,",",ROW(CCTTCR_06609!B19),"|",COLUMN(CCTTCR_06609!B19),",0",",0") -> 665365,19|2,0,0 | C19: =CONCATENATE(665352,",",ROW(CCTTCR_06609!C19),"|",COLUMN(CCTTCR_06609!C19),",0",",0") -> 665352,19|3,0,0 | D19: =CONCATENATE(665354,",",ROW(CCTTCR_06609!D19),"|",COLUMN(CCTTCR_06609!D19),",0",",0") -> 665354,19|4,0,0 | E19: =CONCATENATE(665304,",",ROW(CCTTCR_06609!E19),"|",COLUMN(CCTTCR_06609!E19),",0",",0") -> 665304,19|5,0,0
A20: =CONCATENATE(665281,",",ROW(CCTTCR_06609!A20),"|",COLUMN(CCTTCR_06609!A20),",0",",0") -> 665281,20|1,0,0 | B20: =CONCATENATE(665227,",",ROW(CCTTCR_06609!B20),"|",COLUMN(CCTTCR_06609!B20),",0",",0") -> 665227,20|2,0,0 | C20: =CONCATENATE(665189,",",ROW(CCTTCR_06609!C20),"|",COLUMN(CCTTCR_06609!C20),",0",",0") -> 665189,20|3,0,0 | D20: =CONCATENATE(665240,",",ROW(CCTTCR_06609!D20),"|",COLUMN(CCTTCR_06609!D20),",0",",0") -> 665240,20|4,0,0 | E20: =CONCATENATE(665325,",",ROW(CCTTCR_06609!E20),"|",COLUMN(CCTTCR_06609!E20),",0",",0") -> 665325,20|5,0,0
A21: =CONCATENATE(665333,",",ROW(CCTTCR_06609!A21),"|",COLUMN(CCTTCR_06609!A21),",0",",0") -> 665333,21|1,0,0 | B21: =CONCATENATE(665269,",",ROW(CCTTCR_06609!B21),"|",COLUMN(CCTTCR_06609!B21),",0",",0") -> 665269,21|2,0,0 | C21: =CONCATENATE(665353,",",ROW(CCTTCR_06609!C21),"|",COLUMN(CCTTCR_06609!C21),",0",",0") -> 665353,21|3,0,0 | D21: =CONCATENATE(665368,",",ROW(CCTTCR_06609!D21),"|",COLUMN(CCTTCR_06609!D21),",0",",0") -> 665368,21|4,0,0 | E21: =CONCATENATE(665305,",",ROW(CCTTCR_06609!E21),"|",COLUMN(CCTTCR_06609!E21),",0",",0") -> 665305,21|5,0,0
A22: =CONCATENATE(665282,",",ROW(CCTTCR_06609!A22),"|",COLUMN(CCTTCR_06609!A22),",0",",0") -> 665282,22|1,0,0 | B22: =CONCATENATE(665270,",",ROW(CCTTCR_06609!B22),"|",COLUMN(CCTTCR_06609!B22),",0",",0") -> 665270,22|2,0,0 | C22: =CONCATENATE(665168,",",ROW(CCTTCR_06609!C22),"|",COLUMN(CCTTCR_06609!C22),",0",",0") -> 665168,22|3,0,0 | D22: =CONCATENATE(665369,",",ROW(CCTTCR_06609!D22),"|",COLUMN(CCTTCR_06609!D22),",0",",0") -> 665369,22|4,0,0 | E22: =CONCATENATE(665306,",",ROW(CCTTCR_06609!E22),"|",COLUMN(CCTTCR_06609!E22),",0",",0") -> 665306,22|5,0,0
A23: =CONCATENATE(665265,",",ROW(CCTTCR_06609!A23),"|",COLUMN(CCTTCR_06609!A23),",0",",0") -> 665265,23|1,0,0 | B23: =CONCATENATE(665258,",",ROW(CCTTCR_06609!B23),"|",COLUMN(CCTTCR_06609!B23),",0",",0") -> 665258,23|2,0,0 | C23: =CONCATENATE(665190,",",ROW(CCTTCR_06609!C23),"|",COLUMN(CCTTCR_06609!C23),",0",",0") -> 665190,23|3,0,0 | D23: =CONCATENATE(665241,",",ROW(CCTTCR_06609!D23),"|",COLUMN(CCTTCR_06609!D23),",0",",0") -> 665241,23|4,0,0 | E23: =CONCATENATE(665326,",",ROW(CCTTCR_06609!E23),"|",COLUMN(CCTTCR_06609!E23),",0",",0") -> 665326,23|5,0,0
A24: =CONCATENATE(665262,",",ROW(CCTTCR_06609!A24),"|",COLUMN(CCTTCR_06609!A24),",0",",0") -> 665262,24|1,0,0 | B24: =CONCATENATE(665271,",",ROW(CCTTCR_06609!B24),"|",COLUMN(CCTTCR_06609!B24),",0",",0") -> 665271,24|2,0,0 | C24: =CONCATENATE(665169,",",ROW(CCTTCR_06609!C24),"|",COLUMN(CCTTCR_06609!C24),",0",",0") -> 665169,24|3,0,0 | D24: =CONCATENATE(665370,",",ROW(CCTTCR_06609!D24),"|",COLUMN(CCTTCR_06609!D24),",0",",0") -> 665370,24|4,0,0 | E24: =CONCATENATE(665307,",",ROW(CCTTCR_06609!E24),"|",COLUMN(CCTTCR_06609!E24),",0",",0") -> 665307,24|5,0,0
A25: =CONCATENATE(665298,",",ROW(CCTTCR_06609!A25),"|",COLUMN(CCTTCR_06609!A25),",0",",0") -> 665298,25|1,0,0 | B25: =CONCATENATE(665272,",",ROW(CCTTCR_06609!B25),"|",COLUMN(CCTTCR_06609!B25),",0",",0") -> 665272,25|2,0,0 | C25: =CONCATENATE(665170,",",ROW(CCTTCR_06609!C25),"|",COLUMN(CCTTCR_06609!C25),",0",",0") -> 665170,25|3,0,0 | D25: =CONCATENATE(665371,",",ROW(CCTTCR_06609!D25),"|",COLUMN(CCTTCR_06609!D25),",0",",0") -> 665371,25|4,0,0 | E25: =CONCATENATE(665308,",",ROW(CCTTCR_06609!E25),"|",COLUMN(CCTTCR_06609!E25),",0",",0") -> 665308,25|5,0,0
A26: =CONCATENATE(665299,",",ROW(CCTTCR_06609!A26),"|",COLUMN(CCTTCR_06609!A26),",0",",0") -> 665299,26|1,0,0 | B26: =CONCATENATE(665228,",",ROW(CCTTCR_06609!B26),"|",COLUMN(CCTTCR_06609!B26),",0",",0") -> 665228,26|2,0,0 | C26: =CONCATENATE(665191,",",ROW(CCTTCR_06609!C26),"|",COLUMN(CCTTCR_06609!C26),",0",",0") -> 665191,26|3,0,0 | D26: =CONCATENATE(665242,",",ROW(CCTTCR_06609!D26),"|",COLUMN(CCTTCR_06609!D26),",0",",0") -> 665242,26|4,0,0 | E26: =CONCATENATE(665327,",",ROW(CCTTCR_06609!E26),"|",COLUMN(CCTTCR_06609!E26),",0",",0") -> 665327,26|5,0,0
A27: =CONCATENATE(665300,",",ROW(CCTTCR_06609!A27),"|",COLUMN(CCTTCR_06609!A27),",0",",0") -> 665300,27|1,0,0 | B27: =CONCATENATE(665229,",",ROW(CCTTCR_06609!B27),"|",COLUMN(CCTTCR_06609!B27),",0",",0") -> 665229,27|2,0,0 | C27: =CONCATENATE(665192,",",ROW(CCTTCR_06609!C27),"|",COLUMN(CCTTCR_06609!C27),",0",",0") -> 665192,27|3,0,0 | D27: =CONCATENATE(665243,",",ROW(CCTTCR_06609!D27),"|",COLUMN(CCTTCR_06609!D27),",0",",0") -> 665243,27|4,0,0 | E27: =CONCATENATE(665328,",",ROW(CCTTCR_06609!E27),"|",COLUMN(CCTTCR_06609!E27),",0",",0") -> 665328,27|5,0,0
A28: =CONCATENATE(665224,",",ROW(CCTTCR_06609!A28),"|",COLUMN(CCTTCR_06609!A28),",0",",0") -> 665224,28|1,0,0 | B28: =CONCATENATE(665273,",",ROW(CCTTCR_06609!B28),"|",COLUMN(CCTTCR_06609!B28),",0",",0") -> 665273,28|2,0,0 | C28: =CONCATENATE(665171,",",ROW(CCTTCR_06609!C28),"|",COLUMN(CCTTCR_06609!C28),",0",",0") -> 665171,28|3,0,0 | D28: =CONCATENATE(665372,",",ROW(CCTTCR_06609!D28),"|",COLUMN(CCTTCR_06609!D28),",0",",0") -> 665372,28|4,0,0 | E28: =CONCATENATE(665309,",",ROW(CCTTCR_06609!E28),"|",COLUMN(CCTTCR_06609!E28),",0",",0") -> 665309,28|5,0,0
A29: =CONCATENATE(665232,",",ROW(CCTTCR_06609!A29),"|",COLUMN(CCTTCR_06609!A29),",0",",0") -> 665232,29|1,0,0 | B29: =CONCATENATE(665206,",",ROW(CCTTCR_06609!B29),"|",COLUMN(CCTTCR_06609!B29),",0",",0") -> 665206,29|2,0,0 | C29: =CONCATENATE(665193,",",ROW(CCTTCR_06609!C29),"|",COLUMN(CCTTCR_06609!C29),",0",",0") -> 665193,29|3,0,0 | D29: =CONCATENATE(665244,",",ROW(CCTTCR_06609!D29),"|",COLUMN(CCTTCR_06609!D29),",0",",0") -> 665244,29|4,0,0 | E29: =CONCATENATE(665329,",",ROW(CCTTCR_06609!E29),"|",COLUMN(CCTTCR_06609!E29),",0",",0") -> 665329,29|5,0,0
A30: =CONCATENATE(665233,",",ROW(CCTTCR_06609!A30),"|",COLUMN(CCTTCR_06609!A30),",0",",0") -> 665233,30|1,0,0 | B30: =CONCATENATE(665207,",",ROW(CCTTCR_06609!B30),"|",COLUMN(CCTTCR_06609!B30),",0",",0") -> 665207,30|2,0,0 | C30: =CONCATENATE(665194,",",ROW(CCTTCR_06609!C30),"|",COLUMN(CCTTCR_06609!C30),",0",",0") -> 665194,30|3,0,0 | D30: =CONCATENATE(665245,",",ROW(CCTTCR_06609!D30),"|",COLUMN(CCTTCR_06609!D30),",0",",0") -> 665245,30|4,0,0 | E30: =CONCATENATE(665330,",",ROW(CCTTCR_06609!E30),"|",COLUMN(CCTTCR_06609!E30),",0",",0") -> 665330,30|5,0,0
A31: =CONCATENATE(665234,",",ROW(CCTTCR_06609!A31),"|",COLUMN(CCTTCR_06609!A31),",0",",0") -> 665234,31|1,0,0 | B31: =CONCATENATE(665274,",",ROW(CCTTCR_06609!B31),"|",COLUMN(CCTTCR_06609!B31),",0",",0") -> 665274,31|2,0,0 | C31: =CONCATENATE(665172,",",ROW(CCTTCR_06609!C31),"|",COLUMN(CCTTCR_06609!C31),",0",",0") -> 665172,31|3,0,0 | D31: =CONCATENATE(665373,",",ROW(CCTTCR_06609!D31),"|",COLUMN(CCTTCR_06609!D31),",0",",0") -> 665373,31|4,0,0 | E31: =CONCATENATE(665310,",",ROW(CCTTCR_06609!E31),"|",COLUMN(CCTTCR_06609!E31),",0",",0") -> 665310,31|5,0,0
A32: =CONCATENATE(665334,",",ROW(CCTTCR_06609!A32),"|",COLUMN(CCTTCR_06609!A32),",0",",0") -> 665334,32|1,0,0 | B32: =CONCATENATE(665230,",",ROW(CCTTCR_06609!B32),"|",COLUMN(CCTTCR_06609!B32),",0",",0") -> 665230,32|2,0,0 | C32: =CONCATENATE(665195,",",ROW(CCTTCR_06609!C32),"|",COLUMN(CCTTCR_06609!C32),",0",",0") -> 665195,32|3,0,0 | D32: =CONCATENATE(665246,",",ROW(CCTTCR_06609!D32),"|",COLUMN(CCTTCR_06609!D32),",0",",0") -> 665246,32|4,0,0 | E32: =CONCATENATE(665198,",",ROW(CCTTCR_06609!E32),"|",COLUMN(CCTTCR_06609!E32),",0",",0") -> 665198,32|5,0,0
A33: =CONCATENATE(665335,",",ROW(CCTTCR_06609!A33),"|",COLUMN(CCTTCR_06609!A33),",0",",0") -> 665335,33|1,0,0 | B33: =CONCATENATE(665275,",",ROW(CCTTCR_06609!B33),"|",COLUMN(CCTTCR_06609!B33),",0",",0") -> 665275,33|2,0,0 | C33: =CONCATENATE(665379,",",ROW(CCTTCR_06609!C33),"|",COLUMN(CCTTCR_06609!C33),",0",",0") -> 665379,33|3,0,0 | D33: =CONCATENATE(665374,",",ROW(CCTTCR_06609!D33),"|",COLUMN(CCTTCR_06609!D33),",0",",0") -> 665374,33|4,0,0 | E33: =CONCATENATE(665311,",",ROW(CCTTCR_06609!E33),"|",COLUMN(CCTTCR_06609!E33),",0",",0") -> 665311,33|5,0,0
A34: =CONCATENATE(665336,",",ROW(CCTTCR_06609!A34),"|",COLUMN(CCTTCR_06609!A34),",0",",0") -> 665336,34|1,0,0 | B34: =CONCATENATE(665215,",",ROW(CCTTCR_06609!B34),"|",COLUMN(CCTTCR_06609!B34),",0",",0") -> 665215,34|2,0,0 | C34: =CONCATENATE(665196,",",ROW(CCTTCR_06609!C34),"|",COLUMN(CCTTCR_06609!C34),",0",",0") -> 665196,34|3,0,0 | D34: =CONCATENATE(665247,",",ROW(CCTTCR_06609!D34),"|",COLUMN(CCTTCR_06609!D34),",0",",0") -> 665247,34|4,0,0 | E34: =CONCATENATE(665199,",",ROW(CCTTCR_06609!E34),"|",COLUMN(CCTTCR_06609!E34),",0",",0") -> 665199,34|5,0,0
A35: =CONCATENATE(665337,",",ROW(CCTTCR_06609!A35),"|",COLUMN(CCTTCR_06609!A35),",0",",0") -> 665337,35|1,0,0 | B35: =CONCATENATE(665276,",",ROW(CCTTCR_06609!B35),"|",COLUMN(CCTTCR_06609!B35),",0",",0") -> 665276,35|2,0,0 | C35: =CONCATENATE(665380,",",ROW(CCTTCR_06609!C35),"|",COLUMN(CCTTCR_06609!C35),",0",",0") -> 665380,35|3,0,0 | D35: =CONCATENATE(665375,",",ROW(CCTTCR_06609!D35),"|",COLUMN(CCTTCR_06609!D35),",0",",0") -> 665375,35|4,0,0 | E35: =CONCATENATE(665312,",",ROW(CCTTCR_06609!E35),"|",COLUMN(CCTTCR_06609!E35),",0",",0") -> 665312,35|5,0,0
A36: =CONCATENATE(665338,",",ROW(CCTTCR_06609!A36),"|",COLUMN(CCTTCR_06609!A36),",0",",0") -> 665338,36|1,0,0 | B36: =CONCATENATE(665216,",",ROW(CCTTCR_06609!B36),"|",COLUMN(CCTTCR_06609!B36),",0",",0") -> 665216,36|2,0,0 | C36: =CONCATENATE(665197,",",ROW(CCTTCR_06609!C36),"|",COLUMN(CCTTCR_06609!C36),",0",",0") -> 665197,36|3,0,0 | D36: =CONCATENATE(665248,",",ROW(CCTTCR_06609!D36),"|",COLUMN(CCTTCR_06609!D36),",0",",0") -> 665248,36|4,0,0 | E36: =CONCATENATE(665200,",",ROW(CCTTCR_06609!E36),"|",COLUMN(CCTTCR_06609!E36),",0",",0") -> 665200,36|5,0,0
A37: =CONCATENATE(665339,",",ROW(CCTTCR_06609!A37),"|",COLUMN(CCTTCR_06609!A37),",0",",0") -> 665339,37|1,0,0 | B37: =CONCATENATE(665217,",",ROW(CCTTCR_06609!B37),"|",COLUMN(CCTTCR_06609!B37),",0",",0") -> 665217,37|2,0,0 | C37: =CONCATENATE(665179,",",ROW(CCTTCR_06609!C37),"|",COLUMN(CCTTCR_06609!C37),",0",",0") -> 665179,37|3,0,0 | D37: =CONCATENATE(665249,",",ROW(CCTTCR_06609!D37),"|",COLUMN(CCTTCR_06609!D37),",0",",0") -> 665249,37|4,0,0 | E37: =CONCATENATE(665201,",",ROW(CCTTCR_06609!E37),"|",COLUMN(CCTTCR_06609!E37),",0",",0") -> 665201,37|5,0,0
A38: =CONCATENATE(665204,",",ROW(CCTTCR_06609!A38),"|",COLUMN(CCTTCR_06609!A38),",0",",0") -> 665204,38|1,0,0 | B38: =CONCATENATE(665231,",",ROW(CCTTCR_06609!B38),"|",COLUMN(CCTTCR_06609!B38),",0",",0") -> 665231,38|2,0,0 | C38: =CONCATENATE(665341,",",ROW(CCTTCR_06609!C38),"|",COLUMN(CCTTCR_06609!C38),",0",",0") -> 665341,38|3,0,0 | D38: =CONCATENATE(665287,",",ROW(CCTTCR_06609!D38),"|",COLUMN(CCTTCR_06609!D38),",0",",0") -> 665287,38|4,0,0 | E38: =CONCATENATE(665381,",",ROW(CCTTCR_06609!E38),"|",COLUMN(CCTTCR_06609!E38),",0",",0") -> 665381,38|5,0,0
A39: =CONCATENATE(665252,",",ROW(CCTTCR_06609!A39),"|",COLUMN(CCTTCR_06609!A39),",0",",0") -> 665252,39|1,0,0 | B39: =CONCATENATE(665263,",",ROW(CCTTCR_06609!B39),"|",COLUMN(CCTTCR_06609!B39),",0",",0") -> 665263,39|2,0,0 | C39: =CONCATENATE(665180,",",ROW(CCTTCR_06609!C39),"|",COLUMN(CCTTCR_06609!C39),",0",",0") -> 665180,39|3,0,0 | D39: =CONCATENATE(665250,",",ROW(CCTTCR_06609!D39),"|",COLUMN(CCTTCR_06609!D39),",0",",0") -> 665250,39|4,0,0 | E39: =CONCATENATE(665202,",",ROW(CCTTCR_06609!E39),"|",COLUMN(CCTTCR_06609!E39),",0",",0") -> 665202,39|5,0,0
A40: =CONCATENATE(665355,",",ROW(CCTTCR_06609!A40),"|",COLUMN(CCTTCR_06609!A40),",0",",0") -> 665355,40|1,0,0 | B40: =CONCATENATE(665208,",",ROW(CCTTCR_06609!B40),"|",COLUMN(CCTTCR_06609!B40),",0",",0") -> 665208,40|2,0,0 | C40: =CONCATENATE(665342,",",ROW(CCTTCR_06609!C40),"|",COLUMN(CCTTCR_06609!C40),",0",",0") -> 665342,40|3,0,0 | D40: =CONCATENATE(665288,",",ROW(CCTTCR_06609!D40),"|",COLUMN(CCTTCR_06609!D40),",0",",0") -> 665288,40|4,0,0 | E40: =CONCATENATE(665382,",",ROW(CCTTCR_06609!E40),"|",COLUMN(CCTTCR_06609!E40),",0",",0") -> 665382,40|5,0,0
A41: =CONCATENATE(665356,",",ROW(CCTTCR_06609!A41),"|",COLUMN(CCTTCR_06609!A41),",0",",0") -> 665356,41|1,0,0 | B41: =CONCATENATE(665210,",",ROW(CCTTCR_06609!B41),"|",COLUMN(CCTTCR_06609!B41),",0",",0") -> 665210,41|2,0,0 | C41: =CONCATENATE(665343,",",ROW(CCTTCR_06609!C41),"|",COLUMN(CCTTCR_06609!C41),",0",",0") -> 665343,41|3,0,0 | D41: =CONCATENATE(665289,",",ROW(CCTTCR_06609!D41),"|",COLUMN(CCTTCR_06609!D41),",0",",0") -> 665289,41|4,0,0 | E41: =CONCATENATE(665383,",",ROW(CCTTCR_06609!E41),"|",COLUMN(CCTTCR_06609!E41),",0",",0") -> 665383,41|5,0,0
A42: =CONCATENATE(665225,",",ROW(CCTTCR_06609!A42),"|",COLUMN(CCTTCR_06609!A42),",0",",0") -> 665225,42|1,0,0 | B42: =CONCATENATE(665277,",",ROW(CCTTCR_06609!B42),"|",COLUMN(CCTTCR_06609!B42),",0",",0") -> 665277,42|2,0,0 | C42: =CONCATENATE(665173,",",ROW(CCTTCR_06609!C42),"|",COLUMN(CCTTCR_06609!C42),",0",",0") -> 665173,42|3,0,0 | D42: =CONCATENATE(665376,",",ROW(CCTTCR_06609!D42),"|",COLUMN(CCTTCR_06609!D42),",0",",0") -> 665376,42|4,0,0 | E42: =CONCATENATE(665313,",",ROW(CCTTCR_06609!E42),"|",COLUMN(CCTTCR_06609!E42),",0",",0") -> 665313,42|5,0,0
...

Sheet BCKQHDR_06610
A1: BÁO CÁO KẾT QUẢ HOẠT ĐỘNG RIÊNG
A2: Năm 202...
A3: Đơn vị tính: Đồng Việt Nam
A4: CHỈ TIÊU | B4: Mã số | C4: Thuyết minh | D4: Năm nay | E4: Năm trước
A5: A | B5: B | C5: C | D5: 1 | E5: 2
A6: 1.4. Lãi từ tài sản tài chính sẵn sàng để bán (AFS) | B6: 4
A7: I. DOANH THU HOẠT ĐỘNG
A8: c. Cổ tức, tiền lãi phát sinh từ tài sản tài chính FVTPL | B8: 1.3 | D8: 112194000 | E8: 5183365815
A9: 1.1. Lãi từ các tài sản tài chính ghi nhận thông qua lãi/lỗ (FVTPL) | B9: 1 | D9: 277812477361 | E9: 21170339209
A10: a. Lãi bán các tài sản tài chính FVTPL | B10: 1.1 | D10: 1239264970 | E10: 3170022002
A11: b. Chênh lệch tăng về đánh giá lại các TSTC FVTPL | B11: 1.2 | D11: 276461018391 | E11: 12816951392
A12: 1.2. Lãi từ các khoản đầu tư nắm giữ đến ngày đáo hạn (HTM) | B12: 2
A13: 1.3. Lãi từ các khoản cho vay và phải thu | B13: 3 | D13: 2163225850 | E13: 4440870793
A14: 1.5. Lãi từ các công cụ phái sinh phòng ngừa rủi ro | B14: 5
A15: 1.6. Doanh thu nghiệp vụ môi giới chứng khoán | B15: 6 | D15: 868480434 | E15: 3867342159
A16: 1.7. Doanh thu nghiệp vụ bảo lãnh, đại lý phát hành chứng khoán | B16: 7
A17: 1.8. Doanh thu nghiệp vụ tư vấn đầu tư chứng khoán | B17: 8
A18: 1.9. Doanh thu nghiệp vụ lưu ký chứng khoán | B18: 9 | D18: 271231045 | E18: 390102113
A19: 1.10. Doanh thu hoạt động tư vấn tài chính | B19: 10 | D19: 215225000 | E19: 860000000
A20: 1.11. Thu nhập hoạt động khác | B20: 11 | D20: 12176000 | E20: 4376000
A21: Cộng doanh thu hoạt động (20 = 01 đến 11) | B21: 20 | D21: 281342815690 | E21: 30733030274
A22: II. CHI PHÍ HOẠT ĐỘNG
A23: 2.1. Lỗ các tài sản tài chính ghi nhận thông qua lãi/lỗ (FVTPL) | B23: 21 | D23: 19474297811 | E23: 23969144684
A24: a. Lỗ bán các tài sản tài chính FVTPL | B24: 21.1 | D24: 18713967191 | E24: 6650610683
A25: b. Chênh lệch giảm đánh giá lại các TSTC FVTPL | B25: 21.2 | D25: 760330620 | E25: 17318534001
A26: c. Chi phí giao dịch mua các tài sản tài chính FVTPL | B26: 21.3
A27: 2.2. Lỗ các khoản đầu tư nắm giữ đến ngày đáo hạn (HTM) | B27: 22
A28: 2.3. Lỗ và ghi nhận chênh lệch đánh giá theo giá trị hợp lý tài sản tài chính sẵn sàng để bán (AFS) khi phân loại lại | B28: 23
A29: 2.4. Chi phí dự phòng tài sản tài chính, xử lý tổn thất các khoản phải thu khó đòi và lỗ suy giảm tài sản tài chính và chi phí đi vay của các khoản cho vay | B29: 24 | D29: -2764469350 | E29: -6540494292
A30: 2.5. Lỗ từ các tài sản tài chính phái sinh phòng ngừa rủi ro | B30: 25
A31: 2.6. Chi phí hoạt động tự doanh | B31: 26 | D31: 238069120 | E31: 244854619
A32: 2.7. Chi phí nghiệp vụ môi giới chứng khoán | B32: 27 | D32: 2549813847 | E32: 5511340975
A33: 2.8. Chi phí nghiệp vụ bảo lãnh, đại lý phát hành chứng khoán | B33: 28 | D33: 0 | E33: 0
A34: 2.9. Chi phí nghiệp vụ tư vấn đầu tư chứng khoán | B34: 29 | D34: 0 | E34: 0
A35: 2.10. Chi phí nghiệp vụ lưu ký chứng khoán | B35: 30 | D35: 312622775 | E35: 404503378
A36: 2.11. Chi phí hoạt động tư vấn tài chính | B36: 31 | D36: 696202214 | E36: 1310044011
A37: 2.12. Chi phí các dịch vụ khác | B37: 32 | D37: 872058472 | E37: 1705248479
A38: Cộng chi phí hoạt động (40 = 21 đến 32) | B38: 40 | D38: 21378594889 | E38: 26604641854
A39: III. DOANH THU HOẠT ĐỘNG TÀI CHÍNH
A40: 3.1. Chênh lệch lãi tỷ giá hối đoái đã và chưa thực hiện | B40: 41
...

Sheet 8645_hidden
A5: =CONCATENATE(664470,",",ROW(BCKQHDR_06610!A5),"|",COLUMN(BCKQHDR_06610!A5),",0",",0") -> 664470,5|1,0,0 | B5: =CONCATENATE(664603,",",ROW(BCKQHDR_06610!B5),"|",COLUMN(BCKQHDR_06610!B5),",0",",0") -> 664603,5|2,0,0 | C5: =CONCATENATE(664794,",",ROW(BCKQHDR_06610!C5),"|",COLUMN(BCKQHDR_06610!C5),",0",",0") -> 664794,5|3,0,0 | D5: =CONCATENATE(664604,",",ROW(BCKQHDR_06610!D5),"|",COLUMN(BCKQHDR_06610!D5),",0",",0") -> 664604,5|4,0,0 | E5: =CONCATENATE(664795,",",ROW(BCKQHDR_06610!E5),"|",COLUMN(BCKQHDR_06610!E5),",0",",0") -> 664795,5|5,0,0
A6: =CONCATENATE(664451,",",ROW(BCKQHDR_06610!A6),"|",COLUMN(BCKQHDR_06610!A6),",0",",0") -> 664451,6|1,0,0 | B6: =CONCATENATE(664724,",",ROW(BCKQHDR_06610!B6),"|",COLUMN(BCKQHDR_06610!B6),",0",",0") -> 664724,6|2,0,0 | C6: =CONCATENATE(664570,",",ROW(BCKQHDR_06610!C6),"|",COLUMN(BCKQHDR_06610!C6),",0",",0") -> 664570,6|3,0,0 | D6: =CONCATENATE(664522,",",ROW(BCKQHDR_06610!D6),"|",COLUMN(BCKQHDR_06610!D6),",0",",0") -> 664522,6|4,0,0 | E6: =CONCATENATE(664496,",",ROW(BCKQHDR_06610!E6),"|",COLUMN(BCKQHDR_06610!E6),",0",",0") -> 664496,6|5,0,0
A7: =CONCATENATE(664686,",",ROW(BCKQHDR_06610!A7),"|",COLUMN(BCKQHDR_06610!A7),",0",",0") -> 664686,7|1,0,0 | B7: =CONCATENATE(664454,",",ROW(BCKQHDR_06610!B7),"|",COLUMN(BCKQHDR_06610!B7),",0",",0") -> 664454,7|2,0,0 | C7: =CONCATENATE(664740,",",ROW(BCKQHDR_06610!C7),"|",COLUMN(BCKQHDR_06610!C7),",0",",0") -> 664740,7|3,0,0 | D7: =CONCATENATE(664566,",",ROW(BCKQHDR_06610!D7),"|",COLUMN(BCKQHDR_06610!D7),",0",",0") -> 664566,7|4,0,0 | E7: =CONCATENATE(664727,",",ROW(BCKQHDR_06610!E7),"|",COLUMN(BCKQHDR_06610!E7),",0",",0") -> 664727,7|5,0,0
A8: =CONCATENATE(664471,",",ROW(BCKQHDR_06610!A8),"|",COLUMN(BCKQHDR_06610!A8),",0",",0") -> 664471,8|1,0,0 | B8: =CONCATENATE(664653,",",ROW(BCKQHDR_06610!B8),"|",COLUMN(BCKQHDR_06610!B8),",0",",0") -> 664653,8|2,0,0 | C8: =CONCATENATE(664475,",",ROW(BCKQHDR_06610!C8),"|",COLUMN(BCKQHDR_06610!C8),",0",",0") -> 664475,8|3,0,0 | D8: =CONCATENATE(664519,",",ROW(BCKQHDR_06610!D8),"|",COLUMN(BCKQHDR_06610!D8),",0",",0") -> 664519,8|4,0,0 | E8: =CONCATENATE(664493,",",ROW(BCKQHDR_06610!E8),"|",COLUMN(BCKQHDR_06610!E8),",0",",0") -> 664493,8|5,0,0
A9: =CONCATENATE(664796,",",ROW(BCKQHDR_06610!A9),"|",COLUMN(BCKQHDR_06610!A9),",0",",0") -> 664796,9|1,0,0 | B9: =CONCATENATE(664721,",",ROW(BCKQHDR_06610!B9),"|",COLUMN(BCKQHDR_06610!B9),",0",",0") -> 664721,9|2,0,0 | C9: =CONCATENATE(664620,",",ROW(BCKQHDR_06610!C9),"|",COLUMN(BCKQHDR_06610!C9),",0",",0") -> 664620,9|3,0,0 | D9: =CONCATENATE(664516,",",ROW(BCKQHDR_06610!D9),"|",COLUMN(BCKQHDR_06610!D9),",0",",0") -> 664516,9|4,0,0 | E9: =CONCATENATE(664490,",",ROW(BCKQHDR_06610!E9),"|",COLUMN(BCKQHDR_06610!E9),",0",",0") -> 664490,9|5,0,0
A10: =CONCATENATE(664714,",",ROW(BCKQHDR_06610!A10),"|",COLUMN(BCKQHDR_06610!A10),",0",",0") -> 664714,10|1,0,0 | B10: =CONCATENATE(664722,",",ROW(BCKQHDR_06610!B10),"|",COLUMN(BCKQHDR_06610!B10),",0",",0") -> 664722,10|2,0,0 | C10: =CONCATENATE(664781,",",ROW(BCKQHDR_06610!C10),"|",COLUMN(BCKQHDR_06610!C10),",0",",0") -> 664781,10|3,0,0 | D10: =CONCATENATE(664517,",",ROW(BCKQHDR_06610!D10),"|",COLUMN(BCKQHDR_06610!D10),",0",",0") -> 664517,10|4,0,0 | E10: =CONCATENATE(664491,",",ROW(BCKQHDR_06610!E10),"|",COLUMN(BCKQHDR_06610!E10),",0",",0") -> 664491,10|5,0,0
A11: =CONCATENATE(664687,",",ROW(BCKQHDR_06610!A11),"|",COLUMN(BCKQHDR_06610!A11),",0",",0") -> 664687,11|1,0,0 | B11: =CONCATENATE(664540,",",ROW(BCKQHDR_06610!B11),"|",COLUMN(BCKQHDR_06610!B11),",0",",0") -> 664540,11|2,0,0 | C11: =CONCATENATE(664782,",",ROW(BCKQHDR_06610!C11),"|",COLUMN(BCKQHDR_06610!C11),",0",",0") -> 664782,11|3,0,0 | D11: =CONCATENATE(664518,",",ROW(BCKQHDR_06610!D11),"|",COLUMN(BCKQHDR_06610!D11),",0",",0") -> 664518,11|4,0,0 | E11: =CONCATENATE(664492,",",ROW(BCKQHDR_06610!E11),"|",COLUMN(BCKQHDR_06610!E11),",0",",0") -> 664492,11|5,0,0
A12: =CONCATENATE(664715,",",ROW(BCKQHDR_06610!A12),"|",COLUMN(BCKQHDR_06610!A12),",0",",0") -> 664715,12|1,0,0 | B12: =CONCATENATE(664648,",",ROW(BCKQHDR_06610!B12),"|",COLUMN(BCKQHDR_06610!B12),",0",",0") -> 664648,12|2,0,0 | C12: =CONCATENATE(664564,",",ROW(BCKQHDR_06610!C12),"|",COLUMN(BCKQHDR_06610!C12),",0",",0") -> 664564,12|3,0,0 | D12: =CONCATENATE(664520,",",ROW(BCKQHDR_06610!D12),"|",COLUMN(BCKQHDR_06610!D12),",0",",0") -> 664520,12|4,0,0 | E12: =CONCATENATE(664494,",",ROW(BCKQHDR_06610!E12),"|",COLUMN(BCKQHDR_06610!E12),",0",",0") -> 664494,12|5,0,0
A13: =CONCATENATE(664777,",",ROW(BCKQHDR_06610!A13),"|",COLUMN(BCKQHDR_06610!A13),",0",",0") -> 664777,13|1,0,0 | B13: =CONCATENATE(664723,",",ROW(BCKQHDR_06610!B13),"|",COLUMN(BCKQHDR_06610!B13),",0",",0") -> 664723,13|2,0,0 | C13: =CONCATENATE(664569,",",ROW(BCKQHDR_06610!C13),"|",COLUMN(BCKQHDR_06610!C13),",0",",0") -> 664569,13|3,0,0 | D13: =CONCATENATE(664521,",",ROW(BCKQHDR_06610!D13),"|",COLUMN(BCKQHDR_06610!D13),",0",",0") -> 664521,13|4,0,0 | E13: =CONCATENATE(664495,",",ROW(BCKQHDR_06610!E13),"|",COLUMN(BCKQHDR_06610!E13),",0",",0") -> 664495,13|5,0,0
